Workbook
Name Check5: 'WH-81 (Pg 1)'!#REF!
Name Check7: 'WH-81 (Pg 1)'!#REF!
Name City_of_Portland: 'WH-81 (Pg 1)'!$I$8
Name OLE_LINK1: 'WH-81 (Pg 1)'!$L$1
Name randall_tendick: 'WH-39A'!$R$21:$AN$21
Name WH_81__Pg_1___I8: 'WH-39A'!$L$18

Sheet Instructions
T4: Yes
T5: No

Sheet WH-81 (Pg 1)
P1: BUREAU OF LABOR AND INDUSTRIES
P2: NOTICE OF PUBLIC WORKS
M3: (For use in complying with ORS 279C.835)
B4: NOTE: ORS 279C.835 requires that public contracting agencies include with this form a copy of the disclosure of
B5: first-tier subcontractors submitted pursuant to ORS 279C.370.
B7: PUBLIC AGENCY INFORMATION:
B8: Agency Name:
B9: Agency Division: | AO9: Agency # (if known):
B10: Agency Mailing Address:
B11: City, State, Zip:
B12: Email Address:
B13: Agency Representative: | AP13: Phone:
A16: SECTION A: | H16: To be completed when a public agency awards a contract to a contractor for a public works project, including
H17: CM/GC projects. (See pg 2 for public works projects in which no public agency awards a contract to a contractor.)
B18: CONTRACT INFORMATION:
B19: Project Name:
A20: Contract Name (if part of larger project):
B21: Project #: | AD21: Contract #:
B22: Project Manager Name: | AH22: Phone: | AU22: Fax:
B23: Project Location (Street(s), City): | AQ23: Project County:
B24: Date specifications first advertised for bid (if not advertised, date of RFP or first contact with contractor):
B25: OR If CM/GC contract or a Progressive Design Build, date contract became a public works contract:*
B26: *(see OAR 839-025-0020(8))
B27: Contract Amount: | K27: $
B28: Is this contract part of a larger project? (Yes/No) | AH28: If Yes, total project amount: | AV28: $
B29: If yes, INITIAL date specifications for project advertised for bid. If not advertised, date of RFP or first contact with
B30: contractor ( see OAR 839-025-0020(6)(b)):
B31: Will project use federal funds that require compliance with the Davis-Bacon Act? | AN31: (Yes/No)
B32: Contract Award Date | R32: Date work expected to begin: | AK32: Date work expected to be complete:
B35: PRIME CONTRACTOR INFORMATION:
B36: Business Name: | AE36: Email:
B37: Address: | AD37: Construction Contractors Board Registration #:
B38: City, State Zip: | AP38: Phone:
B39: Name of Bonding Company for Payment Bond:
B40: Address:
B41: Agent Name: | AA41: Phone: | AO41: Payment Bond #:
D42: Check if copy of first-tier subcontractors is attached (see NOTE above).
A43: Signature of authorized representative completing form:
A44: Printed Name: | AJ44: Phone: | AX44: Date:
A45: Email Address:
...

Sheet WH-81 (Pg 2)
B1: Notice of Public Works – Page 2
B2: Complete this page for public works projects in which NO PUBLIC AGENCY AWARDS A CONTRACT
B3: TO A CONTRACTOR. Complete the CONTRACT INFORMATION AND SECTION B, C, D, E, or F
B4: whichever applies to the project.
B6: CONTRACT INFORMATION:
B7: Name of Project Owner: | AP7: Phone:
B8: Project Owner Mailing Address: | AM8: City, State, Zip:
B9: Project Name: | AQ9: Project #:
B10: Project Location (Street(s), City): | AQ10: Project County:
B11: Total Project Cost: | X11: Amount of public funds provided for the project:
B12: Name(s) of public agency(ies) providing public funds:
B13: Will project use federal funds that require compliance with the Davis-Bacon Act? | AO13: Yes/No
B14: Date work expected to begin: | AC14: Date work expected to be complete:
A17: SECTION B: | H17: To be completed when a project is a public works pursuant to ORS 279C.800(6)(a)(B) (a project for the
H18: construction, reconstruction, major renovation or painting on a road, highway, building, structure or
H19: improvement of any type that uses $750,000 or more of funds of a public agency).
B20: Date the public agency or agencies entered into an agreement with a private entity for the project:
A23: SECTION C: | H23: To be completed when a project is a public works pursuant to ORS 279C.800(6)(a)(C) (a project for the
H24: construction of a privately owned road, highway, building, structure or improvement of any type that uses funds
H25: of a private entity and in which 25 percent or more of the square footage of the completed project will
H26: be occupied or used by a public agency).
B27: Date the public agency or agencies entered into an agreement with a private entity for the project:
A30: SECTION D: | H30: To be completed when a project is a public works pursuant to ORS 279C.800(6)(a)(D) (a project that
H31: includes the construction or installation of a device, structure or mechanism that uses solar radiation on
H32: public property, regardless of project cost or whether the project uses funds of a public agency).
B33: Date the public agency entered into an agreement with a private entity for the project:
A36: SECTION E: | H36: To be completed when a project is a public works pursuant to ORS 279C.800(6)(a)(E) (a project for the
H37: construction, reconstruction, major renovation or painting of a road, highway, building, structure, or improve-
H38: ment of any type that occurs, with or without using funds of a public agency, on real property that a public
H39: university listed in ORS 352.002 owns).
B40: Date the public agency entered into an agreement with a private entity for the project:
A43: SECTION F: | H43: To be completed when a project is a public works pursuant to ORS 279C.800(6)(a)(F) (a project for the
H44: Demolition of, or removal of hazardous waste from, a road, highway, building, structure or improvement of any
H45: type that uses $750,000 or more in funds of a public agency, or that occurs on real property that a state
H46: agency owns, but that does not involve constructing, reconstructing, renovating or painting a road, highway,
H47: building, structure or improvement.
B48: Date the public agency entered into an agreement with a private entity for the project:
A50: THIS FORM WILL BE RETURNED FOR CORRECTION AND RESUBMITTAL IF INCOMPLETE.
B51: RETURN THIS COMPLETED FORM TO:
B52: Prevailing Wage Rate Unit · Bureau of Labor and Industries · 1800 SW 1st Ave, Suite 500 Portland, OR 97201-5322
...

Sheet WH-39A
Q1: CONTRACT FEE SECTION
Q2: PREVAILING WAGE RATE UNIT
Q3: BUREAU OF LABOR AND INDUSTRIES
Q4: 1800 SW 1ST AVE STE 500
Q5: PORTLAND, OR 97201-5322
Q6: PHONE: (971) 353-6762
B8: PUBLIC WORKS FEE INFORMATION FORM
B10: For use on a public works project regulated by ORS 279C.800 to 279C.870, in compliance with ORS 279C.825.
B11: (See form "WH-39 B, C, D, E, F" for public agencies that are a party to a public works project pursuant to
B12: ORS 279C.800(6)(a)(B), (C), (D), (E), or (F).
B14: SUBMITTER: Please complete and mail this form to BOLI at the above address, along with the public works fee
B15: of one-tenth of one percent of the contract price (contract amount x .001), payable to BOLI. The minimum fee is $250.00;
B16: the maximum fee is $12,500.00. Without the following completed information, the bureau may be unable to properly credit
B17: you for payment received.
B18: PUBLIC AGENCY: | L18: ='WH-81 (Pg 1)'!I8 -> 0 | AL18: AGENCY #: | AS18: ='WH-81 (Pg 1)'!AY9 -> 0
B19: AGENCY MAILING ADDRESS: | R19: ='WH-81 (Pg 1)'!N10 -> 0
B20: CITY, STATE, ZIP: | L20: ='WH-81 (Pg 1)'!J11 -> 0
B21: AGENCY CONTACT PERSON: | R21: ='WH-81 (Pg 1)'!M13 -> 0 | AO21: PHONE: | AT21: ='WH-81 (Pg 1)'!AT13 -> 0
B22: PROJECT MANAGER NAME: | R22: ='WH-81 (Pg 1)'!M22 -> 0 | AO22: PHONE: | AT22: ='WH-81 (Pg 1)'!$AL$22 -> 0
B23: PROJECT NAME: | L23: ='WH-81 (Pg 1)'!I19 -> 0
B24: CONTRACT NAME (if part of larger project): | Y24: ='WH-81 (Pg 1)'!$U$20 -> 0
B25: PROJECT LOCATION: | N25: ='WH-81 (Pg 1)'!R23 -> 0
B26: CONTRACT NO: | N26: ='WH-81 (Pg 1)'!AJ21 -> 0
B27: PROJECT NO: | J27: ='WH-81 (Pg 1)'!G21 -> 0
B28: DATE CONTRACT AWARDED: | R28: ='WH-81 (Pg 1)'!L32 -> 0 | AG28: CONTRACTOR CCB#: | AS28: ='WH-81 (Pg 1)'!AZ37 -> 0
B29: CONTRACTOR BUSINESS NAME (DBA): | W29: ='WH-81 (Pg 1)'!$I$36 -> 0
B30: CONTRACTOR ADDRESS: | P30: ='WH-81 (Pg 1)'!G37 -> 0
B31: CITY, STATE, ZIP: | L31: ='WH-81 (Pg 1)'!I38 -> 0
B32: CONTRACT AMOUNT: | N32: ='WH-81 (Pg 1)'!L27 -> 0 | AE32: FEE AMOUNT DUE/PAID: | AS32: =IF(N32=0,"",IF(R28<DATE(2026,6,6),IF((N32*0.001)<=250,"$250.00",IF(AND((N32*0.001)>250,(N32*0.001)<7500),(N32*0.001),IF((N32*0.001)>=7500,"$7,500.00"))),IF((N32*0.001)<=250,"$250.00",IF(AND((N32*0.001)>250,(N32*0.001)<12500),(N32*0.001),IF((N32*0.001)>=12500,"$12,500.00")))))
A33: If less than $50K, is it part of a larger project? (yes/no) | AB33: ='WH-81 (Pg 1)'!Y28 -> 0 | AO33: Contract amount x .001 = fee due
B35: WH-39A (Rev 9-26)_linked

Sheet WH-39 B, C, D, E, F
Q1: CONTRACT FEE SECTION
Q2: PREVAILING WAGE RATE UNIT
Q3: BUREAU OF LABOR AND INDUSTRIES
Q4: 1800 SW 1ST AVE STE 500
Q5: PORTLAND, OR 97201-5322
Q6: PHONE: (971) 353-6762
B8: PUBLIC WORKS FEE INFORMATION FORM
B10: For use when public agencies have NOT AWARDED A CONTRACT TO A CONTRACTOR and are a party to
B11: a public works project pursuant to ORS 279C.800(6)(a)(B), (C), (D), (E), or (F).
B13: SUBMITTER: Please complete the CONTRACT INFORMATION AND SECTION B, C, D, E, or (F) (whichever
B14: applies to the project) and mail this form to BOLI at the above address, along with the public works fee on one-tenth of one
B15: percent of the contract price (contract amount x .001), payable to BOLI. The minimum fee is $250.00; the maximum fee
B16: is $12,500.00. Without the following completed information, the bureau may be unable to properly credit you for
B17: payment received.
B18: CONTRACT INFORMATION
B19: PROJECT OWNER: | M19: ='WH-81 (Pg 2)'!$M$7 -> 0 | AN19: PHONE: | AS19: ='WH-81 (Pg 2)'!$AT$7 -> 0
B20: MAILING ADDRESS OF PROJECT OWNER: | W20: ='WH-81 (Pg 2)'!$Q$8 -> 0
B21: CITY, STATE ZIP: | M21: ='WH-81 (Pg 2)'!$AT$8 -> 0
B23: PROJECT NAME: | L23: ='WH-81 (Pg 2)'!$I$9 -> 0
B24: PROJECT NUMBER: | M24: ='WH-81 (Pg 2)'!$AV$9 -> 0
B25: PROJECT LOCATION: | N25: ='WH-81 (Pg 2)'!$R$10 -> 0
B27: NAME OF PUBLIC AGENCY(IES) PROVIDING PUBLIC FUNDS: | AE27: ='WH-81 (Pg 2)'!$AB$12 -> 0
B28: PUBLIC AGENCY MAILING ADDRESS: | U28: ='WH-81 (Pg 1)'!$N$10 -> 0
U29: ='WH-81 (Pg 1)'!$J$11 -> 0
B30: TOTAL PROJECT COST: | O30: ='WH-81 (Pg 2)'!$K$11 -> 0 | AI30: FEE AMOUNT DUE/PAID: | AW30: =IF(O30=0,"",IF(MAX('WH-81 (Pg 2)'!AX20:BF20,'WH-81 (Pg 2)'!AX27:BF27,'WH-81 (Pg 2)'!AX33:BF33,'WH-81 (Pg 2)'!AX40:BF40,'WH-81 (Pg 2)'!AX48:BF48)<DATE(2026,6,6),IF((O30*0.001)<=250,"$250.00",IF(AND((O30*0.001)>250,(O30*0.001)<7500),(O30*0.001),IF((O30*0.001)>=7500,"$7,500.00"))),IF((O30*0.001)<=250,"$250.00",IF(AND((O30*0.001)>250,(O30*0.001)<12500),(O30*0.001),IF((O30*0.001)>=12500,"$12,500.00")))))
B35: *See form WH-81 Pg. 2 | U35: WH-39 B,C,D,E, F (Rev 9-26)_linked
