Workbook

Sheet START HERE
A1: . | C1: .
A2: . | D2: Lead in Water Testing & Remediation Reporting Form Instructions
A3: . | C3: .
A4: . | B4: Entity ID #: | D4: [enter Inst. ID] | E4: *List of all Entity IDs | F4: .
A5: . | B5: Entity Name: | D5: =IF($D$4="[enter Inst. ID]","[autofill]",IFERROR(VLOOKUP($D$4,EntityIDs[[Schl ID]:[Schl Name]],2,0),"Invalid Entity ID")) -> [autofill]
A6: . | B6: School ID #: | D6: [enter Inst. ID]
A7: . | B7: School/Campus Name: | D7: =IF($D$6="[enter Inst. ID]","[autofill]",IFERROR(VLOOKUP($D$6,EntityIDs[[Schl ID]:[Schl Name]],2,0),"Invalid Entity ID")) -> [autofill] | F7: . | G7: [enter school/campus name]
A8: .
A9: . | B9: Are you requesting reimbursement for the expenses detailed in this Reporting Form? | E9: [select]
A10: . | C10: .
A11: . | B11: Form Completed By: | D11: [enter name]
A12: . | B12: Email Address: | D12: [enter email]
A13: . | C13: .
A14: . | B14: Form Reviewed By: | D14: [FOR ODE USE ONLY - enter reviewer name]
A15: .
A16: . | B16: Important Notes:
A17: . | B17: ✻ | C17: This form must be submitted in Excel format to:
A18: . | C18: ODE.WaterTesting@ode.oregon.gov
A19: . | B19: ✻ | C19: Complete one workbook/file per school/campus, with one tab for each building at that school/campus.
A20: . | C20: Ex: A school district has an elementary school, middle school, and high school. The district would complete three Fixture Tracking workbooks (one for each school). The high school is made up of three buildings: the main building (classrooms), a gym, and a woodshop. The high school workbook would have three tabs filled in, one for the main building, one for the gym, and one for the woodshop.
A21: . | C21: Note: For schools/campuses with more than five buildings, up to five additional building tabs can be added by right clicking any tab below and selecting "Unhide...". Then, select the next available building tab and select "OK" to add it to the workbook.
A22: . | C22: For schools/campuses with more than 10 buildings, make a copy of one of the building tabs below for each additional building.
A23: . | B23: ✻ | C23: It is highly recommended that you complete and submit one template for a single building for review and confirmation that everything is correct before completing all templates.
A24: . | C24: This will help ensure that if something is not filled out properly, the error can be corrected before you have filled out all of your documents.
A25: . | C25: .
A26: . | B26: Required Inputs:
A27: . | B27: 1) | C27: Entity ID # (above):
A28: . | C28: Enter your entity's ODE assigned ESD, District, or Charter School ID.
A29: . | B29: 2) | C29: Entity Name (above):
A30: . | C30: The name of your ESD, district, or charter school will autofill.
A31: . | B31: 3) | C31: School ID # (above):
A32: . | C32: Enter the ODE assigned Institution (School) ID for the school/campus.
A33: . | C33: *A list of all ODE assigned ESD, District, and School IDs can be found on the Entity IDs tab.
A34: . | C34: If the School ID you are looking for is not listed, enter "X" in the School ID field above. Then, enter the name of the school in the box that appears next to the School/Campus Name field.
A35: . | C35: *If this report is for district/administration buildings not at a school site, enter the ESD/District ID.
A36: . | C36: *If this report is for a charter school, enter the Charter School ID again.
A37: . | B37: 4) | C37: School/Campus Name (above):
A38: . | C38: The School/Campus Name will autofill.
A39: . | B39: 5) | C39: Are you requesting reimbursement for the expenses detailed in this Reporting Form? (above):
A40: . | C40: Use this field to indicate whether you are:
...

Sheet Main Building (EXAMPLE)
A1: . | B1: Lead in Water Testing & Remediation Reporting Form
A2: . | C2: .
A3: . | C3: Entity ID #: | D3: 1234 | F3: Schl ID #: | G3: 1111
A4: . | C4: Entity Name: | D4: Example SD | H4: . | K4: First Sample Date: | M4: =IF(MIN(TestingDataExample[Initial Test Date])=0,"[autofill]",MIN(TestingDataExample[Initial Test Date])) -> 45022
A5: . | C5: School Name: | D5: Paige Turner High School | H5: . | K5: Last Sample Date: | M5: =IF(MAX(TestingDataExample[Initial Test Date])=0,"[autofill]",MAX(TestingDataExample[Initial Test Date])) -> 45043
A6: . | C6: .
A7: . | C7: Building ID # (BIN): | D7: 12340300 | H7: .
A8: . | C8: Building Name: | D8: Paige Turner High School Main Building
A9: . | C9: .
A10: . | C10: Min Report Level: | D10: 0.2 ppb | F10: . | G10: . | K10: Testing Total: | M10: =SUM(TestingDataExample[Total '# of Tests]) -> 34 | N10: =IF('START HERE'!$E$9="NOT Requesting Reimbursement - Reporting ONLY"," -",SUM(TestingDataExample[Testing Costs Total])) -> 682.55 | O10: Remediation Total: | Q10: =SUM(TestingDataExample[Remediation Costs Total]) -> 1225
A11: . | C11: .
A12: . | B12: Fixture Location / Expense Description | C12: Fixture ID # (FIN) | D12: Initial Test Date | E12: Initial Test Result (ppb) | F12: Number of Retests | G12: Final Test Result (ppb) | H12: Remediation Action Taken | I12: Misc. Lab Costs | J12: Shipping Costs | K12: Lab Cost Per Initial Test | L12: Lab Cost Per Retest | M12: Total # of Tests | N12: Testing Costs Total | O12: Remediation Material Costs | P12: Remediation Labor Costs | Q12: Remediation Costs Total | R12: Notes
A13: ✻ | B13: 1st floor main hall fountain | C13: 12340300-002DW | D13: 45022 | E13: 1.6 | K13: 18 | M13: =IF(AND(TestingDataExample[[#This Row],[Initial Test Result (ppb)]]="[result]",TestingDataExample[[#This Row],[Number of Retests]]="[retests]"),"[autofill]",IF(AND(TestingDataExample[[#This Row],[Initial Test Result (ppb)]]<>"",TestingDataExample[[#This Row],[Initial Test Result (ppb)]]<>"[result]"),IFERROR(VALUE(TestingDataExample[[#This Row],[Number of Retests]]),0)+1,IFERROR(VALUE(TestingDataExample[[#This Row],[Number of Retests]]),0))) -> 1 | N13: =IF(AND(TestingDataExample[[#This Row],[Misc. Lab Costs]]="[enter $]",TestingDataExample[[#This Row],[Shipping Costs]]="[enter $]",TestingDataExample[[#This Row],[Lab Cost Per Initial Test]]="[enter $]"),"[autofill]",ROUND(IFERROR(VALUE(TestingDataExample[[#This Row],[Misc. Lab Costs]]),0)+IFERROR(VALUE(TestingDataExample[[#This Row],[Shipping Costs]]),0)+IFERROR(VALUE(TestingDataExample[[#This Row],[Lab Cost Per Initial Test]]),0)+IFERROR(TestingDataExample[[#This Row],[Lab Cost Per Retest]]*TestingDataExample[[#This Row],[Number of Retests]],0),2)) -> 18 | Q13: 0
B14: 1st floor main hall bottle fill | C14: 12340300-003WB | D14: 45022 | E14: 1.8 | K14: 18 | M14: =IF(AND(TestingDataExample[[#This Row],[Initial Test Result (ppb)]]="[result]",TestingDataExample[[#This Row],[Number of Retests]]="[retests]"),"[autofill]",IF(AND(TestingDataExample[[#This Row],[Initial Test Result (ppb)]]<>"",TestingDataExample[[#This Row],[Initial Test Result (ppb)]]<>"[result]"),IFERROR(VALUE(TestingDataExample[[#This Row],[Number of Retests]]),0)+1,IFERROR(VALUE(TestingDataExample[[#This Row],[Number of Retests]]),0))) -> 1 | N14: =IF(AND(TestingDataExample[[#This Row],[Misc. Lab Costs]]="[enter $]",TestingDataExample[[#This Row],[Shipping Costs]]="[enter $]",TestingDataExample[[#This Row],[Lab Cost Per Initial Test]]="[enter $]"),"[autofill]",ROUND(IFERROR(VALUE(TestingDataExample[[#This Row],[Misc. Lab Costs]]),0)+IFERROR(VALUE(TestingDataExample[[#This Row],[Shipping Costs]]),0)+IFERROR(VALUE(TestingDataExample[[#This Row],[Lab Cost Per Initial Test]]),0)+IFERROR(TestingDataExample[[#This Row],[Lab Cost Per Retest]]*TestingDataExample[[#This Row],[Number of Retests]],0),2)) -> 18 | Q14: 0
B15: 1st floor boys restroom-L | C15: 12340300-004BF | D15: 45022 | E15: 22 | F15: 2 | G15: 0.8 | H15: RP-SF-IF | K15: 18 | L15: 20 | M15: =IF(AND(TestingDataExample[[#This Row],[Initial Test Result (ppb)]]="[result]",TestingDataExample[[#This Row],[Number of Retests]]="[retests]"),"[autofill]",IF(AND(TestingDataExample[[#This Row],[Initial Test Result (ppb)]]<>"",TestingDataExample[[#This Row],[Initial Test Result (ppb)]]<>"[result]"),IFERROR(VALUE(TestingDataExample[[#This Row],[Number of Retests]]),0)+1,IFERROR(VALUE(TestingDataExample[[#This Row],[Number of Retests]]),0))) -> 3 | N15: =IF(AND(TestingDataExample[[#This Row],[Misc. Lab Costs]]="[enter $]",TestingDataExample[[#This Row],[Shipping Costs]]="[enter $]",TestingDataExample[[#This Row],[Lab Cost Per Initial Test]]="[enter $]"),"[autofill]",ROUND(IFERROR(VALUE(TestingDataExample[[#This Row],[Misc. Lab Costs]]),0)+IFERROR(VALUE(TestingDataExample[[#This Row],[Shipping Costs]]),0)+IFERROR(VALUE(TestingDataExample[[#This Row],[Lab Cost Per Initial Test]]),0)+IFERROR(TestingDataExample[[#This Row],[Lab Cost Per Retest]]*TestingDataExample[[#This Row],[Number of Retests]],0),2)) -> 58 | O15: 125 | Q15: 125
B16: 1st floor boys restroom-C | C16: 12340300-005BF | D16: 45022 | E16: 310 | F16: 3 | G16: 1.2 | H16: RP-FX | K16: 18 | L16: 20 | M16: =IF(AND(TestingDataExample[[#This Row],[Initial Test Result (ppb)]]="[result]",TestingDataExample[[#This Row],[Number of Retests]]="[retests]"),"[autofill]",IF(AND(TestingDataExample[[#This Row],[Initial Test Result (ppb)]]<>"",TestingDataExample[[#This Row],[Initial Test Result (ppb)]]<>"[result]"),IFERROR(VALUE(TestingDataExample[[#This Row],[Number of Retests]]),0)+1,IFERROR(VALUE(TestingDataExample[[#This Row],[Number of Retests]]),0))) -> 4 | N16: =IF(AND(TestingDataExample[[#This Row],[Misc. Lab Costs]]="[enter $]",TestingDataExample[[#This Row],[Shipping Costs]]="[enter $]",TestingDataExample[[#This Row],[Lab Cost Per Initial Test]]="[enter $]"),"[autofill]",ROUND(IFERROR(VALUE(TestingDataExample[[#This Row],[Misc. Lab Costs]]),0)+IFERROR(VALUE(TestingDataExample[[#This Row],[Shipping Costs]]),0)+IFERROR(VALUE(TestingDataExample[[#This Row],[Lab Cost Per Initial Test]]),0)+IFERROR(TestingDataExample[[#This Row],[Lab Cost Per Retest]]*TestingDataExample[[#This Row],[Number of Retests]],0),2)) -> 78 | O16: 150 | Q16: 150
B17: 1st floor boys restroom-R | C17: 12340300-006BF | D17: 45022 | E17: 6.5 | K17: 18 | M17: =IF(AND(TestingDataExample[[#This Row],[Initial Test Result (ppb)]]="[result]",TestingDataExample[[#This Row],[Number of Retests]]="[retests]"),"[autofill]",IF(AND(TestingDataExample[[#This Row],[Initial Test Result (ppb)]]<>"",TestingDataExample[[#This Row],[Initial Test Result (ppb)]]<>"[result]"),IFERROR(VALUE(TestingDataExample[[#This Row],[Number of Retests]]),0)+1,IFERROR(VALUE(TestingDataExample[[#This Row],[Number of Retests]]),0))) -> 1 | N17: =IF(AND(TestingDataExample[[#This Row],[Misc. Lab Costs]]="[enter $]",TestingDataExample[[#This Row],[Shipping Costs]]="[enter $]",TestingDataExample[[#This Row],[Lab Cost Per Initial Test]]="[enter $]"),"[autofill]",ROUND(IFERROR(VALUE(TestingDataExample[[#This Row],[Misc. Lab Costs]]),0)+IFERROR(VALUE(TestingDataExample[[#This Row],[Shipping Costs]]),0)+IFERROR(VALUE(TestingDataExample[[#This Row],[Lab Cost Per Initial Test]]),0)+IFERROR(TestingDataExample[[#This Row],[Lab Cost Per Retest]]*TestingDataExample[[#This Row],[Number of Retests]],0),2)) -> 18 | Q17: 0
B18: 1st floor girls restroom-L | C18: 12340300-007BF | D18: 45022 | E18: 7 | K18: 18 | M18: =IF(AND(TestingDataExample[[#This Row],[Initial Test Result (ppb)]]="[result]",TestingDataExample[[#This Row],[Number of Retests]]="[retests]"),"[autofill]",IF(AND(TestingDataExample[[#This Row],[Initial Test Result (ppb)]]<>"",TestingDataExample[[#This Row],[Initial Test Result (ppb)]]<>"[result]"),IFERROR(VALUE(TestingDataExample[[#This Row],[Number of Retests]]),0)+1,IFERROR(VALUE(TestingDataExample[[#This Row],[Number of Retests]]),0))) -> 1 | N18: =IF(AND(TestingDataExample[[#This Row],[Misc. Lab Costs]]="[enter $]",TestingDataExample[[#This Row],[Shipping Costs]]="[enter $]",TestingDataExample[[#This Row],[Lab Cost Per Initial Test]]="[enter $]"),"[autofill]",ROUND(IFERROR(VALUE(TestingDataExample[[#This Row],[Misc. Lab Costs]]),0)+IFERROR(VALUE(TestingDataExample[[#This Row],[Shipping Costs]]),0)+IFERROR(VALUE(TestingDataExample[[#This Row],[Lab Cost Per Initial Test]]),0)+IFERROR(TestingDataExample[[#This Row],[Lab Cost Per Retest]]*TestingDataExample[[#This Row],[Number of Retests]],0),2)) -> 18 | Q18: 0
B19: 1st floor girls restroom-C | C19: 12340300-008BF | D19: 45022 | E19: 6.3 | K19: 18 | M19: =IF(AND(TestingDataExample[[#This Row],[Initial Test Result (ppb)]]="[result]",TestingDataExample[[#This Row],[Number of Retests]]="[retests]"),"[autofill]",IF(AND(TestingDataExample[[#This Row],[Initial Test Result (ppb)]]<>"",TestingDataExample[[#This Row],[Initial Test Result (ppb)]]<>"[result]"),IFERROR(VALUE(TestingDataExample[[#This Row],[Number of Retests]]),0)+1,IFERROR(VALUE(TestingDataExample[[#This Row],[Number of Retests]]),0))) -> 1 | N19: =IF(AND(TestingDataExample[[#This Row],[Misc. Lab Costs]]="[enter $]",TestingDataExample[[#This Row],[Shipping Costs]]="[enter $]",TestingDataExample[[#This Row],[Lab Cost Per Initial Test]]="[enter $]"),"[autofill]",ROUND(IFERROR(VALUE(TestingDataExample[[#This Row],[Misc. Lab Costs]]),0)+IFERROR(VALUE(TestingDataExample[[#This Row],[Shipping Costs]]),0)+IFERROR(VALUE(TestingDataExample[[#This Row],[Lab Cost Per Initial Test]]),0)+IFERROR(TestingDataExample[[#This Row],[Lab Cost Per Retest]]*TestingDataExample[[#This Row],[Number of Retests]],0),2)) -> 18 | Q19: 0
B20: 1st floor girls restroom-R | C20: 12340300-009BF | D20: 45022 | E20: 3 | K20: 18 | M20: =IF(AND(TestingDataExample[[#This Row],[Initial Test Result (ppb)]]="[result]",TestingDataExample[[#This Row],[Number of Retests]]="[retests]"),"[autofill]",IF(AND(TestingDataExample[[#This Row],[Initial Test Result (ppb)]]<>"",TestingDataExample[[#This Row],[Initial Test Result (ppb)]]<>"[result]"),IFERROR(VALUE(TestingDataExample[[#This Row],[Number of Retests]]),0)+1,IFERROR(VALUE(TestingDataExample[[#This Row],[Number of Retests]]),0))) -> 1 | N20: =IF(AND(TestingDataExample[[#This Row],[Misc. Lab Costs]]="[enter $]",TestingDataExample[[#This Row],[Shipping Costs]]="[enter $]",TestingDataExample[[#This Row],[Lab Cost Per Initial Test]]="[enter $]"),"[autofill]",ROUND(IFERROR(VALUE(TestingDataExample[[#This Row],[Misc. Lab Costs]]),0)+IFERROR(VALUE(TestingDataExample[[#This Row],[Shipping Costs]]),0)+IFERROR(VALUE(TestingDataExample[[#This Row],[Lab Cost Per Initial Test]]),0)+IFERROR(TestingDataExample[[#This Row],[Lab Cost Per Retest]]*TestingDataExample[[#This Row],[Number of Retests]],0),2)) -> 18 | Q20: 0
B21: Room 114 NW sink | C21: 12340300-015CF | D21: 45022 | E21: 11.1 | K21: 18 | M21: =IF(AND(TestingDataExample[[#This Row],[Initial Test Result (ppb)]]="[result]",TestingDataExample[[#This Row],[Number of Retests]]="[retests]"),"[autofill]",IF(AND(TestingDataExample[[#This Row],[Initial Test Result (ppb)]]<>"",TestingDataExample[[#This Row],[Initial Test Result (ppb)]]<>"[result]"),IFERROR(VALUE(TestingDataExample[[#This Row],[Number of Retests]]),0)+1,IFERROR(VALUE(TestingDataExample[[#This Row],[Number of Retests]]),0))) -> 1 | N21: =IF(AND(TestingDataExample[[#This Row],[Misc. Lab Costs]]="[enter $]",TestingDataExample[[#This Row],[Shipping Costs]]="[enter $]",TestingDataExample[[#This Row],[Lab Cost Per Initial Test]]="[enter $]"),"[autofill]",ROUND(IFERROR(VALUE(TestingDataExample[[#This Row],[Misc. Lab Costs]]),0)+IFERROR(VALUE(TestingDataExample[[#This Row],[Shipping Costs]]),0)+IFERROR(VALUE(TestingDataExample[[#This Row],[Lab Cost Per Initial Test]]),0)+IFERROR(TestingDataExample[[#This Row],[Lab Cost Per Retest]]*TestingDataExample[[#This Row],[Number of Retests]],0),2)) -> 18 | Q21: 0
B22: Room 114 NE sink | C22: 12340300-016CF | D22: 45022 | E22: 1100 | F22: 4 | G22: 1.3 | H22: RP-FX+SF | K22: 18 | L22: 20 | M22: =IF(AND(TestingDataExample[[#This Row],[Initial Test Result (ppb)]]="[result]",TestingDataExample[[#This Row],[Number of Retests]]="[retests]"),"[autofill]",IF(AND(TestingDataExample[[#This Row],[Initial Test Result (ppb)]]<>"",TestingDataExample[[#This Row],[Initial Test Result (ppb)]]<>"[result]"),IFERROR(VALUE(TestingDataExample[[#This Row],[Number of Retests]]),0)+1,IFERROR(VALUE(TestingDataExample[[#This Row],[Number of Retests]]),0))) -> 5 | N22: =IF(AND(TestingDataExample[[#This Row],[Misc. Lab Costs]]="[enter $]",TestingDataExample[[#This Row],[Shipping Costs]]="[enter $]",TestingDataExample[[#This Row],[Lab Cost Per Initial Test]]="[enter $]"),"[autofill]",ROUND(IFERROR(VALUE(TestingDataExample[[#This Row],[Misc. Lab Costs]]),0)+IFERROR(VALUE(TestingDataExample[[#This Row],[Shipping Costs]]),0)+IFERROR(VALUE(TestingDataExample[[#This Row],[Lab Cost Per Initial Test]]),0)+IFERROR(TestingDataExample[[#This Row],[Lab Cost Per Retest]]*TestingDataExample[[#This Row],[Number of Retests]],0),2)) -> 98 | O22: 175 | Q22: 175
B23: 2nd floor main hall fountain | C23: 12340300-019DW | D23: 45036 | E23: 3.5 | K23: 18 | M23: =IF(AND(TestingDataExample[[#This Row],[Initial Test Result (ppb)]]="[result]",TestingDataExample[[#This Row],[Number of Retests]]="[retests]"),"[autofill]",IF(AND(TestingDataExample[[#This Row],[Initial Test Result (ppb)]]<>"",TestingDataExample[[#This Row],[Initial Test Result (ppb)]]<>"[result]"),IFERROR(VALUE(TestingDataExample[[#This Row],[Number of Retests]]),0)+1,IFERROR(VALUE(TestingDataExample[[#This Row],[Number of Retests]]),0))) -> 1 | N23: =IF(AND(TestingDataExample[[#This Row],[Misc. Lab Costs]]="[enter $]",TestingDataExample[[#This Row],[Shipping Costs]]="[enter $]",TestingDataExample[[#This Row],[Lab Cost Per Initial Test]]="[enter $]"),"[autofill]",ROUND(IFERROR(VALUE(TestingDataExample[[#This Row],[Misc. Lab Costs]]),0)+IFERROR(VALUE(TestingDataExample[[#This Row],[Shipping Costs]]),0)+IFERROR(VALUE(TestingDataExample[[#This Row],[Lab Cost Per Initial Test]]),0)+IFERROR(TestingDataExample[[#This Row],[Lab Cost Per Retest]]*TestingDataExample[[#This Row],[Number of Retests]],0),2)) -> 18 | Q23: 0
B24: 2nd floor main hall bottle fill | C24: 12340300-020WB | D24: 45036 | E24: 1.07 | K24: 18 | M24: =IF(AND(TestingDataExample[[#This Row],[Initial Test Result (ppb)]]="[result]",TestingDataExample[[#This Row],[Number of Retests]]="[retests]"),"[autofill]",IF(AND(TestingDataExample[[#This Row],[Initial Test Result (ppb)]]<>"",TestingDataExample[[#This Row],[Initial Test Result (ppb)]]<>"[result]"),IFERROR(VALUE(TestingDataExample[[#This Row],[Number of Retests]]),0)+1,IFERROR(VALUE(TestingDataExample[[#This Row],[Number of Retests]]),0))) -> 1 | N24: =IF(AND(TestingDataExample[[#This Row],[Misc. Lab Costs]]="[enter $]",TestingDataExample[[#This Row],[Shipping Costs]]="[enter $]",TestingDataExample[[#This Row],[Lab Cost Per Initial Test]]="[enter $]"),"[autofill]",ROUND(IFERROR(VALUE(TestingDataExample[[#This Row],[Misc. Lab Costs]]),0)+IFERROR(VALUE(TestingDataExample[[#This Row],[Shipping Costs]]),0)+IFERROR(VALUE(TestingDataExample[[#This Row],[Lab Cost Per Initial Test]]),0)+IFERROR(TestingDataExample[[#This Row],[Lab Cost Per Retest]]*TestingDataExample[[#This Row],[Number of Retests]],0),2)) -> 18 | Q24: 0
B25: 2nd floor boys restroom-L | C25: 12340300-021BF | D25: 45036 | E25: 7.2 | K25: 18 | M25: =IF(AND(TestingDataExample[[#This Row],[Initial Test Result (ppb)]]="[result]",TestingDataExample[[#This Row],[Number of Retests]]="[retests]"),"[autofill]",IF(AND(TestingDataExample[[#This Row],[Initial Test Result (ppb)]]<>"",TestingDataExample[[#This Row],[Initial Test Result (ppb)]]<>"[result]"),IFERROR(VALUE(TestingDataExample[[#This Row],[Number of Retests]]),0)+1,IFERROR(VALUE(TestingDataExample[[#This Row],[Number of Retests]]),0))) -> 1 | N25: =IF(AND(TestingDataExample[[#This Row],[Misc. Lab Costs]]="[enter $]",TestingDataExample[[#This Row],[Shipping Costs]]="[enter $]",TestingDataExample[[#This Row],[Lab Cost Per Initial Test]]="[enter $]"),"[autofill]",ROUND(IFERROR(VALUE(TestingDataExample[[#This Row],[Misc. Lab Costs]]),0)+IFERROR(VALUE(TestingDataExample[[#This Row],[Shipping Costs]]),0)+IFERROR(VALUE(TestingDataExample[[#This Row],[Lab Cost Per Initial Test]]),0)+IFERROR(TestingDataExample[[#This Row],[Lab Cost Per Retest]]*TestingDataExample[[#This Row],[Number of Retests]],0),2)) -> 18 | Q25: 0
B26: 2nd floor boys restroom-R | C26: 12340300-022BF | D26: 45036 | E26: 13.8 | K26: 18 | M26: =IF(AND(TestingDataExample[[#This Row],[Initial Test Result (ppb)]]="[result]",TestingDataExample[[#This Row],[Number of Retests]]="[retests]"),"[autofill]",IF(AND(TestingDataExample[[#This Row],[Initial Test Result (ppb)]]<>"",TestingDataExample[[#This Row],[Initial Test Result (ppb)]]<>"[result]"),IFERROR(VALUE(TestingDataExample[[#This Row],[Number of Retests]]),0)+1,IFERROR(VALUE(TestingDataExample[[#This Row],[Number of Retests]]),0))) -> 1 | N26: =IF(AND(TestingDataExample[[#This Row],[Misc. Lab Costs]]="[enter $]",TestingDataExample[[#This Row],[Shipping Costs]]="[enter $]",TestingDataExample[[#This Row],[Lab Cost Per Initial Test]]="[enter $]"),"[autofill]",ROUND(IFERROR(VALUE(TestingDataExample[[#This Row],[Misc. Lab Costs]]),0)+IFERROR(VALUE(TestingDataExample[[#This Row],[Shipping Costs]]),0)+IFERROR(VALUE(TestingDataExample[[#This Row],[Lab Cost Per Initial Test]]),0)+IFERROR(TestingDataExample[[#This Row],[Lab Cost Per Retest]]*TestingDataExample[[#This Row],[Number of Retests]],0),2)) -> 18 | Q26: 0
B27: 2nd floor girls restroom-L | C27: 12340300-023BF | D27: 45036 | E27: 8 | K27: 18 | M27: =IF(AND(TestingDataExample[[#This Row],[Initial Test Result (ppb)]]="[result]",TestingDataExample[[#This Row],[Number of Retests]]="[retests]"),"[autofill]",IF(AND(TestingDataExample[[#This Row],[Initial Test Result (ppb)]]<>"",TestingDataExample[[#This Row],[Initial Test Result (ppb)]]<>"[result]"),IFERROR(VALUE(TestingDataExample[[#This Row],[Number of Retests]]),0)+1,IFERROR(VALUE(TestingDataExample[[#This Row],[Number of Retests]]),0))) -> 1 | N27: =IF(AND(TestingDataExample[[#This Row],[Misc. Lab Costs]]="[enter $]",TestingDataExample[[#This Row],[Shipping Costs]]="[enter $]",TestingDataExample[[#This Row],[Lab Cost Per Initial Test]]="[enter $]"),"[autofill]",ROUND(IFERROR(VALUE(TestingDataExample[[#This Row],[Misc. Lab Costs]]),0)+IFERROR(VALUE(TestingDataExample[[#This Row],[Shipping Costs]]),0)+IFERROR(VALUE(TestingDataExample[[#This Row],[Lab Cost Per Initial Test]]),0)+IFERROR(TestingDataExample[[#This Row],[Lab Cost Per Retest]]*TestingDataExample[[#This Row],[Number of Retests]],0),2)) -> 18 | Q27: 0
B28: 2nd floor girls restroom-R | C28: 12340300-024BF | D28: 45036 | E28: 5.1 | K28: 18 | M28: =IF(AND(TestingDataExample[[#This Row],[Initial Test Result (ppb)]]="[result]",TestingDataExample[[#This Row],[Number of Retests]]="[retests]"),"[autofill]",IF(AND(TestingDataExample[[#This Row],[Initial Test Result (ppb)]]<>"",TestingDataExample[[#This Row],[Initial Test Result (ppb)]]<>"[result]"),IFERROR(VALUE(TestingDataExample[[#This Row],[Number of Retests]]),0)+1,IFERROR(VALUE(TestingDataExample[[#This Row],[Number of Retests]]),0))) -> 1 | N28: =IF(AND(TestingDataExample[[#This Row],[Misc. Lab Costs]]="[enter $]",TestingDataExample[[#This Row],[Shipping Costs]]="[enter $]",TestingDataExample[[#This Row],[Lab Cost Per Initial Test]]="[enter $]"),"[autofill]",ROUND(IFERROR(VALUE(TestingDataExample[[#This Row],[Misc. Lab Costs]]),0)+IFERROR(VALUE(TestingDataExample[[#This Row],[Shipping Costs]]),0)+IFERROR(VALUE(TestingDataExample[[#This Row],[Lab Cost Per Initial Test]]),0)+IFERROR(TestingDataExample[[#This Row],[Lab Cost Per Retest]]*TestingDataExample[[#This Row],[Number of Retests]],0),2)) -> 18 | Q28: 0
B29: Room 224 NW sink | C29: 12340300-028CF | D29: 45043 | E29: 1.3 | K29: 20 | M29: =IF(AND(TestingDataExample[[#This Row],[Initial Test Result (ppb)]]="[result]",TestingDataExample[[#This Row],[Number of Retests]]="[retests]"),"[autofill]",IF(AND(TestingDataExample[[#This Row],[Initial Test Result (ppb)]]<>"",TestingDataExample[[#This Row],[Initial Test Result (ppb)]]<>"[result]"),IFERROR(VALUE(TestingDataExample[[#This Row],[Number of Retests]]),0)+1,IFERROR(VALUE(TestingDataExample[[#This Row],[Number of Retests]]),0))) -> 1 | N29: =IF(AND(TestingDataExample[[#This Row],[Misc. Lab Costs]]="[enter $]",TestingDataExample[[#This Row],[Shipping Costs]]="[enter $]",TestingDataExample[[#This Row],[Lab Cost Per Initial Test]]="[enter $]"),"[autofill]",ROUND(IFERROR(VALUE(TestingDataExample[[#This Row],[Misc. Lab Costs]]),0)+IFERROR(VALUE(TestingDataExample[[#This Row],[Shipping Costs]]),0)+IFERROR(VALUE(TestingDataExample[[#This Row],[Lab Cost Per Initial Test]]),0)+IFERROR(TestingDataExample[[#This Row],[Lab Cost Per Retest]]*TestingDataExample[[#This Row],[Number of Retests]],0),2)) -> 20 | Q29: 0
B30: Room 224 NE sink | C30: 12340300-029CF | D30: 45043 | E30: 15 | F30: 2 | G30: 2.7 | H30: RP-FX-IF | K30: 20 | L30: 22 | M30: =IF(AND(TestingDataExample[[#This Row],[Initial Test Result (ppb)]]="[result]",TestingDataExample[[#This Row],[Number of Retests]]="[retests]"),"[autofill]",IF(AND(TestingDataExample[[#This Row],[Initial Test Result (ppb)]]<>"",TestingDataExample[[#This Row],[Initial Test Result (ppb)]]<>"[result]"),IFERROR(VALUE(TestingDataExample[[#This Row],[Number of Retests]]),0)+1,IFERROR(VALUE(TestingDataExample[[#This Row],[Number of Retests]]),0))) -> 3 | N30: =IF(AND(TestingDataExample[[#This Row],[Misc. Lab Costs]]="[enter $]",TestingDataExample[[#This Row],[Shipping Costs]]="[enter $]",TestingDataExample[[#This Row],[Lab Cost Per Initial Test]]="[enter $]"),"[autofill]",ROUND(IFERROR(VALUE(TestingDataExample[[#This Row],[Misc. Lab Costs]]),0)+IFERROR(VALUE(TestingDataExample[[#This Row],[Shipping Costs]]),0)+IFERROR(VALUE(TestingDataExample[[#This Row],[Lab Cost Per Initial Test]]),0)+IFERROR(TestingDataExample[[#This Row],[Lab Cost Per Retest]]*TestingDataExample[[#This Row],[Number of Retests]],0),2)) -> 64 | O30: 250 | Q30: 250
B31: 2nd floor staff room sink | C31: 12340300-030SF | D31: 45043 | E31: ND | K31: 20 | M31: =IF(AND(TestingDataExample[[#This Row],[Initial Test Result (ppb)]]="[result]",TestingDataExample[[#This Row],[Number of Retests]]="[retests]"),"[autofill]",IF(AND(TestingDataExample[[#This Row],[Initial Test Result (ppb)]]<>"",TestingDataExample[[#This Row],[Initial Test Result (ppb)]]<>"[result]"),IFERROR(VALUE(TestingDataExample[[#This Row],[Number of Retests]]),0)+1,IFERROR(VALUE(TestingDataExample[[#This Row],[Number of Retests]]),0))) -> 1 | N31: =IF(AND(TestingDataExample[[#This Row],[Misc. Lab Costs]]="[enter $]",TestingDataExample[[#This Row],[Shipping Costs]]="[enter $]",TestingDataExample[[#This Row],[Lab Cost Per Initial Test]]="[enter $]"),"[autofill]",ROUND(IFERROR(VALUE(TestingDataExample[[#This Row],[Misc. Lab Costs]]),0)+IFERROR(VALUE(TestingDataExample[[#This Row],[Shipping Costs]]),0)+IFERROR(VALUE(TestingDataExample[[#This Row],[Lab Cost Per Initial Test]]),0)+IFERROR(TestingDataExample[[#This Row],[Lab Cost Per Retest]]*TestingDataExample[[#This Row],[Number of Retests]],0),2)) -> 20 | Q31: 0
B32: 2nd floor staff restroom | C32: 12340300-031BF | D32: 45043 | E32: ND | K32: 20 | M32: =IF(AND(TestingDataExample[[#This Row],[Initial Test Result (ppb)]]="[result]",TestingDataExample[[#This Row],[Number of Retests]]="[retests]"),"[autofill]",IF(AND(TestingDataExample[[#This Row],[Initial Test Result (ppb)]]<>"",TestingDataExample[[#This Row],[Initial Test Result (ppb)]]<>"[result]"),IFERROR(VALUE(TestingDataExample[[#This Row],[Number of Retests]]),0)+1,IFERROR(VALUE(TestingDataExample[[#This Row],[Number of Retests]]),0))) -> 1 | N32: =IF(AND(TestingDataExample[[#This Row],[Misc. Lab Costs]]="[enter $]",TestingDataExample[[#This Row],[Shipping Costs]]="[enter $]",TestingDataExample[[#This Row],[Lab Cost Per Initial Test]]="[enter $]"),"[autofill]",ROUND(IFERROR(VALUE(TestingDataExample[[#This Row],[Misc. Lab Costs]]),0)+IFERROR(VALUE(TestingDataExample[[#This Row],[Shipping Costs]]),0)+IFERROR(VALUE(TestingDataExample[[#This Row],[Lab Cost Per Initial Test]]),0)+IFERROR(TestingDataExample[[#This Row],[Lab Cost Per Retest]]*TestingDataExample[[#This Row],[Number of Retests]],0),2)) -> 20 | Q32: 0
B33: Nurses room sink | C33: 12340300-001NS | D33: 45022 | E33: 180 | F33: 2 | G33: 6.3 | H33: RP-SF | K33: 18 | L33: 20 | M33: =IF(AND(TestingDataExample[[#This Row],[Initial Test Result (ppb)]]="[result]",TestingDataExample[[#This Row],[Number of Retests]]="[retests]"),"[autofill]",IF(AND(TestingDataExample[[#This Row],[Initial Test Result (ppb)]]<>"",TestingDataExample[[#This Row],[Initial Test Result (ppb)]]<>"[result]"),IFERROR(VALUE(TestingDataExample[[#This Row],[Number of Retests]]),0)+1,IFERROR(VALUE(TestingDataExample[[#This Row],[Number of Retests]]),0))) -> 3 | N33: =IF(AND(TestingDataExample[[#This Row],[Misc. Lab Costs]]="[enter $]",TestingDataExample[[#This Row],[Shipping Costs]]="[enter $]",TestingDataExample[[#This Row],[Lab Cost Per Initial Test]]="[enter $]"),"[autofill]",ROUND(IFERROR(VALUE(TestingDataExample[[#This Row],[Misc. Lab Costs]]),0)+IFERROR(VALUE(TestingDataExample[[#This Row],[Shipping Costs]]),0)+IFERROR(VALUE(TestingDataExample[[#This Row],[Lab Cost Per Initial Test]]),0)+IFERROR(TestingDataExample[[#This Row],[Lab Cost Per Retest]]*TestingDataExample[[#This Row],[Number of Retests]],0),2)) -> 58 | O33: 25 | Q33: 25
B34: Metal Digestion | I34: 15 | M34: =IF(AND(TestingDataExample[[#This Row],[Initial Test Result (ppb)]]="[result]",TestingDataExample[[#This Row],[Number of Retests]]="[retests]"),"[autofill]",IF(AND(TestingDataExample[[#This Row],[Initial Test Result (ppb)]]<>"",TestingDataExample[[#This Row],[Initial Test Result (ppb)]]<>"[result]"),IFERROR(VALUE(TestingDataExample[[#This Row],[Number of Retests]]),0)+1,IFERROR(VALUE(TestingDataExample[[#This Row],[Number of Retests]]),0))) -> 0 | N34: =IF(AND(TestingDataExample[[#This Row],[Misc. Lab Costs]]="[enter $]",TestingDataExample[[#This Row],[Shipping Costs]]="[enter $]",TestingDataExample[[#This Row],[Lab Cost Per Initial Test]]="[enter $]"),"[autofill]",ROUND(IFERROR(VALUE(TestingDataExample[[#This Row],[Misc. Lab Costs]]),0)+IFERROR(VALUE(TestingDataExample[[#This Row],[Shipping Costs]]),0)+IFERROR(VALUE(TestingDataExample[[#This Row],[Lab Cost Per Initial Test]]),0)+IFERROR(TestingDataExample[[#This Row],[Lab Cost Per Retest]]*TestingDataExample[[#This Row],[Number of Retests]],0),2)) -> 15 | Q34: 0
B35: Shipping | J35: 17.55 | M35: =IF(AND(TestingDataExample[[#This Row],[Initial Test Result (ppb)]]="[result]",TestingDataExample[[#This Row],[Number of Retests]]="[retests]"),"[autofill]",IF(AND(TestingDataExample[[#This Row],[Initial Test Result (ppb)]]<>"",TestingDataExample[[#This Row],[Initial Test Result (ppb)]]<>"[result]"),IFERROR(VALUE(TestingDataExample[[#This Row],[Number of Retests]]),0)+1,IFERROR(VALUE(TestingDataExample[[#This Row],[Number of Retests]]),0))) -> 0 | N35: =IF(AND(TestingDataExample[[#This Row],[Misc. Lab Costs]]="[enter $]",TestingDataExample[[#This Row],[Shipping Costs]]="[enter $]",TestingDataExample[[#This Row],[Lab Cost Per Initial Test]]="[enter $]"),"[autofill]",ROUND(IFERROR(VALUE(TestingDataExample[[#This Row],[Misc. Lab Costs]]),0)+IFERROR(VALUE(TestingDataExample[[#This Row],[Shipping Costs]]),0)+IFERROR(VALUE(TestingDataExample[[#This Row],[Lab Cost Per Initial Test]]),0)+IFERROR(TestingDataExample[[#This Row],[Lab Cost Per Retest]]*TestingDataExample[[#This Row],[Number of Retests]],0),2)) -> 17.55 | Q35: 0
B36: Remediation labor expenses | M36: =IF(AND(TestingDataExample[[#This Row],[Initial Test Result (ppb)]]="[result]",TestingDataExample[[#This Row],[Number of Retests]]="[retests]"),"[autofill]",IF(AND(TestingDataExample[[#This Row],[Initial Test Result (ppb)]]<>"",TestingDataExample[[#This Row],[Initial Test Result (ppb)]]<>"[result]"),IFERROR(VALUE(TestingDataExample[[#This Row],[Number of Retests]]),0)+1,IFERROR(VALUE(TestingDataExample[[#This Row],[Number of Retests]]),0))) -> 0 | N36: =IF(AND(TestingDataExample[[#This Row],[Misc. Lab Costs]]="[enter $]",TestingDataExample[[#This Row],[Shipping Costs]]="[enter $]",TestingDataExample[[#This Row],[Lab Cost Per Initial Test]]="[enter $]"),"[autofill]",ROUND(IFERROR(VALUE(TestingDataExample[[#This Row],[Misc. Lab Costs]]),0)+IFERROR(VALUE(TestingDataExample[[#This Row],[Shipping Costs]]),0)+IFERROR(VALUE(TestingDataExample[[#This Row],[Lab Cost Per Initial Test]]),0)+IFERROR(TestingDataExample[[#This Row],[Lab Cost Per Retest]]*TestingDataExample[[#This Row],[Number of Retests]],0),2)) -> 0 | P36: 500 | Q36: 500

Sheet Building 1
A1: . | B1: Lead in Water Testing & Remediation Reporting Form
A2: . | C2: .
A3: . | C3: Entity ID #: | D3: =IF('START HERE'!$D$4="[enter Inst. ID]","[autofill]",'START HERE'!$D$4) -> [autofill] | F3: Schl ID #: | G3: =IF('START HERE'!$D$6="[enter Inst. ID]","[autofill]",'START HERE'!$D$6) -> [autofill]
A4: . | C4: Entity Name: | D4: ='START HERE'!$D$5 -> [autofill] | H4: . | K4: First Sample Date: | M4: =IF(MIN(TestingDataBldg1[Initial Test Date])=0,"[autofill]",MIN(TestingDataBldg1[Initial Test Date])) -> [autofill]
A5: . | C5: School Name: | D5: =IF('START HERE'!$D$7="[autofill]","[autofill]",IF('START HERE'!$D$6<>"x",'START HERE'!$D$7,'START HERE'!$G$7)) -> [autofill] | H5: . | K5: Last Sample Date: | M5: =IF(MAX(TestingDataBldg1[Initial Test Date])=0,"[autofill]",MAX(TestingDataBldg1[Initial Test Date])) -> [autofill]
A6: . | C6: .
A7: . | C7: Building ID # (BIN): | D7: [enter 8 digit ODE Building ID] | H7: .
A8: . | C8: Building Name: | D8: [enter building name]
A9: . | C9: .
A10: . | C10: Min Report Level: | D10: [enter MRL in ppb] | F10: . | G10: . | K10: Testing Total: | M10: =SUM(TestingDataBldg1[Total '# of Tests]) -> 0 | N10: =IF('START HERE'!$E$9="NOT Requesting Reimbursement - Reporting ONLY"," -",SUM(TestingDataBldg1[Testing Costs Total])) -> 0 | O10: Remediation Total: | Q10: =SUM(TestingDataBldg1[Remediation Costs Total]) -> 0
A11: . | C11: .
A12: . | B12: Fixture Location / Expense Description | C12: Fixture ID # (FIN) | D12: Initial Test Date | E12: Initial Test Result (ppb) | F12: Number of Retests | G12: Final Test Result (ppb) | H12: Remediation Action Taken | I12: Misc. Lab Costs | J12: Shipping Costs | K12: Lab Cost Per Initial Test | L12: Lab Cost Per Retest | M12: Total # of Tests | N12: Testing Costs Total | O12: Remediation Material Costs | P12: Remediation Labor Costs | Q12: Remediation Costs Total | R12: Notes
A13: ✻ | B13: [enter location/description] | C13: [enter fixture ID] | D13: [date] | E13: [result] | F13: [retests] | G13: [result] | H13: [select] | I13: [enter $] | J13: [enter $] | K13: [enter $] | L13: [enter $] | M13: =IF(AND(TestingDataBldg1[[#This Row],[Initial Test Result (ppb)]]="[result]",TestingDataBldg1[[#This Row],[Number of Retests]]="[retests]"),"[autofill]",IF(AND(TestingDataBldg1[[#This Row],[Initial Test Result (ppb)]]<>"",TestingDataBldg1[[#This Row],[Initial Test Result (ppb)]]<>"[result]"),IFERROR(VALUE(TestingDataBldg1[[#This Row],[Number of Retests]]),0)+1,IFERROR(VALUE(TestingDataBldg1[[#This Row],[Number of Retests]]),0))) -> [autofill] | N13: =IF(AND(TestingDataBldg1[[#This Row],[Misc. Lab Costs]]="[enter $]",TestingDataBldg1[[#This Row],[Shipping Costs]]="[enter $]",TestingDataBldg1[[#This Row],[Lab Cost Per Initial Test]]="[enter $]"),"[autofill]",ROUND(IFERROR(VALUE(TestingDataBldg1[[#This Row],[Misc. Lab Costs]]),0)+IFERROR(VALUE(TestingDataBldg1[[#This Row],[Shipping Costs]]),0)+IFERROR(VALUE(TestingDataBldg1[[#This Row],[Lab Cost Per Initial Test]]),0)+IFERROR(TestingDataBldg1[[#This Row],[Lab Cost Per Retest]]*TestingDataBldg1[[#This Row],[Number of Retests]],0),2)) -> [autofill] | O13: [enter $] | P13: [enter $] | Q13: =IF(AND(TestingDataBldg1[[#This Row],[Remediation Material Costs]]="[enter $]",TestingDataBldg1[[#This Row],[Remediation Labor Costs]]="[enter $]"),"[autofill]",SUM(TestingDataBldg1[[#This Row],[Remediation Material Costs]:[Remediation Labor Costs]])) -> [autofill] | R13: [enter notes]
M14: =IF(AND(TestingDataBldg1[[#This Row],[Initial Test Result (ppb)]]="[result]",TestingDataBldg1[[#This Row],[Number of Retests]]="[retests]"),"[autofill]",IF(AND(TestingDataBldg1[[#This Row],[Initial Test Result (ppb)]]<>"",TestingDataBldg1[[#This Row],[Initial Test Result (ppb)]]<>"[result]"),IFERROR(VALUE(TestingDataBldg1[[#This Row],[Number of Retests]]),0)+1,IFERROR(VALUE(TestingDataBldg1[[#This Row],[Number of Retests]]),0))) -> 0 | N14: =IF(AND(TestingDataBldg1[[#This Row],[Misc. Lab Costs]]="[enter $]",TestingDataBldg1[[#This Row],[Shipping Costs]]="[enter $]",TestingDataBldg1[[#This Row],[Lab Cost Per Initial Test]]="[enter $]"),"[autofill]",ROUND(IFERROR(VALUE(TestingDataBldg1[[#This Row],[Misc. Lab Costs]]),0)+IFERROR(VALUE(TestingDataBldg1[[#This Row],[Shipping Costs]]),0)+IFERROR(VALUE(TestingDataBldg1[[#This Row],[Lab Cost Per Initial Test]]),0)+IFERROR(TestingDataBldg1[[#This Row],[Lab Cost Per Retest]]*TestingDataBldg1[[#This Row],[Number of Retests]],0),2)) -> 0 | Q14: =IF(AND(TestingDataBldg1[[#This Row],[Remediation Material Costs]]="[enter $]",TestingDataBldg1[[#This Row],[Remediation Labor Costs]]="[enter $]"),"[autofill]",SUM(TestingDataBldg1[[#This Row],[Remediation Material Costs]:[Remediation Labor Costs]])) -> 0
M15: =IF(AND(TestingDataBldg1[[#This Row],[Initial Test Result (ppb)]]="[result]",TestingDataBldg1[[#This Row],[Number of Retests]]="[retests]"),"[autofill]",IF(AND(TestingDataBldg1[[#This Row],[Initial Test Result (ppb)]]<>"",TestingDataBldg1[[#This Row],[Initial Test Result (ppb)]]<>"[result]"),IFERROR(VALUE(TestingDataBldg1[[#This Row],[Number of Retests]]),0)+1,IFERROR(VALUE(TestingDataBldg1[[#This Row],[Number of Retests]]),0))) -> 0 | N15: =IF(AND(TestingDataBldg1[[#This Row],[Misc. Lab Costs]]="[enter $]",TestingDataBldg1[[#This Row],[Shipping Costs]]="[enter $]",TestingDataBldg1[[#This Row],[Lab Cost Per Initial Test]]="[enter $]"),"[autofill]",ROUND(IFERROR(VALUE(TestingDataBldg1[[#This Row],[Misc. Lab Costs]]),0)+IFERROR(VALUE(TestingDataBldg1[[#This Row],[Shipping Costs]]),0)+IFERROR(VALUE(TestingDataBldg1[[#This Row],[Lab Cost Per Initial Test]]),0)+IFERROR(TestingDataBldg1[[#This Row],[Lab Cost Per Retest]]*TestingDataBldg1[[#This Row],[Number of Retests]],0),2)) -> 0 | Q15: =IF(AND(TestingDataBldg1[[#This Row],[Remediation Material Costs]]="[enter $]",TestingDataBldg1[[#This Row],[Remediation Labor Costs]]="[enter $]"),"[autofill]",SUM(TestingDataBldg1[[#This Row],[Remediation Material Costs]:[Remediation Labor Costs]])) -> 0
M16: =IF(AND(TestingDataBldg1[[#This Row],[Initial Test Result (ppb)]]="[result]",TestingDataBldg1[[#This Row],[Number of Retests]]="[retests]"),"[autofill]",IF(AND(TestingDataBldg1[[#This Row],[Initial Test Result (ppb)]]<>"",TestingDataBldg1[[#This Row],[Initial Test Result (ppb)]]<>"[result]"),IFERROR(VALUE(TestingDataBldg1[[#This Row],[Number of Retests]]),0)+1,IFERROR(VALUE(TestingDataBldg1[[#This Row],[Number of Retests]]),0))) -> 0 | N16: =IF(AND(TestingDataBldg1[[#This Row],[Misc. Lab Costs]]="[enter $]",TestingDataBldg1[[#This Row],[Shipping Costs]]="[enter $]",TestingDataBldg1[[#This Row],[Lab Cost Per Initial Test]]="[enter $]"),"[autofill]",ROUND(IFERROR(VALUE(TestingDataBldg1[[#This Row],[Misc. Lab Costs]]),0)+IFERROR(VALUE(TestingDataBldg1[[#This Row],[Shipping Costs]]),0)+IFERROR(VALUE(TestingDataBldg1[[#This Row],[Lab Cost Per Initial Test]]),0)+IFERROR(TestingDataBldg1[[#This Row],[Lab Cost Per Retest]]*TestingDataBldg1[[#This Row],[Number of Retests]],0),2)) -> 0 | Q16: =IF(AND(TestingDataBldg1[[#This Row],[Remediation Material Costs]]="[enter $]",TestingDataBldg1[[#This Row],[Remediation Labor Costs]]="[enter $]"),"[autofill]",SUM(TestingDataBldg1[[#This Row],[Remediation Material Costs]:[Remediation Labor Costs]])) -> 0
M17: =IF(AND(TestingDataBldg1[[#This Row],[Initial Test Result (ppb)]]="[result]",TestingDataBldg1[[#This Row],[Number of Retests]]="[retests]"),"[autofill]",IF(AND(TestingDataBldg1[[#This Row],[Initial Test Result (ppb)]]<>"",TestingDataBldg1[[#This Row],[Initial Test Result (ppb)]]<>"[result]"),IFERROR(VALUE(TestingDataBldg1[[#This Row],[Number of Retests]]),0)+1,IFERROR(VALUE(TestingDataBldg1[[#This Row],[Number of Retests]]),0))) -> 0 | N17: =IF(AND(TestingDataBldg1[[#This Row],[Misc. Lab Costs]]="[enter $]",TestingDataBldg1[[#This Row],[Shipping Costs]]="[enter $]",TestingDataBldg1[[#This Row],[Lab Cost Per Initial Test]]="[enter $]"),"[autofill]",ROUND(IFERROR(VALUE(TestingDataBldg1[[#This Row],[Misc. Lab Costs]]),0)+IFERROR(VALUE(TestingDataBldg1[[#This Row],[Shipping Costs]]),0)+IFERROR(VALUE(TestingDataBldg1[[#This Row],[Lab Cost Per Initial Test]]),0)+IFERROR(TestingDataBldg1[[#This Row],[Lab Cost Per Retest]]*TestingDataBldg1[[#This Row],[Number of Retests]],0),2)) -> 0 | Q17: =IF(AND(TestingDataBldg1[[#This Row],[Remediation Material Costs]]="[enter $]",TestingDataBldg1[[#This Row],[Remediation Labor Costs]]="[enter $]"),"[autofill]",SUM(TestingDataBldg1[[#This Row],[Remediation Material Costs]:[Remediation Labor Costs]])) -> 0
M18: =IF(AND(TestingDataBldg1[[#This Row],[Initial Test Result (ppb)]]="[result]",TestingDataBldg1[[#This Row],[Number of Retests]]="[retests]"),"[autofill]",IF(AND(TestingDataBldg1[[#This Row],[Initial Test Result (ppb)]]<>"",TestingDataBldg1[[#This Row],[Initial Test Result (ppb)]]<>"[result]"),IFERROR(VALUE(TestingDataBldg1[[#This Row],[Number of Retests]]),0)+1,IFERROR(VALUE(TestingDataBldg1[[#This Row],[Number of Retests]]),0))) -> 0 | N18: =IF(AND(TestingDataBldg1[[#This Row],[Misc. Lab Costs]]="[enter $]",TestingDataBldg1[[#This Row],[Shipping Costs]]="[enter $]",TestingDataBldg1[[#This Row],[Lab Cost Per Initial Test]]="[enter $]"),"[autofill]",ROUND(IFERROR(VALUE(TestingDataBldg1[[#This Row],[Misc. Lab Costs]]),0)+IFERROR(VALUE(TestingDataBldg1[[#This Row],[Shipping Costs]]),0)+IFERROR(VALUE(TestingDataBldg1[[#This Row],[Lab Cost Per Initial Test]]),0)+IFERROR(TestingDataBldg1[[#This Row],[Lab Cost Per Retest]]*TestingDataBldg1[[#This Row],[Number of Retests]],0),2)) -> 0 | Q18: =IF(AND(TestingDataBldg1[[#This Row],[Remediation Material Costs]]="[enter $]",TestingDataBldg1[[#This Row],[Remediation Labor Costs]]="[enter $]"),"[autofill]",SUM(TestingDataBldg1[[#This Row],[Remediation Material Costs]:[Remediation Labor Costs]])) -> 0
M19: =IF(AND(TestingDataBldg1[[#This Row],[Initial Test Result (ppb)]]="[result]",TestingDataBldg1[[#This Row],[Number of Retests]]="[retests]"),"[autofill]",IF(AND(TestingDataBldg1[[#This Row],[Initial Test Result (ppb)]]<>"",TestingDataBldg1[[#This Row],[Initial Test Result (ppb)]]<>"[result]"),IFERROR(VALUE(TestingDataBldg1[[#This Row],[Number of Retests]]),0)+1,IFERROR(VALUE(TestingDataBldg1[[#This Row],[Number of Retests]]),0))) -> 0 | N19: =IF(AND(TestingDataBldg1[[#This Row],[Misc. Lab Costs]]="[enter $]",TestingDataBldg1[[#This Row],[Shipping Costs]]="[enter $]",TestingDataBldg1[[#This Row],[Lab Cost Per Initial Test]]="[enter $]"),"[autofill]",ROUND(IFERROR(VALUE(TestingDataBldg1[[#This Row],[Misc. Lab Costs]]),0)+IFERROR(VALUE(TestingDataBldg1[[#This Row],[Shipping Costs]]),0)+IFERROR(VALUE(TestingDataBldg1[[#This Row],[Lab Cost Per Initial Test]]),0)+IFERROR(TestingDataBldg1[[#This Row],[Lab Cost Per Retest]]*TestingDataBldg1[[#This Row],[Number of Retests]],0),2)) -> 0 | Q19: =IF(AND(TestingDataBldg1[[#This Row],[Remediation Material Costs]]="[enter $]",TestingDataBldg1[[#This Row],[Remediation Labor Costs]]="[enter $]"),"[autofill]",SUM(TestingDataBldg1[[#This Row],[Remediation Material Costs]:[Remediation Labor Costs]])) -> 0
M20: =IF(AND(TestingDataBldg1[[#This Row],[Initial Test Result (ppb)]]="[result]",TestingDataBldg1[[#This Row],[Number of Retests]]="[retests]"),"[autofill]",IF(AND(TestingDataBldg1[[#This Row],[Initial Test Result (ppb)]]<>"",TestingDataBldg1[[#This Row],[Initial Test Result (ppb)]]<>"[result]"),IFERROR(VALUE(TestingDataBldg1[[#This Row],[Number of Retests]]),0)+1,IFERROR(VALUE(TestingDataBldg1[[#This Row],[Number of Retests]]),0))) -> 0 | N20: =IF(AND(TestingDataBldg1[[#This Row],[Misc. Lab Costs]]="[enter $]",TestingDataBldg1[[#This Row],[Shipping Costs]]="[enter $]",TestingDataBldg1[[#This Row],[Lab Cost Per Initial Test]]="[enter $]"),"[autofill]",ROUND(IFERROR(VALUE(TestingDataBldg1[[#This Row],[Misc. Lab Costs]]),0)+IFERROR(VALUE(TestingDataBldg1[[#This Row],[Shipping Costs]]),0)+IFERROR(VALUE(TestingDataBldg1[[#This Row],[Lab Cost Per Initial Test]]),0)+IFERROR(TestingDataBldg1[[#This Row],[Lab Cost Per Retest]]*TestingDataBldg1[[#This Row],[Number of Retests]],0),2)) -> 0 | Q20: =IF(AND(TestingDataBldg1[[#This Row],[Remediation Material Costs]]="[enter $]",TestingDataBldg1[[#This Row],[Remediation Labor Costs]]="[enter $]"),"[autofill]",SUM(TestingDataBldg1[[#This Row],[Remediation Material Costs]:[Remediation Labor Costs]])) -> 0
M21: =IF(AND(TestingDataBldg1[[#This Row],[Initial Test Result (ppb)]]="[result]",TestingDataBldg1[[#This Row],[Number of Retests]]="[retests]"),"[autofill]",IF(AND(TestingDataBldg1[[#This Row],[Initial Test Result (ppb)]]<>"",TestingDataBldg1[[#This Row],[Initial Test Result (ppb)]]<>"[result]"),IFERROR(VALUE(TestingDataBldg1[[#This Row],[Number of Retests]]),0)+1,IFERROR(VALUE(TestingDataBldg1[[#This Row],[Number of Retests]]),0))) -> 0 | N21: =IF(AND(TestingDataBldg1[[#This Row],[Misc. Lab Costs]]="[enter $]",TestingDataBldg1[[#This Row],[Shipping Costs]]="[enter $]",TestingDataBldg1[[#This Row],[Lab Cost Per Initial Test]]="[enter $]"),"[autofill]",ROUND(IFERROR(VALUE(TestingDataBldg1[[#This Row],[Misc. Lab Costs]]),0)+IFERROR(VALUE(TestingDataBldg1[[#This Row],[Shipping Costs]]),0)+IFERROR(VALUE(TestingDataBldg1[[#This Row],[Lab Cost Per Initial Test]]),0)+IFERROR(TestingDataBldg1[[#This Row],[Lab Cost Per Retest]]*TestingDataBldg1[[#This Row],[Number of Retests]],0),2)) -> 0 | Q21: =IF(AND(TestingDataBldg1[[#This Row],[Remediation Material Costs]]="[enter $]",TestingDataBldg1[[#This Row],[Remediation Labor Costs]]="[enter $]"),"[autofill]",SUM(TestingDataBldg1[[#This Row],[Remediation Material Costs]:[Remediation Labor Costs]])) -> 0
M22: =IF(AND(TestingDataBldg1[[#This Row],[Initial Test Result (ppb)]]="[result]",TestingDataBldg1[[#This Row],[Number of Retests]]="[retests]"),"[autofill]",IF(AND(TestingDataBldg1[[#This Row],[Initial Test Result (ppb)]]<>"",TestingDataBldg1[[#This Row],[Initial Test Result (ppb)]]<>"[result]"),IFERROR(VALUE(TestingDataBldg1[[#This Row],[Number of Retests]]),0)+1,IFERROR(VALUE(TestingDataBldg1[[#This Row],[Number of Retests]]),0))) -> 0 | N22: =IF(AND(TestingDataBldg1[[#This Row],[Misc. Lab Costs]]="[enter $]",TestingDataBldg1[[#This Row],[Shipping Costs]]="[enter $]",TestingDataBldg1[[#This Row],[Lab Cost Per Initial Test]]="[enter $]"),"[autofill]",ROUND(IFERROR(VALUE(TestingDataBldg1[[#This Row],[Misc. Lab Costs]]),0)+IFERROR(VALUE(TestingDataBldg1[[#This Row],[Shipping Costs]]),0)+IFERROR(VALUE(TestingDataBldg1[[#This Row],[Lab Cost Per Initial Test]]),0)+IFERROR(TestingDataBldg1[[#This Row],[Lab Cost Per Retest]]*TestingDataBldg1[[#This Row],[Number of Retests]],0),2)) -> 0 | Q22: =IF(AND(TestingDataBldg1[[#This Row],[Remediation Material Costs]]="[enter $]",TestingDataBldg1[[#This Row],[Remediation Labor Costs]]="[enter $]"),"[autofill]",SUM(TestingDataBldg1[[#This Row],[Remediation Material Costs]:[Remediation Labor Costs]])) -> 0
M23: =IF(AND(TestingDataBldg1[[#This Row],[Initial Test Result (ppb)]]="[result]",TestingDataBldg1[[#This Row],[Number of Retests]]="[retests]"),"[autofill]",IF(AND(TestingDataBldg1[[#This Row],[Initial Test Result (ppb)]]<>"",TestingDataBldg1[[#This Row],[Initial Test Result (ppb)]]<>"[result]"),IFERROR(VALUE(TestingDataBldg1[[#This Row],[Number of Retests]]),0)+1,IFERROR(VALUE(TestingDataBldg1[[#This Row],[Number of Retests]]),0))) -> 0 | N23: =IF(AND(TestingDataBldg1[[#This Row],[Misc. Lab Costs]]="[enter $]",TestingDataBldg1[[#This Row],[Shipping Costs]]="[enter $]",TestingDataBldg1[[#This Row],[Lab Cost Per Initial Test]]="[enter $]"),"[autofill]",ROUND(IFERROR(VALUE(TestingDataBldg1[[#This Row],[Misc. Lab Costs]]),0)+IFERROR(VALUE(TestingDataBldg1[[#This Row],[Shipping Costs]]),0)+IFERROR(VALUE(TestingDataBldg1[[#This Row],[Lab Cost Per Initial Test]]),0)+IFERROR(TestingDataBldg1[[#This Row],[Lab Cost Per Retest]]*TestingDataBldg1[[#This Row],[Number of Retests]],0),2)) -> 0 | Q23: =IF(AND(TestingDataBldg1[[#This Row],[Remediation Material Costs]]="[enter $]",TestingDataBldg1[[#This Row],[Remediation Labor Costs]]="[enter $]"),"[autofill]",SUM(TestingDataBldg1[[#This Row],[Remediation Material Costs]:[Remediation Labor Costs]])) -> 0
M24: =IF(AND(TestingDataBldg1[[#This Row],[Initial Test Result (ppb)]]="[result]",TestingDataBldg1[[#This Row],[Number of Retests]]="[retests]"),"[autofill]",IF(AND(TestingDataBldg1[[#This Row],[Initial Test Result (ppb)]]<>"",TestingDataBldg1[[#This Row],[Initial Test Result (ppb)]]<>"[result]"),IFERROR(VALUE(TestingDataBldg1[[#This Row],[Number of Retests]]),0)+1,IFERROR(VALUE(TestingDataBldg1[[#This Row],[Number of Retests]]),0))) -> 0 | N24: =IF(AND(TestingDataBldg1[[#This Row],[Misc. Lab Costs]]="[enter $]",TestingDataBldg1[[#This Row],[Shipping Costs]]="[enter $]",TestingDataBldg1[[#This Row],[Lab Cost Per Initial Test]]="[enter $]"),"[autofill]",ROUND(IFERROR(VALUE(TestingDataBldg1[[#This Row],[Misc. Lab Costs]]),0)+IFERROR(VALUE(TestingDataBldg1[[#This Row],[Shipping Costs]]),0)+IFERROR(VALUE(TestingDataBldg1[[#This Row],[Lab Cost Per Initial Test]]),0)+IFERROR(TestingDataBldg1[[#This Row],[Lab Cost Per Retest]]*TestingDataBldg1[[#This Row],[Number of Retests]],0),2)) -> 0 | Q24: =IF(AND(TestingDataBldg1[[#This Row],[Remediation Material Costs]]="[enter $]",TestingDataBldg1[[#This Row],[Remediation Labor Costs]]="[enter $]"),"[autofill]",SUM(TestingDataBldg1[[#This Row],[Remediation Material Costs]:[Remediation Labor Costs]])) -> 0
M25: =IF(AND(TestingDataBldg1[[#This Row],[Initial Test Result (ppb)]]="[result]",TestingDataBldg1[[#This Row],[Number of Retests]]="[retests]"),"[autofill]",IF(AND(TestingDataBldg1[[#This Row],[Initial Test Result (ppb)]]<>"",TestingDataBldg1[[#This Row],[Initial Test Result (ppb)]]<>"[result]"),IFERROR(VALUE(TestingDataBldg1[[#This Row],[Number of Retests]]),0)+1,IFERROR(VALUE(TestingDataBldg1[[#This Row],[Number of Retests]]),0))) -> 0 | N25: =IF(AND(TestingDataBldg1[[#This Row],[Misc. Lab Costs]]="[enter $]",TestingDataBldg1[[#This Row],[Shipping Costs]]="[enter $]",TestingDataBldg1[[#This Row],[Lab Cost Per Initial Test]]="[enter $]"),"[autofill]",ROUND(IFERROR(VALUE(TestingDataBldg1[[#This Row],[Misc. Lab Costs]]),0)+IFERROR(VALUE(TestingDataBldg1[[#This Row],[Shipping Costs]]),0)+IFERROR(VALUE(TestingDataBldg1[[#This Row],[Lab Cost Per Initial Test]]),0)+IFERROR(TestingDataBldg1[[#This Row],[Lab Cost Per Retest]]*TestingDataBldg1[[#This Row],[Number of Retests]],0),2)) -> 0 | Q25: =IF(AND(TestingDataBldg1[[#This Row],[Remediation Material Costs]]="[enter $]",TestingDataBldg1[[#This Row],[Remediation Labor Costs]]="[enter $]"),"[autofill]",SUM(TestingDataBldg1[[#This Row],[Remediation Material Costs]:[Remediation Labor Costs]])) -> 0
... M312: =IF(AND(TestingDataBldg1[[#This Row],[Initial Test Result (ppb)]]="[result]",TestingDataBldg1[[#This Row],[Number of Retests]]="[retests]"),"[autofill]",IF(AND(TestingDataBldg1[[#This Row],[Initial Test Result (ppb)]]<>"",TestingDataBldg1[[#This Row],[Initial Test Result (ppb)]]<>"[result]"),IFERROR(VALUE(TestingDataBldg1[[#This Row],[Number of Retests]]),0)+1,IFERROR(VALUE(TestingDataBldg1[[#This Row],[Number of Retests]]),0))) -> 0 | N312: =IF(AND(TestingDataBldg1[[#This Row],[Misc. Lab Costs]]="[enter $]",TestingDataBldg1[[#This Row],[Shipping Costs]]="[enter $]",TestingDataBldg1[[#This Row],[Lab Cost Per Initial Test]]="[enter $]"),"[autofill]",ROUND(IFERROR(VALUE(TestingDataBldg1[[#This Row],[Misc. Lab Costs]]),0)+IFERROR(VALUE(TestingDataBldg1[[#This Row],[Shipping Costs]]),0)+IFERROR(VALUE(TestingDataBldg1[[#This Row],[Lab Cost Per Initial Test]]),0)+IFERROR(TestingDataBldg1[[#This Row],[Lab Cost Per Retest]]*TestingDataBldg1[[#This Row],[Number of Retests]],0),2)) -> 0 | Q312: =IF(AND(TestingDataBldg1[[#This Row],[Remediation Material Costs]]="[enter $]",TestingDataBldg1[[#This Row],[Remediation Labor Costs]]="[enter $]"),"[autofill]",SUM(TestingDataBldg1[[#This Row],[Remediation Material Costs]:[Remediation Labor Costs]])) -> 0

Sheet Building 2
A1: . | B1: Lead in Water Testing & Remediation Reporting Form
A2: . | C2: .
A3: . | C3: Entity ID #: | D3: =IF('START HERE'!$D$4="[enter Inst. ID]","[autofill]",'START HERE'!$D$4) -> [autofill] | F3: Schl ID #: | G3: =IF('START HERE'!$D$6="[enter Inst. ID]","[autofill]",'START HERE'!$D$6) -> [autofill]
A4: . | C4: Entity Name: | D4: ='START HERE'!$D$5 -> [autofill] | H4: . | K4: First Sample Date: | M4: =IF(MIN(TestingDataBldg2[Initial Test Date])=0,"[autofill]",MIN(TestingDataBldg2[Initial Test Date])) -> [autofill]
A5: . | C5: School Name: | D5: =IF('START HERE'!$D$7="[autofill]","[autofill]",IF('START HERE'!$D$6<>"x",'START HERE'!$D$7,'START HERE'!$G$7)) -> [autofill] | H5: . | K5: Last Sample Date: | M5: =IF(MAX(TestingDataBldg2[Initial Test Date])=0,"[autofill]",MAX(TestingDataBldg2[Initial Test Date])) -> [autofill]
A6: . | C6: .
A7: . | C7: Building ID # (BIN): | D7: [enter 8 digit ODE Building ID] | H7: .
A8: . | C8: Building Name: | D8: [enter building name]
A9: . | C9: .
A10: . | C10: Min Report Level: | D10: [enter MRL in ppb] | F10: . | G10: . | K10: Testing Total: | M10: =SUM(TestingDataBldg2[Total '# of Tests]) -> 0 | N10: =IF('START HERE'!$E$9="NOT Requesting Reimbursement - Reporting ONLY"," -",SUM(TestingDataBldg2[Testing Costs Total])) -> 0 | O10: Remediation Total: | Q10: =SUM(TestingDataBldg2[Remediation Costs Total]) -> 0
A11: . | C11: .
A12: . | B12: Fixture Location / Expense Description | C12: Fixture ID # (FIN) | D12: Initial Test Date | E12: Initial Test Result (ppb) | F12: Number of Retests | G12: Final Test Result (ppb) | H12: Remediation Action Taken | I12: Misc. Lab Costs | J12: Shipping Costs | K12: Lab Cost Per Initial Test | L12: Lab Cost Per Retest | M12: Total # of Tests | N12: Testing Costs Total | O12: Remediation Material Costs | P12: Remediation Labor Costs | Q12: Remediation Costs Total | R12: Notes
A13: ✻ | B13: [enter location/description] | C13: [enter fixture ID] | D13: [date] | E13: [result] | F13: [retests] | G13: [result] | H13: [select] | I13: [enter $] | J13: [enter $] | K13: [enter $] | L13: [enter $] | M13: =IF(AND(TestingDataBldg2[[#This Row],[Initial Test Result (ppb)]]="[result]",TestingDataBldg2[[#This Row],[Number of Retests]]="[retests]"),"[autofill]",IF(AND(TestingDataBldg2[[#This Row],[Initial Test Result (ppb)]]<>"",TestingDataBldg2[[#This Row],[Initial Test Result (ppb)]]<>"[result]"),IFERROR(VALUE(TestingDataBldg2[[#This Row],[Number of Retests]]),0)+1,IFERROR(VALUE(TestingDataBldg2[[#This Row],[Number of Retests]]),0))) -> [autofill] | N13: =IF(AND(TestingDataBldg2[[#This Row],[Misc. Lab Costs]]="[enter $]",TestingDataBldg2[[#This Row],[Shipping Costs]]="[enter $]",TestingDataBldg2[[#This Row],[Lab Cost Per Initial Test]]="[enter $]"),"[autofill]",ROUND(IFERROR(VALUE(TestingDataBldg2[[#This Row],[Misc. Lab Costs]]),0)+IFERROR(VALUE(TestingDataBldg2[[#This Row],[Shipping Costs]]),0)+IFERROR(VALUE(TestingDataBldg2[[#This Row],[Lab Cost Per Initial Test]]),0)+IFERROR(TestingDataBldg2[[#This Row],[Lab Cost Per Retest]]*TestingDataBldg2[[#This Row],[Number of Retests]],0),2)) -> [autofill] | O13: [enter $] | P13: [enter $] | Q13: =IF(AND(TestingDataBldg2[[#This Row],[Remediation Material Costs]]="[enter $]",TestingDataBldg2[[#This Row],[Remediation Labor Costs]]="[enter $]"),"[autofill]",SUM(TestingDataBldg2[[#This Row],[Remediation Material Costs]:[Remediation Labor Costs]])) -> [autofill] | R13: [enter notes]
M14: =IF(AND(TestingDataBldg2[[#This Row],[Initial Test Result (ppb)]]="[result]",TestingDataBldg2[[#This Row],[Number of Retests]]="[retests]"),"[autofill]",IF(AND(TestingDataBldg2[[#This Row],[Initial Test Result (ppb)]]<>"",TestingDataBldg2[[#This Row],[Initial Test Result (ppb)]]<>"[result]"),IFERROR(VALUE(TestingDataBldg2[[#This Row],[Number of Retests]]),0)+1,IFERROR(VALUE(TestingDataBldg2[[#This Row],[Number of Retests]]),0))) -> 0 | N14: =IF(AND(TestingDataBldg2[[#This Row],[Misc. Lab Costs]]="[enter $]",TestingDataBldg2[[#This Row],[Shipping Costs]]="[enter $]",TestingDataBldg2[[#This Row],[Lab Cost Per Initial Test]]="[enter $]"),"[autofill]",ROUND(IFERROR(VALUE(TestingDataBldg2[[#This Row],[Misc. Lab Costs]]),0)+IFERROR(VALUE(TestingDataBldg2[[#This Row],[Shipping Costs]]),0)+IFERROR(VALUE(TestingDataBldg2[[#This Row],[Lab Cost Per Initial Test]]),0)+IFERROR(TestingDataBldg2[[#This Row],[Lab Cost Per Retest]]*TestingDataBldg2[[#This Row],[Number of Retests]],0),2)) -> 0 | Q14: =IF(AND(TestingDataBldg2[[#This Row],[Remediation Material Costs]]="[enter $]",TestingDataBldg2[[#This Row],[Remediation Labor Costs]]="[enter $]"),"[autofill]",SUM(TestingDataBldg2[[#This Row],[Remediation Material Costs]:[Remediation Labor Costs]])) -> 0
M15: =IF(AND(TestingDataBldg2[[#This Row],[Initial Test Result (ppb)]]="[result]",TestingDataBldg2[[#This Row],[Number of Retests]]="[retests]"),"[autofill]",IF(AND(TestingDataBldg2[[#This Row],[Initial Test Result (ppb)]]<>"",TestingDataBldg2[[#This Row],[Initial Test Result (ppb)]]<>"[result]"),IFERROR(VALUE(TestingDataBldg2[[#This Row],[Number of Retests]]),0)+1,IFERROR(VALUE(TestingDataBldg2[[#This Row],[Number of Retests]]),0))) -> 0 | N15: =IF(AND(TestingDataBldg2[[#This Row],[Misc. Lab Costs]]="[enter $]",TestingDataBldg2[[#This Row],[Shipping Costs]]="[enter $]",TestingDataBldg2[[#This Row],[Lab Cost Per Initial Test]]="[enter $]"),"[autofill]",ROUND(IFERROR(VALUE(TestingDataBldg2[[#This Row],[Misc. Lab Costs]]),0)+IFERROR(VALUE(TestingDataBldg2[[#This Row],[Shipping Costs]]),0)+IFERROR(VALUE(TestingDataBldg2[[#This Row],[Lab Cost Per Initial Test]]),0)+IFERROR(TestingDataBldg2[[#This Row],[Lab Cost Per Retest]]*TestingDataBldg2[[#This Row],[Number of Retests]],0),2)) -> 0 | Q15: =IF(AND(TestingDataBldg2[[#This Row],[Remediation Material Costs]]="[enter $]",TestingDataBldg2[[#This Row],[Remediation Labor Costs]]="[enter $]"),"[autofill]",SUM(TestingDataBldg2[[#This Row],[Remediation Material Costs]:[Remediation Labor Costs]])) -> 0
M16: =IF(AND(TestingDataBldg2[[#This Row],[Initial Test Result (ppb)]]="[result]",TestingDataBldg2[[#This Row],[Number of Retests]]="[retests]"),"[autofill]",IF(AND(TestingDataBldg2[[#This Row],[Initial Test Result (ppb)]]<>"",TestingDataBldg2[[#This Row],[Initial Test Result (ppb)]]<>"[result]"),IFERROR(VALUE(TestingDataBldg2[[#This Row],[Number of Retests]]),0)+1,IFERROR(VALUE(TestingDataBldg2[[#This Row],[Number of Retests]]),0))) -> 0 | N16: =IF(AND(TestingDataBldg2[[#This Row],[Misc. Lab Costs]]="[enter $]",TestingDataBldg2[[#This Row],[Shipping Costs]]="[enter $]",TestingDataBldg2[[#This Row],[Lab Cost Per Initial Test]]="[enter $]"),"[autofill]",ROUND(IFERROR(VALUE(TestingDataBldg2[[#This Row],[Misc. Lab Costs]]),0)+IFERROR(VALUE(TestingDataBldg2[[#This Row],[Shipping Costs]]),0)+IFERROR(VALUE(TestingDataBldg2[[#This Row],[Lab Cost Per Initial Test]]),0)+IFERROR(TestingDataBldg2[[#This Row],[Lab Cost Per Retest]]*TestingDataBldg2[[#This Row],[Number of Retests]],0),2)) -> 0 | Q16: =IF(AND(TestingDataBldg2[[#This Row],[Remediation Material Costs]]="[enter $]",TestingDataBldg2[[#This Row],[Remediation Labor Costs]]="[enter $]"),"[autofill]",SUM(TestingDataBldg2[[#This Row],[Remediation Material Costs]:[Remediation Labor Costs]])) -> 0
