Workbook

Sheet Information
B1: Important Information
B2: New 2026-27
B3: The 2026-2027 IDEA Part B 611 and 619 award, the population portion will be calculated using enrollment data for all distributions to awardees.
B4: The IDEA 611 and 619 Supplement funds have been added to this workbook. Supplement funds count toward the total gross award a district recieves and that impacts both the Private School Proportionate Share and the Coordinated Early Intervening Services (CEIS) amounts a district can or must spend.
B5: Worksheet Information
B6: There are eight worksheets in this report:
B7: Information: The current worksheet that provides information about the report.
B8: Section 611 Awards: This worksheet contains total award amounts for each LEA for children aged 3-21. Regular IDEA Part B award.
B9: Section 619 Awards: This worksheet contains total award amounts for each LEA for children aged 3-5. Regular IDEA Part B award.
B10: Program Awards: This worksheet contains total award amounts for Programs.
B11: The Section 611 and 619 award worksheets contain similar columns. These are the explanations for each column.
B12: LEA ID: District Identification Number.
... B36: ODE.IDEAFinance@state.or.us

Sheet Section 611 Award + Supplement
A1: LEA ID | B1: LEA Name | C1: 611 District Award + Supplement | D1: Regional | E1: OSD | F1: LTCT | G1: Hospital | H1: ECSE | I1: Gross Total
A2: 1894 | B2: Baker SD 5J | C2: 945473.93 | D2: 164079.4 | E2: 0 | F2: 0 | G2: 0 | H2: 20173.69 | I2: 1129727
A3: 1895 | B3: Huntington SD 16J | C3: 20807.13 | D3: 0 | E3: 0 | F3: 0 | G3: 0 | H3: 2600.89 | I3: 23408.02
A4: 1896 | B4: Burnt River SD 30J | C4: 20338.49 | D4: 0 | E4: 0 | F4: 0 | G4: 0 | H4: 0 | I4: 20338.49
A5: 1897 | B5: Pine Eagle SD 61 | C5: 52533.65 | D5: 1500.96 | E5: 0 | F5: 0 | G5: 0 | H5: 0 | I5: 54034.61
A6: 1898 | B6: Monroe SD 1J | C6: 77153.69 | D6: 11689.95 | E6: 0 | F6: 0 | G6: 0 | H6: 11689.95 | I6: 100533.59
A7: 1899 | B7: Alsea SD 7J | C7: 47695.12 | D7: 3179.68 | E7: 0 | F7: 0 | G7: 0 | H7: 0 | I7: 50874.8
A8: 1900 | B8: Philomath SD 17J | C8: 293590.64 | D8: 81632.52 | E8: 0 | F8: 0 | G8: 0 | H8: 12889.34 | I8: 388112.5
A9: 1901 | B9: Corvallis SD 509J | C9: 1223718.4 | D9: 346997.07 | E9: 0 | F9: 46143.23 | G9: 0 | H9: 121818.12 | I9: 1738676.8
A10: 1922 | B10: West Linn-Wilsonville SD 3J | C10: 1424861.2 | D10: 438078.45 | E10: 2950.02 | F10: 0 | G10: 0 | H10: 76700.61 | I10: 1942590.3
A11: 1923 | B11: Lake Oswego SD 7J | C11: 1231694.9 | D11: 438058.14 | E11: 0 | F11: 0 | G11: 0 | H11: 54986.38 | I11: 1724739.4
A12: 1924 | B12: North Clackamas SD 12 | C12: 2814897.2 | D12: 1014974.5 | E12: 2599.16 | F12: 0 | G12: 0 | H12: 240422.89 | I12: 4072893.8
A13: 1925 | B13: Molalla River SD 35 | C13: 442334.39 | D13: 163102.65 | E13: 0 | F13: 0 | G13: 0 | H13: 32620.53 | I13: 638057.57
... A202: 5269 | B202: Pediatric Nursing Facility (PNF) | C202: 19351.93 | D202: 0 | E202: 0 | F202: 0 | G202: 0 | H202: 0 | I202: 19351.93
B203: Total | C203: 1.0316102e+08 | D203: 26569579 | E203: 126877.73 | F203: 408201.62 | G203: 7178.08 | H203: 10148383 | I203: 1.4042124e+08

Sheet Section 611 Only Awards
A1: LEA ID | B1: LEA Name | C1: District | D1: Regional | E1: OSD | F1: LTCT | G1: Hospital | H1: ECSE | I1: Gross Total
A2: 1894 | B2: Baker SD 5J | C2: 937017.16 | D2: 162611.8 | E2: 0 | F2: 0 | G2: 0 | H2: 19993.25 | I2: 1119622.2
A3: 1895 | B3: Huntington SD 16J | C3: 20652.34 | D3: 0 | E3: 0 | F3: 0 | G3: 0 | H3: 2581.54 | I3: 23233.88
A4: 1896 | B4: Burnt River SD 30J | C4: 20228.9 | D4: 0 | E4: 0 | F4: 0 | G4: 0 | H4: 0 | I4: 20228.9
A5: 1897 | B5: Pine Eagle SD 61 | C5: 52126.27 | D5: 1489.32 | E5: 0 | F5: 0 | G5: 0 | H5: 0 | I5: 53615.59
A6: 1898 | B6: Monroe SD 1J | C6: 76645.99 | D6: 11613.03 | E6: 0 | F6: 0 | G6: 0 | H6: 11613.03 | I6: 99872.05
A7: 1899 | B7: Alsea SD 7J | C7: 47333.93 | D7: 3155.6 | E7: 0 | F7: 0 | G7: 0 | H7: 0 | I7: 50489.53
A8: 1900 | B8: Philomath SD 17J | C8: 291382.44 | D8: 81018.53 | E8: 0 | F8: 0 | G8: 0 | H8: 12792.4 | I8: 385193.37
A9: 1901 | B9: Corvallis SD 509J | C9: 1214596.8 | D9: 344410.56 | E9: 0 | F9: 45799.28 | G9: 0 | H9: 120910.09 | I9: 1725716.8
A10: 1922 | B10: West Linn-Wilsonville SD 3J | C10: 1413405.3 | D10: 434556.28 | E10: 2926.3 | F10: 0 | G10: 0 | H10: 76083.93 | I10: 1926971.8
A11: 1923 | B11: Lake Oswego SD 7J | C11: 1222101.4 | D11: 434646.2 | E11: 0 | F11: 0 | G11: 0 | H11: 54558.1 | I11: 1711305.8
A12: 1924 | B12: North Clackamas SD 12 | C12: 2791867.5 | D12: 1006670.6 | E12: 2577.9 | F12: 0 | G12: 0 | H12: 238455.9 | I12: 4039571.9
A13: 1925 | B13: Molalla River SD 35 | C13: 439088.89 | D13: 161905.93 | E13: 0 | F13: 0 | G13: 0 | H13: 32381.19 | I13: 633376.01
... A202: 5269 | B202: Pediatric Nursing Facility (PNF) | C202: 19331.52 | D202: 0 | E202: 0 | F202: 0 | G202: 0 | H202: 0 | I202: 19331.52
B203: Total | C203: 1.0236181e+08 | D203: 26362406 | E203: 125867.74 | F203: 405111.19 | G203: 7123.69 | H203: 10070594 | I203: 1.3933291e+08

Sheet Section 611 Supplement
A1: LEA ID | B1: LEA Name | C1: District | D1: Regional | E1: OSD | F1: LTCT | G1: Hospital | H1: ECSE | I1: Gross Total
A2: 1894 | B2: Baker SD 5J | C2: 8456.77 | D2: 1467.6 | E2: 0 | F2: 0 | G2: 0 | H2: 180.44 | I2: 10104.8
A3: 1895 | B3: Huntington SD 16J | C3: 154.79 | D3: 0 | E3: 0 | F3: 0 | G3: 0 | H3: 19.35 | I3: 174.14
A4: 1896 | B4: Burnt River SD 30J | C4: 109.59 | D4: 0 | E4: 0 | F4: 0 | G4: 0 | H4: 0 | I4: 109.59
A5: 1897 | B5: Pine Eagle SD 61 | C5: 407.38 | D5: 11.64 | E5: 0 | F5: 0 | G5: 0 | H5: 0 | I5: 419.02
A6: 1898 | B6: Monroe SD 1J | C6: 507.7 | D6: 76.92 | E6: 0 | F6: 0 | G6: 0 | H6: 76.92 | I6: 661.54
A7: 1899 | B7: Alsea SD 7J | C7: 361.19 | D7: 24.08 | E7: 0 | F7: 0 | G7: 0 | H7: 0 | I7: 385.27
A8: 1900 | B8: Philomath SD 17J | C8: 2208.2 | D8: 613.99 | E8: 0 | F8: 0 | G8: 0 | H8: 96.94 | I8: 2919.13
A9: 1901 | B9: Corvallis SD 509J | C9: 9121.59 | D9: 2586.51 | E9: 0 | F9: 343.95 | G9: 0 | H9: 908.03 | I9: 12960.08
A10: 1922 | B10: West Linn-Wilsonville SD 3J | C10: 11455.96 | D10: 3522.17 | E10: 23.72 | F10: 0 | G10: 0 | H10: 616.68 | I10: 15618.53
A11: 1923 | B11: Lake Oswego SD 7J | C11: 9593.42 | D11: 3411.94 | E11: 0 | F11: 0 | G11: 0 | H11: 428.28 | I11: 13433.64
A12: 1924 | B12: North Clackamas SD 12 | C12: 23029.74 | D12: 8303.89 | E12: 21.26 | F12: 0 | G12: 0 | H12: 1966.99 | I12: 33321.88
A13: 1925 | B13: Molalla River SD 35 | C13: 3245.5 | D13: 1196.72 | E13: 0 | F13: 0 | G13: 0 | H13: 239.34 | I13: 4681.56
... A202: 5269 | B202: Pediatric Nursing Facility (PNF) | C202: 20.41 | D202: 0 | E202: 0 | F202: 0 | G202: 0 | H202: 0 | I202: 20.41
B203: Total | C203: 799209.29 | D203: 207172.79 | E203: 1009.99 | F203: 3090.43 | G203: 54.39 | H203: 77789.12 | I203: 1088326

Sheet Section 619 Award + Supplement
A1: LEA ID | B1: LEA Name | C1: 619 District Award + Supplement | D1: Regional | E1: OSD | F1: LTCT | G1: Hospital | H1: ECSE | I1: Gross Total
A2: 1894 | B2: Baker SD 5J | C2: 5900.67 | D2: 3218.54 | E2: 0 | F2: 0 | G2: 0 | H2: 8046.37 | I2: 17165.59
A3: 1895 | B3: Huntington SD 16J | C3: 0 | D3: 0 | E3: 0 | F3: 0 | G3: 0 | H3: 538.08 | I3: 538.08
A4: 1896 | B4: Burnt River SD 30J | C4: 304.08 | D4: 0 | E4: 0 | F4: 0 | G4: 0 | H4: 0 | I4: 304.08
A5: 1897 | B5: Pine Eagle SD 61 | C5: 401.26 | D5: 0 | E5: 0 | F5: 0 | G5: 0 | H5: 0 | I5: 401.26
A6: 1898 | B6: Monroe SD 1J | C6: 0 | D6: 0 | E6: 0 | F6: 0 | G6: 0 | H6: 1657.22 | I6: 1657.22
A7: 1899 | B7: Alsea SD 7J | C7: 1571.88 | D7: 0 | E7: 0 | F7: 0 | G7: 0 | H7: 0 | I7: 1571.88
A8: 1900 | B8: Philomath SD 17J | C8: 5782.83 | D8: 1927.61 | E8: 0 | F8: 0 | G8: 0 | H8: 5782.83 | I8: 13493.27
A9: 1901 | B9: Corvallis SD 509J | C9: 7009.01 | D9: 8484.6 | E9: 0 | F9: 0 | G9: 0 | H9: 24347.1 | I9: 39840.71
A10: 1922 | B10: West Linn-Wilsonville SD 3J | C10: 7198.77 | D10: 13047.77 | E10: 0 | F10: 0 | G10: 0 | H10: 11698 | I10: 31944.54
A11: 1923 | B11: Lake Oswego SD 7J | C11: 5254.19 | D11: 4636.05 | E11: 0 | F11: 0 | G11: 0 | H11: 9272.1 | I11: 19162.34
A12: 1924 | B12: North Clackamas SD 12 | C12: 14709.68 | D12: 24578.2 | E12: 0 | F12: 0 | G12: 0 | H12: 34446.72 | I12: 73734.6
A13: 1925 | B13: Molalla River SD 35 | C13: 2477.23 | D13: 6399.51 | E13: 0 | F13: 0 | G13: 0 | H13: 5160.9 | I13: 14037.64
... A202: 5269 | B202: Pediatric Nursing Facility (PNF) | C202: 349.9 | D202: 0 | E202: 0 | F202: 0 | G202: 0 | H202: 0 | I202: 349.9
B203: Total | C203: 745697.12 | D203: 669271.79 | E203: 726.62 | F203: 405.34 | G203: 0 | H203: 1655628.1 | I203: 3071729

Sheet Section 619 Only Awards
A1: LEA ID | B1: LEA Name | C1: District | D1: Regional | E1: OSD | F1: LTCT | G1: Hospital | H1: ECSE | I1: Gross Total
A2: 1894 | B2: Baker SD 5J | C2: 5432.85 | D2: 2963.37 | E2: 0 | F2: 0 | G2: 0 | H2: 7408.44 | I2: 15804.66
A3: 1895 | B3: Huntington SD 16J | C3: 0 | D3: 0 | E3: 0 | F3: 0 | G3: 0 | H3: 514.63 | I3: 514.63
A4: 1896 | B4: Burnt River SD 30J | C4: 289.32 | D4: 0 | E4: 0 | F4: 0 | G4: 0 | H4: 0 | I4: 289.32
A5: 1897 | B5: Pine Eagle SD 61 | C5: 344.83 | D5: 0 | E5: 0 | F5: 0 | G5: 0 | H5: 0 | I5: 344.83
A6: 1898 | B6: Monroe SD 1J | C6: 0 | D6: 0 | E6: 0 | F6: 0 | G6: 0 | H6: 1568.12 | I6: 1568.12
A7: 1899 | B7: Alsea SD 7J | C7: 1519.99 | D7: 0 | E7: 0 | F7: 0 | G7: 0 | H7: 0 | I7: 1519.99
A8: 1900 | B8: Philomath SD 17J | C8: 5614.34 | D8: 1871.45 | E8: 0 | F8: 0 | G8: 0 | H8: 5614.34 | I8: 13100.13
A9: 1901 | B9: Corvallis SD 509J | C9: 6701.94 | D9: 8112.88 | E9: 0 | F9: 0 | G9: 0 | H9: 23280.43 | I9: 38095.25
A10: 1922 | B10: West Linn-Wilsonville SD 3J | C10: 6724.74 | D10: 12188.59 | E10: 0 | F10: 0 | G10: 0 | H10: 10927.7 | I10: 29841.03
A11: 1923 | B11: Lake Oswego SD 7J | C11: 4758.11 | D11: 4198.33 | E11: 0 | F11: 0 | G11: 0 | H11: 8396.66 | I11: 17353.1
A12: 1924 | B12: North Clackamas SD 12 | C12: 13814.39 | D12: 23082.27 | E12: 0 | F12: 0 | G12: 0 | H12: 32350.15 | I12: 69246.81
A13: 1925 | B13: Molalla River SD 35 | C13: 2365.96 | D13: 6112.07 | E13: 0 | F13: 0 | G13: 0 | H13: 4929.09 | I13: 13407.12
... A202: 5269 | B202: Pediatric Nursing Facility (PNF) | C202: 347.15 | D202: 0 | E202: 0 | F202: 0 | G202: 0 | H202: 0 | I202: 347.15
B203: Total | C203: 709182.57 | D203: 635776.55 | E203: 684.57 | F203: 392.49 | G203: 0 | H203: 1579116.8 | I203: 2925153

Sheet Section 619 Supplement
A1: LEA ID | B1: LEA Name | C1: District | D1: Regional | E1: OSD | F1: LTCT | G1: Hospital | H1: ECSE | I1: Gross Total
A2: 1894 | B2: Baker SD 5J | C2: 467.82 | D2: 255.17 | E2: 0 | F2: 0 | G2: 0 | H2: 637.93 | I2: 1360.93
A3: 1895 | B3: Huntington SD 16J | C3: 0 | D3: 0 | E3: 0 | F3: 0 | G3: 0 | H3: 23.45 | I3: 23.45
A4: 1896 | B4: Burnt River SD 30J | C4: 14.76 | D4: 0 | E4: 0 | F4: 0 | G4: 0 | H4: 0 | I4: 14.76
A5: 1897 | B5: Pine Eagle SD 61 | C5: 56.43 | D5: 0 | E5: 0 | F5: 0 | G5: 0 | H5: 0 | I5: 56.43
A6: 1898 | B6: Monroe SD 1J | C6: 0 | D6: 0 | E6: 0 | F6: 0 | G6: 0 | H6: 89.1 | I6: 89.1
A7: 1899 | B7: Alsea SD 7J | C7: 51.89 | D7: 0 | E7: 0 | F7: 0 | G7: 0 | H7: 0 | I7: 51.89
A8: 1900 | B8: Philomath SD 17J | C8: 168.49 | D8: 56.16 | E8: 0 | F8: 0 | G8: 0 | H8: 168.49 | I8: 393.14
A9: 1901 | B9: Corvallis SD 509J | C9: 307.07 | D9: 371.72 | E9: 0 | F9: 0 | G9: 0 | H9: 1066.67 | I9: 1745.46
A10: 1922 | B10: West Linn-Wilsonville SD 3J | C10: 474.03 | D10: 859.18 | E10: 0 | F10: 0 | G10: 0 | H10: 770.3 | I10: 2103.51
A11: 1923 | B11: Lake Oswego SD 7J | C11: 496.08 | D11: 437.72 | E11: 0 | F11: 0 | G11: 0 | H11: 875.44 | I11: 1809.24
A12: 1924 | B12: North Clackamas SD 12 | C12: 895.29 | D12: 1495.93 | E12: 0 | F12: 0 | G12: 0 | H12: 2096.57 | I12: 4487.79
A13: 1925 | B13: Molalla River SD 35 | C13: 111.27 | D13: 287.44 | E13: 0 | F13: 0 | G13: 0 | H13: 231.81 | I13: 630.52
... A202: 5269 | B202: Pediatric Nursing Facility (PNF) | C202: 2.75 | D202: 0 | E202: 0 | F202: 0 | G202: 0 | H202: 0 | I202: 2.75
B203: Total | C203: 36514.55 | D203: 33495.24 | E203: 42.05 | F203: 12.85 | G203: 0 | H203: 76511.3 | I203: 146576

Sheet Program Awards 2026-27
B1: FFY 2026 Final
A2: Program Name | B2: Section 611 | C2: Section 619 | D2: Section 611 Supplement | E2: Section 619 Supplement | F2: 2026-27 Total
A3: Regional & ECSE Regional Programs | B3: ='Section 611 Only Awards'!D203 -> 26362406 | C3: ='Section 619 Only Awards'!D203 -> 635776.55 | D3: ='Section 611 Supplement'!D203 -> 207172.79 | E3: ='Section 619 Supplement'!D203 -> 33495.24 | F3: =SUM(B3:E3) -> 27238851
A4: Oregon School for the Deaf (OSD) Award | B4: ='Section 611 Only Awards'!E203 -> 125867.74 | C4: ='Section 619 Only Awards'!E203 -> 684.57 | D4: ='Section 611 Supplement'!E203 -> 1009.99 | E4: ='Section 619 Supplement'!E203 -> 42.05 | F4: =SUM(B4:E4) -> 127604.35
A5: Long Term Care and Treatment (LTCT) Program | B5: ='Section 611 Only Awards'!F203 -> 405111.19 | C5: ='Section 619 Only Awards'!F203 -> 392.49 | D5: ='Section 611 Supplement'!F203 -> 3090.43 | E5: ='Section 619 Supplement'!F203 -> 12.85 | F5: =SUM(B5:E5) -> 408606.96
A6: Hospital Program | B6: ='Section 611 Only Awards'!G203 -> 7123.69 | C6: ='Section 619 Only Awards'!G203 -> 0 | D6: ='Section 611 Supplement'!G203 -> 54.39 | E6: ='Section 619 Supplement'!G203 -> 0 | F6: =SUM(B6:E6) -> 7178.08
A7: Early Childhood Special Education (ECSE) Program | B7: ='Section 611 Only Awards'!H203 -> 10070594 | C7: ='Section 619 Only Awards'!H203 -> 1579116.8 | D7: ='Section 611 Supplement'!H203 -> 77789.12 | E7: ='Section 619 Supplement'!H203 -> 76511.3 | F7: =SUM(B7:E7) -> 11804011
A8: Total | B8: =SUM(B3:B7) -> 36971103 | C8: =SUM(C3:C7) -> 2215970.4 | D8: =SUM(D3:D7) -> 289116.72 | E8: =SUM(E3:E7) -> 110061.44 | F8: =SUM(B8:E8) -> 39586252
