Workbook
Name reasons: 'sponsor dropdowns'!$D$2:$D$17
Name Sponsor_Name: 'Claim Entry'!$I$2

Sheet Instructions
B2: Instructions for Completing BAtB Equipment Grant Claim Form
C3: This claim form has replaced the previous Word document claim form. The purpose of the form is to provided for a more efficient and accurate claim reporting, better tracking tool, and less cumbersome submissions. Please download this form directly to your desktop. This form is not compatiable with different applications such as google sheets.
B4: CLAIM ENTRY EXAMPLE AND CLAIM TOTALS EXAMPLE TABS
C5: Please review these tabs as a guide for entering information into the "claim entry" tab. Do not enter your invoice and claim information on these tabs.
B6: CLAIM ENTRY TAB
B7: 1. | C7: Columns I-K, Row 2 - Sponsor Name: Click on the “drop down” button to select your sponsor’s name. Once this is selected, a list of your BAtB sites will be displayed in green. If you see an additional site or a site that is missing, please contact ode.schoolnutrition@ode.oregon.gov indicating the correction needed.
B8: 2. | C8: Column G - Claim Date: This is the date that you will be submitting this document for ODE CNP approval. It may be possible that you will use the same date on multiple rows for the different equipment on the invoice(s). The spreadsheet will group the equipment costs per site by the identifying claim date.
B9: 3. | C9: Columns H-K - Equipment/Invoice Information: Using your invoice as a reference, enter the vendor, invoice number, invoice date, and each equipment item. If you have multiple items, you can copy and paste the claim date, vendor, invoice number, and invoice date to several rows. If you don’t have some of this information, you may leave some cells blank.
B10: 4. | C10: Column L - Reason: Please use the drop down to indicate how this product will be used for Breakfast After the Bell. If one of the reasons from the drop-down doesn’t apply, you can enter your own reason in the blank cell.
B11: 5. | C11: Column M and after - Enter the equipment amount for each site. If you purchased multiple pieces of the same equipment item, you can enter this on same row for the equipment and then the cost of each piece under each site. If you purchased one piece of equipment that will be used for multiple sites, you can enter the amount you want applied to each site. The total amount on the form cannot be more than the piece of equipment shown on the invoice.
B12: 6. | C12: After the first claim has been submitted and processed, you may want to purchase additional equipment and submit another claim. You can enter your information in the next row. Again, please don’t forget to enter the same date for each claim submitted for approval
C13: CNP Use Only
C14: The “CNP Use Only” is a hidden section, You can view this by clicking on the plus (+) button from the left top bar. Please do not make any edits to this section. This is for viewing only to check the claims that have been approved, processed through EGMS and to check if any corrections are needed.
B15: CLAIM TOTALS TAB
B16: 1. | C16: This sheet autopopulates from the Claim Entry Form. The cells are locked and will provide information for each site's subgrant of the following:
C17: a. The eligible site and identifying EGMS subgrant number.
C18: b. Amount allocated for each site during performance period.
C19: c. Totals by site and the remaining amound available to claim
C20: b. The total of amount of the claim for all sites and date submitted for approval.
C21: c. Each claim by site.
B23: SUBMISSION INSTRUCTIONS
B24: 1. | C24: Purchase, repair, renovate, or upgrade the necessary equipment by June 30, 2027
B25: 2. | C25: Email the completed BAtB Equipment Grant Claim form and invoice for each site to ode.schoolnutrition@ode.oregon.gov. Include in the subject line of the email, "BAtB Equipment Grant Reimbursement - (Sponsor Name)
B26: 3. | C26: After approval, enter claims through the Electronic Grant Management System (EGMS)
B27: 4. | C27: Complete the claims process no later than July 10, 2027.

Sheet Claim Entry Example
H2: Sponsor Name | I2: Wild Things Unified School District
A3: CNP USE ONLY
A4: Comments | B4: TOTAL | C4: Total Claim Amount | D4: ODE Approved | E4: Dated Processed in EGMS | F4: Claim No. | G4: Claim Date | H4: Vendor | I4: Invoice Number | J4: Invoice Date | K4: Equipment Item | L4: Reason (Select primary reason or enter your own) | M4: {=IFERROR(INDEX('sponsor dropdowns'!$H$2:$H$4,SMALL(IF('sponsor dropdowns'!$F$2:$F$4=$I$2,ROW('sponsor dropdowns'!$F$2:$F$4)-ROW('sponsor dropdowns'!$F$2)+1),COLUMN(A1))),"")} -> Max's Island Elementary School | N4: {=IFERROR(INDEX('sponsor dropdowns'!$H$2:$H$4,SMALL(IF('sponsor dropdowns'!$F$2:$F$4=$I$2,ROW('sponsor dropdowns'!$F$2:$F$4)-ROW('sponsor dropdowns'!$F$2)+1),COLUMN(B1))),"")} -> Rumpus Middle School | O4: {=IFERROR(INDEX('sponsor dropdowns'!$H$2:$H$4,SMALL(IF('sponsor dropdowns'!$F$2:$F$4=$I$2,ROW('sponsor dropdowns'!$F$2:$F$4)-ROW('sponsor dropdowns'!$F$2)+1),COLUMN(C1))),"")} -> Crown & Scepter High School | T4: {=IFERROR(INDEX('sponsor dropdowns'!$H$2:$H$4,SMALL(IF('sponsor dropdowns'!$F$2:$F$4=$I$2,ROW('sponsor dropdowns'!$F$2:$F$4)-ROW('sponsor dropdowns'!$F$2)+1),COLUMN(E1))),"")} | U4: {=IFERROR(INDEX('sponsor dropdowns'!$H$2:$H$4,SMALL(IF('sponsor dropdowns'!$F$2:$F$4=$I$2,ROW('sponsor dropdowns'!$F$2:$F$4)-ROW('sponsor dropdowns'!$F$2)+1),COLUMN(F1))),"")}
B5: {=IFERROR( SUMPRODUCT( IF(ISNUMBER('Claim Entry Example'!M5:DH5), 'Claim Entry Example'!M5:DH5, 0) ), "")} -> 94.68 | C5: =IF(F5<>F6,SUMIFS($B$5:$B$54,$F$5:$F$54,F5),"") | D5: 45942 | E5: 45943 | F5: {=IF(G5="","",SUMPRODUCT(($G$5:G5<>"")/COUNTIF($G$5:G5,$G$5:G5&"")))} -> 1 | G5: 45939 | H5: Bargreen | I5: 1001 | J5: 45909 | K5: Can opener | L5: Prepare or serve food | M5: 31.56 | N5: 31.56 | O5: 31.56
B6: {=IFERROR( SUMPRODUCT( IF(ISNUMBER('Claim Entry Example'!M6:DH6), 'Claim Entry Example'!M6:DH6, 0) ), "")} -> 17.73 | C6: =IF(F6<>F7,SUMIFS($B$5:$B$54,$F$5:$F$54,F6),"") | D6: 45942 | E6: 45943 | F6: {=IF(G6="","",SUMPRODUCT(($G$5:G6<>"")/COUNTIF($G$5:G6,$G$5:G6&"")))} -> 1 | G6: 45939 | H6: Bargreen | I6: 1001 | J6: 45909 | K6: Paring knife | L6: Prepare or serve food | M6: 5.91 | N6: 5.91 | O6: 5.91
B7: {=IFERROR( SUMPRODUCT( IF(ISNUMBER('Claim Entry Example'!M7:DH7), 'Claim Entry Example'!M7:DH7, 0) ), "")} -> 879.3 | C7: =IF(F7<>F8,SUMIFS($B$5:$B$54,$F$5:$F$54,F7),"") | D7: 45942 | E7: 45943 | F7: {=IF(G7="","",SUMPRODUCT(($G$5:G7<>"")/COUNTIF($G$5:G7,$G$5:G7&"")))} -> 1 | G7: 45939 | H7: Bargreen | I7: 1001 | J7: 45909 | K7: Market Trays | L7: Prepare or serve food | M7: 293.1 | N7: 293.1 | O7: 293.1
B8: {=IFERROR( SUMPRODUCT( IF(ISNUMBER('Claim Entry Example'!M8:DH8), 'Claim Entry Example'!M8:DH8, 0) ), "")} -> 1977.79 | C8: =IF(F8<>F9,SUMIFS($B$5:$B$54,$F$5:$F$54,F8),"") -> 2969.5 | D8: 45942 | E8: 45943 | F8: {=IF(G8="","",SUMPRODUCT(($G$5:G8<>"")/COUNTIF($G$5:G8,$G$5:G8&"")))} -> 1 | G8: 45939 | H8: Amazon | I8: 888 | J8: 09/20.25 | K8: Small Wares | L8: Prepare or serve food | M8: 643.33 | N8: 650.43 | O8: 684.03
B9: {=IFERROR( SUMPRODUCT( IF(ISNUMBER('Claim Entry Example'!M9:DH9), 'Claim Entry Example'!M9:DH9, 0) ), "")} -> 299.99 | C9: =IF(F9<>F10,SUMIFS($B$5:$B$54,$F$5:$F$54,F9),"") | D9: 45964 | E9: 45965 | F9: {=IF(G9="","",SUMPRODUCT(($G$5:G9<>"")/COUNTIF($G$5:G9,$G$5:G9&"")))} -> 2 | G9: 45961 | H9: Webstore | I9: 999 | J9: 45931 | K9: Immersion Hand Mixer | L9: Prepare or serve food | M9: 78.33 | N9: 78.33 | O9: 143.33
B10: {=IFERROR( SUMPRODUCT( IF(ISNUMBER('Claim Entry Example'!M10:DH10), 'Claim Entry Example'!M10:DH10, 0) ), "")} -> 17.73 | C10: =IF(F10<>F11,SUMIFS($B$5:$B$54,$F$5:$F$54,F10),"") -> 317.72 | D10: 45964 | E10: 45965 | F10: {=IF(G10="","",SUMPRODUCT(($G$5:G10<>"")/COUNTIF($G$5:G10,$G$5:G10&"")))} -> 2 | G10: 45961 | H10: Webstore | I10: 999 | J10: 45931 | K10: Paring knife | L10: Prepare or serve food | M10: 5.91 | N10: 5.91 | O10: 5.91
B11: {=IFERROR( SUMPRODUCT( IF(ISNUMBER('Claim Entry Example'!M11:DH11), 'Claim Entry Example'!M11:DH11, 0) ), "")} -> 879.3 | C11: =IF(F11<>F12,SUMIFS($B$5:$B$54,$F$5:$F$54,F11),"") | D11: 45978 | E11: 45978 | F11: {=IF(G11="","",SUMPRODUCT(($G$5:G11<>"")/COUNTIF($G$5:G11,$G$5:G11&"")))} -> 3 | G11: 45976 | H11: Webstore | I11: 999 | J11: 45962 | K11: Market Trays | L11: Prepare or serve food | M11: 293.1 | N11: 293.1 | O11: 293.1
B12: {=IFERROR( SUMPRODUCT( IF(ISNUMBER('Claim Entry Example'!M12:DH12), 'Claim Entry Example'!M12:DH12, 0) ), "")} -> 100 | C12: =IF(F12<>F13,SUMIFS($B$5:$B$54,$F$5:$F$54,F12),"") | D12: 45978 | E12: 45978 | F12: {=IF(G12="","",SUMPRODUCT(($G$5:G12<>"")/COUNTIF($G$5:G12,$G$5:G12&"")))} -> 3 | G12: 45976 | H12: Webstore | I12: 999 | J12: 45962 | K12: Salad Bar Legs | L12: Transporting food to service area | M12: 0 | N12: 100 | O12: 0
A13: Over claim amount - sent back for corrections | B13: {=IFERROR( SUMPRODUCT( IF(ISNUMBER('Claim Entry Example'!M13:DH13), 'Claim Entry Example'!M13:DH13, 0) ), "")} -> 1270.59 | C13: =IF(F13<>F14,SUMIFS($B$5:$B$54,$F$5:$F$54,F13),"") -> 2249.89 | D13: 45978 | E13: 45978 | F13: {=IF(G13="","",SUMPRODUCT(($G$5:G13<>"")/COUNTIF($G$5:G13,$G$5:G13&"")))} -> 3 | G13: 45976 | H13: Webstaurant | I13: 1000 | J13: 45964 | K13: Breakfast Cart | L13: Transporting food to service area | M13: 1270.59 | N13: 0 | O13: 0
B14: {=IFERROR( SUMPRODUCT( IF(ISNUMBER('Claim Entry Example'!M14:DH14), 'Claim Entry Example'!M14:DH14, 0) ), "")} -> 0 | C14: =IF(F14<>F15,SUMIFS($B$5:$B$54,$F$5:$F$54,F14),"") | F14: {=IF(G14="","",SUMPRODUCT(($G$5:G14<>"")/COUNTIF($G$5:G14,$G$5:G14&"")))}
B15: {=IFERROR( SUMPRODUCT( IF(ISNUMBER('Claim Entry Example'!M15:DH15), 'Claim Entry Example'!M15:DH15, 0) ), "")} -> 0 | C15: =IF(F15<>F16,SUMIFS($B$5:$B$54,$F$5:$F$54,F15),"") | F15: {=IF(G15="","",SUMPRODUCT(($G$5:G15<>"")/COUNTIF($G$5:G15,$G$5:G15&"")))}
B16: {=IFERROR( SUMPRODUCT( IF(ISNUMBER('Claim Entry Example'!M16:DH16), 'Claim Entry Example'!M16:DH16, 0) ), "")} -> 0 | C16: =IF(F16<>F17,SUMIFS($B$5:$B$54,$F$5:$F$54,F16),"") | F16: {=IF(G16="","",SUMPRODUCT(($G$5:G16<>"")/COUNTIF($G$5:G16,$G$5:G16&"")))}
B17: {=IFERROR( SUMPRODUCT( IF(ISNUMBER('Claim Entry Example'!M17:DH17), 'Claim Entry Example'!M17:DH17, 0) ), "")} -> 0 | C17: =IF(F17<>F18,SUMIFS($B$5:$B$54,$F$5:$F$54,F17),"") | F17: {=IF(G17="","",SUMPRODUCT(($G$5:G17<>"")/COUNTIF($G$5:G17,$G$5:G17&"")))}
B18: {=IFERROR( SUMPRODUCT( IF(ISNUMBER('Claim Entry Example'!M18:DH18), 'Claim Entry Example'!M18:DH18, 0) ), "")} -> 0 | C18: =IF(F18<>F19,SUMIFS($B$5:$B$54,$F$5:$F$54,F18),"") | F18: {=IF(G18="","",SUMPRODUCT(($G$5:G18<>"")/COUNTIF($G$5:G18,$G$5:G18&"")))}
B19: {=IFERROR( SUMPRODUCT( IF(ISNUMBER('Claim Entry Example'!M19:DH19), 'Claim Entry Example'!M19:DH19, 0) ), "")} -> 0 | C19: =IF(F19<>F20,SUMIFS($B$5:$B$54,$F$5:$F$54,F19),"") | F19: {=IF(G19="","",SUMPRODUCT(($G$5:G19<>"")/COUNTIF($G$5:G19,$G$5:G19&"")))}
B20: {=IFERROR( SUMPRODUCT( IF(ISNUMBER('Claim Entry Example'!M20:DH20), 'Claim Entry Example'!M20:DH20, 0) ), "")} -> 0 | C20: =IF(F20<>F21,SUMIFS($B$5:$B$54,$F$5:$F$54,F20),"") | F20: {=IF(G20="","",SUMPRODUCT(($G$5:G20<>"")/COUNTIF($G$5:G20,$G$5:G20&"")))}
B21: {=IFERROR( SUMPRODUCT( IF(ISNUMBER('Claim Entry Example'!M21:DH21), 'Claim Entry Example'!M21:DH21, 0) ), "")} -> 0 | C21: =IF(F21<>F22,SUMIFS($B$5:$B$54,$F$5:$F$54,F21),"") | F21: {=IF(G21="","",SUMPRODUCT(($G$5:G21<>"")/COUNTIF($G$5:G21,$G$5:G21&"")))}
B22: {=IFERROR( SUMPRODUCT( IF(ISNUMBER('Claim Entry Example'!M22:DH22), 'Claim Entry Example'!M22:DH22, 0) ), "")} -> 0 | C22: =IF(F22<>F23,SUMIFS($B$5:$B$54,$F$5:$F$54,F22),"") | F22: {=IF(G22="","",SUMPRODUCT(($G$5:G22<>"")/COUNTIF($G$5:G22,$G$5:G22&"")))}
B23: {=IFERROR( SUMPRODUCT( IF(ISNUMBER('Claim Entry Example'!M23:DH23), 'Claim Entry Example'!M23:DH23, 0) ), "")} -> 0 | C23: =IF(F23<>F24,SUMIFS($B$5:$B$54,$F$5:$F$54,F23),"") | F23: {=IF(G23="","",SUMPRODUCT(($G$5:G23<>"")/COUNTIF($G$5:G23,$G$5:G23&"")))}
B24: {=IFERROR( SUMPRODUCT( IF(ISNUMBER('Claim Entry Example'!M24:DH24), 'Claim Entry Example'!M24:DH24, 0) ), "")} -> 0 | C24: =IF(F24<>F25,SUMIFS($B$5:$B$54,$F$5:$F$54,F24),"") | F24: {=IF(G24="","",SUMPRODUCT(($G$5:G24<>"")/COUNTIF($G$5:G24,$G$5:G24&"")))}
B25: {=IFERROR( SUMPRODUCT( IF(ISNUMBER('Claim Entry Example'!M25:DH25), 'Claim Entry Example'!M25:DH25, 0) ), "")} -> 0 | C25: =IF(F25<>F26,SUMIFS($B$5:$B$54,$F$5:$F$54,F25),"") | F25: {=IF(G25="","",SUMPRODUCT(($G$5:G25<>"")/COUNTIF($G$5:G25,$G$5:G25&"")))}
... B54: {=IFERROR( SUMPRODUCT( IF(ISNUMBER('Claim Entry Example'!M54:DH54), 'Claim Entry Example'!M54:DH54, 0) ), "")} -> 0 | C54: =IF(F54<>F55,SUMIFS($B$5:$B$54,$F$5:$F$54,F54),"") | F54: {=IF(G54="","",SUMPRODUCT(($G$5:G54<>"")/COUNTIF($G$5:G54,$G$5:G54&"")))}

Sheet Claim Totals Example
C2: Summary of Totals from 'Claim Entry Example' Sheet
D4: ='Claim Entry Example'!M4 -> Max's Island Elementary School | E4: ='Claim Entry Example'!N4 -> Rumpus Middle School | F4: ='Claim Entry Example'!O4 -> Crown & Scepter High School
C5: Subgrant Number | D5: =_xlfn.XLOOKUP(D$4,'sponsor dropdowns'!$H$2:$H$4,'sponsor dropdowns'!$I$2:$I$4,"",0) -> SG-90001-ME | E5: =_xlfn.XLOOKUP(E$4,'sponsor dropdowns'!$H$2:$H$4,'sponsor dropdowns'!$I$2:$I$4,"",0) -> SG-90002-RM | F5: =_xlfn.XLOOKUP(F$4,'sponsor dropdowns'!$H$2:$H$4,'sponsor dropdowns'!$I$2:$I$4,"",0) -> SG-90003-CS
C6: Amount Allocated for SY 25-26 | D6: =IF(D$5="","",2023) -> 2023 | E6: =IF(E$5="","",2023) -> 2023 | F6: =IF(F$5="","",2023) -> 2023
C7: Remaining Amount Available | D7: =D$6-D$8 -> -598.83 | E7: =E$6-E$8 -> 564.66 | F7: =F$6-F$8 -> 566.06
A8: Claim No. | B8: Claim Date | C8: Totals by Site ⇒ & by Claim No. ⇓ | D8: =SUM(D$9:D$12) -> 2621.83 | E8: =SUM(E$9:E$12) -> 1458.34 | F8: =SUM(F$9:F$12) -> 1456.94
A9: 1 | B9: =_xlfn.XLOOKUP(A9,'Claim Entry Example'!$F$5:$F$54,'Claim Entry Example'!$G$5:$G$54,"",0) -> 45939 | C9: =SUM(D9:F9) -> 2969.5 | D9: =SUMIF('Claim Entry Example'!$F$5:$F$54,'Claim Totals'!$A9,'Claim Entry Example'!M$5:M$54) -> 973.9 | E9: =SUMIF('Claim Entry Example'!$F$5:$F$54,'Claim Totals'!$A9,'Claim Entry Example'!N$5:N$54) -> 981 | F9: =SUMIF('Claim Entry Example'!$F$5:$F$54,'Claim Totals'!$A9,'Claim Entry Example'!O$5:O$54) -> 1014.6
A10: 2 | B10: =_xlfn.XLOOKUP(A10,'Claim Entry Example'!$F$5:$F$54,'Claim Entry Example'!$G$5:$G$54,"",0) -> 45961 | C10: =SUM(D10:F10) -> 317.72 | D10: =SUMIF('Claim Entry Example'!$F$5:$F$54,'Claim Totals'!$A10,'Claim Entry Example'!M$5:M$54) -> 84.24 | E10: =SUMIF('Claim Entry Example'!$F$5:$F$54,'Claim Totals'!$A10,'Claim Entry Example'!N$5:N$54) -> 84.24 | F10: =SUMIF('Claim Entry Example'!$F$5:$F$54,'Claim Totals'!$A10,'Claim Entry Example'!O$5:O$54) -> 149.24
A11: 3 | B11: =_xlfn.XLOOKUP(A11,'Claim Entry Example'!$F$5:$F$54,'Claim Entry Example'!$G$5:$G$54,"",0) -> 45976 | C11: =SUM(D11:F11) -> 2249.89 | D11: =SUMIF('Claim Entry Example'!$F$5:$F$54,'Claim Totals'!$A11,'Claim Entry Example'!M$5:M$54) -> 1563.69 | E11: =SUMIF('Claim Entry Example'!$F$5:$F$54,'Claim Totals'!$A11,'Claim Entry Example'!N$5:N$54) -> 393.1 | F11: =SUMIF('Claim Entry Example'!$F$5:$F$54,'Claim Totals'!$A11,'Claim Entry Example'!O$5:O$54) -> 293.1
C12: =SUM(D12:F12) -> 0 | D12: =SUMIF('Claim Entry Example'!$F$5:$F$54,'Claim Totals'!$A12,'Claim Entry Example'!M$5:M$54) -> 0 | E12: =SUMIF('Claim Entry Example'!$F$5:$F$54,'Claim Totals'!$A12,'Claim Entry Example'!N$5:N$54) -> 0 | F12: =SUMIF('Claim Entry Example'!$F$5:$F$54,'Claim Totals'!$A12,'Claim Entry Example'!O$5:O$54) -> 0

Sheet Claim Entry
H2: Sponsor Name | I2: Select Sponsor
A3: CNP USE ONLY | M3: {=IFERROR(INDEX(Subgrants!$E$2:$E$1100,MATCH(1,(Subgrants!$C$2:$C$1100=$I$2)*(Subgrants!$D$2:$D$1100=M4),0)),"")} | N3: {=IFERROR(INDEX(Subgrants!$E$2:$E$1100,MATCH(1,(Subgrants!$C$2:$C$1100=$I$2)*(Subgrants!$D$2:$D$1100=N4),0)),"")} | O3: {=IFERROR(INDEX(Subgrants!$E$2:$E$1100,MATCH(1,(Subgrants!$C$2:$C$1100=$I$2)*(Subgrants!$D$2:$D$1100=O4),0)),"")} | P3: {=IFERROR(INDEX(Subgrants!$E$2:$E$1100,MATCH(1,(Subgrants!$C$2:$C$1100=$I$2)*(Subgrants!$D$2:$D$1100=P4),0)),"")} | Q3: {=IFERROR(INDEX(Subgrants!$E$2:$E$1100,MATCH(1,(Subgrants!$C$2:$C$1100=$I$2)*(Subgrants!$D$2:$D$1100=Q4),0)),"")} | R3: {=IFERROR(INDEX(Subgrants!$E$2:$E$1100,MATCH(1,(Subgrants!$C$2:$C$1100=$I$2)*(Subgrants!$D$2:$D$1100=R4),0)),"")} | S3: {=IFERROR(INDEX(Subgrants!$E$2:$E$1100,MATCH(1,(Subgrants!$C$2:$C$1100=$I$2)*(Subgrants!$D$2:$D$1100=S4),0)),"")} | T3: {=IFERROR(INDEX(Subgrants!$E$2:$E$1100,MATCH(1,(Subgrants!$C$2:$C$1100=$I$2)*(Subgrants!$D$2:$D$1100=T4),0)),"")} | ... AY3: {=IFERROR(INDEX(Subgrants!$E$2:$E$1100,MATCH(1,(Subgrants!$C$2:$C$1100=$I$2)*(Subgrants!$D$2:$D$1100=AY4),0)),"")}
A4: Comments | B4: TOTAL | C4: Total Claim Amount | D4: ODE Approved | E4: Dated Processed in EGMS | F4: Claim No. | G4: Claim Date | H4: Vendor | I4: Invoice Number | J4: Invoice Date | K4: Equipment Item | L4: Reason (Select primary reason or enter your own) | M4: {=IFERROR(INDEX(Subgrants!$D$2:$D$1100,SMALL(IF(Subgrants!$C$2:$C$1100=$I$2,ROW(Subgrants!$C$2:$C$1100)-ROW(Subgrants!$C$2)+1),COLUMN(A1))),"")} | N4: {=IFERROR(INDEX(Subgrants!$D$2:$D$1100,SMALL(IF(Subgrants!$C$2:$C$1100=$I$2,ROW(Subgrants!$C$2:$C$1100)-ROW(Subgrants!$C$2)+1),COLUMN(B1))),"")} | O4: {=IFERROR(INDEX(Subgrants!$D$2:$D$1100,SMALL(IF(Subgrants!$C$2:$C$1100=$I$2,ROW(Subgrants!$C$2:$C$1100)-ROW(Subgrants!$C$2)+1),COLUMN(C1))),"")} | P4: {=IFERROR(INDEX(Subgrants!$D$2:$D$1100,SMALL(IF(Subgrants!$C$2:$C$1100=$I$2,ROW(Subgrants!$C$2:$C$1100)-ROW(Subgrants!$C$2)+1),COLUMN(D1))),"")} | Q4: {=IFERROR(INDEX(Subgrants!$D$2:$D$1100,SMALL(IF(Subgrants!$C$2:$C$1100=$I$2,ROW(Subgrants!$C$2:$C$1100)-ROW(Subgrants!$C$2)+1),COLUMN(E1))),"")} | R4: {=IFERROR(INDEX(Subgrants!$D$2:$D$1100,SMALL(IF(Subgrants!$C$2:$C$1100=$I$2,ROW(Subgrants!$C$2:$C$1100)-ROW(Subgrants!$C$2)+1),COLUMN(F1))),"")} | S4: {=IFERROR(INDEX(Subgrants!$D$2:$D$1100,SMALL(IF(Subgrants!$C$2:$C$1100=$I$2,ROW(Subgrants!$C$2:$C$1100)-ROW(Subgrants!$C$2)+1),COLUMN(G1))),"")} | T4: {=IFERROR(INDEX(Subgrants!$D$2:$D$1100,SMALL(IF(Subgrants!$C$2:$C$1100=$I$2,ROW(Subgrants!$C$2:$C$1100)-ROW(Subgrants!$C$2)+1),COLUMN(H1))),"")} | ... AY4: {=IFERROR(INDEX(Subgrants!$D$2:$D$1100,SMALL(IF(Subgrants!$C$2:$C$1100=$I$2,ROW(Subgrants!$C$2:$C$1100)-ROW(Subgrants!$C$2)+1),COLUMN(AM1))),"")}
B5: {=IFERROR( SUMPRODUCT( IF(ISNUMBER('Claim Entry'!M5:DH5), 'Claim Entry'!M5:DH5, 0) ), "")} -> 0 | C5: =IF(F5<>F6,SUMIFS($B$5:$B$54,$F$5:$F$54,F5),"") | F5: {=IF(G5="","",SUMPRODUCT(($G$5:$G$150<>"")*($G$5:$G$150<G5)/COUNTIF($G$5:$G$150,$G$5:$G$150&""))+1)}
B6: {=IFERROR( SUMPRODUCT( IF(ISNUMBER('Claim Entry'!M6:DH6), 'Claim Entry'!M6:DH6, 0) ), "")} -> 0 | C6: =IF(F6<>F7,SUMIFS($B$5:$B$54,$F$5:$F$54,F6),"") | F6: {=IF(G6="","",SUMPRODUCT(($G$5:$G$150<>"")*($G$5:$G$150<G6)/COUNTIF($G$5:$G$150,$G$5:$G$150&""))+1)}
B7: {=IFERROR( SUMPRODUCT( IF(ISNUMBER('Claim Entry'!M7:DH7), 'Claim Entry'!M7:DH7, 0) ), "")} -> 0 | C7: =IF(F7<>F8,SUMIFS($B$5:$B$54,$F$5:$F$54,F7),"") | F7: {=IF(G7="","",SUMPRODUCT(($G$5:$G$150<>"")*($G$5:$G$150<G7)/COUNTIF($G$5:$G$150,$G$5:$G$150&""))+1)}
B8: {=IFERROR( SUMPRODUCT( IF(ISNUMBER('Claim Entry'!M8:DH8), 'Claim Entry'!M8:DH8, 0) ), "")} -> 0 | C8: =IF(F8<>F9,SUMIFS($B$5:$B$54,$F$5:$F$54,F8),"") | F8: {=IF(G8="","",SUMPRODUCT(($G$5:$G$150<>"")*($G$5:$G$150<G8)/COUNTIF($G$5:$G$150,$G$5:$G$150&""))+1)}
B9: {=IFERROR( SUMPRODUCT( IF(ISNUMBER('Claim Entry'!M9:DH9), 'Claim Entry'!M9:DH9, 0) ), "")} -> 0 | C9: =IF(F9<>F10,SUMIFS($B$5:$B$54,$F$5:$F$54,F9),"") | F9: {=IF(G9="","",SUMPRODUCT(($G$5:$G$150<>"")*($G$5:$G$150<G9)/COUNTIF($G$5:$G$150,$G$5:$G$150&""))+1)}
B10: {=IFERROR( SUMPRODUCT( IF(ISNUMBER('Claim Entry'!M10:DH10), 'Claim Entry'!M10:DH10, 0) ), "")} -> 0 | C10: =IF(F10<>F11,SUMIFS($B$5:$B$54,$F$5:$F$54,F10),"") | F10: {=IF(G10="","",SUMPRODUCT(($G$5:$G$150<>"")*($G$5:$G$150<G10)/COUNTIF($G$5:$G$150,$G$5:$G$150&""))+1)}
B11: {=IFERROR( SUMPRODUCT( IF(ISNUMBER('Claim Entry'!M11:DH11), 'Claim Entry'!M11:DH11, 0) ), "")} -> 0 | C11: =IF(F11<>F12,SUMIFS($B$5:$B$54,$F$5:$F$54,F11),"") | F11: {=IF(G11="","",SUMPRODUCT(($G$5:$G$150<>"")*($G$5:$G$150<G11)/COUNTIF($G$5:$G$150,$G$5:$G$150&""))+1)}
B12: {=IFERROR( SUMPRODUCT( IF(ISNUMBER('Claim Entry'!M12:DH12), 'Claim Entry'!M12:DH12, 0) ), "")} -> 0 | C12: =IF(F12<>F13,SUMIFS($B$5:$B$54,$F$5:$F$54,F12),"") | F12: {=IF(G12="","",SUMPRODUCT(($G$5:$G$150<>"")*($G$5:$G$150<G12)/COUNTIF($G$5:$G$150,$G$5:$G$150&""))+1)}
B13: {=IFERROR( SUMPRODUCT( IF(ISNUMBER('Claim Entry'!M13:DH13), 'Claim Entry'!M13:DH13, 0) ), "")} -> 0 | C13: =IF(F13<>F14,SUMIFS($B$5:$B$54,$F$5:$F$54,F13),"") | F13: {=IF(G13="","",SUMPRODUCT(($G$5:$G$150<>"")*($G$5:$G$150<G13)/COUNTIF($G$5:$G$150,$G$5:$G$150&""))+1)}
B14: {=IFERROR( SUMPRODUCT( IF(ISNUMBER('Claim Entry'!M14:DH14), 'Claim Entry'!M14:DH14, 0) ), "")} -> 0 | C14: =IF(F14<>F15,SUMIFS($B$5:$B$54,$F$5:$F$54,F14),"") | F14: {=IF(G14="","",SUMPRODUCT(($G$5:$G$150<>"")*($G$5:$G$150<G14)/COUNTIF($G$5:$G$150,$G$5:$G$150&""))+1)}
B15: {=IFERROR( SUMPRODUCT( IF(ISNUMBER('Claim Entry'!M15:DH15), 'Claim Entry'!M15:DH15, 0) ), "")} -> 0 | C15: =IF(F15<>F16,SUMIFS($B$5:$B$54,$F$5:$F$54,F15),"") | F15: {=IF(G15="","",SUMPRODUCT(($G$5:$G$150<>"")*($G$5:$G$150<G15)/COUNTIF($G$5:$G$150,$G$5:$G$150&""))+1)}
B16: {=IFERROR( SUMPRODUCT( IF(ISNUMBER('Claim Entry'!M16:DH16), 'Claim Entry'!M16:DH16, 0) ), "")} -> 0 | C16: =IF(F16<>F17,SUMIFS($B$5:$B$54,$F$5:$F$54,F16),"") | F16: {=IF(G16="","",SUMPRODUCT(($G$5:$G$150<>"")*($G$5:$G$150<G16)/COUNTIF($G$5:$G$150,$G$5:$G$150&""))+1)}
... B48: {=IFERROR( SUMPRODUCT( IF(ISNUMBER('Claim Entry'!M48:DH48), 'Claim Entry'!M48:DH48, 0) ), "")} -> 0 | C48: =IF(F48<>F49,SUMIFS($B$5:$B$54,$F$5:$F$54,F48),"") | F48: {=IF(G48="","",SUMPRODUCT(($G$5:$G$150<>"")*($G$5:$G$150<G48)/COUNTIF($G$5:$G$150,$G$5:$G$150&""))+1)}
B49: {=IFERROR( SUMPRODUCT( IF(ISNUMBER('Claim Entry'!M49:DH49), 'Claim Entry'!M49:DH49, 0) ), "")} -> 0 | C49: =IF(F49<>F50,SUMIFS($B$5:$B$54,$F$5:$F$54,F49),"") | F49: {=IF(G49="","",SUMPRODUCT(($G$5:$G$200<>"")*($G$5:$G$200<G49)/COUNTIF($G$5:$G$200,$G$5:$G$200&""))+1)}
B50: {=IFERROR( SUMPRODUCT( IF(ISNUMBER('Claim Entry'!M50:DH50), 'Claim Entry'!M50:DH50, 0) ), "")} -> 0 | C50: =IF(F50<>F51,SUMIFS($B$5:$B$54,$F$5:$F$54,F50),"") | F50: {=IF(G50="","",SUMPRODUCT(($G$5:$G$200<>"")*($G$5:$G$200<G50)/COUNTIF($G$5:$G$200,$G$5:$G$200&""))+1)}
B51: {=IFERROR( SUMPRODUCT( IF(ISNUMBER('Claim Entry'!M51:DH51), 'Claim Entry'!M51:DH51, 0) ), "")} -> 0 | C51: =IF(F51<>F52,SUMIFS($B$5:$B$54,$F$5:$F$54,F51),"") | F51: {=IF(G51="","",SUMPRODUCT(($G$5:$G$200<>"")*($G$5:$G$200<G51)/COUNTIF($G$5:$G$200,$G$5:$G$200&""))+1)}
B52: {=IFERROR( SUMPRODUCT( IF(ISNUMBER('Claim Entry'!M52:DH52), 'Claim Entry'!M52:DH52, 0) ), "")} -> 0 | C52: =IF(F52<>F53,SUMIFS($B$5:$B$54,$F$5:$F$54,F52),"") | F52: {=IF(G52="","",SUMPRODUCT(($G$5:$G$200<>"")*($G$5:$G$200<G52)/COUNTIF($G$5:$G$200,$G$5:$G$200&""))+1)}
B53: {=IFERROR( SUMPRODUCT( IF(ISNUMBER('Claim Entry'!M53:DH53), 'Claim Entry'!M53:DH53, 0) ), "")} -> 0 | C53: =IF(F53<>F54,SUMIFS($B$5:$B$54,$F$5:$F$54,F53),"") | F53: {=IF(G53="","",SUMPRODUCT(($G$5:$G$200<>"")*($G$5:$G$200<G53)/COUNTIF($G$5:$G$200,$G$5:$G$200&""))+1)}
B54: {=IFERROR( SUMPRODUCT( IF(ISNUMBER('Claim Entry'!M54:DH54), 'Claim Entry'!M54:DH54, 0) ), "")} -> 0 | C54: =IF(F54<>F55,SUMIFS($B$5:$B$54,$F$5:$F$54,F54),"") | F54: {=IF(G54="","",SUMPRODUCT(($G$5:$G$200<>"")*($G$5:$G$200<G54)/COUNTIF($G$5:$G$200,$G$5:$G$200&""))+1)}
B55: {=IFERROR( SUMPRODUCT( IF(ISNUMBER('Claim Entry'!M55:DH55), 'Claim Entry'!M55:DH55, 0) ), "")} -> 0 | F55: {=IF(G55="","",SUMPRODUCT(($G$5:$G$200<>"")*($G$5:$G$200<G55)/COUNTIF($G$5:$G$200,$G$5:$G$200&""))+1)}
B56: {=IFERROR( SUMPRODUCT( IF(ISNUMBER('Claim Entry'!M56:DH56), 'Claim Entry'!M56:DH56, 0) ), "")} -> 0 | F56: {=IF(G56="","",SUMPRODUCT(($G$5:$G$200<>"")*($G$5:$G$200<G56)/COUNTIF($G$5:$G$200,$G$5:$G$200&""))+1)}
B57: {=IFERROR( SUMPRODUCT( IF(ISNUMBER('Claim Entry'!M57:DH57), 'Claim Entry'!M57:DH57, 0) ), "")} -> 0 | F57: {=IF(G57="","",SUMPRODUCT(($G$5:$G$200<>"")*($G$5:$G$200<G57)/COUNTIF($G$5:$G$200,$G$5:$G$200&""))+1)}
B58: {=IFERROR( SUMPRODUCT( IF(ISNUMBER('Claim Entry'!M58:DH58), 'Claim Entry'!M58:DH58, 0) ), "")} -> 0 | F58: {=IF(G58="","",SUMPRODUCT(($G$5:$G$200<>"")*($G$5:$G$200<G58)/COUNTIF($G$5:$G$200,$G$5:$G$200&""))+1)}
B59: {=IFERROR( SUMPRODUCT( IF(ISNUMBER('Claim Entry'!M59:DH59), 'Claim Entry'!M59:DH59, 0) ), "")} -> 0 | F59: {=IF(G59="","",SUMPRODUCT(($G$5:$G$200<>"")*($G$5:$G$200<G59)/COUNTIF($G$5:$G$200,$G$5:$G$200&""))+1)}
B60: {=IFERROR( SUMPRODUCT( IF(ISNUMBER('Claim Entry'!M60:DH60), 'Claim Entry'!M60:DH60, 0) ), "")} -> 0 | F60: {=IF(G60="","",SUMPRODUCT(($G$5:$G$200<>"")*($G$5:$G$200<G60)/COUNTIF($G$5:$G$200,$G$5:$G$200&""))+1)}
B61: {=IFERROR( SUMPRODUCT( IF(ISNUMBER('Claim Entry'!M61:DH61), 'Claim Entry'!M61:DH61, 0) ), "")} -> 0 | F61: {=IF(G61="","",SUMPRODUCT(($G$5:$G$200<>"")*($G$5:$G$200<G61)/COUNTIF($G$5:$G$200,$G$5:$G$200&""))+1)}
B62: {=IFERROR( SUMPRODUCT( IF(ISNUMBER('Claim Entry'!M62:DH62), 'Claim Entry'!M62:DH62, 0) ), "")} -> 0 | F62: {=IF(G62="","",SUMPRODUCT(($G$5:$G$200<>"")*($G$5:$G$200<G62)/COUNTIF($G$5:$G$200,$G$5:$G$200&""))+1)}
B63: {=IFERROR( SUMPRODUCT( IF(ISNUMBER('Claim Entry'!M63:DH63), 'Claim Entry'!M63:DH63, 0) ), "")} -> 0 | F63: {=IF(G63="","",SUMPRODUCT(($G$5:$G$200<>"")*($G$5:$G$200<G63)/COUNTIF($G$5:$G$200,$G$5:$G$200&""))+1)}
B64: {=IFERROR( SUMPRODUCT( IF(ISNUMBER('Claim Entry'!M64:DH64), 'Claim Entry'!M64:DH64, 0) ), "")} -> 0 | F64: {=IF(G64="","",SUMPRODUCT(($G$5:$G$200<>"")*($G$5:$G$200<G64)/COUNTIF($G$5:$G$200,$G$5:$G$200&""))+1)}
B65: {=IFERROR( SUMPRODUCT( IF(ISNUMBER('Claim Entry'!M65:DH65), 'Claim Entry'!M65:DH65, 0) ), "")} -> 0 | F65: {=IF(G65="","",SUMPRODUCT(($G$5:$G$200<>"")*($G$5:$G$200<G65)/COUNTIF($G$5:$G$200,$G$5:$G$200&""))+1)}
B66: {=IFERROR( SUMPRODUCT( IF(ISNUMBER('Claim Entry'!M66:DH66), 'Claim Entry'!M66:DH66, 0) ), "")} -> 0 | F66: {=IF(G66="","",SUMPRODUCT(($G$5:$G$200<>"")*($G$5:$G$200<G66)/COUNTIF($G$5:$G$200,$G$5:$G$200&""))+1)}
... B200: {=IFERROR( SUMPRODUCT( IF(ISNUMBER('Claim Entry'!M200:DH200), 'Claim Entry'!M200:DH200, 0) ), "")} -> 0 | F200: {=IF(G200="","",SUMPRODUCT(($G$5:$G$200<>"")*($G$5:$G$200<G200)/COUNTIF($G$5:$G$200,$G$5:$G$200&""))+1)}

Sheet Claim Totals
C2: Summary of Totals from 'Claim Entry' Sheet
D3: ='Claim Entry'!M3 | E3: ='Claim Entry'!N3 | F3: ='Claim Entry'!O3 | G3: ='Claim Entry'!P3 | H3: ='Claim Entry'!Q3 | I3: ='Claim Entry'!R3 | J3: ='Claim Entry'!S3 | K3: ='Claim Entry'!T3 | ... AP3: ='Claim Entry'!AY3
D4: ='Claim Entry'!M4 | E4: ='Claim Entry'!N4 | F4: ='Claim Entry'!O4 | G4: ='Claim Entry'!P4 | H4: ='Claim Entry'!Q4 | I4: ='Claim Entry'!R4 | J4: ='Claim Entry'!S4 | K4: ='Claim Entry'!T4 | ... AP4: ='Claim Entry'!AY4
C5: Subgrant Number | D5: =_xlfn.XLOOKUP(D$3,Subgrants!$E$2:$E$1100,Subgrants!$A$2:$A$1100,"",0) | E5: =_xlfn.XLOOKUP(E$3,Subgrants!$E$2:$E$1100,Subgrants!$A$2:$A$1100,"",0) | F5: =_xlfn.XLOOKUP(F$3,Subgrants!$E$2:$E$1100,Subgrants!$A$2:$A$1100,"",0) | G5: =_xlfn.XLOOKUP(G$3,Subgrants!$E$2:$E$1100,Subgrants!$A$2:$A$1100,"",0) | H5: =_xlfn.XLOOKUP(H$3,Subgrants!$E$2:$E$1100,Subgrants!$A$2:$A$1100,"",0) | I5: =_xlfn.XLOOKUP(I$3,Subgrants!$E$2:$E$1100,Subgrants!$A$2:$A$1100,"",0) | J5: =_xlfn.XLOOKUP(J$3,Subgrants!$E$2:$E$1100,Subgrants!$A$2:$A$1100,"",0) | K5: =_xlfn.XLOOKUP(K$3,Subgrants!$E$2:$E$1100,Subgrants!$A$2:$A$1100,"",0) | ... AA5: =_xlfn.XLOOKUP(AA$3,Subgrants!$E$2:$E$1100,Subgrants!$A$2:$A$1100,"",0) | AB5: =_xlfn.XLOOKUP(AB$3,Subgrants!$E$625:$E$1100,Subgrants!$A$625:$A$1100,"",0) | AC5: =_xlfn.XLOOKUP(AC$3,Subgrants!$E$625:$E$1100,Subgrants!$A$625:$A$1100,"",0) | AD5: =_xlfn.XLOOKUP(AD$3,Subgrants!$E$625:$E$1100,Subgrants!$A$625:$A$1100,"",0) | AE5: =_xlfn.XLOOKUP(AE$3,Subgrants!$E$625:$E$1100,Subgrants!$A$625:$A$1100,"",0) | AF5: =_xlfn.XLOOKUP(AF$3,Subgrants!$E$625:$E$1100,Subgrants!$A$625:$A$1100,"",0) | AG5: =_xlfn.XLOOKUP(AG$3,Subgrants!$E$625:$E$1100,Subgrants!$A$625:$A$1100,"",0) | AH5: =_xlfn.XLOOKUP(AH$3,Subgrants!$E$625:$E$1100,Subgrants!$A$625:$A$1100,"",0) | AI5: =_xlfn.XLOOKUP(AI$3,Subgrants!$E$625:$E$1100,Subgrants!$A$625:$A$1100,"",0) | ... AP5: =_xlfn.XLOOKUP(AP$3,Subgrants!$E$625:$E$1100,Subgrants!$A$625:$A$1100,"",0)
C6: Amount Allocated for SY 25-26 | D6: =IF(D$4="","",2023) | E6: =IF(E$4="","",2023) | F6: =IF(F$4="","",2023) | G6: =IF(G$4="","",2023) | H6: =IF(H$4="","",2023) | I6: =IF(I$4="","",2023) | J6: =IF(J$4="","",2023) | K6: =IF(K$4="","",2023) | ... AP6: =IF(AP$4="","",2023)
C7: Remaining Amount Available | D7: =IF(D6="","",D$6-D$8) | E7: =IF(E6="","",E$6-E$8) | F7: =IF(F6="","",F$6-F$8) | G7: =IF(G6="","",G$6-G$8) | H7: =IF(H6="","",H$6-H$8) | I7: =IF(I6="","",I$6-I$8) | J7: =IF(J6="","",J$6-J$8) | K7: =IF(K6="","",K$6-K$8) | ... AP7: =IF(AP6="","",AP$6-AP$8)
A8: Claim No. | B8: Claim Date | C8: Totals by Site ⇒ & by Claim No. ⇓ | D8: =SUM(D9:D28) -> 0 | E8: =SUM(E9:E28) -> 0 | F8: =SUM(F9:F28) -> 0 | G8: =SUM(G9:G28) -> 0 | H8: =SUM(H9:H28) -> 0 | I8: =SUM(I9:I28) -> 0 | J8: =SUM(J9:J28) -> 0 | K8: =SUM(K9:K28) -> 0 | ... AP8: =SUM(AP9:AP28) -> 0
A9: 1 | B9: =_xlfn.XLOOKUP(A9,'Claim Entry'!$F$5:$F$200,'Claim Entry'!$G$5:$G$200,"",0) | C9: =SUM(D9:CY9) -> 0 | D9: =SUMIF('Claim Entry'!$F$5:$F$200,'Claim Totals'!$A9,'Claim Entry'!M$5:M$200) -> 0 | E9: =SUMIF('Claim Entry'!$F$5:$F$200,'Claim Totals'!$A9,'Claim Entry'!N$5:N$200) -> 0 | F9: =SUMIF('Claim Entry'!$F$5:$F$200,'Claim Totals'!$A9,'Claim Entry'!O$5:O$200) -> 0 | G9: =SUMIF('Claim Entry'!$F$5:$F$200,'Claim Totals'!$A9,'Claim Entry'!P$5:P$200) -> 0 | H9: =SUMIF('Claim Entry'!$F$5:$F$200,'Claim Totals'!$A9,'Claim Entry'!Q$5:Q$200) -> 0 | I9: =SUMIF('Claim Entry'!$F$5:$F$200,'Claim Totals'!$A9,'Claim Entry'!R$5:R$200) -> 0 | J9: =SUMIF('Claim Entry'!$F$5:$F$200,'Claim Totals'!$A9,'Claim Entry'!S$5:S$200) -> 0 | K9: =SUMIF('Claim Entry'!$F$5:$F$200,'Claim Totals'!$A9,'Claim Entry'!T$5:T$200) -> 0 | ... AP9: =SUMIF('Claim Entry'!$F$5:$F$200,'Claim Totals'!$A9,'Claim Entry'!AY$5:AY$200) -> 0
A10: 2 | B10: =_xlfn.XLOOKUP(A10,'Claim Entry'!$F$5:$F$200,'Claim Entry'!$G$5:$G$200,"",0) | C10: =SUM(D10:CY10) -> 0 | D10: =SUMIF('Claim Entry'!$F$5:$F$200,'Claim Totals'!$A10,'Claim Entry'!M$5:M$200) -> 0 | E10: =SUMIF('Claim Entry'!$F$5:$F$200,'Claim Totals'!$A10,'Claim Entry'!N$5:N$200) -> 0 | F10: =SUMIF('Claim Entry'!$F$5:$F$200,'Claim Totals'!$A10,'Claim Entry'!O$5:O$200) -> 0 | G10: =SUMIF('Claim Entry'!$F$5:$F$200,'Claim Totals'!$A10,'Claim Entry'!P$5:P$200) -> 0 | H10: =SUMIF('Claim Entry'!$F$5:$F$200,'Claim Totals'!$A10,'Claim Entry'!Q$5:Q$200) -> 0 | I10: =SUMIF('Claim Entry'!$F$5:$F$200,'Claim Totals'!$A10,'Claim Entry'!R$5:R$200) -> 0 | J10: =SUMIF('Claim Entry'!$F$5:$F$200,'Claim Totals'!$A10,'Claim Entry'!S$5:S$200) -> 0 | K10: =SUMIF('Claim Entry'!$F$5:$F$200,'Claim Totals'!$A10,'Claim Entry'!T$5:T$200) -> 0 | ... AP10: =SUMIF('Claim Entry'!$F$5:$F$200,'Claim Totals'!$A10,'Claim Entry'!AY$5:AY$200) -> 0
A11: 3 | B11: =_xlfn.XLOOKUP(A11,'Claim Entry'!$F$5:$F$200,'Claim Entry'!$G$5:$G$200,"",0) | C11: =SUM(D11:CY11) -> 0 | D11: =SUMIF('Claim Entry'!$F$5:$F$200,'Claim Totals'!$A11,'Claim Entry'!M$5:M$200) -> 0 | E11: =SUMIF('Claim Entry'!$F$5:$F$200,'Claim Totals'!$A11,'Claim Entry'!N$5:N$200) -> 0 | F11: =SUMIF('Claim Entry'!$F$5:$F$200,'Claim Totals'!$A11,'Claim Entry'!O$5:O$200) -> 0 | G11: =SUMIF('Claim Entry'!$F$5:$F$200,'Claim Totals'!$A11,'Claim Entry'!P$5:P$200) -> 0 | H11: =SUMIF('Claim Entry'!$F$5:$F$200,'Claim Totals'!$A11,'Claim Entry'!Q$5:Q$200) -> 0 | I11: =SUMIF('Claim Entry'!$F$5:$F$200,'Claim Totals'!$A11,'Claim Entry'!R$5:R$200) -> 0 | J11: =SUMIF('Claim Entry'!$F$5:$F$200,'Claim Totals'!$A11,'Claim Entry'!S$5:S$200) -> 0 | K11: =SUMIF('Claim Entry'!$F$5:$F$200,'Claim Totals'!$A11,'Claim Entry'!T$5:T$200) -> 0 | ... AP11: =SUMIF('Claim Entry'!$F$5:$F$200,'Claim Totals'!$A11,'Claim Entry'!AY$5:AY$200) -> 0
A12: 4 | B12: =_xlfn.XLOOKUP(A12,'Claim Entry'!$F$5:$F$200,'Claim Entry'!$G$5:$G$200,"",0) | C12: =SUM(D12:CY12) -> 0 | D12: =SUMIF('Claim Entry'!$F$5:$F$200,'Claim Totals'!$A12,'Claim Entry'!M$5:M$200) -> 0 | E12: =SUMIF('Claim Entry'!$F$5:$F$200,'Claim Totals'!$A12,'Claim Entry'!N$5:N$200) -> 0 | F12: =SUMIF('Claim Entry'!$F$5:$F$200,'Claim Totals'!$A12,'Claim Entry'!O$5:O$200) -> 0 | G12: =SUMIF('Claim Entry'!$F$5:$F$200,'Claim Totals'!$A12,'Claim Entry'!P$5:P$200) -> 0 | H12: =SUMIF('Claim Entry'!$F$5:$F$200,'Claim Totals'!$A12,'Claim Entry'!Q$5:Q$200) -> 0 | I12: =SUMIF('Claim Entry'!$F$5:$F$200,'Claim Totals'!$A12,'Claim Entry'!R$5:R$200) -> 0 | J12: =SUMIF('Claim Entry'!$F$5:$F$200,'Claim Totals'!$A12,'Claim Entry'!S$5:S$200) -> 0 | K12: =SUMIF('Claim Entry'!$F$5:$F$200,'Claim Totals'!$A12,'Claim Entry'!T$5:T$200) -> 0 | ... AP12: =SUMIF('Claim Entry'!$F$5:$F$200,'Claim Totals'!$A12,'Claim Entry'!AY$5:AY$200) -> 0
A13: 5 | B13: =_xlfn.XLOOKUP(A13,'Claim Entry'!$F$5:$F$200,'Claim Entry'!$G$5:$G$200,"",0) | C13: =SUM(D13:CY13) -> 0 | D13: =SUMIF('Claim Entry'!$F$5:$F$200,'Claim Totals'!$A13,'Claim Entry'!M$5:M$200) -> 0 | E13: =SUMIF('Claim Entry'!$F$5:$F$200,'Claim Totals'!$A13,'Claim Entry'!N$5:N$200) -> 0 | F13: =SUMIF('Claim Entry'!$F$5:$F$200,'Claim Totals'!$A13,'Claim Entry'!O$5:O$200) -> 0 | G13: =SUMIF('Claim Entry'!$F$5:$F$200,'Claim Totals'!$A13,'Claim Entry'!P$5:P$200) -> 0 | H13: =SUMIF('Claim Entry'!$F$5:$F$200,'Claim Totals'!$A13,'Claim Entry'!Q$5:Q$200) -> 0 | I13: =SUMIF('Claim Entry'!$F$5:$F$200,'Claim Totals'!$A13,'Claim Entry'!R$5:R$200) -> 0 | J13: =SUMIF('Claim Entry'!$F$5:$F$200,'Claim Totals'!$A13,'Claim Entry'!S$5:S$200) -> 0 | K13: =SUMIF('Claim Entry'!$F$5:$F$200,'Claim Totals'!$A13,'Claim Entry'!T$5:T$200) -> 0 | ... AP13: =SUMIF('Claim Entry'!$F$5:$F$200,'Claim Totals'!$A13,'Claim Entry'!AY$5:AY$200) -> 0
A14: 6 | B14: =_xlfn.XLOOKUP(A14,'Claim Entry'!$F$5:$F$200,'Claim Entry'!$G$5:$G$200,"",0) | C14: =SUM(D14:CY14) -> 0 | D14: =SUMIF('Claim Entry'!$F$5:$F$200,'Claim Totals'!$A14,'Claim Entry'!M$5:M$200) -> 0 | E14: =SUMIF('Claim Entry'!$F$5:$F$200,'Claim Totals'!$A14,'Claim Entry'!N$5:N$200) -> 0 | F14: =SUMIF('Claim Entry'!$F$5:$F$200,'Claim Totals'!$A14,'Claim Entry'!O$5:O$200) -> 0 | G14: =SUMIF('Claim Entry'!$F$5:$F$200,'Claim Totals'!$A14,'Claim Entry'!P$5:P$200) -> 0 | H14: =SUMIF('Claim Entry'!$F$5:$F$200,'Claim Totals'!$A14,'Claim Entry'!Q$5:Q$200) -> 0 | I14: =SUMIF('Claim Entry'!$F$5:$F$200,'Claim Totals'!$A14,'Claim Entry'!R$5:R$200) -> 0 | J14: =SUMIF('Claim Entry'!$F$5:$F$200,'Claim Totals'!$A14,'Claim Entry'!S$5:S$200) -> 0 | K14: =SUMIF('Claim Entry'!$F$5:$F$200,'Claim Totals'!$A14,'Claim Entry'!T$5:T$200) -> 0 | ... AP14: =SUMIF('Claim Entry'!$F$5:$F$200,'Claim Totals'!$A14,'Claim Entry'!AY$5:AY$200) -> 0
A15: 7 | B15: =_xlfn.XLOOKUP(A15,'Claim Entry'!$F$5:$F$200,'Claim Entry'!$G$5:$G$200,"",0) | C15: =SUM(D15:CY15) -> 0 | D15: =SUMIF('Claim Entry'!$F$5:$F$200,'Claim Totals'!$A15,'Claim Entry'!M$5:M$200) -> 0 | E15: =SUMIF('Claim Entry'!$F$5:$F$200,'Claim Totals'!$A15,'Claim Entry'!N$5:N$200) -> 0 | F15: =SUMIF('Claim Entry'!$F$5:$F$200,'Claim Totals'!$A15,'Claim Entry'!O$5:O$200) -> 0 | G15: =SUMIF('Claim Entry'!$F$5:$F$200,'Claim Totals'!$A15,'Claim Entry'!P$5:P$200) -> 0 | H15: =SUMIF('Claim Entry'!$F$5:$F$200,'Claim Totals'!$A15,'Claim Entry'!Q$5:Q$200) -> 0 | I15: =SUMIF('Claim Entry'!$F$5:$F$200,'Claim Totals'!$A15,'Claim Entry'!R$5:R$200) -> 0 | J15: =SUMIF('Claim Entry'!$F$5:$F$200,'Claim Totals'!$A15,'Claim Entry'!S$5:S$200) -> 0 | K15: =SUMIF('Claim Entry'!$F$5:$F$200,'Claim Totals'!$A15,'Claim Entry'!T$5:T$200) -> 0 | ... AP15: =SUMIF('Claim Entry'!$F$5:$F$200,'Claim Totals'!$A15,'Claim Entry'!AY$5:AY$200) -> 0
A16: 8 | B16: =_xlfn.XLOOKUP(A16,'Claim Entry'!$F$5:$F$200,'Claim Entry'!$G$5:$G$200,"",0) | C16: =SUM(D16:CY16) -> 0 | D16: =SUMIF('Claim Entry'!$F$5:$F$200,'Claim Totals'!$A16,'Claim Entry'!M$5:M$200) -> 0 | E16: =SUMIF('Claim Entry'!$F$5:$F$200,'Claim Totals'!$A16,'Claim Entry'!N$5:N$200) -> 0 | F16: =SUMIF('Claim Entry'!$F$5:$F$200,'Claim Totals'!$A16,'Claim Entry'!O$5:O$200) -> 0 | G16: =SUMIF('Claim Entry'!$F$5:$F$200,'Claim Totals'!$A16,'Claim Entry'!P$5:P$200) -> 0 | H16: =SUMIF('Claim Entry'!$F$5:$F$200,'Claim Totals'!$A16,'Claim Entry'!Q$5:Q$200) -> 0 | I16: =SUMIF('Claim Entry'!$F$5:$F$200,'Claim Totals'!$A16,'Claim Entry'!R$5:R$200) -> 0 | J16: =SUMIF('Claim Entry'!$F$5:$F$200,'Claim Totals'!$A16,'Claim Entry'!S$5:S$200) -> 0 | K16: =SUMIF('Claim Entry'!$F$5:$F$200,'Claim Totals'!$A16,'Claim Entry'!T$5:T$200) -> 0 | ... AP16: =SUMIF('Claim Entry'!$F$5:$F$200,'Claim Totals'!$A16,'Claim Entry'!AY$5:AY$200) -> 0
A17: 9 | B17: =_xlfn.XLOOKUP(A17,'Claim Entry'!$F$5:$F$200,'Claim Entry'!$G$5:$G$200,"",0) | C17: =SUM(D17:CY17) -> 0 | D17: =SUMIF('Claim Entry'!$F$5:$F$200,'Claim Totals'!$A17,'Claim Entry'!M$5:M$200) -> 0 | E17: =SUMIF('Claim Entry'!$F$5:$F$200,'Claim Totals'!$A17,'Claim Entry'!N$5:N$200) -> 0 | F17: =SUMIF('Claim Entry'!$F$5:$F$200,'Claim Totals'!$A17,'Claim Entry'!O$5:O$200) -> 0 | G17: =SUMIF('Claim Entry'!$F$5:$F$200,'Claim Totals'!$A17,'Claim Entry'!P$5:P$200) -> 0 | H17: =SUMIF('Claim Entry'!$F$5:$F$200,'Claim Totals'!$A17,'Claim Entry'!Q$5:Q$200) -> 0 | I17: =SUMIF('Claim Entry'!$F$5:$F$200,'Claim Totals'!$A17,'Claim Entry'!R$5:R$200) -> 0 | J17: =SUMIF('Claim Entry'!$F$5:$F$200,'Claim Totals'!$A17,'Claim Entry'!S$5:S$200) -> 0 | K17: =SUMIF('Claim Entry'!$F$5:$F$200,'Claim Totals'!$A17,'Claim Entry'!T$5:T$200) -> 0 | ... AP17: =SUMIF('Claim Entry'!$F$5:$F$200,'Claim Totals'!$A17,'Claim Entry'!AY$5:AY$200) -> 0
A18: 10 | B18: =_xlfn.XLOOKUP(A18,'Claim Entry'!$F$5:$F$200,'Claim Entry'!$G$5:$G$200,"",0) | C18: =SUM(D18:CY18) -> 0 | D18: =SUMIF('Claim Entry'!$F$5:$F$200,'Claim Totals'!$A18,'Claim Entry'!M$5:M$200) -> 0 | E18: =SUMIF('Claim Entry'!$F$5:$F$200,'Claim Totals'!$A18,'Claim Entry'!N$5:N$200) -> 0 | F18: =SUMIF('Claim Entry'!$F$5:$F$200,'Claim Totals'!$A18,'Claim Entry'!O$5:O$200) -> 0 | G18: =SUMIF('Claim Entry'!$F$5:$F$200,'Claim Totals'!$A18,'Claim Entry'!P$5:P$200) -> 0 | H18: =SUMIF('Claim Entry'!$F$5:$F$200,'Claim Totals'!$A18,'Claim Entry'!Q$5:Q$200) -> 0 | I18: =SUMIF('Claim Entry'!$F$5:$F$200,'Claim Totals'!$A18,'Claim Entry'!R$5:R$200) -> 0 | J18: =SUMIF('Claim Entry'!$F$5:$F$200,'Claim Totals'!$A18,'Claim Entry'!S$5:S$200) -> 0 | K18: =SUMIF('Claim Entry'!$F$5:$F$200,'Claim Totals'!$A18,'Claim Entry'!T$5:T$200) -> 0 | ... AP18: =SUMIF('Claim Entry'!$F$5:$F$200,'Claim Totals'!$A18,'Claim Entry'!AY$5:AY$200) -> 0
A19: 11 | B19: =_xlfn.XLOOKUP(A19,'Claim Entry'!$F$5:$F$200,'Claim Entry'!$G$5:$G$200,"",0) | C19: =SUM(D19:CY19) -> 0 | D19: =SUMIF('Claim Entry'!$F$5:$F$200,'Claim Totals'!$A19,'Claim Entry'!M$5:M$200) -> 0 | E19: =SUMIF('Claim Entry'!$F$5:$F$200,'Claim Totals'!$A19,'Claim Entry'!N$5:N$200) -> 0 | F19: =SUMIF('Claim Entry'!$F$5:$F$200,'Claim Totals'!$A19,'Claim Entry'!O$5:O$200) -> 0 | G19: =SUMIF('Claim Entry'!$F$5:$F$200,'Claim Totals'!$A19,'Claim Entry'!P$5:P$200) -> 0 | H19: =SUMIF('Claim Entry'!$F$5:$F$200,'Claim Totals'!$A19,'Claim Entry'!Q$5:Q$200) -> 0 | I19: =SUMIF('Claim Entry'!$F$5:$F$200,'Claim Totals'!$A19,'Claim Entry'!R$5:R$200) -> 0 | J19: =SUMIF('Claim Entry'!$F$5:$F$200,'Claim Totals'!$A19,'Claim Entry'!S$5:S$200) -> 0 | K19: =SUMIF('Claim Entry'!$F$5:$F$200,'Claim Totals'!$A19,'Claim Entry'!T$5:T$200) -> 0 | ... AP19: =SUMIF('Claim Entry'!$F$5:$F$200,'Claim Totals'!$A19,'Claim Entry'!AY$5:AY$200) -> 0
A20: 12 | B20: =_xlfn.XLOOKUP(A20,'Claim Entry'!$F$5:$F$200,'Claim Entry'!$G$5:$G$200,"",0) | C20: =SUM(D20:CY20) -> 0 | D20: =SUMIF('Claim Entry'!$F$5:$F$200,'Claim Totals'!$A20,'Claim Entry'!M$5:M$200) -> 0 | E20: =SUMIF('Claim Entry'!$F$5:$F$200,'Claim Totals'!$A20,'Claim Entry'!N$5:N$200) -> 0 | F20: =SUMIF('Claim Entry'!$F$5:$F$200,'Claim Totals'!$A20,'Claim Entry'!O$5:O$200) -> 0 | G20: =SUMIF('Claim Entry'!$F$5:$F$200,'Claim Totals'!$A20,'Claim Entry'!P$5:P$200) -> 0 | H20: =SUMIF('Claim Entry'!$F$5:$F$200,'Claim Totals'!$A20,'Claim Entry'!Q$5:Q$200) -> 0 | I20: =SUMIF('Claim Entry'!$F$5:$F$200,'Claim Totals'!$A20,'Claim Entry'!R$5:R$200) -> 0 | J20: =SUMIF('Claim Entry'!$F$5:$F$200,'Claim Totals'!$A20,'Claim Entry'!S$5:S$200) -> 0 | K20: =SUMIF('Claim Entry'!$F$5:$F$200,'Claim Totals'!$A20,'Claim Entry'!T$5:T$200) -> 0 | ... AP20: =SUMIF('Claim Entry'!$F$5:$F$200,'Claim Totals'!$A20,'Claim Entry'!AY$5:AY$200) -> 0
... A28: 20 | B28: =_xlfn.XLOOKUP(A28,'Claim Entry'!$F$5:$F$200,'Claim Entry'!$G$5:$G$200,"",0) | C28: =SUM(D28:CY28) -> 0 | D28: =SUMIF('Claim Entry'!$F$5:$F$200,'Claim Totals'!$A28,'Claim Entry'!M$5:M$200) -> 0 | E28: =SUMIF('Claim Entry'!$F$5:$F$200,'Claim Totals'!$A28,'Claim Entry'!N$5:N$200) -> 0 | F28: =SUMIF('Claim Entry'!$F$5:$F$200,'Claim Totals'!$A28,'Claim Entry'!O$5:O$200) -> 0 | G28: =SUMIF('Claim Entry'!$F$5:$F$200,'Claim Totals'!$A28,'Claim Entry'!P$5:P$200) -> 0 | H28: =SUMIF('Claim Entry'!$F$5:$F$200,'Claim Totals'!$A28,'Claim Entry'!Q$5:Q$200) -> 0 | I28: =SUMIF('Claim Entry'!$F$5:$F$200,'Claim Totals'!$A28,'Claim Entry'!R$5:R$200) -> 0 | J28: =SUMIF('Claim Entry'!$F$5:$F$200,'Claim Totals'!$A28,'Claim Entry'!S$5:S$200) -> 0 | K28: =SUMIF('Claim Entry'!$F$5:$F$200,'Claim Totals'!$A28,'Claim Entry'!T$5:T$200) -> 0 | ... AP28: =SUMIF('Claim Entry'!$F$5:$F$200,'Claim Totals'!$A28,'Claim Entry'!AY$5:AY$200) -> 0

Sheet sponsor dropdowns
A1: Select Sponsor | D1: Reasons | F1: Select Sponsor | G1: Site Num | H1: Sites | I1: Subgrant No.
A2: Adrian SD 61 | D2: Advertisement and promotion | F2: Wild Things Unified School District | G2: 90001 | H2: Max's Island Elementary School | I2: SG-90001-ME
A3: Alsea SD 7J | D3: Create more appealing, nutritious offerings for students | F3: Wild Things Unified School District | G3: 90002 | H3: Rumpus Middle School | I3: SG-90002-RM
A4: Amity SD 4J | D4: Crowd Control | F4: Wild Things Unified School District | G4: 90003 | H4: Crown & Scepter High School | I4: SG-90003-CS
A5: Ashland SD 5 | D5: Efficient service lines
A6: Astoria SD | D6: Enhance breakfast after the bell serving area
A7: Athena-Weston SD 29RJ | D7: Improve efficiency of kitchen
A8: Baker SD 5J | D8: Maintain safe serving temperatures
A9: Bandon SD 54 | D9: Organize food and supplies storage
A10: Bend-LaPine SD | D10: Prepare or serve food
A11: Bethel SD 52 | D11: Quicker wait time for students to receive a reimbursable meal
A12: Brookings-Harbor SD 17C | D12: Racks for organization
A13: Butte Falls SD 91 | D13: Sanitation or food safety
A14: Camas Valley SD 21J | D14: Serve grab and go and second chance breakfast models
A15: Canby SD 86 | D15: Transporting food to service area
A16: Cascade SD 5 | D16: Upgrade/Replace/Repair Equipment
A17: Centennial SD 28J | D17: Will increase participation
A18: Central Curry SD 1
A19: Central Linn SD 552
A20: Central Point SD
A21: Central SD 13J
A22: Clatskanie SD 6J
A23: Condon SD 25J
A24: Coos Bay SD 9
A25: Coquille SD
A26: Corvallis SD 509J
A27: Creswell SD 40
A28: Crook Co SD
A29: Crow-Applegate-Lorane
... A140: Yoncalla SD 32

Sheet Subgrants
A1: Grant No. | B1: SponsorNo. | C1: School District/Sponsor/Fiscal Agent | D1: School Site/Award Recipient | E1: SiteId | F1: Round
A2: 90847 | B2: 2301001 | C2: Adrian SD 61 | D2: Adrian Elem | E2: 10792 | F2: 2
A3: 87790 | B3: 201001 | C3: Alsea SD 7J | D3: Alsea Schools | E3: 15014 | F3: 1
A4: 91087 | B4: 3601002 | C4: Amity SD 4J | D4: Amity Elementary | E4: 10161 | F4: 2
A5: 91088 | B5: 1501002 | C5: Ashland SD 5 | D5: Bellview Elem | E5: 10471 | F5: 2
A6: 91089 | B6: 1501002 | C6: Ashland SD 5 | D6: Walker Elem | E6: 10475 | F6: 2
A7: 87808 | B7: 401002 | C7: Astoria SD | D7: Astor Elementary | E7: 10010 | F7: 1
A8: 87809 | B8: 3001001 | C8: Athena-Weston SD 29RJ | D8: Athena Elementary | E8: 14206 | F8: 1
A9: 87810 | B9: 3001001 | C9: Athena-Weston SD 29RJ | D9: Weston Middle | E9: 11116 | F9: 1
A10: 87811 | B10: 102001 | C10: Baker SD 5J | D10: Baker Early Learning Center | E10: 16662 | F10: 1
A11: 87812 | B11: 102001 | C11: Baker SD 5J | D11: Brooklyn Primary School | E11: 10017 | F11: 1
A12: 87813 | B12: 102001 | C12: Baker SD 5J | D12: Eagle Cap | E12: 14855 | F12: 1
A13: 87814 | B13: 102001 | C13: Baker SD 5J | D13: Eastern Oregon Headstart Baker Center | E13: 16879 | F13: 1
A14: 87815 | B14: 102001 | C14: Baker SD 5J | D14: South Baker Elementary | E14: 10022 | F14: 1
A15: 91090 | B15: 602001 | C15: Bandon SD 54 | D15: Harbor Lights Middle | E15: 10354 | F15: 2
A16: 91091 | B16: 602001 | C16: Bandon SD 54 | D16: Ocean Crest Elem | E16: 10355 | F16: 2
A17: 91092 | B17: 602001 | C17: Bandon SD 54 | D17: Bandon Sr High | E17: 10353 | F17: 2
A18: 91130 | B18: 902001 | C18: Bend-Lapine SD | D18: Education Center | E18: 12278 | F18: 2
A19: 87867 | B19: 902001 | C19: Bend-Lapine SD | D19: Bear Creek Elementary | E19: 10036 | F19: 1
A20: 87875 | B20: 902001 | C20: Bend-Lapine SD | D20: Elk Meadow Elementary | E20: 10038 | F20: 1
A21: 87876 | B21: 902001 | C21: Bend-Lapine SD | D21: Ensworth Elementary | E21: 13454 | F21: 1
A22: 87877 | B22: 902001 | C22: Bend-Lapine SD | D22: LaPine Elementary | E22: 10042 | F22: 1
A23: 87878 | B23: 902001 | C23: Bend-Lapine SD | D23: LaPine High School | E23: 10028 | F23: 1
A24: 87879 | B24: 902001 | C24: Bend-Lapine SD | D24: LaPine Middle School | E24: 10033 | F24: 1
A25: 87880 | B25: 902001 | C25: Bend-Lapine SD | D25: Rosland Elementary | E25: 14788 | F25: 1
A26: 87881 | B26: 2002002 | C26: Bethel SD 52 | D26: Cascade Middle | E26: 10581 | F26: 1
A27: 87882 | B27: 2002002 | C27: Bethel SD 52 | D27: Danebo Elem | E27: 10584 | F27: 1
A28: 87883 | B28: 2002002 | C28: Bethel SD 52 | D28: Fairfield Elem | E28: 10585 | F28: 1
A29: 87884 | B29: 2002002 | C29: Bethel SD 52 | D29: Malabon Elem | E29: 10587 | F29: 1
A30: 91131 | B30: 2002002 | C30: Bethel SD 52 | D30: Irving Elem | E30: 10586 | F30: 2
A31: 91132 | B31: 2002002 | C31: Bethel SD 52 | D31: Willamette High | E31: 10580 | F31: 2
A32: 91133 | B32: 2002002 | C32: Bethel SD 52 | D32: Prairie Mountain School | E32: 12984 | F32: 2
A33: 87885 | B33: 802001 | C33: Brookings-Harbor SD 17C | D33: Azalea Middle | E33: 10389 | F33: 1
A34: 87886 | B34: 802001 | C34: Brookings-Harbor SD 17C | D34: Brooking-Harbor High | E34: 10388 | F34: 1
A35: 87887 | B35: 802001 | C35: Brookings-Harbor SD 17C | D35: Kalmiopsis Elem | E35: 10390 | F35: 1
A36: 87888 | B36: 1502001 | C36: Butte Falls SD 91 | D36: Butte Falls Elementary Charter School | E36: 14200 | F36: 1
A37: 87889 | B37: 1502001 | C37: Butte Falls SD 91 | D37: Butte Falls High School Charter School | E37: 10476 | F37: 1
A38: 91093 | B38: 1003001 | C38: Camas Valley SD 21J | D38: Camas Valley School | E38: 10406 | F38: 2
A39: 91094 | B39: 303003 | C39: Canby SD 86 | D39: Carus School | E39: 10201 | F39: 2
A40: 91095 | B40: 303003 | C40: Canby SD 86 | D40: Trost Elem | E40: 10204 | F40: 2
...
