Workbook
Name reasons: 'sponsor dropdowns'!$G$2:$G$17
Name Sponsor_Name: 'Claim Entry'!$I$2

Sheet Instructions
B2: Instructions for Completing BAtB Equipment Grant Claim Form
C3: This claim form has replaced the previous Word document claim form. The purpose of the form is to provided for a more efficient and accurate claim reporting, better tracking tool, and less cumbersome submissions. Please download this form directly to your desktop. This form is not compatiable with different applications such as google sheets.
B4: CLAIM ENTRY EXAMPLE AND CLAIM TOTALS EXAMPLE TABS
C5: Please review these tabs as a guide for entering information into the "claim entry" tab. Do not enter your invoice and claim information on these tabs.
B6: CLAIM ENTRY TAB
B7: 1. | C7: Columns I-K, Row 2 - Sponsor Name: Click on the “drop down” button to select your sponsor’s name. Once this is selected, a list of your BAtB sites will be displayed in green. If you see an additional site or a site that is missing, please contact ode.schoolnutrition@ode.oregon.gov indicating the correction needed.
B8: 2. | C8: Column G - Claim Date: This is the date that you will be submitting this document for ODE CNP approval. It may be possible that you will use the same date on multiple rows for the different equipment on the invoice(s). The spreadsheet will group the equipment costs per site by the identifying claim date.
B9: 3. | C9: Columns H-K - Equipment/Invoice Information: Using your invoice as a reference, enter the vendor, invoice number, invoice date, and each equipment item. If you have multiple items, you can copy and paste the claim date, vendor, invoice number, and invoice date to several rows. If you don’t have some of this information, you may leave some cells blank.
B10: 4. | C10: Column L - Reason: Please use the drop down to indicate how this product will be used for Breakfast After the Bell. If one of the reasons from the drop-down doesn’t apply, you can enter your own reason in the blank cell.
B11: 5. | C11: Column M and after - Enter the equipment amount for each site. If you purchased multiple pieces of the same equipment item, you can enter this on same row for the equipment and then the cost of each piece under each site. If you purchased one piece of equipment that will be used for multiple sites, you can enter the amount you want applied to each site. The total amount on the form cannot be more than the piece of equipment shown on the invoice.
B12: 6. | C12: After the first claim has been submitted and processed, you may want to purchase additional equipment and submit another claim. You can enter your information in the next row. Again, please don’t forget to enter the same date for each claim submitted for approval
C13: CNP Use Only
C14: The “CNP Use Only” is a hidden section, You can view this by clicking on the plus (+) button from the left top bar. Please do not make any edits to this section. This is for viewing only to check the claims that have been approved, processed through EGMS and to check if any corrections are needed.
B15: CLAIM TOTALS TAB
B16: 1. | C16: This sheet autopopulates from the Claim Entry Form. The cells are locked and will provide information for each site's subgrant of the following:
C17: a. The eligible site and identifying EGMS subgrant number.
C18: b. Amount allocated for each site during performance period.
C19: c. Totals by site and the remaining amound available to claim
C20: b. The total of amount of the claim for all sites and date submitted for approval.
C21: c. Each claim by site.
B23: SUBMISSION INSTRUCTIONS
B24: 1. | C24: Purchase, repair, renovate, or upgrade the necessary equipment by June 30, 2027
B25: 2. | C25: Email the completed BAtB Equipment Grant Claim form and invoice for each site to ode.schoolnutrition@ode.oregon.gov. Include in the subject line of the email, "BAtB Equipment Grant Reimbursement - (Sponsor Name)
B26: 3. | C26: After approval, enter claims through the Electronic Grant Management System (EGMS)
B27: 4. | C27: Complete the claims process no later than July 10, 2027.

Sheet Claim Entry Example
H2: Sponsor Name | I2: Wild Things Unified School District
A3: CNP USE ONLY | M3: {=IF( OR('Claim Entry Example'!I2="",'Claim Entry Example'!I2="Select Sponsor"), "", TRANSPOSE(_xlfn.UNIQUE(_xlfn._xlws.FILTER('sponsor dropdowns'!J:K,'sponsor dropdowns'!I:I='Claim Entry Example'!I2))) )} -> 90001 | N3: 90002 | O3: 90003
A4: Comments | B4: TOTAL | C4: Total Claim Amount | D4: ODE Approved | E4: Dated Processed in EGMS | F4: Claim No. | G4: Claim Date | H4: Vendor | I4: Invoice Number | J4: Invoice Date | K4: Equipment Item | L4: Reason (Select primary reason or enter your own) | M4: Max's Island Elementary School | N4: Rumpus Middle School | O4: Crown & Scepter High School
B5: {=IFERROR( _xlfn.LET( _xlpm.spill,_xlfn.ANCHORARRAY( $M$3), _xlpm.rowData, _xlfn.TAKE(_xlfn.DROP('Claim Entry Example'!5:5,,12), , COLUMNS(_xlpm.spill)), SUM(_xlfn._xlws.FILTER(_xlpm.rowData, ISNUMBER(_xlpm.rowData))) ), "")} -> 94.68 | C5: =IF(F5<>F6,SUMIFS($B$5:$B$54,$F$5:$F$54,F5),"") | D5: 45942 | E5: 45943 | F5: =IF(G5="","",_xlfn.LET(_xlpm.d,$G$5:G5,COUNT(_xlfn.UNIQUE(_xlpm.d)))) -> 1 | G5: 45939 | H5: Bargreen | I5: 1001 | J5: 45909 | K5: Can opener | L5: Prepare or serve food | M5: 31.56 | N5: 31.56 | O5: 31.56
B6: {=IFERROR( _xlfn.LET( _xlpm.spill,_xlfn.ANCHORARRAY( $M$3), _xlpm.rowData, _xlfn.TAKE(_xlfn.DROP('Claim Entry Example'!6:6,,12), , COLUMNS(_xlpm.spill)), SUM(_xlfn._xlws.FILTER(_xlpm.rowData, ISNUMBER(_xlpm.rowData))) ), "")} -> 17.73 | C6: =IF(F6<>F7,SUMIFS($B$5:$B$54,$F$5:$F$54,F6),"") | D6: 45942 | E6: 45943 | F6: =IF(G6="","",_xlfn.LET(_xlpm.d,$G$5:G6,COUNT(_xlfn.UNIQUE(_xlpm.d)))) -> 1 | G6: 45939 | H6: Bargreen | I6: 1001 | J6: 45909 | K6: Paring knife | L6: Prepare or serve food | M6: 5.91 | N6: 5.91 | O6: 5.91
B7: {=IFERROR( _xlfn.LET( _xlpm.spill,_xlfn.ANCHORARRAY( $M$3), _xlpm.rowData, _xlfn.TAKE(_xlfn.DROP('Claim Entry Example'!7:7,,12), , COLUMNS(_xlpm.spill)), SUM(_xlfn._xlws.FILTER(_xlpm.rowData, ISNUMBER(_xlpm.rowData))) ), "")} -> 879.3 | C7: =IF(F7<>F8,SUMIFS($B$5:$B$54,$F$5:$F$54,F7),"") | D7: 45942 | E7: 45943 | F7: =IF(G7="","",_xlfn.LET(_xlpm.d,$G$5:G7,COUNT(_xlfn.UNIQUE(_xlpm.d)))) -> 1 | G7: 45939 | H7: Bargreen | I7: 1001 | J7: 45909 | K7: Market Trays | L7: Prepare or serve food | M7: 293.1 | N7: 293.1 | O7: 293.1
B8: {=IFERROR( _xlfn.LET( _xlpm.spill,_xlfn.ANCHORARRAY( $M$3), _xlpm.rowData, _xlfn.TAKE(_xlfn.DROP('Claim Entry Example'!8:8,,12), , COLUMNS(_xlpm.spill)), SUM(_xlfn._xlws.FILTER(_xlpm.rowData, ISNUMBER(_xlpm.rowData))) ), "")} -> 1977.79 | C8: =IF(F8<>F9,SUMIFS($B$5:$B$54,$F$5:$F$54,F8),"") -> 2969.5 | D8: 45942 | E8: 45943 | F8: =IF(G8="","",_xlfn.LET(_xlpm.d,$G$5:G8,COUNT(_xlfn.UNIQUE(_xlpm.d)))) -> 1 | G8: 45939 | H8: Amazon | I8: 888 | J8: 09/20.25 | K8: Small Wares | L8: Prepare or serve food | M8: 643.33 | N8: 650.43 | O8: 684.03
B9: {=IFERROR( _xlfn.LET( _xlpm.spill,_xlfn.ANCHORARRAY( $M$3), _xlpm.rowData, _xlfn.TAKE(_xlfn.DROP('Claim Entry Example'!9:9,,12), , COLUMNS(_xlpm.spill)), SUM(_xlfn._xlws.FILTER(_xlpm.rowData, ISNUMBER(_xlpm.rowData))) ), "")} -> 299.99 | C9: =IF(F9<>F10,SUMIFS($B$5:$B$54,$F$5:$F$54,F9),"") | D9: 45964 | E9: 45965 | F9: =IF(G9="","",_xlfn.LET(_xlpm.d,$G$5:G9,COUNT(_xlfn.UNIQUE(_xlpm.d)))) -> 2 | G9: 45961 | H9: Webstore | I9: 999 | J9: 45931 | K9: Immersion Hand Mixer | L9: Prepare or serve food | M9: 78.33 | N9: 78.33 | O9: 143.33
B10: {=IFERROR( _xlfn.LET( _xlpm.spill,_xlfn.ANCHORARRAY( $M$3), _xlpm.rowData, _xlfn.TAKE(_xlfn.DROP('Claim Entry Example'!10:10,,12), , COLUMNS(_xlpm.spill)), SUM(_xlfn._xlws.FILTER(_xlpm.rowData, ISNUMBER(_xlpm.rowData))) ), "")} -> 17.73 | C10: =IF(F10<>F11,SUMIFS($B$5:$B$54,$F$5:$F$54,F10),"") -> 317.72 | D10: 45964 | E10: 45965 | F10: =IF(G10="","",_xlfn.LET(_xlpm.d,$G$5:G10,COUNT(_xlfn.UNIQUE(_xlpm.d)))) -> 2 | G10: 45961 | H10: Webstore | I10: 999 | J10: 45931 | K10: Paring knife | L10: Prepare or serve food | M10: 5.91 | N10: 5.91 | O10: 5.91
B11: {=IFERROR( _xlfn.LET( _xlpm.spill,_xlfn.ANCHORARRAY( $M$3), _xlpm.rowData, _xlfn.TAKE(_xlfn.DROP('Claim Entry Example'!11:11,,12), , COLUMNS(_xlpm.spill)), SUM(_xlfn._xlws.FILTER(_xlpm.rowData, ISNUMBER(_xlpm.rowData))) ), "")} -> 879.3 | C11: =IF(F11<>F12,SUMIFS($B$5:$B$54,$F$5:$F$54,F11),"") | D11: 45978 | E11: 45978 | F11: =IF(G11="","",_xlfn.LET(_xlpm.d,$G$5:G11,COUNT(_xlfn.UNIQUE(_xlpm.d)))) -> 3 | G11: 45976 | H11: Webstore | I11: 999 | J11: 45962 | K11: Market Trays | L11: Prepare or serve food | M11: 293.1 | N11: 293.1 | O11: 293.1
B12: {=IFERROR( _xlfn.LET( _xlpm.spill,_xlfn.ANCHORARRAY( $M$3), _xlpm.rowData, _xlfn.TAKE(_xlfn.DROP('Claim Entry Example'!12:12,,12), , COLUMNS(_xlpm.spill)), SUM(_xlfn._xlws.FILTER(_xlpm.rowData, ISNUMBER(_xlpm.rowData))) ), "")} -> 100 | C12: =IF(F12<>F13,SUMIFS($B$5:$B$54,$F$5:$F$54,F12),"") | D12: 45978 | E12: 45978 | F12: =IF(G12="","",_xlfn.LET(_xlpm.d,$G$5:G12,COUNT(_xlfn.UNIQUE(_xlpm.d)))) -> 3 | G12: 45976 | H12: Webstore | I12: 999 | J12: 45962 | K12: Salad Bar Legs | L12: Transporting food to service area | M12: 0 | N12: 100 | O12: 0
A13: Over claim amount - sent back for corrections | B13: {=IFERROR( _xlfn.LET( _xlpm.spill,_xlfn.ANCHORARRAY( $M$3), _xlpm.rowData, _xlfn.TAKE(_xlfn.DROP('Claim Entry Example'!13:13,,12), , COLUMNS(_xlpm.spill)), SUM(_xlfn._xlws.FILTER(_xlpm.rowData, ISNUMBER(_xlpm.rowData))) ), "")} -> 1270.59 | C13: =IF(F13<>F14,SUMIFS($B$5:$B$54,$F$5:$F$54,F13),"") -> 2249.89 | D13: 45978 | E13: 45978 | F13: =IF(G13="","",_xlfn.LET(_xlpm.d,$G$5:G13,COUNT(_xlfn.UNIQUE(_xlpm.d)))) -> 3 | G13: 45976 | H13: Webstaurant | I13: 1000 | J13: 45964 | K13: Breakfast Cart | L13: Transporting food to service area | M13: 1270.59 | N13: 0 | O13: 0
B14: {=IFERROR( _xlfn.LET( _xlpm.spill,_xlfn.ANCHORARRAY( $M$3), _xlpm.rowData, _xlfn.TAKE(_xlfn.DROP('Claim Entry Example'!14:14,,12), , COLUMNS(_xlpm.spill)), SUM(_xlfn._xlws.FILTER(_xlpm.rowData, ISNUMBER(_xlpm.rowData))) ), "")} | C14: =IF(F14<>F15,SUMIFS($B$5:$B$54,$F$5:$F$54,F14),"") | F14: =IF(G14="","",_xlfn.LET(_xlpm.d,$G$5:G14,COUNT(_xlfn.UNIQUE(_xlpm.d))))
B15: {=IFERROR( _xlfn.LET( _xlpm.spill,_xlfn.ANCHORARRAY( $M$3), _xlpm.rowData, _xlfn.TAKE(_xlfn.DROP('Claim Entry Example'!15:15,,12), , COLUMNS(_xlpm.spill)), SUM(_xlfn._xlws.FILTER(_xlpm.rowData, ISNUMBER(_xlpm.rowData))) ), "")} | C15: =IF(F15<>F16,SUMIFS($B$5:$B$54,$F$5:$F$54,F15),"") | F15: =IF(G15="","",_xlfn.LET(_xlpm.d,$G$5:G15,COUNT(_xlfn.UNIQUE(_xlpm.d))))
B16: {=IFERROR( _xlfn.LET( _xlpm.spill,_xlfn.ANCHORARRAY( $M$3), _xlpm.rowData, _xlfn.TAKE(_xlfn.DROP('Claim Entry Example'!16:16,,12), , COLUMNS(_xlpm.spill)), SUM(_xlfn._xlws.FILTER(_xlpm.rowData, ISNUMBER(_xlpm.rowData))) ), "")} | C16: =IF(F16<>F17,SUMIFS($B$5:$B$54,$F$5:$F$54,F16),"") | F16: =IF(G16="","",_xlfn.LET(_xlpm.d,$G$5:G16,COUNT(_xlfn.UNIQUE(_xlpm.d))))
B17: {=IFERROR( _xlfn.LET( _xlpm.spill,_xlfn.ANCHORARRAY( $M$3), _xlpm.rowData, _xlfn.TAKE(_xlfn.DROP('Claim Entry Example'!17:17,,12), , COLUMNS(_xlpm.spill)), SUM(_xlfn._xlws.FILTER(_xlpm.rowData, ISNUMBER(_xlpm.rowData))) ), "")} | C17: =IF(F17<>F18,SUMIFS($B$5:$B$54,$F$5:$F$54,F17),"") | F17: =IF(G17="","",_xlfn.LET(_xlpm.d,$G$5:G17,COUNT(_xlfn.UNIQUE(_xlpm.d))))
B18: {=IFERROR( _xlfn.LET( _xlpm.spill,_xlfn.ANCHORARRAY( $M$3), _xlpm.rowData, _xlfn.TAKE(_xlfn.DROP('Claim Entry Example'!18:18,,12), , COLUMNS(_xlpm.spill)), SUM(_xlfn._xlws.FILTER(_xlpm.rowData, ISNUMBER(_xlpm.rowData))) ), "")} | C18: =IF(F18<>F19,SUMIFS($B$5:$B$54,$F$5:$F$54,F18),"") | F18: =IF(G18="","",_xlfn.LET(_xlpm.d,$G$5:G18,COUNT(_xlfn.UNIQUE(_xlpm.d))))
B19: {=IFERROR( _xlfn.LET( _xlpm.spill,_xlfn.ANCHORARRAY( $M$3), _xlpm.rowData, _xlfn.TAKE(_xlfn.DROP('Claim Entry Example'!19:19,,12), , COLUMNS(_xlpm.spill)), SUM(_xlfn._xlws.FILTER(_xlpm.rowData, ISNUMBER(_xlpm.rowData))) ), "")} | C19: =IF(F19<>F20,SUMIFS($B$5:$B$54,$F$5:$F$54,F19),"") | F19: =IF(G19="","",_xlfn.LET(_xlpm.d,$G$5:G19,COUNT(_xlfn.UNIQUE(_xlpm.d))))
B20: {=IFERROR( _xlfn.LET( _xlpm.spill,_xlfn.ANCHORARRAY( $M$3), _xlpm.rowData, _xlfn.TAKE(_xlfn.DROP('Claim Entry Example'!20:20,,12), , COLUMNS(_xlpm.spill)), SUM(_xlfn._xlws.FILTER(_xlpm.rowData, ISNUMBER(_xlpm.rowData))) ), "")} | C20: =IF(F20<>F21,SUMIFS($B$5:$B$54,$F$5:$F$54,F20),"") | F20: =IF(G20="","",_xlfn.LET(_xlpm.d,$G$5:G20,COUNT(_xlfn.UNIQUE(_xlpm.d))))
B21: {=IFERROR( _xlfn.LET( _xlpm.spill,_xlfn.ANCHORARRAY( $M$3), _xlpm.rowData, _xlfn.TAKE(_xlfn.DROP('Claim Entry Example'!21:21,,12), , COLUMNS(_xlpm.spill)), SUM(_xlfn._xlws.FILTER(_xlpm.rowData, ISNUMBER(_xlpm.rowData))) ), "")} | C21: =IF(F21<>F22,SUMIFS($B$5:$B$54,$F$5:$F$54,F21),"") | F21: =IF(G21="","",_xlfn.LET(_xlpm.d,$G$5:G21,COUNT(_xlfn.UNIQUE(_xlpm.d))))
B22: {=IFERROR( _xlfn.LET( _xlpm.spill,_xlfn.ANCHORARRAY( $M$3), _xlpm.rowData, _xlfn.TAKE(_xlfn.DROP('Claim Entry Example'!22:22,,12), , COLUMNS(_xlpm.spill)), SUM(_xlfn._xlws.FILTER(_xlpm.rowData, ISNUMBER(_xlpm.rowData))) ), "")} | C22: =IF(F22<>F23,SUMIFS($B$5:$B$54,$F$5:$F$54,F22),"") | F22: =IF(K21="","",_xlfn.LET(_xlpm.d,$G$5:G22,COUNT(_xlfn.UNIQUE(_xlpm.d))))
B23: {=IFERROR( _xlfn.LET( _xlpm.spill,_xlfn.ANCHORARRAY( $M$3), _xlpm.rowData, _xlfn.TAKE(_xlfn.DROP('Claim Entry Example'!23:23,,12), , COLUMNS(_xlpm.spill)), SUM(_xlfn._xlws.FILTER(_xlpm.rowData, ISNUMBER(_xlpm.rowData))) ), "")} | C23: =IF(F23<>F24,SUMIFS($B$5:$B$54,$F$5:$F$54,F23),"") | F23: =IF(G23="","",_xlfn.LET(_xlpm.d,$G$5:G23,COUNT(_xlfn.UNIQUE(_xlpm.d))))
B24: {=IFERROR( _xlfn.LET( _xlpm.spill,_xlfn.ANCHORARRAY( $M$3), _xlpm.rowData, _xlfn.TAKE(_xlfn.DROP('Claim Entry Example'!24:24,,12), , COLUMNS(_xlpm.spill)), SUM(_xlfn._xlws.FILTER(_xlpm.rowData, ISNUMBER(_xlpm.rowData))) ), "")} | C24: =IF(F24<>F25,SUMIFS($B$5:$B$54,$F$5:$F$54,F24),"") | F24: =IF(G24="","",_xlfn.LET(_xlpm.d,$G$5:G24,COUNT(_xlfn.UNIQUE(_xlpm.d))))
B25: {=IFERROR( _xlfn.LET( _xlpm.spill,_xlfn.ANCHORARRAY( $M$3), _xlpm.rowData, _xlfn.TAKE(_xlfn.DROP('Claim Entry Example'!25:25,,12), , COLUMNS(_xlpm.spill)), SUM(_xlfn._xlws.FILTER(_xlpm.rowData, ISNUMBER(_xlpm.rowData))) ), "")} | C25: =IF(F25<>F26,SUMIFS($B$5:$B$54,$F$5:$F$54,F25),"") | F25: =IF(G25="","",_xlfn.LET(_xlpm.d,$G$5:G25,COUNT(_xlfn.UNIQUE(_xlpm.d))))
B26: {=IFERROR( _xlfn.LET( _xlpm.spill,_xlfn.ANCHORARRAY( $M$3), _xlpm.rowData, _xlfn.TAKE(_xlfn.DROP('Claim Entry Example'!26:26,,12), , COLUMNS(_xlpm.spill)), SUM(_xlfn._xlws.FILTER(_xlpm.rowData, ISNUMBER(_xlpm.rowData))) ), "")} | C26: =IF(F26<>F27,SUMIFS($B$5:$B$54,$F$5:$F$54,F26),"") | F26: =IF(G26="","",_xlfn.LET(_xlpm.d,$G$5:G26,COUNT(_xlfn.UNIQUE(_xlpm.d))))
B27: {=IFERROR( _xlfn.LET( _xlpm.spill,_xlfn.ANCHORARRAY( $M$3), _xlpm.rowData, _xlfn.TAKE(_xlfn.DROP('Claim Entry Example'!27:27,,12), , COLUMNS(_xlpm.spill)), SUM(_xlfn._xlws.FILTER(_xlpm.rowData, ISNUMBER(_xlpm.rowData))) ), "")} | C27: =IF(F27<>F28,SUMIFS($B$5:$B$54,$F$5:$F$54,F27),"") | F27: =IF(G27="","",_xlfn.LET(_xlpm.d,$G$5:G27,COUNT(_xlfn.UNIQUE(_xlpm.d))))
B28: {=IFERROR( _xlfn.LET( _xlpm.spill,_xlfn.ANCHORARRAY( $M$3), _xlpm.rowData, _xlfn.TAKE(_xlfn.DROP('Claim Entry Example'!28:28,,12), , COLUMNS(_xlpm.spill)), SUM(_xlfn._xlws.FILTER(_xlpm.rowData, ISNUMBER(_xlpm.rowData))) ), "")} | C28: =IF(F28<>F29,SUMIFS($B$5:$B$54,$F$5:$F$54,F28),"") | F28: =IF(G28="","",_xlfn.LET(_xlpm.d,$G$5:G28,COUNT(_xlfn.UNIQUE(_xlpm.d))))
B29: {=IFERROR( _xlfn.LET( _xlpm.spill,_xlfn.ANCHORARRAY( $M$3), _xlpm.rowData, _xlfn.TAKE(_xlfn.DROP('Claim Entry Example'!29:29,,12), , COLUMNS(_xlpm.spill)), SUM(_xlfn._xlws.FILTER(_xlpm.rowData, ISNUMBER(_xlpm.rowData))) ), "")} | C29: =IF(F29<>F30,SUMIFS($B$5:$B$54,$F$5:$F$54,F29),"") | F29: =IF(G29="","",_xlfn.LET(_xlpm.d,$G$5:G29,COUNT(_xlfn.UNIQUE(_xlpm.d))))
B30: {=IFERROR( _xlfn.LET( _xlpm.spill,_xlfn.ANCHORARRAY( $M$3), _xlpm.rowData, _xlfn.TAKE(_xlfn.DROP('Claim Entry Example'!30:30,,12), , COLUMNS(_xlpm.spill)), SUM(_xlfn._xlws.FILTER(_xlpm.rowData, ISNUMBER(_xlpm.rowData))) ), "")} | C30: =IF(F30<>F31,SUMIFS($B$5:$B$54,$F$5:$F$54,F30),"") | F30: =IF(G30="","",_xlfn.LET(_xlpm.d,$G$5:G30,COUNT(_xlfn.UNIQUE(_xlpm.d))))
B31: {=IFERROR( _xlfn.LET( _xlpm.spill,_xlfn.ANCHORARRAY( $M$3), _xlpm.rowData, _xlfn.TAKE(_xlfn.DROP('Claim Entry Example'!31:31,,12), , COLUMNS(_xlpm.spill)), SUM(_xlfn._xlws.FILTER(_xlpm.rowData, ISNUMBER(_xlpm.rowData))) ), "")} | C31: =IF(F31<>F32,SUMIFS($B$5:$B$54,$F$5:$F$54,F31),"") | F31: =IF(G31="","",_xlfn.LET(_xlpm.d,$G$5:G31,COUNT(_xlfn.UNIQUE(_xlpm.d))))
B32: {=IFERROR( _xlfn.LET( _xlpm.spill,_xlfn.ANCHORARRAY( $M$3), _xlpm.rowData, _xlfn.TAKE(_xlfn.DROP('Claim Entry Example'!32:32,,12), , COLUMNS(_xlpm.spill)), SUM(_xlfn._xlws.FILTER(_xlpm.rowData, ISNUMBER(_xlpm.rowData))) ), "")} | C32: =IF(F32<>F33,SUMIFS($B$5:$B$54,$F$5:$F$54,F32),"") | F32: =IF(G32="","",_xlfn.LET(_xlpm.d,$G$5:G32,COUNT(_xlfn.UNIQUE(_xlpm.d))))
B33: {=IFERROR( _xlfn.LET( _xlpm.spill,_xlfn.ANCHORARRAY( $M$3), _xlpm.rowData, _xlfn.TAKE(_xlfn.DROP('Claim Entry Example'!33:33,,12), , COLUMNS(_xlpm.spill)), SUM(_xlfn._xlws.FILTER(_xlpm.rowData, ISNUMBER(_xlpm.rowData))) ), "")} | C33: =IF(F33<>F34,SUMIFS($B$5:$B$54,$F$5:$F$54,F33),"") | F33: =IF(G33="","",_xlfn.LET(_xlpm.d,$G$5:G33,COUNT(_xlfn.UNIQUE(_xlpm.d))))
B34: {=IFERROR( _xlfn.LET( _xlpm.spill,_xlfn.ANCHORARRAY( $M$3), _xlpm.rowData, _xlfn.TAKE(_xlfn.DROP('Claim Entry Example'!34:34,,12), , COLUMNS(_xlpm.spill)), SUM(_xlfn._xlws.FILTER(_xlpm.rowData, ISNUMBER(_xlpm.rowData))) ), "")} | C34: =IF(F34<>F35,SUMIFS($B$5:$B$54,$F$5:$F$54,F34),"") | F34: =IF(G34="","",_xlfn.LET(_xlpm.d,$G$5:G34,COUNT(_xlfn.UNIQUE(_xlpm.d))))
B35: {=IFERROR( _xlfn.LET( _xlpm.spill,_xlfn.ANCHORARRAY( $M$3), _xlpm.rowData, _xlfn.TAKE(_xlfn.DROP('Claim Entry Example'!35:35,,12), , COLUMNS(_xlpm.spill)), SUM(_xlfn._xlws.FILTER(_xlpm.rowData, ISNUMBER(_xlpm.rowData))) ), "")} | C35: =IF(F35<>F36,SUMIFS($B$5:$B$54,$F$5:$F$54,F35),"") | F35: =IF(G35="","",_xlfn.LET(_xlpm.d,$G$5:G35,COUNT(_xlfn.UNIQUE(_xlpm.d))))
B36: {=IFERROR( _xlfn.LET( _xlpm.spill,_xlfn.ANCHORARRAY( $M$3), _xlpm.rowData, _xlfn.TAKE(_xlfn.DROP('Claim Entry Example'!36:36,,12), , COLUMNS(_xlpm.spill)), SUM(_xlfn._xlws.FILTER(_xlpm.rowData, ISNUMBER(_xlpm.rowData))) ), "")} | C36: =IF(F36<>F37,SUMIFS($B$5:$B$54,$F$5:$F$54,F36),"") | F36: =IF(G36="","",_xlfn.LET(_xlpm.d,$G$5:G36,COUNT(_xlfn.UNIQUE(_xlpm.d))))
B37: {=IFERROR( _xlfn.LET( _xlpm.spill,_xlfn.ANCHORARRAY( $M$3), _xlpm.rowData, _xlfn.TAKE(_xlfn.DROP('Claim Entry Example'!37:37,,12), , COLUMNS(_xlpm.spill)), SUM(_xlfn._xlws.FILTER(_xlpm.rowData, ISNUMBER(_xlpm.rowData))) ), "")} | C37: =IF(F37<>F38,SUMIFS($B$5:$B$54,$F$5:$F$54,F37),"") | F37: =IF(G37="","",_xlfn.LET(_xlpm.d,$G$5:G37,COUNT(_xlfn.UNIQUE(_xlpm.d))))
B38: {=IFERROR( _xlfn.LET( _xlpm.spill,_xlfn.ANCHORARRAY( $M$3), _xlpm.rowData, _xlfn.TAKE(_xlfn.DROP('Claim Entry Example'!38:38,,12), , COLUMNS(_xlpm.spill)), SUM(_xlfn._xlws.FILTER(_xlpm.rowData, ISNUMBER(_xlpm.rowData))) ), "")} | C38: =IF(F38<>F39,SUMIFS($B$5:$B$54,$F$5:$F$54,F38),"") | F38: =IF(G38="","",_xlfn.LET(_xlpm.d,$G$5:G38,COUNT(_xlfn.UNIQUE(_xlpm.d))))
B39: {=IFERROR( _xlfn.LET( _xlpm.spill,_xlfn.ANCHORARRAY( $M$3), _xlpm.rowData, _xlfn.TAKE(_xlfn.DROP('Claim Entry Example'!39:39,,12), , COLUMNS(_xlpm.spill)), SUM(_xlfn._xlws.FILTER(_xlpm.rowData, ISNUMBER(_xlpm.rowData))) ), "")} | C39: =IF(F39<>F40,SUMIFS($B$5:$B$54,$F$5:$F$54,F39),"") | F39: =IF(G39="","",_xlfn.LET(_xlpm.d,$G$5:G39,COUNT(_xlfn.UNIQUE(_xlpm.d))))
B40: {=IFERROR( _xlfn.LET( _xlpm.spill,_xlfn.ANCHORARRAY( $M$3), _xlpm.rowData, _xlfn.TAKE(_xlfn.DROP('Claim Entry Example'!40:40,,12), , COLUMNS(_xlpm.spill)), SUM(_xlfn._xlws.FILTER(_xlpm.rowData, ISNUMBER(_xlpm.rowData))) ), "")} | C40: =IF(F40<>F41,SUMIFS($B$5:$B$54,$F$5:$F$54,F40),"") | F40: =IF(G40="","",_xlfn.LET(_xlpm.d,$G$5:G40,COUNT(_xlfn.UNIQUE(_xlpm.d))))
B41: {=IFERROR( _xlfn.LET( _xlpm.spill,_xlfn.ANCHORARRAY( $M$3), _xlpm.rowData, _xlfn.TAKE(_xlfn.DROP('Claim Entry Example'!41:41,,12), , COLUMNS(_xlpm.spill)), SUM(_xlfn._xlws.FILTER(_xlpm.rowData, ISNUMBER(_xlpm.rowData))) ), "")} | C41: =IF(F41<>F42,SUMIFS($B$5:$B$54,$F$5:$F$54,F41),"") | F41: =IF(G41="","",_xlfn.LET(_xlpm.d,$G$5:G41,COUNT(_xlfn.UNIQUE(_xlpm.d))))
B42: {=IFERROR( _xlfn.LET( _xlpm.spill,_xlfn.ANCHORARRAY( $M$3), _xlpm.rowData, _xlfn.TAKE(_xlfn.DROP('Claim Entry Example'!42:42,,12), , COLUMNS(_xlpm.spill)), SUM(_xlfn._xlws.FILTER(_xlpm.rowData, ISNUMBER(_xlpm.rowData))) ), "")} | C42: =IF(F42<>F43,SUMIFS($B$5:$B$54,$F$5:$F$54,F42),"") | F42: =IF(G42="","",_xlfn.LET(_xlpm.d,$G$5:G42,COUNT(_xlfn.UNIQUE(_xlpm.d))))
B43: {=IFERROR( _xlfn.LET( _xlpm.spill,_xlfn.ANCHORARRAY( $M$3), _xlpm.rowData, _xlfn.TAKE(_xlfn.DROP('Claim Entry Example'!43:43,,12), , COLUMNS(_xlpm.spill)), SUM(_xlfn._xlws.FILTER(_xlpm.rowData, ISNUMBER(_xlpm.rowData))) ), "")} | C43: =IF(F43<>F44,SUMIFS($B$5:$B$54,$F$5:$F$54,F43),"") | F43: =IF(G43="","",_xlfn.LET(_xlpm.d,$G$5:G43,COUNT(_xlfn.UNIQUE(_xlpm.d))))
B44: {=IFERROR( _xlfn.LET( _xlpm.spill,_xlfn.ANCHORARRAY( $M$3), _xlpm.rowData, _xlfn.TAKE(_xlfn.DROP('Claim Entry Example'!44:44,,12), , COLUMNS(_xlpm.spill)), SUM(_xlfn._xlws.FILTER(_xlpm.rowData, ISNUMBER(_xlpm.rowData))) ), "")} | C44: =IF(F44<>F45,SUMIFS($B$5:$B$54,$F$5:$F$54,F44),"") | F44: =IF(G44="","",_xlfn.LET(_xlpm.d,$G$5:G44,COUNT(_xlfn.UNIQUE(_xlpm.d))))
B45: {=IFERROR( _xlfn.LET( _xlpm.spill,_xlfn.ANCHORARRAY( $M$3), _xlpm.rowData, _xlfn.TAKE(_xlfn.DROP('Claim Entry Example'!45:45,,12), , COLUMNS(_xlpm.spill)), SUM(_xlfn._xlws.FILTER(_xlpm.rowData, ISNUMBER(_xlpm.rowData))) ), "")} | C45: =IF(F45<>F46,SUMIFS($B$5:$B$54,$F$5:$F$54,F45),"") | F45: =IF(G45="","",_xlfn.LET(_xlpm.d,$G$5:G45,COUNT(_xlfn.UNIQUE(_xlpm.d))))
B46: {=IFERROR( _xlfn.LET( _xlpm.spill,_xlfn.ANCHORARRAY( $M$3), _xlpm.rowData, _xlfn.TAKE(_xlfn.DROP('Claim Entry Example'!46:46,,12), , COLUMNS(_xlpm.spill)), SUM(_xlfn._xlws.FILTER(_xlpm.rowData, ISNUMBER(_xlpm.rowData))) ), "")} | C46: =IF(F46<>F47,SUMIFS($B$5:$B$54,$F$5:$F$54,F46),"") | F46: =IF(G46="","",_xlfn.LET(_xlpm.d,$G$5:G46,COUNT(_xlfn.UNIQUE(_xlpm.d))))
B47: {=IFERROR( _xlfn.LET( _xlpm.spill,_xlfn.ANCHORARRAY( $M$3), _xlpm.rowData, _xlfn.TAKE(_xlfn.DROP('Claim Entry Example'!47:47,,12), , COLUMNS(_xlpm.spill)), SUM(_xlfn._xlws.FILTER(_xlpm.rowData, ISNUMBER(_xlpm.rowData))) ), "")} | C47: =IF(F47<>F48,SUMIFS($B$5:$B$54,$F$5:$F$54,F47),"") | F47: =IF(G47="","",_xlfn.LET(_xlpm.d,$G$5:G47,COUNT(_xlfn.UNIQUE(_xlpm.d))))
B48: {=IFERROR( _xlfn.LET( _xlpm.spill,_xlfn.ANCHORARRAY( $M$3), _xlpm.rowData, _xlfn.TAKE(_xlfn.DROP('Claim Entry Example'!48:48,,12), , COLUMNS(_xlpm.spill)), SUM(_xlfn._xlws.FILTER(_xlpm.rowData, ISNUMBER(_xlpm.rowData))) ), "")} | C48: =IF(F48<>F49,SUMIFS($B$5:$B$54,$F$5:$F$54,F48),"") | F48: =IF(G48="","",_xlfn.LET(_xlpm.d,$G$5:G48,COUNT(_xlfn.UNIQUE(_xlpm.d))))
B49: {=IFERROR( _xlfn.LET( _xlpm.spill,_xlfn.ANCHORARRAY( $M$3), _xlpm.rowData, _xlfn.TAKE(_xlfn.DROP('Claim Entry Example'!49:49,,12), , COLUMNS(_xlpm.spill)), SUM(_xlfn._xlws.FILTER(_xlpm.rowData, ISNUMBER(_xlpm.rowData))) ), "")} | C49: =IF(F49<>F50,SUMIFS($B$5:$B$54,$F$5:$F$54,F49),"") | F49: =IF(G49="","",_xlfn.LET(_xlpm.d,$G$5:G49,COUNT(_xlfn.UNIQUE(_xlpm.d))))
B50: {=IFERROR( _xlfn.LET( _xlpm.spill,_xlfn.ANCHORARRAY( $M$3), _xlpm.rowData, _xlfn.TAKE(_xlfn.DROP('Claim Entry Example'!50:50,,12), , COLUMNS(_xlpm.spill)), SUM(_xlfn._xlws.FILTER(_xlpm.rowData, ISNUMBER(_xlpm.rowData))) ), "")} | C50: =IF(F50<>F51,SUMIFS($B$5:$B$54,$F$5:$F$54,F50),"") | F50: =IF(G50="","",_xlfn.LET(_xlpm.d,$G$5:G50,COUNT(_xlfn.UNIQUE(_xlpm.d))))
B51: {=IFERROR( _xlfn.LET( _xlpm.spill,_xlfn.ANCHORARRAY( $M$3), _xlpm.rowData, _xlfn.TAKE(_xlfn.DROP('Claim Entry Example'!51:51,,12), , COLUMNS(_xlpm.spill)), SUM(_xlfn._xlws.FILTER(_xlpm.rowData, ISNUMBER(_xlpm.rowData))) ), "")} | C51: =IF(F51<>F52,SUMIFS($B$5:$B$54,$F$5:$F$54,F51),"") | F51: =IF(G51="","",_xlfn.LET(_xlpm.d,$G$5:G51,COUNT(_xlfn.UNIQUE(_xlpm.d))))
B52: {=IFERROR( _xlfn.LET( _xlpm.spill,_xlfn.ANCHORARRAY( $M$3), _xlpm.rowData, _xlfn.TAKE(_xlfn.DROP('Claim Entry Example'!52:52,,12), , COLUMNS(_xlpm.spill)), SUM(_xlfn._xlws.FILTER(_xlpm.rowData, ISNUMBER(_xlpm.rowData))) ), "")} | C52: =IF(F52<>F53,SUMIFS($B$5:$B$54,$F$5:$F$54,F52),"") | F52: =IF(G52="","",_xlfn.LET(_xlpm.d,$G$5:G52,COUNT(_xlfn.UNIQUE(_xlpm.d))))
B53: {=IFERROR( _xlfn.LET( _xlpm.spill,_xlfn.ANCHORARRAY( $M$3), _xlpm.rowData, _xlfn.TAKE(_xlfn.DROP('Claim Entry Example'!53:53,,12), , COLUMNS(_xlpm.spill)), SUM(_xlfn._xlws.FILTER(_xlpm.rowData, ISNUMBER(_xlpm.rowData))) ), "")} | C53: =IF(F53<>F54,SUMIFS($B$5:$B$54,$F$5:$F$54,F53),"") | F53: =IF(G53="","",_xlfn.LET(_xlpm.d,$G$5:G53,COUNT(_xlfn.UNIQUE(_xlpm.d))))
B54: {=IFERROR( _xlfn.LET( _xlpm.spill,_xlfn.ANCHORARRAY( $M$3), _xlpm.rowData, _xlfn.TAKE(_xlfn.DROP('Claim Entry Example'!54:54,,12), , COLUMNS(_xlpm.spill)), SUM(_xlfn._xlws.FILTER(_xlpm.rowData, ISNUMBER(_xlpm.rowData))) ), "")} | C54: =IF(F54<>F55,SUMIFS($B$5:$B$54,$F$5:$F$54,F54),"") | F54: =IF(G54="","",_xlfn.LET(_xlpm.d,$G$5:G54,COUNT(_xlfn.UNIQUE(_xlpm.d))))

Sheet Claim Totals Example
C2: Summary of Totals from 'Claim Entry Example' Sheet
D4: {=INDEX(_xlfn.ANCHORARRAY('Claim Entry Example'!M3), 2, 0)} -> Max's Island Elementary School | E4: Rumpus Middle School | F4: Crown & Scepter High School
C5: Subgrant Number | D5: {=IF(_xlfn.ANCHORARRAY(D4)="","",_xlfn.XLOOKUP(_xlfn.ANCHORARRAY(D4),'sponsor dropdowns'!$K$2:$K$44,'sponsor dropdowns'!$L$2:$L$44))} -> SG-90001-ME | E5: SG-90002-RM | F5: SG-90003-CS
C6: Amount Allocated for SY 25-26 | D6: {=IF(_xlfn.ANCHORARRAY(D5)="","",2023)} -> 2023 | E6: 2023 | F6: 2023
C7: Remaining Amount Available | D7: {=_xlfn.ANCHORARRAY(D6)-_xlfn.ANCHORARRAY(D8)} -> -598.83 | E7: 564.66 | F7: 566.06
A8: Claim No. | B8: Claim Date | C8: Totals by Site ⇒ & by Claim No. ⇓ | D8: {=_xlfn.BYCOL(_xlfn.ANCHORARRAY(D9), _xlfn.LAMBDA(_xlpm.c, SUM(_xlpm.c)))} -> 2621.83 | E8: 1458.34 | F8: 1456.94
A9: {=_xlfn.UNIQUE(_xlfn._xlws.FILTER('Claim Entry Example'!F5:F54, 'Claim Entry Example'!F5:F54<>""))} -> 1 | B9: {=_xlfn.XLOOKUP(_xlfn.ANCHORARRAY(A9),'Claim Entry Example'!$F$5:$F$54,'Claim Entry Example'!$G$5:$G$54)} -> 45939 | C9: {=_xlfn.BYROW(_xlfn.ANCHORARRAY(D9), _xlfn.LAMBDA(_xlpm.r, SUM(_xlpm.r)))} -> 2969.5 | D9: {=_xlfn.MAKEARRAY( ROWS(_xlfn.ANCHORARRAY('Claim Totals Example'!B9)), COLUMNS(INDEX(_xlfn.ANCHORARRAY('Claim Entry Example'!M3), 2, 0)), _xlfn.LAMBDA(_xlpm.r,_xlpm.c, SUMPRODUCT( ('Claim Entry Example'!G5:G104 = INDEX(_xlfn.ANCHORARRAY('Claim Totals Example'!B9), _xlpm.r)) * OFFSET('Claim Entry Example'!M5, 0, _xlpm.c-1, ROWS('Claim Entry Example'!G5:G104), 1) ) ) )} -> 973.9 | E9: 981 | F9: 1014.6
A10: 2 | B10: 45961 | C10: 317.72 | D10: 84.24 | E10: 84.24 | F10: 149.24
A11: 3 | B11: 45976 | C11: 2249.89 | D11: 1563.69 | E11: 393.1 | F11: 293.1

Sheet Claim Entry
H2: Sponsor Name | I2: Select Sponsor | M2: {=IF( OR(Sponsor_Name = "", Sponsor_Name = "Select Sponsor"), "", TRANSPOSE(_xlfn.CHOOSECOLS(_xlfn._xlws.FILTER('BATB Reqd'!A:G,'BATB Reqd'!B:B = Sponsor_Name), 3, 7, 4)) )}
A3: CNP USE ONLY
A4: Comments | B4: TOTAL | C4: Total Claim Amount | D4: ODE Approved | E4: Dated Processed in EGMS | F4: Claim No. | G4: Claim Date | H4: Vendor | I4: Invoice Number | J4: Invoice Date | K4: Equipment Item | L4: Reason (Select primary reason or enter your own)
B5: {=IFERROR( _xlfn.LET( _xlpm.spill,_xlfn.ANCHORARRAY( $M$2), _xlpm.rowData, _xlfn.TAKE(_xlfn.DROP('Claim Entry'!5:5,,12), , COLUMNS(_xlpm.spill)), SUM(_xlfn._xlws.FILTER(_xlpm.rowData, ISNUMBER(_xlpm.rowData))) ), "")} | F5: {=IF(G5="","",_xlfn.XMATCH(G5,_xlfn._xlws.SORT(_xlfn.UNIQUE(_xlfn._xlws.FILTER($G$5:$G$150,$G$5:$G$150<>"")))))}
B6: {=IFERROR( _xlfn.LET( _xlpm.spill,_xlfn.ANCHORARRAY( $M$2), _xlpm.rowData, _xlfn.TAKE(_xlfn.DROP('Claim Entry'!6:6,,12), , COLUMNS(_xlpm.spill)), SUM(_xlfn._xlws.FILTER(_xlpm.rowData, ISNUMBER(_xlpm.rowData))) ), "")} | C6: =IF(F6<>F7,SUMIFS($B$5:$B$54,$F$5:$F$54,F6),"") | F6: {=IF(G6="","",_xlfn.XMATCH(G6,_xlfn._xlws.SORT(_xlfn.UNIQUE(_xlfn._xlws.FILTER($G$5:$G$150,$G$5:$G$150<>"")))))}
B7: {=IFERROR( _xlfn.LET( _xlpm.spill,_xlfn.ANCHORARRAY( $M$2), _xlpm.rowData, _xlfn.TAKE(_xlfn.DROP('Claim Entry'!7:7,,12), , COLUMNS(_xlpm.spill)), SUM(_xlfn._xlws.FILTER(_xlpm.rowData, ISNUMBER(_xlpm.rowData))) ), "")} | C7: =IF(F7<>F8,SUMIFS($B$5:$B$54,$F$5:$F$54,F7),"") | F7: {=IF(G7="","",_xlfn.XMATCH(G7,_xlfn._xlws.SORT(_xlfn.UNIQUE(_xlfn._xlws.FILTER($G$5:$G$150,$G$5:$G$150<>"")))))}
B8: {=IFERROR( _xlfn.LET( _xlpm.spill,_xlfn.ANCHORARRAY( $M$2), _xlpm.rowData, _xlfn.TAKE(_xlfn.DROP('Claim Entry'!8:8,,12), , COLUMNS(_xlpm.spill)), SUM(_xlfn._xlws.FILTER(_xlpm.rowData, ISNUMBER(_xlpm.rowData))) ), "")} | C8: =IF(F8<>F9,SUMIFS($B$5:$B$54,$F$5:$F$54,F8),"") | F8: {=IF(G8="","",_xlfn.XMATCH(G8,_xlfn._xlws.SORT(_xlfn.UNIQUE(_xlfn._xlws.FILTER($G$5:$G$150,$G$5:$G$150<>"")))))}
B9: {=IFERROR( _xlfn.LET( _xlpm.spill,_xlfn.ANCHORARRAY( $M$2), _xlpm.rowData, _xlfn.TAKE(_xlfn.DROP('Claim Entry'!9:9,,12), , COLUMNS(_xlpm.spill)), SUM(_xlfn._xlws.FILTER(_xlpm.rowData, ISNUMBER(_xlpm.rowData))) ), "")} | C9: =IF(F9<>F10,SUMIFS($B$5:$B$54,$F$5:$F$54,F9),"") | F9: {=IF(G9="","",_xlfn.XMATCH(G9,_xlfn._xlws.SORT(_xlfn.UNIQUE(_xlfn._xlws.FILTER($G$5:$G$150,$G$5:$G$150<>"")))))}
B10: {=IFERROR( _xlfn.LET( _xlpm.spill,_xlfn.ANCHORARRAY( $M$2), _xlpm.rowData, _xlfn.TAKE(_xlfn.DROP('Claim Entry'!10:10,,12), , COLUMNS(_xlpm.spill)), SUM(_xlfn._xlws.FILTER(_xlpm.rowData, ISNUMBER(_xlpm.rowData))) ), "")} | C10: =IF(F10<>F11,SUMIFS($B$5:$B$54,$F$5:$F$54,F10),"") | F10: {=IF(G10="","",_xlfn.XMATCH(G10,_xlfn._xlws.SORT(_xlfn.UNIQUE(_xlfn._xlws.FILTER($G$5:$G$150,$G$5:$G$150<>"")))))}
B11: {=IFERROR( _xlfn.LET( _xlpm.spill,_xlfn.ANCHORARRAY( $M$2), _xlpm.rowData, _xlfn.TAKE(_xlfn.DROP('Claim Entry'!11:11,,12), , COLUMNS(_xlpm.spill)), SUM(_xlfn._xlws.FILTER(_xlpm.rowData, ISNUMBER(_xlpm.rowData))) ), "")} | C11: =IF(F11<>F12,SUMIFS($B$5:$B$54,$F$5:$F$54,F11),"") | F11: {=IF(G11="","",_xlfn.XMATCH(G11,_xlfn._xlws.SORT(_xlfn.UNIQUE(_xlfn._xlws.FILTER($G$5:$G$150,$G$5:$G$150<>"")))))}
B12: {=IFERROR( _xlfn.LET( _xlpm.spill,_xlfn.ANCHORARRAY( $M$2), _xlpm.rowData, _xlfn.TAKE(_xlfn.DROP('Claim Entry'!12:12,,12), , COLUMNS(_xlpm.spill)), SUM(_xlfn._xlws.FILTER(_xlpm.rowData, ISNUMBER(_xlpm.rowData))) ), "")} | C12: =IF(F12<>F13,SUMIFS($B$5:$B$54,$F$5:$F$54,F12),"") | F12: {=IF(G12="","",_xlfn.XMATCH(G12,_xlfn._xlws.SORT(_xlfn.UNIQUE(_xlfn._xlws.FILTER($G$5:$G$150,$G$5:$G$150<>"")))))}
B13: {=IFERROR( _xlfn.LET( _xlpm.spill,_xlfn.ANCHORARRAY( $M$2), _xlpm.rowData, _xlfn.TAKE(_xlfn.DROP('Claim Entry'!13:13,,12), , COLUMNS(_xlpm.spill)), SUM(_xlfn._xlws.FILTER(_xlpm.rowData, ISNUMBER(_xlpm.rowData))) ), "")} | C13: =IF(F13<>F14,SUMIFS($B$5:$B$54,$F$5:$F$54,F13),"") | F13: {=IF(G13="","",_xlfn.XMATCH(G13,_xlfn._xlws.SORT(_xlfn.UNIQUE(_xlfn._xlws.FILTER($G$5:$G$150,$G$5:$G$150<>"")))))}
B14: {=IFERROR( _xlfn.LET( _xlpm.spill,_xlfn.ANCHORARRAY( $M$2), _xlpm.rowData, _xlfn.TAKE(_xlfn.DROP('Claim Entry'!14:14,,12), , COLUMNS(_xlpm.spill)), SUM(_xlfn._xlws.FILTER(_xlpm.rowData, ISNUMBER(_xlpm.rowData))) ), "")} | C14: =IF(F14<>F15,SUMIFS($B$5:$B$54,$F$5:$F$54,F14),"") | F14: {=IF(G14="","",_xlfn.XMATCH(G14,_xlfn._xlws.SORT(_xlfn.UNIQUE(_xlfn._xlws.FILTER($G$5:$G$150,$G$5:$G$150<>"")))))}
B15: {=IFERROR( _xlfn.LET( _xlpm.spill,_xlfn.ANCHORARRAY( $M$2), _xlpm.rowData, _xlfn.TAKE(_xlfn.DROP('Claim Entry'!15:15,,12), , COLUMNS(_xlpm.spill)), SUM(_xlfn._xlws.FILTER(_xlpm.rowData, ISNUMBER(_xlpm.rowData))) ), "")} | C15: =IF(F15<>F16,SUMIFS($B$5:$B$54,$F$5:$F$54,F15),"") | F15: {=IF(G15="","",_xlfn.XMATCH(G15,_xlfn._xlws.SORT(_xlfn.UNIQUE(_xlfn._xlws.FILTER($G$5:$G$150,$G$5:$G$150<>"")))))}
B16: {=IFERROR( _xlfn.LET( _xlpm.spill,_xlfn.ANCHORARRAY( $M$2), _xlpm.rowData, _xlfn.TAKE(_xlfn.DROP('Claim Entry'!16:16,,12), , COLUMNS(_xlpm.spill)), SUM(_xlfn._xlws.FILTER(_xlpm.rowData, ISNUMBER(_xlpm.rowData))) ), "")} | C16: =IF(F16<>F17,SUMIFS($B$5:$B$54,$F$5:$F$54,F16),"") | F16: {=IF(G16="","",_xlfn.XMATCH(G16,_xlfn._xlws.SORT(_xlfn.UNIQUE(_xlfn._xlws.FILTER($G$5:$G$150,$G$5:$G$150<>"")))))}
B17: {=IFERROR( _xlfn.LET( _xlpm.spill,_xlfn.ANCHORARRAY( $M$2), _xlpm.rowData, _xlfn.TAKE(_xlfn.DROP('Claim Entry'!17:17,,12), , COLUMNS(_xlpm.spill)), SUM(_xlfn._xlws.FILTER(_xlpm.rowData, ISNUMBER(_xlpm.rowData))) ), "")} | C17: =IF(F17<>F18,SUMIFS($B$5:$B$54,$F$5:$F$54,F17),"") | F17: {=IF(G17="","",_xlfn.XMATCH(G17,_xlfn._xlws.SORT(_xlfn.UNIQUE(_xlfn._xlws.FILTER($G$5:$G$150,$G$5:$G$150<>"")))))}
B18: {=IFERROR( _xlfn.LET( _xlpm.spill,_xlfn.ANCHORARRAY( $M$2), _xlpm.rowData, _xlfn.TAKE(_xlfn.DROP('Claim Entry'!18:18,,12), , COLUMNS(_xlpm.spill)), SUM(_xlfn._xlws.FILTER(_xlpm.rowData, ISNUMBER(_xlpm.rowData))) ), "")} | C18: =IF(F18<>F19,SUMIFS($B$5:$B$54,$F$5:$F$54,F18),"") | F18: {=IF(G18="","",_xlfn.XMATCH(G18,_xlfn._xlws.SORT(_xlfn.UNIQUE(_xlfn._xlws.FILTER($G$5:$G$150,$G$5:$G$150<>"")))))}
B19: {=IFERROR( _xlfn.LET( _xlpm.spill,_xlfn.ANCHORARRAY( $M$2), _xlpm.rowData, _xlfn.TAKE(_xlfn.DROP('Claim Entry'!19:19,,12), , COLUMNS(_xlpm.spill)), SUM(_xlfn._xlws.FILTER(_xlpm.rowData, ISNUMBER(_xlpm.rowData))) ), "")} | C19: =IF(F19<>F20,SUMIFS($B$5:$B$54,$F$5:$F$54,F19),"") | F19: {=IF(G19="","",_xlfn.XMATCH(G19,_xlfn._xlws.SORT(_xlfn.UNIQUE(_xlfn._xlws.FILTER($G$5:$G$150,$G$5:$G$150<>"")))))}
B20: {=IFERROR( _xlfn.LET( _xlpm.spill,_xlfn.ANCHORARRAY( $M$2), _xlpm.rowData, _xlfn.TAKE(_xlfn.DROP('Claim Entry'!20:20,,12), , COLUMNS(_xlpm.spill)), SUM(_xlfn._xlws.FILTER(_xlpm.rowData, ISNUMBER(_xlpm.rowData))) ), "")} | C20: =IF(F20<>F21,SUMIFS($B$5:$B$54,$F$5:$F$54,F20),"") | F20: {=IF(G20="","",_xlfn.XMATCH(G20,_xlfn._xlws.SORT(_xlfn.UNIQUE(_xlfn._xlws.FILTER($G$5:$G$150,$G$5:$G$150<>"")))))}
B21: {=IFERROR( _xlfn.LET( _xlpm.spill,_xlfn.ANCHORARRAY( $M$2), _xlpm.rowData, _xlfn.TAKE(_xlfn.DROP('Claim Entry'!21:21,,12), , COLUMNS(_xlpm.spill)), SUM(_xlfn._xlws.FILTER(_xlpm.rowData, ISNUMBER(_xlpm.rowData))) ), "")} | C21: =IF(F21<>F22,SUMIFS($B$5:$B$54,$F$5:$F$54,F21),"") | F21: {=IF(G21="","",_xlfn.XMATCH(G21,_xlfn._xlws.SORT(_xlfn.UNIQUE(_xlfn._xlws.FILTER($G$5:$G$150,$G$5:$G$150<>"")))))}
B22: {=IFERROR( _xlfn.LET( _xlpm.spill,_xlfn.ANCHORARRAY( $M$2), _xlpm.rowData, _xlfn.TAKE(_xlfn.DROP('Claim Entry'!22:22,,12), , COLUMNS(_xlpm.spill)), SUM(_xlfn._xlws.FILTER(_xlpm.rowData, ISNUMBER(_xlpm.rowData))) ), "")} | C22: =IF(F22<>F23,SUMIFS($B$5:$B$54,$F$5:$F$54,F22),"") | F22: {=IF(G22="","",_xlfn.XMATCH(G22,_xlfn._xlws.SORT(_xlfn.UNIQUE(_xlfn._xlws.FILTER($G$5:$G$150,$G$5:$G$150<>"")))))}
B23: {=IFERROR( _xlfn.LET( _xlpm.spill,_xlfn.ANCHORARRAY( $M$2), _xlpm.rowData, _xlfn.TAKE(_xlfn.DROP('Claim Entry'!23:23,,12), , COLUMNS(_xlpm.spill)), SUM(_xlfn._xlws.FILTER(_xlpm.rowData, ISNUMBER(_xlpm.rowData))) ), "")} | C23: =IF(F23<>F24,SUMIFS($B$5:$B$54,$F$5:$F$54,F23),"") | F23: {=IF(G23="","",_xlfn.XMATCH(G23,_xlfn._xlws.SORT(_xlfn.UNIQUE(_xlfn._xlws.FILTER($G$5:$G$150,$G$5:$G$150<>"")))))}
B24: {=IFERROR( _xlfn.LET( _xlpm.spill,_xlfn.ANCHORARRAY( $M$2), _xlpm.rowData, _xlfn.TAKE(_xlfn.DROP('Claim Entry'!24:24,,12), , COLUMNS(_xlpm.spill)), SUM(_xlfn._xlws.FILTER(_xlpm.rowData, ISNUMBER(_xlpm.rowData))) ), "")} | C24: =IF(F24<>F25,SUMIFS($B$5:$B$54,$F$5:$F$54,F24),"") | F24: {=IF(G24="","",_xlfn.XMATCH(G24,_xlfn._xlws.SORT(_xlfn.UNIQUE(_xlfn._xlws.FILTER($G$5:$G$150,$G$5:$G$150<>"")))))}
B25: {=IFERROR( _xlfn.LET( _xlpm.spill,_xlfn.ANCHORARRAY( $M$2), _xlpm.rowData, _xlfn.TAKE(_xlfn.DROP('Claim Entry'!25:25,,12), , COLUMNS(_xlpm.spill)), SUM(_xlfn._xlws.FILTER(_xlpm.rowData, ISNUMBER(_xlpm.rowData))) ), "")} | C25: =IF(F25<>F26,SUMIFS($B$5:$B$54,$F$5:$F$54,F25),"") | F25: {=IF(G25="","",_xlfn.XMATCH(G25,_xlfn._xlws.SORT(_xlfn.UNIQUE(_xlfn._xlws.FILTER($G$5:$G$150,$G$5:$G$150<>"")))))}
B26: {=IFERROR( _xlfn.LET( _xlpm.spill,_xlfn.ANCHORARRAY( $M$2), _xlpm.rowData, _xlfn.TAKE(_xlfn.DROP('Claim Entry'!26:26,,12), , COLUMNS(_xlpm.spill)), SUM(_xlfn._xlws.FILTER(_xlpm.rowData, ISNUMBER(_xlpm.rowData))) ), "")} | C26: =IF(F26<>F27,SUMIFS($B$5:$B$54,$F$5:$F$54,F26),"") | F26: {=IF(G26="","",_xlfn.XMATCH(G26,_xlfn._xlws.SORT(_xlfn.UNIQUE(_xlfn._xlws.FILTER($G$5:$G$150,$G$5:$G$150<>"")))))}
B27: {=IFERROR( _xlfn.LET( _xlpm.spill,_xlfn.ANCHORARRAY( $M$2), _xlpm.rowData, _xlfn.TAKE(_xlfn.DROP('Claim Entry'!27:27,,12), , COLUMNS(_xlpm.spill)), SUM(_xlfn._xlws.FILTER(_xlpm.rowData, ISNUMBER(_xlpm.rowData))) ), "")} | C27: =IF(F27<>F28,SUMIFS($B$5:$B$54,$F$5:$F$54,F27),"") | F27: {=IF(G27="","",_xlfn.XMATCH(G27,_xlfn._xlws.SORT(_xlfn.UNIQUE(_xlfn._xlws.FILTER($G$5:$G$150,$G$5:$G$150<>"")))))}
B28: {=IFERROR( _xlfn.LET( _xlpm.spill,_xlfn.ANCHORARRAY( $M$2), _xlpm.rowData, _xlfn.TAKE(_xlfn.DROP('Claim Entry'!28:28,,12), , COLUMNS(_xlpm.spill)), SUM(_xlfn._xlws.FILTER(_xlpm.rowData, ISNUMBER(_xlpm.rowData))) ), "")} | C28: =IF(F28<>F29,SUMIFS($B$5:$B$54,$F$5:$F$54,F28),"") | F28: {=IF(G28="","",_xlfn.XMATCH(G28,_xlfn._xlws.SORT(_xlfn.UNIQUE(_xlfn._xlws.FILTER($G$5:$G$150,$G$5:$G$150<>"")))))}
B29: {=IFERROR( _xlfn.LET( _xlpm.spill,_xlfn.ANCHORARRAY( $M$2), _xlpm.rowData, _xlfn.TAKE(_xlfn.DROP('Claim Entry'!29:29,,12), , COLUMNS(_xlpm.spill)), SUM(_xlfn._xlws.FILTER(_xlpm.rowData, ISNUMBER(_xlpm.rowData))) ), "")} | C29: =IF(F29<>F30,SUMIFS($B$5:$B$54,$F$5:$F$54,F29),"") | F29: {=IF(G29="","",_xlfn.XMATCH(G29,_xlfn._xlws.SORT(_xlfn.UNIQUE(_xlfn._xlws.FILTER($G$5:$G$150,$G$5:$G$150<>"")))))}
B30: {=IFERROR( _xlfn.LET( _xlpm.spill,_xlfn.ANCHORARRAY( $M$2), _xlpm.rowData, _xlfn.TAKE(_xlfn.DROP('Claim Entry'!30:30,,12), , COLUMNS(_xlpm.spill)), SUM(_xlfn._xlws.FILTER(_xlpm.rowData, ISNUMBER(_xlpm.rowData))) ), "")} | C30: =IF(F30<>F31,SUMIFS($B$5:$B$54,$F$5:$F$54,F30),"") | F30: {=IF(G30="","",_xlfn.XMATCH(G30,_xlfn._xlws.SORT(_xlfn.UNIQUE(_xlfn._xlws.FILTER($G$5:$G$150,$G$5:$G$150<>"")))))}
B31: {=IFERROR( _xlfn.LET( _xlpm.spill,_xlfn.ANCHORARRAY( $M$2), _xlpm.rowData, _xlfn.TAKE(_xlfn.DROP('Claim Entry'!31:31,,12), , COLUMNS(_xlpm.spill)), SUM(_xlfn._xlws.FILTER(_xlpm.rowData, ISNUMBER(_xlpm.rowData))) ), "")} | C31: =IF(F31<>F32,SUMIFS($B$5:$B$54,$F$5:$F$54,F31),"") | F31: {=IF(G31="","",_xlfn.XMATCH(G31,_xlfn._xlws.SORT(_xlfn.UNIQUE(_xlfn._xlws.FILTER($G$5:$G$150,$G$5:$G$150<>"")))))}
B32: {=IFERROR( _xlfn.LET( _xlpm.spill,_xlfn.ANCHORARRAY( $M$2), _xlpm.rowData, _xlfn.TAKE(_xlfn.DROP('Claim Entry'!32:32,,12), , COLUMNS(_xlpm.spill)), SUM(_xlfn._xlws.FILTER(_xlpm.rowData, ISNUMBER(_xlpm.rowData))) ), "")} | C32: =IF(F32<>F33,SUMIFS($B$5:$B$54,$F$5:$F$54,F32),"") | F32: {=IF(G32="","",_xlfn.XMATCH(G32,_xlfn._xlws.SORT(_xlfn.UNIQUE(_xlfn._xlws.FILTER($G$5:$G$150,$G$5:$G$150<>"")))))}
B33: {=IFERROR( _xlfn.LET( _xlpm.spill,_xlfn.ANCHORARRAY( $M$2), _xlpm.rowData, _xlfn.TAKE(_xlfn.DROP('Claim Entry'!33:33,,12), , COLUMNS(_xlpm.spill)), SUM(_xlfn._xlws.FILTER(_xlpm.rowData, ISNUMBER(_xlpm.rowData))) ), "")} | C33: =IF(F33<>F34,SUMIFS($B$5:$B$54,$F$5:$F$54,F33),"") | F33: {=IF(G33="","",_xlfn.XMATCH(G33,_xlfn._xlws.SORT(_xlfn.UNIQUE(_xlfn._xlws.FILTER($G$5:$G$150,$G$5:$G$150<>"")))))}
B34: {=IFERROR( _xlfn.LET( _xlpm.spill,_xlfn.ANCHORARRAY( $M$2), _xlpm.rowData, _xlfn.TAKE(_xlfn.DROP('Claim Entry'!34:34,,12), , COLUMNS(_xlpm.spill)), SUM(_xlfn._xlws.FILTER(_xlpm.rowData, ISNUMBER(_xlpm.rowData))) ), "")} | C34: =IF(F34<>F35,SUMIFS($B$5:$B$54,$F$5:$F$54,F34),"") | F34: {=IF(G34="","",_xlfn.XMATCH(G34,_xlfn._xlws.SORT(_xlfn.UNIQUE(_xlfn._xlws.FILTER($G$5:$G$150,$G$5:$G$150<>"")))))}
B35: {=IFERROR( _xlfn.LET( _xlpm.spill,_xlfn.ANCHORARRAY( $M$2), _xlpm.rowData, _xlfn.TAKE(_xlfn.DROP('Claim Entry'!35:35,,12), , COLUMNS(_xlpm.spill)), SUM(_xlfn._xlws.FILTER(_xlpm.rowData, ISNUMBER(_xlpm.rowData))) ), "")} | C35: =IF(F35<>F36,SUMIFS($B$5:$B$54,$F$5:$F$54,F35),"") | F35: {=IF(G35="","",_xlfn.XMATCH(G35,_xlfn._xlws.SORT(_xlfn.UNIQUE(_xlfn._xlws.FILTER($G$5:$G$150,$G$5:$G$150<>"")))))}
B36: {=IFERROR( _xlfn.LET( _xlpm.spill,_xlfn.ANCHORARRAY( $M$2), _xlpm.rowData, _xlfn.TAKE(_xlfn.DROP('Claim Entry'!36:36,,12), , COLUMNS(_xlpm.spill)), SUM(_xlfn._xlws.FILTER(_xlpm.rowData, ISNUMBER(_xlpm.rowData))) ), "")} | C36: =IF(F36<>F37,SUMIFS($B$5:$B$54,$F$5:$F$54,F36),"") | F36: {=IF(G36="","",_xlfn.XMATCH(G36,_xlfn._xlws.SORT(_xlfn.UNIQUE(_xlfn._xlws.FILTER($G$5:$G$150,$G$5:$G$150<>"")))))}
B37: {=IFERROR( _xlfn.LET( _xlpm.spill,_xlfn.ANCHORARRAY( $M$2), _xlpm.rowData, _xlfn.TAKE(_xlfn.DROP('Claim Entry'!37:37,,12), , COLUMNS(_xlpm.spill)), SUM(_xlfn._xlws.FILTER(_xlpm.rowData, ISNUMBER(_xlpm.rowData))) ), "")} | C37: =IF(F37<>F38,SUMIFS($B$5:$B$54,$F$5:$F$54,F37),"") | F37: {=IF(G37="","",_xlfn.XMATCH(G37,_xlfn._xlws.SORT(_xlfn.UNIQUE(_xlfn._xlws.FILTER($G$5:$G$150,$G$5:$G$150<>"")))))}
B38: {=IFERROR( _xlfn.LET( _xlpm.spill,_xlfn.ANCHORARRAY( $M$2), _xlpm.rowData, _xlfn.TAKE(_xlfn.DROP('Claim Entry'!38:38,,12), , COLUMNS(_xlpm.spill)), SUM(_xlfn._xlws.FILTER(_xlpm.rowData, ISNUMBER(_xlpm.rowData))) ), "")} | C38: =IF(F38<>F39,SUMIFS($B$5:$B$54,$F$5:$F$54,F38),"") | F38: {=IF(G38="","",_xlfn.XMATCH(G38,_xlfn._xlws.SORT(_xlfn.UNIQUE(_xlfn._xlws.FILTER($G$5:$G$150,$G$5:$G$150<>"")))))}
B39: {=IFERROR( _xlfn.LET( _xlpm.spill,_xlfn.ANCHORARRAY( $M$2), _xlpm.rowData, _xlfn.TAKE(_xlfn.DROP('Claim Entry'!39:39,,12), , COLUMNS(_xlpm.spill)), SUM(_xlfn._xlws.FILTER(_xlpm.rowData, ISNUMBER(_xlpm.rowData))) ), "")} | C39: =IF(F39<>F40,SUMIFS($B$5:$B$54,$F$5:$F$54,F39),"") | F39: {=IF(G39="","",_xlfn.XMATCH(G39,_xlfn._xlws.SORT(_xlfn.UNIQUE(_xlfn._xlws.FILTER($G$5:$G$150,$G$5:$G$150<>"")))))}
B40: {=IFERROR( _xlfn.LET( _xlpm.spill,_xlfn.ANCHORARRAY( $M$2), _xlpm.rowData, _xlfn.TAKE(_xlfn.DROP('Claim Entry'!40:40,,12), , COLUMNS(_xlpm.spill)), SUM(_xlfn._xlws.FILTER(_xlpm.rowData, ISNUMBER(_xlpm.rowData))) ), "")} | C40: =IF(F40<>F41,SUMIFS($B$5:$B$54,$F$5:$F$54,F40),"") | F40: {=IF(G40="","",_xlfn.XMATCH(G40,_xlfn._xlws.SORT(_xlfn.UNIQUE(_xlfn._xlws.FILTER($G$5:$G$150,$G$5:$G$150<>"")))))}
B41: {=IFERROR( _xlfn.LET( _xlpm.spill,_xlfn.ANCHORARRAY( $M$2), _xlpm.rowData, _xlfn.TAKE(_xlfn.DROP('Claim Entry'!41:41,,12), , COLUMNS(_xlpm.spill)), SUM(_xlfn._xlws.FILTER(_xlpm.rowData, ISNUMBER(_xlpm.rowData))) ), "")} | C41: =IF(F41<>F42,SUMIFS($B$5:$B$54,$F$5:$F$54,F41),"") | F41: {=IF(G41="","",_xlfn.XMATCH(G41,_xlfn._xlws.SORT(_xlfn.UNIQUE(_xlfn._xlws.FILTER($G$5:$G$150,$G$5:$G$150<>"")))))}
B42: {=IFERROR( _xlfn.LET( _xlpm.spill,_xlfn.ANCHORARRAY( $M$2), _xlpm.rowData, _xlfn.TAKE(_xlfn.DROP('Claim Entry'!42:42,,12), , COLUMNS(_xlpm.spill)), SUM(_xlfn._xlws.FILTER(_xlpm.rowData, ISNUMBER(_xlpm.rowData))) ), "")} | C42: =IF(F42<>F43,SUMIFS($B$5:$B$54,$F$5:$F$54,F42),"") | F42: {=IF(G42="","",_xlfn.XMATCH(G42,_xlfn._xlws.SORT(_xlfn.UNIQUE(_xlfn._xlws.FILTER($G$5:$G$150,$G$5:$G$150<>"")))))}
B43: {=IFERROR( _xlfn.LET( _xlpm.spill,_xlfn.ANCHORARRAY( $M$2), _xlpm.rowData, _xlfn.TAKE(_xlfn.DROP('Claim Entry'!43:43,,12), , COLUMNS(_xlpm.spill)), SUM(_xlfn._xlws.FILTER(_xlpm.rowData, ISNUMBER(_xlpm.rowData))) ), "")} | C43: =IF(F43<>F44,SUMIFS($B$5:$B$54,$F$5:$F$54,F43),"") | F43: {=IF(G43="","",_xlfn.XMATCH(G43,_xlfn._xlws.SORT(_xlfn.UNIQUE(_xlfn._xlws.FILTER($G$5:$G$150,$G$5:$G$150<>"")))))}
B44: {=IFERROR( _xlfn.LET( _xlpm.spill,_xlfn.ANCHORARRAY( $M$2), _xlpm.rowData, _xlfn.TAKE(_xlfn.DROP('Claim Entry'!44:44,,12), , COLUMNS(_xlpm.spill)), SUM(_xlfn._xlws.FILTER(_xlpm.rowData, ISNUMBER(_xlpm.rowData))) ), "")} | C44: =IF(F44<>F45,SUMIFS($B$5:$B$54,$F$5:$F$54,F44),"") | F44: {=IF(G44="","",_xlfn.XMATCH(G44,_xlfn._xlws.SORT(_xlfn.UNIQUE(_xlfn._xlws.FILTER($G$5:$G$150,$G$5:$G$150<>"")))))}
B45: {=IFERROR( _xlfn.LET( _xlpm.spill,_xlfn.ANCHORARRAY( $M$2), _xlpm.rowData, _xlfn.TAKE(_xlfn.DROP('Claim Entry'!45:45,,12), , COLUMNS(_xlpm.spill)), SUM(_xlfn._xlws.FILTER(_xlpm.rowData, ISNUMBER(_xlpm.rowData))) ), "")} | C45: =IF(F45<>F46,SUMIFS($B$5:$B$54,$F$5:$F$54,F45),"") | F45: {=IF(G45="","",_xlfn.XMATCH(G45,_xlfn._xlws.SORT(_xlfn.UNIQUE(_xlfn._xlws.FILTER($G$5:$G$150,$G$5:$G$150<>"")))))}
B46: {=IFERROR( _xlfn.LET( _xlpm.spill,_xlfn.ANCHORARRAY( $M$2), _xlpm.rowData, _xlfn.TAKE(_xlfn.DROP('Claim Entry'!46:46,,12), , COLUMNS(_xlpm.spill)), SUM(_xlfn._xlws.FILTER(_xlpm.rowData, ISNUMBER(_xlpm.rowData))) ), "")} | C46: =IF(F46<>F47,SUMIFS($B$5:$B$54,$F$5:$F$54,F46),"") | F46: {=IF(G46="","",_xlfn.XMATCH(G46,_xlfn._xlws.SORT(_xlfn.UNIQUE(_xlfn._xlws.FILTER($G$5:$G$150,$G$5:$G$150<>"")))))}
B47: {=IFERROR( _xlfn.LET( _xlpm.spill,_xlfn.ANCHORARRAY( $M$2), _xlpm.rowData, _xlfn.TAKE(_xlfn.DROP('Claim Entry'!47:47,,12), , COLUMNS(_xlpm.spill)), SUM(_xlfn._xlws.FILTER(_xlpm.rowData, ISNUMBER(_xlpm.rowData))) ), "")} | C47: =IF(F47<>F48,SUMIFS($B$5:$B$54,$F$5:$F$54,F47),"") | F47: {=IF(G47="","",_xlfn.XMATCH(G47,_xlfn._xlws.SORT(_xlfn.UNIQUE(_xlfn._xlws.FILTER($G$5:$G$150,$G$5:$G$150<>"")))))}
B48: {=IFERROR( _xlfn.LET( _xlpm.spill,_xlfn.ANCHORARRAY( $M$2), _xlpm.rowData, _xlfn.TAKE(_xlfn.DROP('Claim Entry'!48:48,,12), , COLUMNS(_xlpm.spill)), SUM(_xlfn._xlws.FILTER(_xlpm.rowData, ISNUMBER(_xlpm.rowData))) ), "")} | C48: =IF(F48<>F49,SUMIFS($B$5:$B$54,$F$5:$F$54,F48),"") | F48: {=IF(G48="","",_xlfn.XMATCH(G48,_xlfn._xlws.SORT(_xlfn.UNIQUE(_xlfn._xlws.FILTER($G$5:$G$150,$G$5:$G$150<>"")))))}
B49: {=IFERROR( _xlfn.LET( _xlpm.spill,_xlfn.ANCHORARRAY( $M$2), _xlpm.rowData, _xlfn.TAKE(_xlfn.DROP('Claim Entry'!49:49,,12), , COLUMNS(_xlpm.spill)), SUM(_xlfn._xlws.FILTER(_xlpm.rowData, ISNUMBER(_xlpm.rowData))) ), "")} | C49: =IF(F49<>F50,SUMIFS($B$5:$B$54,$F$5:$F$54,F49),"") | F49: {=IF(G49="","",_xlfn.XMATCH(G49,_xlfn._xlws.SORT(_xlfn.UNIQUE(_xlfn._xlws.FILTER($G$5:$G$150,$G$5:$G$150<>"")))))}
B50: {=IFERROR( _xlfn.LET( _xlpm.spill,_xlfn.ANCHORARRAY( $M$2), _xlpm.rowData, _xlfn.TAKE(_xlfn.DROP('Claim Entry'!50:50,,12), , COLUMNS(_xlpm.spill)), SUM(_xlfn._xlws.FILTER(_xlpm.rowData, ISNUMBER(_xlpm.rowData))) ), "")} | C50: =IF(F50<>F51,SUMIFS($B$5:$B$54,$F$5:$F$54,F50),"") | F50: {=IF(G50="","",_xlfn.XMATCH(G50,_xlfn._xlws.SORT(_xlfn.UNIQUE(_xlfn._xlws.FILTER($G$5:$G$150,$G$5:$G$150<>"")))))}
B51: {=IFERROR( _xlfn.LET( _xlpm.spill,_xlfn.ANCHORARRAY( $M$2), _xlpm.rowData, _xlfn.TAKE(_xlfn.DROP('Claim Entry'!51:51,,12), , COLUMNS(_xlpm.spill)), SUM(_xlfn._xlws.FILTER(_xlpm.rowData, ISNUMBER(_xlpm.rowData))) ), "")} | C51: =IF(F51<>F52,SUMIFS($B$5:$B$54,$F$5:$F$54,F51),"") | F51: {=IF(G51="","",_xlfn.XMATCH(G51,_xlfn._xlws.SORT(_xlfn.UNIQUE(_xlfn._xlws.FILTER($G$5:$G$150,$G$5:$G$150<>"")))))}
B52: {=IFERROR( _xlfn.LET( _xlpm.spill,_xlfn.ANCHORARRAY( $M$2), _xlpm.rowData, _xlfn.TAKE(_xlfn.DROP('Claim Entry'!52:52,,12), , COLUMNS(_xlpm.spill)), SUM(_xlfn._xlws.FILTER(_xlpm.rowData, ISNUMBER(_xlpm.rowData))) ), "")} | C52: =IF(F52<>F53,SUMIFS($B$5:$B$54,$F$5:$F$54,F52),"") | F52: {=IF(G52="","",_xlfn.XMATCH(G52,_xlfn._xlws.SORT(_xlfn.UNIQUE(_xlfn._xlws.FILTER($G$5:$G$150,$G$5:$G$150<>"")))))}
B53: {=IFERROR( _xlfn.LET( _xlpm.spill,_xlfn.ANCHORARRAY( $M$2), _xlpm.rowData, _xlfn.TAKE(_xlfn.DROP('Claim Entry'!53:53,,12), , COLUMNS(_xlpm.spill)), SUM(_xlfn._xlws.FILTER(_xlpm.rowData, ISNUMBER(_xlpm.rowData))) ), "")} | C53: =IF(F53<>F54,SUMIFS($B$5:$B$54,$F$5:$F$54,F53),"") | F53: {=IF(G53="","",_xlfn.XMATCH(G53,_xlfn._xlws.SORT(_xlfn.UNIQUE(_xlfn._xlws.FILTER($G$5:$G$150,$G$5:$G$150<>"")))))}
B54: {=IFERROR( _xlfn.LET( _xlpm.spill,_xlfn.ANCHORARRAY( $M$2), _xlpm.rowData, _xlfn.TAKE(_xlfn.DROP('Claim Entry'!54:54,,12), , COLUMNS(_xlpm.spill)), SUM(_xlfn._xlws.FILTER(_xlpm.rowData, ISNUMBER(_xlpm.rowData))) ), "")} | C54: =IF(F54<>F55,SUMIFS($B$5:$B$54,$F$5:$F$54,F54),"") | F54: {=IF(G54="","",_xlfn.XMATCH(G54,_xlfn._xlws.SORT(_xlfn.UNIQUE(_xlfn._xlws.FILTER($G$5:$G$150,$G$5:$G$150<>"")))))}
B55: {=IFERROR( _xlfn.LET( _xlpm.spill,_xlfn.ANCHORARRAY( $M$2), _xlpm.rowData, _xlfn.TAKE(_xlfn.DROP('Claim Entry'!55:55,,12), , COLUMNS(_xlpm.spill)), SUM(_xlfn._xlws.FILTER(_xlpm.rowData, ISNUMBER(_xlpm.rowData))) ), "")} | C55: =IF(F55<>F56,SUMIFS($B$5:$B$54,$F$5:$F$54,F55),"") | F55: {=IF(G55="","",_xlfn.XMATCH(G55,_xlfn._xlws.SORT(_xlfn.UNIQUE(_xlfn._xlws.FILTER($G$5:$G$150,$G$5:$G$150<>"")))))}
B56: {=IFERROR( _xlfn.LET( _xlpm.spill,_xlfn.ANCHORARRAY( $M$2), _xlpm.rowData, _xlfn.TAKE(_xlfn.DROP('Claim Entry'!56:56,,12), , COLUMNS(_xlpm.spill)), SUM(_xlfn._xlws.FILTER(_xlpm.rowData, ISNUMBER(_xlpm.rowData))) ), "")} | C56: =IF(F56<>F57,SUMIFS($B$5:$B$54,$F$5:$F$54,F56),"") | F56: {=IF(G56="","",_xlfn.XMATCH(G56,_xlfn._xlws.SORT(_xlfn.UNIQUE(_xlfn._xlws.FILTER($G$5:$G$150,$G$5:$G$150<>"")))))}
B57: {=IFERROR( _xlfn.LET( _xlpm.spill,_xlfn.ANCHORARRAY( $M$2), _xlpm.rowData, _xlfn.TAKE(_xlfn.DROP('Claim Entry'!57:57,,12), , COLUMNS(_xlpm.spill)), SUM(_xlfn._xlws.FILTER(_xlpm.rowData, ISNUMBER(_xlpm.rowData))) ), "")} | C57: =IF(F57<>F58,SUMIFS($B$5:$B$54,$F$5:$F$54,F57),"") | F57: {=IF(G57="","",_xlfn.XMATCH(G57,_xlfn._xlws.SORT(_xlfn.UNIQUE(_xlfn._xlws.FILTER($G$5:$G$150,$G$5:$G$150<>"")))))}
B58: {=IFERROR( _xlfn.LET( _xlpm.spill,_xlfn.ANCHORARRAY( $M$2), _xlpm.rowData, _xlfn.TAKE(_xlfn.DROP('Claim Entry'!58:58,,12), , COLUMNS(_xlpm.spill)), SUM(_xlfn._xlws.FILTER(_xlpm.rowData, ISNUMBER(_xlpm.rowData))) ), "")} | C58: =IF(F58<>F59,SUMIFS($B$5:$B$54,$F$5:$F$54,F58),"") | F58: {=IF(G58="","",_xlfn.XMATCH(G58,_xlfn._xlws.SORT(_xlfn.UNIQUE(_xlfn._xlws.FILTER($G$5:$G$150,$G$5:$G$150<>"")))))}
B59: {=IFERROR( _xlfn.LET( _xlpm.spill,_xlfn.ANCHORARRAY( $M$2), _xlpm.rowData, _xlfn.TAKE(_xlfn.DROP('Claim Entry'!59:59,,12), , COLUMNS(_xlpm.spill)), SUM(_xlfn._xlws.FILTER(_xlpm.rowData, ISNUMBER(_xlpm.rowData))) ), "")} | C59: =IF(F59<>F60,SUMIFS($B$5:$B$54,$F$5:$F$54,F59),"") | F59: {=IF(G59="","",_xlfn.XMATCH(G59,_xlfn._xlws.SORT(_xlfn.UNIQUE(_xlfn._xlws.FILTER($G$5:$G$150,$G$5:$G$150<>"")))))}
B60: {=IFERROR( _xlfn.LET( _xlpm.spill,_xlfn.ANCHORARRAY( $M$2), _xlpm.rowData, _xlfn.TAKE(_xlfn.DROP('Claim Entry'!60:60,,12), , COLUMNS(_xlpm.spill)), SUM(_xlfn._xlws.FILTER(_xlpm.rowData, ISNUMBER(_xlpm.rowData))) ), "")} | C60: =IF(F60<>F61,SUMIFS($B$5:$B$54,$F$5:$F$54,F60),"") | F60: {=IF(G60="","",_xlfn.XMATCH(G60,_xlfn._xlws.SORT(_xlfn.UNIQUE(_xlfn._xlws.FILTER($G$5:$G$150,$G$5:$G$150<>"")))))}
B61: {=IFERROR( _xlfn.LET( _xlpm.spill,_xlfn.ANCHORARRAY( $M$2), _xlpm.rowData, _xlfn.TAKE(_xlfn.DROP('Claim Entry'!61:61,,12), , COLUMNS(_xlpm.spill)), SUM(_xlfn._xlws.FILTER(_xlpm.rowData, ISNUMBER(_xlpm.rowData))) ), "")} | C61: =IF(F61<>F62,SUMIFS($B$5:$B$54,$F$5:$F$54,F61),"") | F61: {=IF(G61="","",_xlfn.XMATCH(G61,_xlfn._xlws.SORT(_xlfn.UNIQUE(_xlfn._xlws.FILTER($G$5:$G$150,$G$5:$G$150<>"")))))}
B62: {=IFERROR( _xlfn.LET( _xlpm.spill,_xlfn.ANCHORARRAY( $M$2), _xlpm.rowData, _xlfn.TAKE(_xlfn.DROP('Claim Entry'!62:62,,12), , COLUMNS(_xlpm.spill)), SUM(_xlfn._xlws.FILTER(_xlpm.rowData, ISNUMBER(_xlpm.rowData))) ), "")} | C62: =IF(F62<>F63,SUMIFS($B$5:$B$54,$F$5:$F$54,F62),"") | F62: {=IF(G62="","",_xlfn.XMATCH(G62,_xlfn._xlws.SORT(_xlfn.UNIQUE(_xlfn._xlws.FILTER($G$5:$G$150,$G$5:$G$150<>"")))))}
B63: {=IFERROR( _xlfn.LET( _xlpm.spill,_xlfn.ANCHORARRAY( $M$2), _xlpm.rowData, _xlfn.TAKE(_xlfn.DROP('Claim Entry'!63:63,,12), , COLUMNS(_xlpm.spill)), SUM(_xlfn._xlws.FILTER(_xlpm.rowData, ISNUMBER(_xlpm.rowData))) ), "")} | C63: =IF(F63<>F64,SUMIFS($B$5:$B$54,$F$5:$F$54,F63),"") | F63: {=IF(G63="","",_xlfn.XMATCH(G63,_xlfn._xlws.SORT(_xlfn.UNIQUE(_xlfn._xlws.FILTER($G$5:$G$150,$G$5:$G$150<>"")))))}
B64: {=IFERROR( _xlfn.LET( _xlpm.spill,_xlfn.ANCHORARRAY( $M$2), _xlpm.rowData, _xlfn.TAKE(_xlfn.DROP('Claim Entry'!64:64,,12), , COLUMNS(_xlpm.spill)), SUM(_xlfn._xlws.FILTER(_xlpm.rowData, ISNUMBER(_xlpm.rowData))) ), "")} | C64: =IF(F64<>F65,SUMIFS($B$5:$B$54,$F$5:$F$54,F64),"") | F64: {=IF(G64="","",_xlfn.XMATCH(G64,_xlfn._xlws.SORT(_xlfn.UNIQUE(_xlfn._xlws.FILTER($G$5:$G$150,$G$5:$G$150<>"")))))}
B65: {=IFERROR( _xlfn.LET( _xlpm.spill,_xlfn.ANCHORARRAY( $M$2), _xlpm.rowData, _xlfn.TAKE(_xlfn.DROP('Claim Entry'!65:65,,12), , COLUMNS(_xlpm.spill)), SUM(_xlfn._xlws.FILTER(_xlpm.rowData, ISNUMBER(_xlpm.rowData))) ), "")} | C65: =IF(F65<>F66,SUMIFS($B$5:$B$54,$F$5:$F$54,F65),"") | F65: {=IF(G65="","",_xlfn.XMATCH(G65,_xlfn._xlws.SORT(_xlfn.UNIQUE(_xlfn._xlws.FILTER($G$5:$G$150,$G$5:$G$150<>"")))))}
B66: {=IFERROR( _xlfn.LET( _xlpm.spill,_xlfn.ANCHORARRAY( $M$2), _xlpm.rowData, _xlfn.TAKE(_xlfn.DROP('Claim Entry'!66:66,,12), , COLUMNS(_xlpm.spill)), SUM(_xlfn._xlws.FILTER(_xlpm.rowData, ISNUMBER(_xlpm.rowData))) ), "")} | C66: =IF(F66<>F67,SUMIFS($B$5:$B$54,$F$5:$F$54,F66),"") | F66: {=IF(G66="","",_xlfn.XMATCH(G66,_xlfn._xlws.SORT(_xlfn.UNIQUE(_xlfn._xlws.FILTER($G$5:$G$150,$G$5:$G$150<>"")))))}
B67: {=IFERROR( _xlfn.LET( _xlpm.spill,_xlfn.ANCHORARRAY( $M$2), _xlpm.rowData, _xlfn.TAKE(_xlfn.DROP('Claim Entry'!67:67,,12), , COLUMNS(_xlpm.spill)), SUM(_xlfn._xlws.FILTER(_xlpm.rowData, ISNUMBER(_xlpm.rowData))) ), "")} | C67: =IF(F67<>F68,SUMIFS($B$5:$B$54,$F$5:$F$54,F67),"") | F67: {=IF(G67="","",_xlfn.XMATCH(G67,_xlfn._xlws.SORT(_xlfn.UNIQUE(_xlfn._xlws.FILTER($G$5:$G$150,$G$5:$G$150<>"")))))}
B68: {=IFERROR( _xlfn.LET( _xlpm.spill,_xlfn.ANCHORARRAY( $M$2), _xlpm.rowData, _xlfn.TAKE(_xlfn.DROP('Claim Entry'!68:68,,12), , COLUMNS(_xlpm.spill)), SUM(_xlfn._xlws.FILTER(_xlpm.rowData, ISNUMBER(_xlpm.rowData))) ), "")} | C68: =IF(F68<>F69,SUMIFS($B$5:$B$54,$F$5:$F$54,F68),"") | F68: {=IF(G68="","",_xlfn.XMATCH(G68,_xlfn._xlws.SORT(_xlfn.UNIQUE(_xlfn._xlws.FILTER($G$5:$G$150,$G$5:$G$150<>"")))))}
B69: {=IFERROR( _xlfn.LET( _xlpm.spill,_xlfn.ANCHORARRAY( $M$2), _xlpm.rowData, _xlfn.TAKE(_xlfn.DROP('Claim Entry'!69:69,,12), , COLUMNS(_xlpm.spill)), SUM(_xlfn._xlws.FILTER(_xlpm.rowData, ISNUMBER(_xlpm.rowData))) ), "")} | C69: =IF(F69<>F70,SUMIFS($B$5:$B$54,$F$5:$F$54,F69),"") | F69: {=IF(G69="","",_xlfn.XMATCH(G69,_xlfn._xlws.SORT(_xlfn.UNIQUE(_xlfn._xlws.FILTER($G$5:$G$150,$G$5:$G$150<>"")))))}
B70: {=IFERROR( _xlfn.LET( _xlpm.spill,_xlfn.ANCHORARRAY( $M$2), _xlpm.rowData, _xlfn.TAKE(_xlfn.DROP('Claim Entry'!70:70,,12), , COLUMNS(_xlpm.spill)), SUM(_xlfn._xlws.FILTER(_xlpm.rowData, ISNUMBER(_xlpm.rowData))) ), "")} | C70: =IF(F70<>F71,SUMIFS($B$5:$B$54,$F$5:$F$54,F70),"") | F70: {=IF(G70="","",_xlfn.XMATCH(G70,_xlfn._xlws.SORT(_xlfn.UNIQUE(_xlfn._xlws.FILTER($G$5:$G$150,$G$5:$G$150<>"")))))}
B71: {=IFERROR( _xlfn.LET( _xlpm.spill,_xlfn.ANCHORARRAY( $M$2), _xlpm.rowData, _xlfn.TAKE(_xlfn.DROP('Claim Entry'!71:71,,12), , COLUMNS(_xlpm.spill)), SUM(_xlfn._xlws.FILTER(_xlpm.rowData, ISNUMBER(_xlpm.rowData))) ), "")} | C71: =IF(F71<>F72,SUMIFS($B$5:$B$54,$F$5:$F$54,F71),"") | F71: {=IF(G71="","",_xlfn.XMATCH(G71,_xlfn._xlws.SORT(_xlfn.UNIQUE(_xlfn._xlws.FILTER($G$5:$G$150,$G$5:$G$150<>"")))))}
B72: {=IFERROR( _xlfn.LET( _xlpm.spill,_xlfn.ANCHORARRAY( $M$2), _xlpm.rowData, _xlfn.TAKE(_xlfn.DROP('Claim Entry'!72:72,,12), , COLUMNS(_xlpm.spill)), SUM(_xlfn._xlws.FILTER(_xlpm.rowData, ISNUMBER(_xlpm.rowData))) ), "")} | C72: =IF(F72<>F73,SUMIFS($B$5:$B$54,$F$5:$F$54,F72),"") | F72: {=IF(G72="","",_xlfn.XMATCH(G72,_xlfn._xlws.SORT(_xlfn.UNIQUE(_xlfn._xlws.FILTER($G$5:$G$150,$G$5:$G$150<>"")))))}
B73: {=IFERROR( _xlfn.LET( _xlpm.spill,_xlfn.ANCHORARRAY( $M$2), _xlpm.rowData, _xlfn.TAKE(_xlfn.DROP('Claim Entry'!73:73,,12), , COLUMNS(_xlpm.spill)), SUM(_xlfn._xlws.FILTER(_xlpm.rowData, ISNUMBER(_xlpm.rowData))) ), "")} | C73: =IF(F73<>F74,SUMIFS($B$5:$B$54,$F$5:$F$54,F73),"") | F73: {=IF(G73="","",_xlfn.XMATCH(G73,_xlfn._xlws.SORT(_xlfn.UNIQUE(_xlfn._xlws.FILTER($G$5:$G$150,$G$5:$G$150<>"")))))}
B74: {=IFERROR( _xlfn.LET( _xlpm.spill,_xlfn.ANCHORARRAY( $M$2), _xlpm.rowData, _xlfn.TAKE(_xlfn.DROP('Claim Entry'!74:74,,12), , COLUMNS(_xlpm.spill)), SUM(_xlfn._xlws.FILTER(_xlpm.rowData, ISNUMBER(_xlpm.rowData))) ), "")} | C74: =IF(F74<>F75,SUMIFS($B$5:$B$54,$F$5:$F$54,F74),"") | F74: {=IF(G74="","",_xlfn.XMATCH(G74,_xlfn._xlws.SORT(_xlfn.UNIQUE(_xlfn._xlws.FILTER($G$5:$G$150,$G$5:$G$150<>"")))))}
B75: {=IFERROR( _xlfn.LET( _xlpm.spill,_xlfn.ANCHORARRAY( $M$2), _xlpm.rowData, _xlfn.TAKE(_xlfn.DROP('Claim Entry'!75:75,,12), , COLUMNS(_xlpm.spill)), SUM(_xlfn._xlws.FILTER(_xlpm.rowData, ISNUMBER(_xlpm.rowData))) ), "")} | C75: =IF(F75<>F76,SUMIFS($B$5:$B$54,$F$5:$F$54,F75),"") | F75: {=IF(G75="","",_xlfn.XMATCH(G75,_xlfn._xlws.SORT(_xlfn.UNIQUE(_xlfn._xlws.FILTER($G$5:$G$150,$G$5:$G$150<>"")))))}
B76: {=IFERROR( _xlfn.LET( _xlpm.spill,_xlfn.ANCHORARRAY( $M$2), _xlpm.rowData, _xlfn.TAKE(_xlfn.DROP('Claim Entry'!76:76,,12), , COLUMNS(_xlpm.spill)), SUM(_xlfn._xlws.FILTER(_xlpm.rowData, ISNUMBER(_xlpm.rowData))) ), "")} | C76: =IF(F76<>F77,SUMIFS($B$5:$B$54,$F$5:$F$54,F76),"") | F76: {=IF(G76="","",_xlfn.XMATCH(G76,_xlfn._xlws.SORT(_xlfn.UNIQUE(_xlfn._xlws.FILTER($G$5:$G$150,$G$5:$G$150<>"")))))}
B77: {=IFERROR( _xlfn.LET( _xlpm.spill,_xlfn.ANCHORARRAY( $M$2), _xlpm.rowData, _xlfn.TAKE(_xlfn.DROP('Claim Entry'!77:77,,12), , COLUMNS(_xlpm.spill)), SUM(_xlfn._xlws.FILTER(_xlpm.rowData, ISNUMBER(_xlpm.rowData))) ), "")} | C77: =IF(F77<>F78,SUMIFS($B$5:$B$54,$F$5:$F$54,F77),"") | F77: {=IF(G77="","",_xlfn.XMATCH(G77,_xlfn._xlws.SORT(_xlfn.UNIQUE(_xlfn._xlws.FILTER($G$5:$G$150,$G$5:$G$150<>"")))))}
B78: {=IFERROR( _xlfn.LET( _xlpm.spill,_xlfn.ANCHORARRAY( $M$2), _xlpm.rowData, _xlfn.TAKE(_xlfn.DROP('Claim Entry'!78:78,,12), , COLUMNS(_xlpm.spill)), SUM(_xlfn._xlws.FILTER(_xlpm.rowData, ISNUMBER(_xlpm.rowData))) ), "")} | C78: =IF(F78<>F79,SUMIFS($B$5:$B$54,$F$5:$F$54,F78),"") | F78: {=IF(G78="","",_xlfn.XMATCH(G78,_xlfn._xlws.SORT(_xlfn.UNIQUE(_xlfn._xlws.FILTER($G$5:$G$150,$G$5:$G$150<>"")))))}
B79: {=IFERROR( _xlfn.LET( _xlpm.spill,_xlfn.ANCHORARRAY( $M$2), _xlpm.rowData, _xlfn.TAKE(_xlfn.DROP('Claim Entry'!79:79,,12), , COLUMNS(_xlpm.spill)), SUM(_xlfn._xlws.FILTER(_xlpm.rowData, ISNUMBER(_xlpm.rowData))) ), "")} | C79: =IF(F79<>F80,SUMIFS($B$5:$B$54,$F$5:$F$54,F79),"") | F79: {=IF(G79="","",_xlfn.XMATCH(G79,_xlfn._xlws.SORT(_xlfn.UNIQUE(_xlfn._xlws.FILTER($G$5:$G$150,$G$5:$G$150<>"")))))}
B80: {=IFERROR( _xlfn.LET( _xlpm.spill,_xlfn.ANCHORARRAY( $M$2), _xlpm.rowData, _xlfn.TAKE(_xlfn.DROP('Claim Entry'!80:80,,12), , COLUMNS(_xlpm.spill)), SUM(_xlfn._xlws.FILTER(_xlpm.rowData, ISNUMBER(_xlpm.rowData))) ), "")} | C80: =IF(F80<>F81,SUMIFS($B$5:$B$54,$F$5:$F$54,F80),"") | F80: {=IF(G80="","",_xlfn.XMATCH(G80,_xlfn._xlws.SORT(_xlfn.UNIQUE(_xlfn._xlws.FILTER($G$5:$G$150,$G$5:$G$150<>"")))))}
B81: {=IFERROR( _xlfn.LET( _xlpm.spill,_xlfn.ANCHORARRAY( $M$2), _xlpm.rowData, _xlfn.TAKE(_xlfn.DROP('Claim Entry'!81:81,,12), , COLUMNS(_xlpm.spill)), SUM(_xlfn._xlws.FILTER(_xlpm.rowData, ISNUMBER(_xlpm.rowData))) ), "")} | C81: =IF(F81<>F82,SUMIFS($B$5:$B$54,$F$5:$F$54,F81),"") | F81: {=IF(G81="","",_xlfn.XMATCH(G81,_xlfn._xlws.SORT(_xlfn.UNIQUE(_xlfn._xlws.FILTER($G$5:$G$150,$G$5:$G$150<>"")))))}
B82: {=IFERROR( _xlfn.LET( _xlpm.spill,_xlfn.ANCHORARRAY( $M$2), _xlpm.rowData, _xlfn.TAKE(_xlfn.DROP('Claim Entry'!82:82,,12), , COLUMNS(_xlpm.spill)), SUM(_xlfn._xlws.FILTER(_xlpm.rowData, ISNUMBER(_xlpm.rowData))) ), "")} | C82: =IF(F82<>F83,SUMIFS($B$5:$B$54,$F$5:$F$54,F82),"") | F82: {=IF(G82="","",_xlfn.XMATCH(G82,_xlfn._xlws.SORT(_xlfn.UNIQUE(_xlfn._xlws.FILTER($G$5:$G$150,$G$5:$G$150<>"")))))}
B83: {=IFERROR( _xlfn.LET( _xlpm.spill,_xlfn.ANCHORARRAY( $M$2), _xlpm.rowData, _xlfn.TAKE(_xlfn.DROP('Claim Entry'!83:83,,12), , COLUMNS(_xlpm.spill)), SUM(_xlfn._xlws.FILTER(_xlpm.rowData, ISNUMBER(_xlpm.rowData))) ), "")} | C83: =IF(F83<>F84,SUMIFS($B$5:$B$54,$F$5:$F$54,F83),"") | F83: {=IF(G83="","",_xlfn.XMATCH(G83,_xlfn._xlws.SORT(_xlfn.UNIQUE(_xlfn._xlws.FILTER($G$5:$G$150,$G$5:$G$150<>"")))))}
B84: {=IFERROR( _xlfn.LET( _xlpm.spill,_xlfn.ANCHORARRAY( $M$2), _xlpm.rowData, _xlfn.TAKE(_xlfn.DROP('Claim Entry'!84:84,,12), , COLUMNS(_xlpm.spill)), SUM(_xlfn._xlws.FILTER(_xlpm.rowData, ISNUMBER(_xlpm.rowData))) ), "")} | C84: =IF(F84<>F85,SUMIFS($B$5:$B$54,$F$5:$F$54,F84),"") | F84: {=IF(G84="","",_xlfn.XMATCH(G84,_xlfn._xlws.SORT(_xlfn.UNIQUE(_xlfn._xlws.FILTER($G$5:$G$150,$G$5:$G$150<>"")))))}
B85: {=IFERROR( _xlfn.LET( _xlpm.spill,_xlfn.ANCHORARRAY( $M$2), _xlpm.rowData, _xlfn.TAKE(_xlfn.DROP('Claim Entry'!85:85,,12), , COLUMNS(_xlpm.spill)), SUM(_xlfn._xlws.FILTER(_xlpm.rowData, ISNUMBER(_xlpm.rowData))) ), "")} | C85: =IF(F85<>F86,SUMIFS($B$5:$B$54,$F$5:$F$54,F85),"") | F85: {=IF(G85="","",_xlfn.XMATCH(G85,_xlfn._xlws.SORT(_xlfn.UNIQUE(_xlfn._xlws.FILTER($G$5:$G$150,$G$5:$G$150<>"")))))}
B86: {=IFERROR( _xlfn.LET( _xlpm.spill,_xlfn.ANCHORARRAY( $M$2), _xlpm.rowData, _xlfn.TAKE(_xlfn.DROP('Claim Entry'!86:86,,12), , COLUMNS(_xlpm.spill)), SUM(_xlfn._xlws.FILTER(_xlpm.rowData, ISNUMBER(_xlpm.rowData))) ), "")} | C86: =IF(F86<>F87,SUMIFS($B$5:$B$54,$F$5:$F$54,F86),"") | F86: {=IF(G86="","",_xlfn.XMATCH(G86,_xlfn._xlws.SORT(_xlfn.UNIQUE(_xlfn._xlws.FILTER($G$5:$G$150,$G$5:$G$150<>"")))))}
B87: {=IFERROR( _xlfn.LET( _xlpm.spill,_xlfn.ANCHORARRAY( $M$2), _xlpm.rowData, _xlfn.TAKE(_xlfn.DROP('Claim Entry'!87:87,,12), , COLUMNS(_xlpm.spill)), SUM(_xlfn._xlws.FILTER(_xlpm.rowData, ISNUMBER(_xlpm.rowData))) ), "")} | C87: =IF(F87<>F88,SUMIFS($B$5:$B$54,$F$5:$F$54,F87),"") | F87: {=IF(G87="","",_xlfn.XMATCH(G87,_xlfn._xlws.SORT(_xlfn.UNIQUE(_xlfn._xlws.FILTER($G$5:$G$150,$G$5:$G$150<>"")))))}
B88: {=IFERROR( _xlfn.LET( _xlpm.spill,_xlfn.ANCHORARRAY( $M$2), _xlpm.rowData, _xlfn.TAKE(_xlfn.DROP('Claim Entry'!88:88,,12), , COLUMNS(_xlpm.spill)), SUM(_xlfn._xlws.FILTER(_xlpm.rowData, ISNUMBER(_xlpm.rowData))) ), "")} | C88: =IF(F88<>F89,SUMIFS($B$5:$B$54,$F$5:$F$54,F88),"") | F88: {=IF(G88="","",_xlfn.XMATCH(G88,_xlfn._xlws.SORT(_xlfn.UNIQUE(_xlfn._xlws.FILTER($G$5:$G$150,$G$5:$G$150<>"")))))}
B89: {=IFERROR( _xlfn.LET( _xlpm.spill,_xlfn.ANCHORARRAY( $M$2), _xlpm.rowData, _xlfn.TAKE(_xlfn.DROP('Claim Entry'!89:89,,12), , COLUMNS(_xlpm.spill)), SUM(_xlfn._xlws.FILTER(_xlpm.rowData, ISNUMBER(_xlpm.rowData))) ), "")} | C89: =IF(F89<>F90,SUMIFS($B$5:$B$54,$F$5:$F$54,F89),"") | F89: {=IF(G89="","",_xlfn.XMATCH(G89,_xlfn._xlws.SORT(_xlfn.UNIQUE(_xlfn._xlws.FILTER($G$5:$G$150,$G$5:$G$150<>"")))))}
B90: {=IFERROR( _xlfn.LET( _xlpm.spill,_xlfn.ANCHORARRAY( $M$2), _xlpm.rowData, _xlfn.TAKE(_xlfn.DROP('Claim Entry'!90:90,,12), , COLUMNS(_xlpm.spill)), SUM(_xlfn._xlws.FILTER(_xlpm.rowData, ISNUMBER(_xlpm.rowData))) ), "")} | C90: =IF(F90<>F91,SUMIFS($B$5:$B$54,$F$5:$F$54,F90),"") | F90: {=IF(G90="","",_xlfn.XMATCH(G90,_xlfn._xlws.SORT(_xlfn.UNIQUE(_xlfn._xlws.FILTER($G$5:$G$150,$G$5:$G$150<>"")))))}
B91: {=IFERROR( _xlfn.LET( _xlpm.spill,_xlfn.ANCHORARRAY( $M$2), _xlpm.rowData, _xlfn.TAKE(_xlfn.DROP('Claim Entry'!91:91,,12), , COLUMNS(_xlpm.spill)), SUM(_xlfn._xlws.FILTER(_xlpm.rowData, ISNUMBER(_xlpm.rowData))) ), "")} | C91: =IF(F91<>F92,SUMIFS($B$5:$B$54,$F$5:$F$54,F91),"") | F91: {=IF(G91="","",_xlfn.XMATCH(G91,_xlfn._xlws.SORT(_xlfn.UNIQUE(_xlfn._xlws.FILTER($G$5:$G$150,$G$5:$G$150<>"")))))}
B92: {=IFERROR( _xlfn.LET( _xlpm.spill,_xlfn.ANCHORARRAY( $M$2), _xlpm.rowData, _xlfn.TAKE(_xlfn.DROP('Claim Entry'!92:92,,12), , COLUMNS(_xlpm.spill)), SUM(_xlfn._xlws.FILTER(_xlpm.rowData, ISNUMBER(_xlpm.rowData))) ), "")} | C92: =IF(F92<>F93,SUMIFS($B$5:$B$54,$F$5:$F$54,F92),"") | F92: {=IF(G92="","",_xlfn.XMATCH(G92,_xlfn._xlws.SORT(_xlfn.UNIQUE(_xlfn._xlws.FILTER($G$5:$G$150,$G$5:$G$150<>"")))))}
B93: {=IFERROR( _xlfn.LET( _xlpm.spill,_xlfn.ANCHORARRAY( $M$2), _xlpm.rowData, _xlfn.TAKE(_xlfn.DROP('Claim Entry'!93:93,,12), , COLUMNS(_xlpm.spill)), SUM(_xlfn._xlws.FILTER(_xlpm.rowData, ISNUMBER(_xlpm.rowData))) ), "")} | C93: =IF(F93<>F94,SUMIFS($B$5:$B$54,$F$5:$F$54,F93),"") | F93: {=IF(G93="","",_xlfn.XMATCH(G93,_xlfn._xlws.SORT(_xlfn.UNIQUE(_xlfn._xlws.FILTER($G$5:$G$150,$G$5:$G$150<>"")))))}
B94: {=IFERROR( _xlfn.LET( _xlpm.spill,_xlfn.ANCHORARRAY( $M$2), _xlpm.rowData, _xlfn.TAKE(_xlfn.DROP('Claim Entry'!94:94,,12), , COLUMNS(_xlpm.spill)), SUM(_xlfn._xlws.FILTER(_xlpm.rowData, ISNUMBER(_xlpm.rowData))) ), "")} | C94: =IF(F94<>F95,SUMIFS($B$5:$B$54,$F$5:$F$54,F94),"") | F94: {=IF(G94="","",_xlfn.XMATCH(G94,_xlfn._xlws.SORT(_xlfn.UNIQUE(_xlfn._xlws.FILTER($G$5:$G$150,$G$5:$G$150<>"")))))}
B95: {=IFERROR( _xlfn.LET( _xlpm.spill,_xlfn.ANCHORARRAY( $M$2), _xlpm.rowData, _xlfn.TAKE(_xlfn.DROP('Claim Entry'!95:95,,12), , COLUMNS(_xlpm.spill)), SUM(_xlfn._xlws.FILTER(_xlpm.rowData, ISNUMBER(_xlpm.rowData))) ), "")} | C95: =IF(F95<>F96,SUMIFS($B$5:$B$54,$F$5:$F$54,F95),"") | F95: {=IF(G95="","",_xlfn.XMATCH(G95,_xlfn._xlws.SORT(_xlfn.UNIQUE(_xlfn._xlws.FILTER($G$5:$G$150,$G$5:$G$150<>"")))))}
B96: {=IFERROR( _xlfn.LET( _xlpm.spill,_xlfn.ANCHORARRAY( $M$2), _xlpm.rowData, _xlfn.TAKE(_xlfn.DROP('Claim Entry'!96:96,,12), , COLUMNS(_xlpm.spill)), SUM(_xlfn._xlws.FILTER(_xlpm.rowData, ISNUMBER(_xlpm.rowData))) ), "")} | C96: =IF(F96<>F97,SUMIFS($B$5:$B$54,$F$5:$F$54,F96),"") | F96: {=IF(G96="","",_xlfn.XMATCH(G96,_xlfn._xlws.SORT(_xlfn.UNIQUE(_xlfn._xlws.FILTER($G$5:$G$150,$G$5:$G$150<>"")))))}
B97: {=IFERROR( _xlfn.LET( _xlpm.spill,_xlfn.ANCHORARRAY( $M$2), _xlpm.rowData, _xlfn.TAKE(_xlfn.DROP('Claim Entry'!97:97,,12), , COLUMNS(_xlpm.spill)), SUM(_xlfn._xlws.FILTER(_xlpm.rowData, ISNUMBER(_xlpm.rowData))) ), "")} | C97: =IF(F97<>F98,SUMIFS($B$5:$B$54,$F$5:$F$54,F97),"") | F97: {=IF(G97="","",_xlfn.XMATCH(G97,_xlfn._xlws.SORT(_xlfn.UNIQUE(_xlfn._xlws.FILTER($G$5:$G$150,$G$5:$G$150<>"")))))}
B98: {=IFERROR( _xlfn.LET( _xlpm.spill,_xlfn.ANCHORARRAY( $M$2), _xlpm.rowData, _xlfn.TAKE(_xlfn.DROP('Claim Entry'!98:98,,12), , COLUMNS(_xlpm.spill)), SUM(_xlfn._xlws.FILTER(_xlpm.rowData, ISNUMBER(_xlpm.rowData))) ), "")} | C98: =IF(F98<>F99,SUMIFS($B$5:$B$54,$F$5:$F$54,F98),"") | F98: {=IF(G98="","",_xlfn.XMATCH(G98,_xlfn._xlws.SORT(_xlfn.UNIQUE(_xlfn._xlws.FILTER($G$5:$G$150,$G$5:$G$150<>"")))))}
B99: {=IFERROR( _xlfn.LET( _xlpm.spill,_xlfn.ANCHORARRAY( $M$2), _xlpm.rowData, _xlfn.TAKE(_xlfn.DROP('Claim Entry'!99:99,,12), , COLUMNS(_xlpm.spill)), SUM(_xlfn._xlws.FILTER(_xlpm.rowData, ISNUMBER(_xlpm.rowData))) ), "")} | C99: =IF(F99<>F100,SUMIFS($B$5:$B$54,$F$5:$F$54,F99),"") | F99: {=IF(G99="","",_xlfn.XMATCH(G99,_xlfn._xlws.SORT(_xlfn.UNIQUE(_xlfn._xlws.FILTER($G$5:$G$150,$G$5:$G$150<>"")))))}
B100: {=IFERROR( _xlfn.LET( _xlpm.spill,_xlfn.ANCHORARRAY( $M$2), _xlpm.rowData, _xlfn.TAKE(_xlfn.DROP('Claim Entry'!100:100,,12), , COLUMNS(_xlpm.spill)), SUM(_xlfn._xlws.FILTER(_xlpm.rowData, ISNUMBER(_xlpm.rowData))) ), "")} | C100: =IF(F100<>F101,SUMIFS($B$5:$B$54,$F$5:$F$54,F100),"") | F100: {=IF(G100="","",_xlfn.XMATCH(G100,_xlfn._xlws.SORT(_xlfn.UNIQUE(_xlfn._xlws.FILTER($G$5:$G$150,$G$5:$G$150<>"")))))}
B101: {=IFERROR( _xlfn.LET( _xlpm.spill,_xlfn.ANCHORARRAY( $M$2), _xlpm.rowData, _xlfn.TAKE(_xlfn.DROP('Claim Entry'!101:101,,12), , COLUMNS(_xlpm.spill)), SUM(_xlfn._xlws.FILTER(_xlpm.rowData, ISNUMBER(_xlpm.rowData))) ), "")} | C101: =IF(F101<>F102,SUMIFS($B$5:$B$54,$F$5:$F$54,F101),"") | F101: {=IF(G101="","",_xlfn.XMATCH(G101,_xlfn._xlws.SORT(_xlfn.UNIQUE(_xlfn._xlws.FILTER($G$5:$G$150,$G$5:$G$150<>"")))))}
...

Sheet Claim Totals
C2: Summary of Totals from 'Claim Entry' Sheet
D4: {=INDEX(_xlfn.ANCHORARRAY('Claim Entry'!M2), 3, 0)} -> #REF!
C5: Subgrant Number | D5: {=INDEX(_xlfn.ANCHORARRAY('Claim Entry'!M2), 2, 0)} -> #REF!
C6: Amount Allocated for SY 25-26 | D6: {=IF(_xlfn.ANCHORARRAY(D4)="","",2023)} -> #REF!
C7: Remaining Amount Available | D7: {=_xlfn.ANCHORARRAY(D6)-_xlfn.ANCHORARRAY(D8)} -> #REF!
A8: Claim No. | B8: Claim Date | C8: Totals by Site ⇒ & by Claim No. ⇓ | D8: {=_xlfn.BYCOL(_xlfn.ANCHORARRAY(D9), _xlfn.LAMBDA(_xlpm.c, SUM(_xlpm.c)))} -> #REF!
A9: {=_xlfn.UNIQUE(_xlfn._xlws.FILTER('Claim Entry'!$F$5:$F$200, 'Claim Entry'!$F$5:$F$200<>""))} -> #VALUE! | B9: {=_xlfn.XLOOKUP(_xlfn.ANCHORARRAY(A9),'Claim Entry'!$F$5:$F$200,'Claim Entry'!$G$5:$G$200)} -> #VALUE! | C9: {=_xlfn.BYROW(_xlfn.ANCHORARRAY(D9), _xlfn.LAMBDA(_xlpm.r, SUM(_xlpm.r)))} -> #REF! | D9: {=_xlfn.MAKEARRAY( ROWS(_xlfn.ANCHORARRAY('Claim Totals'!B9)), COLUMNS(INDEX(_xlfn.ANCHORARRAY('Claim Entry'!M2), 3, 0)), _xlfn.LAMBDA(_xlpm.r,_xlpm.c, SUMPRODUCT( ('Claim Entry'!$G$5:$G$200 = INDEX(_xlfn.ANCHORARRAY('Claim Totals'!B9), _xlpm.r)) * OFFSET('Claim Entry'!M5, 0, _xlpm.c-1, ROWS('Claim Entry'!$G$5:$G$200), 1) ) ) )} -> #REF!

Sheet sponsor dropdowns
A1: Select Sponsor | C1: Site Num | D1: Sites | E1: Subgrant No. | G1: Reasons | I1: Select Sponsor | J1: Site Num | K1: Sites | L1: Subgrant No.
A2: Adrian SD 61 | C2: {=IF( OR(Sponsor_Name = "", Sponsor_Name = "Select Sponsor"), "", _xlfn.CHOOSECOLS(_xlfn._xlws.FILTER('BATB Reqd'!A:G,'BATB Reqd'!B:B = Sponsor_Name), 3, 4, 7) )} | G2: Advertisement and promotion | I2: Wild Things Unified School District | J2: 90001 | K2: Max's Island Elementary School | L2: SG-90001-ME
A3: Alsea SD 7J | G3: Create more appealing, nutritious offerings for students | I3: Wild Things Unified School District | J3: 90002 | K3: Rumpus Middle School | L3: SG-90002-RM
A4: Amity SD 4J | G4: Crowd Control | I4: Wild Things Unified School District | J4: 90003 | K4: Crown & Scepter High School | L4: SG-90003-CS
A5: Ashland SD 5 | G5: Efficient service lines
A6: Astoria SD | G6: Enhance breakfast after the bell serving area
A7: Athena-Weston SD 29RJ | G7: Improve efficiency of kitchen
A8: Baker SD 5J | G8: Maintain safe serving temperatures
A9: Bandon SD 54 | G9: Organize food and supplies storage
A10: Bend-LaPine SD | G10: Prepare or serve food
A11: Bethel SD 52 | G11: Quicker wait time for students to receive a reimbursable meal
A12: Brookings-Harbor SD 17C | G12: Racks for organization
A13: Butte Falls SD 91 | G13: Sanitation or food safety
A14: Camas Valley SD 21J | G14: Serve grab and go and second chance breakfast models
A15: Canby SD 86 | G15: Transporting food to service area
A16: Cascade SD 5 | G16: Upgrade/Replace/Repair Equipment
A17: Centennial SD 28J | G17: Will increase participation
A18: Central Curry SD 1
A19: Central Linn SD 552
A20: Central Point SD
A21: Central SD 13J
A22: Clatskanie SD 6J
A23: Condon SD 25J
A24: Coos Bay SD 9
A25: Coquille SD
A26: Corvallis SD 509J
A27: Creswell SD 40
A28: Crook Co SD
A29: Crow-Applegate-Lorane
... A140: Yoncalla SD 32

Sheet BATB Reqd
A1: Sponsor Number | B1: Sponsor Name | C1: Site Number | D1: Site Name | E1: BAtB Required | F1: BAtB Exemption Eligible | G1: Grant No. | H1: Round | I1: Agreement or Amendment
A2: 2301001 | B2: Adrian SD 61 | C2: 10792 | D2: Adrian Elem | E2: Yes | G2: 90847 | H2: 2 | I2: New Agreement
A3: 201001 | B3: Alsea SD 7J | C3: 15014 | D3: Alsea Schools | E3: Yes | G3: 87790 | H3: 1
A4: 3601002 | B4: Amity SD 4J | C4: 10161 | D4: Amity Elementary | E4: Yes | G4: 91087 | H4: 2 | I4: New Agreement
A5: 1501002 | B5: Ashland SD 5 | C5: 10471 | D5: Bellview Elem | E5: Yes | G5: 91088 | H5: 2 | I5: New Agreement
A6: 1501002 | B6: Ashland SD 5 | C6: 10475 | D6: Walker Elem | E6: Yes | G6: 91089 | H6: 2 | I6: New Agreement
A7: 401002 | B7: Astoria SD | C7: 10010 | D7: Astor Elementary | E7: Yes | G7: 87808 | H7: 1
A8: 3001001 | B8: Athena-Weston SD 29RJ | C8: 14206 | D8: Athena Elementary | E8: Yes | G8: 87809 | H8: 1
A9: 3001001 | B9: Athena-Weston SD 29RJ | C9: 11116 | D9: Weston Middle | E9: Yes | G9: 87810 | H9: 1
A10: 102001 | B10: Baker SD 5J | C10: 16662 | D10: Baker Early Learning Center | E10: Yes | F10: Yes | G10: 87811 | H10: 1
A11: 102001 | B11: Baker SD 5J | C11: 10017 | D11: Brooklyn Primary School | E11: Yes | F11: Yes | G11: 87812 | H11: 1
A12: 102001 | B12: Baker SD 5J | C12: 14855 | D12: Eagle Cap | E12: Yes | G12: 87813 | H12: 1
A13: 102001 | B13: Baker SD 5J | C13: 16879 | D13: Eastern Oregon Headstart Baker Center | E13: Yes | F13: Yes | G13: 87814 | H13: 1
A14: 102001 | B14: Baker SD 5J | C14: 10022 | D14: South Baker Elementary | E14: Yes | G14: 87815 | H14: 1
A15: 602001 | B15: Bandon SD 54 | C15: 10354 | D15: Harbor Lights Middle | E15: Yes | G15: 91090 | H15: 2 | I15: New Agreement
A16: 602001 | B16: Bandon SD 54 | C16: 10355 | D16: Ocean Crest Elem | E16: Yes | G16: 91091 | H16: 2 | I16: New Agreement
A17: 602001 | B17: Bandon SD 54 | C17: 10353 | D17: Bandon Sr High | E17: Yes | G17: 91092 | H17: 2 | I17: New Agreement
A18: 902001 | B18: Bend-LaPine SD | C18: 12278 | D18: Education Center | E18: Yes | G18: 91130 | H18: 2 | I18: New Amendment
A19: 902001 | B19: Bend-LaPine SD | C19: 10036 | D19: Bear Creek Elementary | E19: Yes | G19: 87867 | H19: 1
A20: 902001 | B20: Bend-LaPine SD | C20: 10038 | D20: Elk Meadow Elementary | E20: Yes | G20: 87875 | H20: 1
A21: 902001 | B21: Bend-LaPine SD | C21: 13454 | D21: Ensworth Elementary | E21: Yes | G21: 87876 | H21: 1
A22: 902001 | B22: Bend-LaPine SD | C22: 10042 | D22: LaPine Elementary | E22: Yes | G22: 87877 | H22: 1
A23: 902001 | B23: Bend-LaPine SD | C23: 10028 | D23: LaPine High School | E23: Yes | G23: 87878 | H23: 1
A24: 902001 | B24: Bend-LaPine SD | C24: 10033 | D24: LaPine Middle School | E24: Yes | G24: 87879 | H24: 1
A25: 902001 | B25: Bend-LaPine SD | C25: 14788 | D25: Rosland Elementary | E25: Yes | G25: 87880 | H25: 1
A26: 2002002 | B26: Bethel SD 52 | C26: 10581 | D26: Cascade Middle | E26: Yes | G26: 87881 | H26: 1
A27: 2002002 | B27: Bethel SD 52 | C27: 10584 | D27: Danebo Elem | E27: Yes | G27: 87882 | H27: 1
A28: 2002002 | B28: Bethel SD 52 | C28: 10585 | D28: Fairfield Elem | E28: Yes | G28: 87883 | H28: 1
A29: 2002002 | B29: Bethel SD 52 | C29: 10587 | D29: Malabon Elem | E29: Yes | G29: 87884 | H29: 1
A30: 2002002 | B30: Bethel SD 52 | C30: 10586 | D30: Irving Elem | E30: Yes | G30: 91131 | H30: 2 | I30: New Amendment
A31: 2002002 | B31: Bethel SD 52 | C31: 10580 | D31: Willamette High | E31: Yes | G31: 91132 | H31: 2 | I31: New Amendment
A32: 2002002 | B32: Bethel SD 52 | C32: 12984 | D32: Prairie Mountain School | E32: Yes | G32: 91133 | H32: 2 | I32: New Amendment
A33: 802001 | B33: Brookings-Harbor SD 17C | C33: 10389 | D33: Azalea Middle | E33: Yes | G33: 87885 | H33: 1
A34: 802001 | B34: Brookings-Harbor SD 17C | C34: 10388 | D34: Brooking-Harbor High | E34: Yes | G34: 87886 | H34: 1
A35: 802001 | B35: Brookings-Harbor SD 17C | C35: 10390 | D35: Kalmiopsis Elem | E35: Yes | G35: 87887 | H35: 1
A36: 1502001 | B36: Butte Falls SD 91 | C36: 14200 | D36: Butte Falls Elementary Charter School | E36: Yes | F36: Yes | G36: 87888 | H36: 1
A37: 1502001 | B37: Butte Falls SD 91 | C37: 10476 | D37: Butte Falls High School Charter School | E37: Yes | G37: 87889 | H37: 1
A38: 1003001 | B38: Camas Valley SD 21J | C38: 10406 | D38: Camas Valley School | E38: Yes | G38: 91093 | H38: 2 | I38: New Agreement
A39: 303003 | B39: Canby SD 86 | C39: 10201 | D39: Carus School | E39: Yes | G39: 91094 | H39: 2 | I39: New Agreement
A40: 303003 | B40: Canby SD 86 | C40: 10204 | D40: Trost Elem | E40: Yes | G40: 91095 | H40: 2 | I40: New Agreement
A41: 303003 | B41: Canby SD 86 | C41: 13753 | D41: Lee Elementary | E41: Yes | G41: 91096 | H41: 2 | I41: New Agreement
A42: 2403005 | B42: Cascade SD 5 | C42: 10814 | D42: Aumsville Elem | E42: Yes | G42: 87890 | H42: 1
A43: 2403005 | B43: Cascade SD 5 | C43: 16024 | D43: Cascade Opportunity Center | E43: Yes | G43: 87891 | H43: 1
A44: 2603006 | B44: Centennial SD 28J | C44: 10925 | D44: Meadows Elem | E44: Yes | G44: 87892 | H44: 1
A45: 2603006 | B45: Centennial SD 28J | C45: 16822 | D45: Oliver Middle School | E45: Yes | G45: 87896 | H45: 1
A46: 2603006 | B46: Centennial SD 28J | C46: 10930 | D46: Parklane Elem | E46: Yes | G46: 87895 | H46: 1
A47: 2603006 | B47: Centennial SD 28J | C47: 10926 | D47: Patrick Lynch Elem | E47: Yes | G47: 87893 | H47: 1
A48: 2603006 | B48: Centennial SD 28J | C48: 10927 | D48: Powell Butte Elem | E48: Yes | G48: 87894 | H48: 1
A49: 2603006 | B49: Centennial SD 28J | C49: 10924 | D49: Centennial Middle | E49: Yes | G49: 91134 | H49: 2 | I49: New Amendment
A50: 2603006 | B50: Centennial SD 28J | C50: 10928 | D50: Pleasant Valley Elem | E50: Yes | G50: 91135 | H50: 2 | I50: New Amendment
A51: 2603006 | B51: Centennial SD 28J | C51: 10922 | D51: Centennial High | E51: Yes | G51: 91136 | H51: 2 | I51: New Amendment
A52: 2603006 | B52: Centennial SD 28J | C52: 13132 | D52: Butler Creek Elem | E52: Yes | G52: 91137 | H52: 2 | I52: New Amendment
A53: 2603006 | B53: Centennial SD 28J | C53: 16886 | D53: Centennial Transition Center - CTC | E53: Yes | G53: 91138 | H53: 2 | I53: New Amendment
A54: 803001 | B54: Central Curry SD 1 | C54: 10052 | D54: Riley Creek Elementary | E54: Yes | G54: 87951 | H54: 1
A55: 803001 | B55: Central Curry SD 1 | C55: 10081 | D55: Gold Beach High School | E55: Yes | G55: 91139 | H55: 2 | I55: New Amendment
A56: 2203003 | B56: Central Linn SD 552 | C56: 11682 | D56: Central Linn Elementary | E56: Yes | G56: 91097 | H56: 2 | I56: New Agreement
A57: 1503002 | B57: Central Point SD | C57: 11627 | D57: Jewett Elementary | E57: Yes | G57: 87952 | H57: 1
A58: 1503002 | B58: Central Point SD | C58: 11628 | D58: Richardson Elementary | E58: Yes | G58: 87953 | H58: 1
A59: 1503002 | B59: Central Point SD | C59: 16828 | D59: Rogue Primary | E59: Yes | G59: 87954 | H59: 1
A60: 1503002 | B60: Central Point SD | C60: 11629 | D60: Hanby Middle School | E60: Yes | G60: 91140 | H60: 2 | I60: New Amendment
A61: 1503002 | B61: Central Point SD | C61: 11624 | D61: Crater High School | E61: Yes | G61: 91141 | H61: 2 | I61: New Amendment
A62: 2703001 | B62: Central SD 13J | C62: 12999 | D62: Ash Creek | E62: Yes | G62: 87955 | H62: 1
A63: 2703001 | B63: Central SD 13J | C63: 11089 | D63: Central High | E63: Yes | G63: 87956 | H63: 1
A64: 2703001 | B64: Central SD 13J | C64: 11092 | D64: Independence Elem | E64: Yes | G64: 87957 | H64: 1
A65: 2703001 | B65: Central SD 13J | C65: 11093 | D65: Monmouth Elem | E65: Yes | G65: 87958 | H65: 1
A66: 2703001 | B66: Central SD 13J | C66: 11090 | D66: Talmadge Middle | E66: Yes | G66: 87959 | H66: 1
A67: 503001 | B67: Clatskanie SD 6J | C67: 10327 | D67: Clatskanie Elem | E67: Yes | G67: 87998 | H67: 1
A68: 1103001 | B68: Condon SD 25J | C68: 14199 | D68: Condon Elementary School | E68: Yes | G68: 91098 | H68: 2 | I68: New Agreement
A69: 603004 | B69: Coos Bay SD 9 | C69: 10359 | D69: Eastside Elementary | E69: Yes | G69: 87999 | H69: 1
A70: 603004 | B70: Coos Bay SD 9 | C70: 13503 | D70: Harding Building | E70: Yes | G70: 88000 | H70: 1
A71: 603004 | B71: Coos Bay SD 9 | C71: 16516 | D71: Little Pirates Preschool | E71: Yes | F71: Yes | G71: 88001 | H71: 1
A72: 603004 | B72: Coos Bay SD 9 | C72: 10363 | D72: Madison Elem | E72: Yes | G72: 88002 | H72: 1
A73: 603004 | B73: Coos Bay SD 9 | C73: 16464 | D73: Marshfield Junior High School | E73: Yes | G73: 88003 | H73: 1
A74: 603004 | B74: Coos Bay SD 9 | C74: 10358 | D74: Sunset Middle | E74: Yes | G74: 88004 | H74: 1
A75: 603005 | B75: Coquille SD | C75: 10057 | D75: Lincoln Elementary | E75: Yes | G75: 88005 | H75: 1
A76: 603005 | B76: Coquille SD | C76: 16017 | D76: Powers Elementary | E76: Yes | G76: 88006 | H76: 1
A77: 603005 | B77: Coquille SD | C77: 16016 | D77: Powers High School | E77: Yes | G77: 88007 | H77: 1
A78: 603005 | B78: Coquille SD | C78: 16324 | D78: Winter Lakes Elementary | E78: Yes | G78: 88008 | H78: 1
A79: 603005 | B79: Coquille SD | C79: 15023 | D79: Winter Lakes High School | E79: Yes | G79: 88009 | H79: 1
A80: 603005 | B80: Coquille SD | C80: 16300 | D80: Coquille Jr./Sr. High | E80: Yes | G80: 91142 | H80: 2 | I80: New Amendment
A81: 603005 | B81: Coquille SD | C81: 15501 | D81: Coquille Valley Elementary | E81: Yes | G81: 91143 | H81: 2 | I81: New Amendment
A82: 203003 | B82: Corvallis SD 509J | C82: 10178 | D82: Garfield Elem | E82: Yes | G82: 88010 | H82: 1
A83: 203003 | B83: Corvallis SD 509J | C83: 10185 | D83: Letitia Carson Elementary | E83: Yes | G83: 88011 | H83: 1
A84: 203003 | B84: Corvallis SD 509J | C84: 10183 | D84: Lincoln Elem | E84: Yes | G84: 88012 | H84: 1
A85: 203003 | B85: Corvallis SD 509J | C85: 10184 | D85: Mt View Elem | E85: Yes | G85: 88013 | H85: 1
A86: 2003008 | B86: Creswell SD 40 | C86: 10594 | D86: Creslane Elem | E86: Yes | G86: 91099 | H86: 2 | I86: New Agreement
A87: 703001 | B87: Crook Co SD | C87: 16101 | D87: Pioneer Alternative High School | E87: Yes | G87: 88014 | H87: 1
A88: 703001 | B88: Crook Co SD | C88: 10061 | D88: Crooked River Elementary | E88: Yes | G88: 91144 | H88: 2 | I88: New Amendment
A89: 703001 | B89: Crook Co SD | C89: 10059 | D89: Crook Co Middle School | E89: Yes | G89: 91145 | H89: 2 | I89: New Amendment
A90: 703001 | B90: Crook Co SD | C90: 15675 | D90: Barnes Butte Elementary | E90: Yes | G90: 91146 | H90: 2 | I90: New Amendment
A91: 2003009 | B91: Crow-Applegate-Lorane | C91: 10597 | D91: Applegate Elem | E91: Yes | F91: Yes | G91: 88015 | H91: 1
A92: 1603003 | B92: Culver SD | C92: 14202 | D92: Culver Elementary School | E92: Yes | G92: 88016 | H92: 1
A93: 1603003 | B93: Culver SD | C93: 14201 | D93: Culver Middle School | E93: Yes | G93: 88017 | H93: 1
A94: 2704001 | B94: Dallas SD | C94: 11095 | D94: Dallas High (Morrison Campus) | E94: Yes | G94: 88018 | H94: 1
A95: 2704001 | B95: Dallas SD | C95: 10066 | D95: LaCreole Middle School | E95: Yes | G95: 88019 | H95: 1
A96: 2704001 | B96: Dallas SD | C96: 10068 | D96: Lyle Elementary | E96: Yes | G96: 88020 | H96: 1
A97: 2704001 | B97: Dallas SD | C97: 10069 | D97: Oakdale Heights Elementary | E97: Yes | G97: 88021 | H97: 1
A98: 2604001 | B98: David Douglas SD 40 | C98: 10937 | D98: Alice Ott Middle | E98: Yes | G98: 88022 | H98: 1
A99: 2604001 | B99: David Douglas SD 40 | C99: 10939 | D99: Cherry Park Elem | E99: Yes | G99: 88023 | H99: 1
A100: 2604001 | B100: David Douglas SD 40 | C100: 12494 | D100: Earl Boyles | E100: Yes | G100: 88024 | H100: 1
...
