Workbook
Name howqualified: '[1]claim worksheet'!$F$2:$F$4

Sheet Instructions
A1: Claim Sheet Template for ODE Fresh Fruit & Vegetable Program (FFVP) FY 2026-2027 | E1: Version updated 8/11/26 AJL
A2: Complete a separate claim sheet for each school.
A3: Examples for food purchases ONLY. Enter items on yellow "FOOD" tab below.
A4: Invoice Date | B4: Service Date | C4: Vendor (distributor or producer) | D4: Secondary Source (farm or producer, if different than vendor) | E4: Item - product description | F4: Unit Type (case, ea, lbs, etc.) | G4: Quantity (number of units) | H4: Cost per Unit | I4: Total for Item | J4: FFVP Local: Identify items that were grown in Oregon | K4: Indentify items that were served cooked
A5: 46337 | B5: 46343 | C5: US Foods | D5: Randy's Radishes | E5: radish watermelon | F5: lbs | G5: 11 | H5: 3.99 | I5: =+G5*H5 -> 43.89 | J5: FALSE | K5: FALSE
A6: 46338 | B6: 46344 | C6: US Foods | D6: Randy's Radishes | E6: radish easter egg | F6: lbs | G6: 9 | H6: 3.99 | I6: =+G6*H6 -> 35.91
A7: 46339 | B7: 46346 | C7: US Foods | D7: Randy's Radishes | E7: radish daikon | F7: lbs | G7: 3 | H7: 4.99 | I7: =+G7*H7 -> 14.97
A8: 46340 | B8: 46350 | C8: US Foods | E8: carrots rainbow | F8: lbs | G8: 7 | H8: 1.99 | I8: =+G8*H8 -> 13.93 | K8: TRUE
A9: 46339 | B9: 46353 | C9: G's grapes | E9: grapes cotton candy | F9: case | G9: 3 | H9: 24 | I9: =+G9*H9 -> 72 | J9: FALSE
A10: 46346 | B10: 46356 | C10: Brock Lee's Produce Hub | E10: chard rainbow | F10: lbs | G10: 2 | H10: 3.99 | I10: =+G10*H10 -> 7.98 | J10: TRUE
I11: =+G11*H11 -> 0
I12: =+G12*H12 -> 0
I13: =+G13*H13 -> 0
I14: =+G14*H14 -> 0
I15: =+G15*H15 -> 0
I16: =+G16*H16 -> 0
I17: =+G17*H17 -> 0
I18: =+G18*H18 -> 0
I19: =+G19*H19 -> 0
I20: =+G20*H20 -> 0
I21: =+G21*H21 -> 0
I22: =+G22*H22 -> 0
... I28: =+G28*H28 -> 0
I29: =SUM(I5:I28) -> 188.68
A45: Note: totals are rounded to 2 decimals which may explain some discrepancies in cents totals.

Sheet Deadlines
A1: FFVP Programming Deadlines
A3: Returning grantees must begin FFVP programming within the first month of the grant period (October) to be considered for automatic rolloverr to the next FFVP grant period.
A4: New grantees must begin FFVP programming by the second month of the grant period (November) to be considered for automatic rolloverr to the next FFVP grant period.
A5: This is indicated through timely claim submissions.
A7: Important Claim Dates
A8: Some claim deadlines fall during summer months. Schools should have a plan in place to ensure timely claim submission during periods of limited school and work days.
A9: Monthly claim sheets should be submitted to ODE.FFVP@ode.oregon.gov by the claim submission target date to allow sufficient time for processing.
A10: Claim Submission Target Dates are 30 days after the end of each claim month.
A11: October 2026 – Submit for review by Monday, November 30, 2026
A12: November 2026 – Submit for review by Wednesday, December 30, 2026
A13: December 2026 – Submit for review by *Monday, February 1, 2027
A14: January 2027 – Submit for review by Tuesday, March 2, 2027
... A39: *All 60-day deadlines that fall on a weekend or observed holiday have been adjusted to the next business day.

Sheet FOOD
A1: Monthly Claim Sheet Template for ODE Fresh Fruit & Vegetable Program (FFVP) FY 2026-2027
A2: Enter only food items below. USE A NEW (BLANK) CLAIM FORM FOR EACH CLAIM. Do not edit and reuse claim sheets.
A4: SCHOOL NAME:
A5: SCHOOL DISTRICT: | D5: Submit claim sheet Excel files as attachments to ODE.FFVP@ode.oregon.gov
A6: CONTACT: | D6: Claim sheets should be emailed for review within 30 days of the end of the claim month.
A7: PHONE:
A8: CLAIM PERIOD (Month/Year):
A9: Items to retain for support during Administrative Review: Copies of invoices with claimed items highlighted and a copy of the submitted claim spreadsheet.
A10: It is recommended that all supporting documents be kept together in one file for easy review.
A11: Invoice Date | B11: Service Date | C11: Vendor | D11: Secondary Source (brand, farm, or producer name, if different than vendor) | E11: Item - product description (ex. Apple honeycrisp; carrot rainbow; orange blood) | F11: Unit Type (case, ea, lbs, etc.) | G11: Quantity (number of units) | H11: Cost per Unit | I11: Total for Item | J11: FFVP Local: Identify items that were grown in Oregon | K11: Indentify items that were served cooked | L11: By checking the box indicating that an item was served cooked, you are also attesting that the required nutrition education component was provided at the time of service.
I12: =G12*H12 -> 0 | J12: FALSE | K12: FALSE
I13: =G13*H13 -> 0 | J13: FALSE | K13: FALSE
I14: =G14*H14 -> 0 | J14: FALSE | K14: FALSE
I15: =G15*H15 -> 0 | J15: FALSE | K15: FALSE
I16: =G16*H16 -> 0 | J16: FALSE | K16: FALSE
I17: =G17*H17 -> 0 | J17: FALSE | K17: FALSE
I18: =G18*H18 -> 0 | J18: FALSE | K18: FALSE
I19: =G19*H19 -> 0 | J19: FALSE | K19: FALSE
I20: =G20*H20 -> 0 | J20: FALSE | K20: FALSE
I21: =G21*H21 -> 0 | J21: FALSE | K21: FALSE
I22: =G22*H22 -> 0 | J22: FALSE | K22: FALSE
I23: =G23*H23 -> 0 | J23: FALSE | K23: FALSE
... I34: =G34*H34 -> 0 | J34: FALSE | K34: FALSE
H35: SUBTOTAL | I35: =ROUND(SUM(I12:I34),2) -> 0
A82: Jett

Sheet Operating Costs
A1: Operating Costs | B1: Note: The subtotal will autopopulate on the TOTALS tab. All operating costs that are not food related (including direct labor) may not exceed 30% of this claim. Check TOTALS tab for percentage before submitting.
A2: Date | B2: Vendor | C2: Description (napkins, paper plates, utensils, bowls, small equipment, etc.) | D2: Number of Units | E2: Cost per Unit | F2: Total Cost
F3: =D3*E3 -> 0
F4: =D4*E4 -> 0
F5: =D5*E5 -> 0
F6: =D6*E6 -> 0
F7: =D7*E7 -> 0
F8: =D8*E8 -> 0
F9: =D9*E9 -> 0
F10: =D10*E10 -> 0
F11: =D11*E11 -> 0
F12: =D12*E12 -> 0
F13: =D13*E13 -> 0
F14: =D14*E14 -> 0
... F20: =D20*E20 -> 0
E21: SUBTOTAL for this section | F21: =SUM(F3:F20) -> 0
A22: Fuel Surcharges
A23: Date | B23: Vendor | F23: Fuel Charge
F24: 0
F25: 0
F26: 0
F27: 0
F28: 0
F29: 0
F30: 0
F31: 0
E32: SUBTOTAL for this section | F32: =SUM(F24:F31) -> 0
E35: SUBTOTAL OPERATING COSTS | F35: =F21+F32 -> 0
A37: Reminder: Schools may request approval to distribute allowable FFVP operating costs across up to three consecutive monthly claims. Requests may be submitted once per grant period for each site.
A38: The FFVP Operating Cost Distribution Request form is linked on the ODE FFVP webpage under Claims.

Sheet Direct Labor
A1: Monthly Time Sheet | B1: Note: The subtotal will autopopulate on the TOTALS tab. All operating costs that are not food related (including direct labor) may not exceed 30% of this claim. Check TOTALS tab for percentage before submitting.
A2: Month: | D2: Enter first Monday of month here in 0/0/00 or 00/00/0000 format, even if it's in the prior month. The sheet will autopopulate.
D3: Only enter hours in current month in light grey shaded areas.
A4: Employee | B4: Monday | D4: Tuesday | F4: Wednesday | H4: Thursday | J4: Friday
A5: Name A | C5: 0/0/00 | E5: =+C5+1 -> #VALUE! | G5: =+E5+1 -> #VALUE! | I5: =+G5+1 -> #VALUE! | K5: =+I5+1 -> #VALUE!
A6: Name B
A7: Name C
A8: Name D
A9: Name E
A10: =A5 -> Name A | C10: =+K5+3 -> #VALUE! | E10: =+C10+1 -> #VALUE! | G10: =+E10+1 -> #VALUE! | I10: =+G10+1 -> #VALUE! | K10: =+I10+1 -> #VALUE!
A11: =A6 -> Name B
A12: =A7 -> Name C
A13: =A8 -> Name D
A14: =A9 -> Name E
A15: =A5 -> Name A | C15: =+K10+3 -> #VALUE! | E15: =+C15+1 -> #VALUE! | G15: =+E15+1 -> #VALUE! | I15: =+G15+1 -> #VALUE! | K15: =+I15+1 -> #VALUE!
A16: =A6 -> Name B
A17: =A7 -> Name C
A18: =A8 -> Name D
A19: =A9 -> Name E
A20: =A5 -> Name A | C20: =+K15+3 -> #VALUE! | E20: =+C20+1 -> #VALUE! | G20: =+E20+1 -> #VALUE! | I20: =+G20+1 -> #VALUE! | K20: =+I20+1 -> #VALUE!
A21: =A6 -> Name B
A22: =A7 -> Name C
A23: =A8 -> Name D
A24: =A9 -> Name E
A25: =A5 -> Name A | C25: =+K20+3 -> #VALUE! | E25: =+C25+1 -> #VALUE! | G25: =+E25+1 -> #VALUE! | I25: =+G25+1 -> #VALUE! | K25: =+I25+1 -> #VALUE!
A26: =A6 -> Name B | N26: Benefit Rate Calculation Formula:
A27: =A7 -> Name C | N27: Benefit Rate = (Gross Benefit Cost for Period Worked ÷ Gross Wage for Period Worked) × 100
A28: =A8 -> Name D
A29: =A9 -> Name E | N29: Example Calculation:
B30: Enter hourly rate | E30: Enter benefit rate for | N30: Total Benefits: $614.40
B31: for each person here. | E31: each person here as %. | N31: Total Gross Wages: $1,920
D32: Total | G32: Total | N32: Calculation: ($614.40 / $1,920) x 100 = 32%
B33: Hours | C33: Hourly Rate | F33: Benefit Rate | J33: Total | N33: Enter 32 in the Benefit Rate field
A34: =A5 -> Name A | B34: =B5+D5+F5+H5+J5+B10+D10+F10+H10+J10+B15+D15+F15+H15+J15+B20+D20+F20+H20+J20+B25+D25+F25+H25+J25 -> 0 | D34: =B34*C34 -> 0 | G34: =D34*F34 -> 0 | J34: =ROUND(D34+G34,2) -> 0
A35: =A6 -> Name B | B35: =B6+D6+F6+H6+J6+B11+D11+F11+H11+J11+B16+D16+F16+H16+J16+B21+D21+F21+H21+J21+B26+D26+F26+H26+J26 -> 0 | D35: =B35*C35 -> 0 | G35: =D35*F35 -> 0 | J35: =ROUND(D35+G35,2) -> 0
A36: =A7 -> Name C | B36: =B7+D7+F7+H7+J7+B12+D12+F12+H12+J12+B17+D17+F17+H17+J17+B22+D22+F22+H22+J22+B27+D27+F27+H27+J27 -> 0 | D36: =B36*C36 -> 0 | G36: =D36*F36 -> 0 | J36: =ROUND(D36+G36,2) -> 0
A37: =A8 -> Name D | B37: =B8+D8+F8+H8+J8+B13+D13+F13+H13+J13+B18+D18+F18+H18+J18+B23+D23+F23+H23+J23+B28+D28+F28+H28+J28 -> 0 | D37: =B37*C37 -> 0 | G37: =D37*F37 -> 0 | J37: =ROUND(D37+G37,2) -> 0
A38: =A9 -> Name E | B38: =B9+D9+F9+H9+J9+B14+D14+F14+H14+J14+B19+D19+F19+H19+J19+B24+D24+F24+H24+J24+B29+D29+F29+H29+J29 -> 0 | D38: =B38*C38 -> 0 | G38: =D38*F38 -> 0 | J38: =ROUND(D38+G38,2) -> 0
J39: =SUM(J34:J38) -> 0 | K39: SUBTOTAL DIRECT LABOR COSTS

Sheet Administrative Labor
A1: Monthly Time Sheet | B1: Note: The subtotal will autopopulate on the TOTALS tab. Year-to-date administrative costs may exceed 10% of the total award.
A2: Month: | D2: Enter first Monday of month here 0/0/00 or 00/00/0000 format, even if it's in the prior month. The sheet will autopopulate.
D3: Only enter hours in current month in light grey shaded areas.
A4: Employee | B4: Monday | D4: Tuesday | F4: Wednesday | H4: Thursday | J4: Friday
A5: Name A | C5: 0/0/00 | E5: =+C5+1 -> #VALUE! | G5: =+E5+1 -> #VALUE! | I5: =+G5+1 -> #VALUE! | K5: =+I5+1 -> #VALUE!
A6: Name B
A7: Name C
A8: Name D
A9: Name E
A10: =A5 -> Name A | C10: =+K5+3 -> #VALUE! | E10: =+C10+1 -> #VALUE! | G10: =+E10+1 -> #VALUE! | I10: =+G10+1 -> #VALUE! | K10: =+I10+1 -> #VALUE!
A11: =A6 -> Name B
A12: =A7 -> Name C
A13: =A8 -> Name D
A14: =A9 -> Name E
A15: =A5 -> Name A | C15: =+K10+3 -> #VALUE! | E15: =+C15+1 -> #VALUE! | G15: =+E15+1 -> #VALUE! | I15: =+G15+1 -> #VALUE! | K15: =+I15+1 -> #VALUE!
A16: =A6 -> Name B
A17: =A7 -> Name C
A18: =A8 -> Name D
A19: =A9 -> Name E
A20: =A5 -> Name A | C20: =+K15+3 -> #VALUE! | E20: =+C20+1 -> #VALUE! | G20: =+E20+1 -> #VALUE! | I20: =+G20+1 -> #VALUE! | K20: =+I20+1 -> #VALUE!
A21: =A6 -> Name B
A22: =A7 -> Name C
A23: =A8 -> Name D
A24: =A9 -> Name E
A25: =A5 -> Name A | C25: =+K20+3 -> #VALUE! | E25: =+C25+1 -> #VALUE! | G25: =+E25+1 -> #VALUE! | I25: =+G25+1 -> #VALUE! | K25: =+I25+1 -> #VALUE!
A26: =A6 -> Name B | N26: Benefit Rate Calculation Formula:
A27: =A7 -> Name C | N27: Benefit Rate = (Gross Benefit Cost for Period Worked ÷ Gross Wage for Period Worked) × 100
A28: =A8 -> Name D
A29: =A9 -> Name E | N29: Example Calculation:
B30: Enter hourly rate | E30: Enter benefit rate for | N30: Total Benefits: $614.40
B31: for each person here. | E31: each person here as %. | N31: Total Gross Wages: $1,920
D32: Total | G32: Total | N32: Calculation: ($614.40 / $1,920) x 100 = 32%
B33: Hours | C33: Hourly Rate | F33: Benefit Rate | J33: Total | N33: Enter 32 in the Benefit Rate field
A34: =A5 -> Name A | B34: =B5+D5+F5+H5+J5+B10+D10+F10+H10+J10+B15+D15+F15+H15+J15+B20+D20+F20+H20+J20+B25+D25+F25+H25+J25 -> 0 | D34: =B34*C34 -> 0 | G34: =D34*F34 -> 0 | J34: =D34+G34 -> 0
A35: =A6 -> Name B | B35: =B6+D6+F6+H6+J6+B11+D11+F11+H11+J11+B16+D16+F16+H16+J16+B21+D21+F21+H21+J21+B26+D26+F26+H26+J26 -> 0 | D35: =B35*C35 -> 0 | G35: =D35*F35 -> 0 | J35: =D35+G35 -> 0
A36: =A7 -> Name C | B36: =B7+D7+F7+H7+J7+B12+D12+F12+H12+J12+B17+D17+F17+H17+J17+B22+D22+F22+H22+J22+B27+D27+F27+H27+J27 -> 0 | D36: =B36*C36 -> 0 | G36: =D36*F36 -> 0 | J36: =D36+G36 -> 0
A37: =A8 -> Name D | B37: =B8+D8+F8+H8+J8+B13+D13+F13+H13+J13+B18+D18+F18+H18+J18+B23+D23+F23+H23+J23+B28+D28+F28+H28+J28 -> 0 | D37: =B37*C37 -> 0 | G37: =D37*F37 -> 0 | J37: =D37+G37 -> 0
A38: =A9 -> Name E | B38: =B9+D9+F9+H9+J9+B14+D14+F14+H14+J14+B19+D19+F19+H19+J19+B24+D24+F24+H24+J24+B29+D29+F29+H29+J29 -> 0 | D38: =B38*C38 -> 0 | G38: =D38*F38 -> 0 | J38: =D38+G38 -> 0
J39: =SUM(J34:J38) -> 0 | K39: SUBTOTAL ADMINISTRATIVE LABOR COSTS
A45: Equipment Purchase | B45: Equipment must be approved by the FFVP team PRIOR to purchase and may not
...

Sheet TOTALS
A1: ODE will update this tab with your ending balances and send back the file with your EGMS entry approval.
A3: SCHOOL: | B3: =FOOD!B4 -> 0
A4: SCHOOL DISTRICT | B4: =FOOD!B5 -> 0
A5: CONTACT: | B5: =FOOD!B6 -> 0
A6: PHONE: | B6: =FOOD!B7 -> 0
A7: CLAIM PERIOD: | B7: =FOOD!B8 -> 0
C9: Previous claims | D9: This claim | E9: Total claimed | F9: Remaining balance
A10: AWARD | B10: 0
A11: FOOD | C11: 0 | D11: =FOOD!I35 -> 0 | E11: =D11+C11 -> 0
A12: OPERATING & DIRECT LABOR | C12: 0 | D12: =SUM('Operating Costs'!F35+'Direct Labor'!J39) -> 0 | E12: =D12+C12 -> 0 | G12: =+D12/D14 -> #DIV/0! | H12: Oper & Direct Labor % of claim | K12: May not exceed 30% of this claim
A13: ADMINISTRATIVE | C13: 0 | D13: ='Administrative Labor'!L51 -> 0 | E13: =D13+C13 -> 0 | G13: =+E13/B10 -> #DIV/0! | H13: Admin % YTD | I13: May not exceed 10% of award
A14: TOTALS | C14: =C13+C12+C11 -> 0 | D14: =SUM(D11:D13) -> 0 | E14: =SUM(E11:E13) -> 0 | F14: =B10-E14 -> 0
C18: Do not enter the claim into EGMS until it has been submitted to ODE.FFVP@ode.oregon.gov for review and you have received emailed approval.
