Workbook

Sheet Expenditure Reporting
B2: Screening | F2: Comprehensive BH Needs Assessment
B3: SERVICES & SUPPLIES | C3: COST (Numbers Only) | D3: NARRATIVE DESCRIPTION | F3: SERVICES & SUPPLIES | G3: COST (Numbers Only) | H3: NARRATIVE DESCRIPTION
B4: Mileage & Gas | F4: Mileage & Gas
B5: Program Space & Operational Expenses | F5: Program Space & Operational Expenses
B6: Professional Services | F6: Professional Services
B7: Narcan/Naloxone | F7: Narcan/Naloxone
B8: Translation, Interpretation, Language Services | F8: Translation, Interpretation, Language Services
B9: Clinical Services - Misc | F9: Clinical Services - Misc
B10: Technology | F10: Technology
B11: Other (Narrative Required) | F11: Other (Narrative Required)
B12: Program Space Maintenance | F12: Program Space Maintenance
B13: Vehicle Maintenance | F13: Vehicle Maintenance
B14: Legal - Client Assistance | F14: Legal - Client Assistance
B15: Basic Needs - Client Assistance | F15: Basic Needs - Client Assistance
... B17: Funds for un/underinsured clients | F17: Funds for un/underinsured clients
B19: PERSONNEL | C19: COST (Numbers Only) | D19: NARRATIVE DESCRIPTION | F19: PERSONNEL | G19: COST (Numbers Only) | H19: NARRATIVE DESCRIPTION
B20: Direct Service Personnel | F20: Direct Service Personnel
B21: Program Coordination, Management, Administrative, Support Staff | F21: Program Coordination, Management, Administrative, Support Staff
B22: Fringe, Benefits | F22: Fringe, Benefits
B23: TRAINING | C23: COST (Numbers Only) | D23: NARRATIVE DESCRIPTION | F23: TRAINING | G23: COST (Numbers Only) | H23: NARRATIVE DESCRIPTION
B24: Training | F24: Training
B25: Conferences | F25: Conferences
B26: Other | F26: Other
B27: M110/BHRN PURCHASED VEHICLES ONLY | C27: COST (Numbers Only) | D27: NARRATIVE DESCRIPTION | F27: M110/BHRN PURCHASED VEHICLES ONLY | G27: COST (Numbers Only) | H27: NARRATIVE DESCRIPTION
B28: Purchased Vehicle | F28: Purchased Vehicle
B29: Administrative Cost (10% max) | C29: COST (Numbers Only) | D29: NARRATIVE DESCRIPTION | F29: Administrative Cost (10% max) | G29: COST (Numbers Only) | H29: NARRATIVE DESCRIPTION
B30: Administrative Cost (10% max) | F30: Administrative Cost (10% max)
B31: Subtotal | C31: =SUM(C4:C17,C20:C22,C24:C26,C28,C30) -> 0 | F31: Subtotal | G31: =SUM(G4:G17,G20:G22,G24:G26,G28,G30) -> 0
B33: Low Barrier SUD Treatment | F33: Peer Support
B34: SERVICES & SUPPLIES | C34: COST (Numbers Only) | D34: NARRATIVE DESCRIPTION | F34: SERVICES & SUPPLIES | G34: COST (Numbers Only) | H34: NARRATIVE DESCRIPTION
B35: Mileage & Gas | F35: Mileage & Gas
B36: Program Space & Operational Expenses | F36: Program Space & Operational Expenses
B37: Professional Services | F37: Professional Services
B38: Narcan/Naloxone | F38: Narcan/Naloxone
B39: Translation, Interpretation, Language Services | F39: Translation, Interpretation, Language Services
B40: Clinical Services - Misc | F40: Clinical Services - Misc
B41: Technology | F41: Technology
B42: Other (Narrative Required) | F42: Other (Narrative Required)
B43: Program Space Maintenance | F43: Program Space Maintenance
B44: Vehicle Maintenance | F44: Vehicle Maintenance
...

Sheet Staff & Provider Data
A2: How many of your existing staff are funded by M110 grants?(required) | E2: According to OAR 944-010-0010 (8), "Culturally and Linguistically Specific Services" means quality substance use prevention, treatment, and recovery supports and services that are designed specifically for a distinct minoritized cultural community, developed based on the languages used and cultural values of the distinct minoritized cultural community and designed to elevate their voices and experiences, and that have the aim of enhancing emotional safety, belonging, and a shared collective cultural experience for healing and recovery among the distinct cultural community served. These services are primarily led and staffed by people that have extensive experience working with or being immersed in the same minoritized cultural community they serve or have a history of at least five years primarily serving the specified minoritized cultural community in a behavioral health setting. | O2: =SUM(B31,#REF!,#REF!,#REF!,#REF!,#REF!) -> #REF!
A3: DIRECT CLIENT SERVICE STAFF | B3: FTE | C3: NARRATIVE DESCRIPTION | O3: =+SUM(#REF!,#REF!,#REF!,#REF!,#REF!,#REF!) -> #REF!
A4: Certified Alcohol & Drug Counselor (CADC)
A5: Certified Recovery Mentor (CRM)
A6: Peer Support Specialist (PSS)
A7: Peer Wellness Specialist (PWS)
A8: Case Manager
A9: PWS or PSS Supervisor
A10: Housing support
A11: Harm Reduction staff | E11: 1.“Has your Culturally Linguistically Specific Service status changed from last quarter?
A12: Nurse (RN)
A13: Nurse (LPN) | E13: Yes
A14: Employment Support staff | E14: No
A15: Clinical Supervisor/Manager
A16: Doctor/Clinician/Prescriber
A17: Coordinator/Navigator
A18: Other (Narrative Required)
A19: NON-DIRECT SERVICE ADMINISTRATIVE STAFF | B19: FTE | C19: NARRATIVE DESCRIPTION
A20: Executive Director
A21: Deputy Director
A22: BHRN manager
A23: Grant manager
A24: Other managers
A25: Administrative support
A26: Human Resources staff
A27: Budget and accounting staff
A28: Audit staff
A29: Data Analyst
A30: Other (Narrative Required)
A31: Total | B31: =SUM(B4:B18,B20:B30) -> 0

Sheet Performance Metrics
A1: Assessment Metric | B1: Totals | E1: Virtual/Telehealth | I1: Totals | U1: 0
A2: During this reporting period, how many clients received a Comprehensive Behavioral Health Needs Assessment? (required) | E2: How many clients did you serve this quarter using M110/BHRN funded telehealth/virtual services? (Required) | U2: 0
A3: Harm Reduction Metrics | B3: Totals | U3: 0
A4: How many clients did you provide harm reduction services to?(required) | E4: Denials | U4: 0
A5: Units of Naloxone (required) | E5: If you denied services to clients or potential clients, please enter the count of denied clients within your organization this quarter per category below. | U5: 0
A6: Safer use and wound care supplies(required) | U6: 0
A7: Substance use-related infectious disease screening(required) | E7: Safety Concern | J7: = | U7: =U1+U2+U3+U4+U5+U6 -> 0
A8: Drug checking supplies(required) | E8: Abstinence Requirement Not Met | U8: 0
A9: Information and education about harm reduction services.(required) | E9: Requested Service Not Provided | U9: 0
A10: Referral for Hepatitis, HIV, STI, COVID-19, and Tuberculosis (TB) testing, vaccine, or other healthcare services.(required) | E10: At Capacity/No Room for New Clients | U10: 0
A11: How many units of Naloxone did you distribute directly to people most at risk of overdose?(required) | E11: Supply Constraints | U11: 0
A12: Total number of HR Supplies: | B12: =SUM(B5:B11) -> 0 | E12: Other (Please Specify below) | U12: 0
A13: Peer Support Metrics | B13: Totals | U13: 0
A14: How many unique clients did you work with this Quarter?(required) | U14: 0
A15: How many clients that you're working with have returned to your organization for services 3+ times this Quarter?(required) | U15: 0
U16: 0
E17: Total number of denials | F17: =SUM(I7:I12) -> 0 | U17: =SUM(U9+U10+U11+U12+U13+U14+U15+U16) -> 0
E18: Of those denied, how many clients were referred to another BHRN partner?

Sheet  Client Count
A1: Total Client Counts (required) | B1: Client Count (Numbers Only)
A2: During this reporting period, how many total clients did you provide one or more BHRN services to? (required) Please count all unique clients whose service was meaningfully enabled by BHRN funds. Total client counts should represent the total number of unique clients across all service areas. Count each client only once.
A4: Screening (required if have service area) | B4: Client Count (Numbers Only)
A5: Enter the number of clients served that received a screening services during this reporting period.
A7: Low Barrier SUD Treatment (required if have service area) | B7: Client Count (Numbers Only)
A8: Enter the number of clients served that received SUD services during this reporting period.
A10: Low Barrier Housing (required if have service area) | B10: Client Count (Numbers Only)
A11: Enter the number of clients served that received a housing services during this reporting period.

Sheet Outreach Metrics
A1: Outreach Metrics
A3: 1. How many individuals received additional, non-outreach BHRN services as a result of your outreach (i.e. referrals)? | H3: Numbers Only
A5: 2. For this reporting period, how often did your organization provide any form of outreach? (select one) | H5: 5 times a week or more
H6: Once a week or more
H7: Once a month or more
H8: We did not perform outreach this quarter
A9: 3. During this reporting period, how many BHRN-funded outreach encounters has your organization provided where staff delivered direct services to individuals in the field? If direct services are provided in addition to promotion or recruiting, please count the encounters in this category. ​For outreach questions 3 and 4, an encounter with one person should only count for one category. Please use your best judgement of where to enter each encounter. Example: handing out wound care kits, providing harm reduction supplies, referrals to services, etc. ​ | H9: Numbers Only
A11: Outreach Services/Locations (Required) Place an X in each field below. Counts not required.
B12: On the street or in camps: | C12: In Jails or Prisons: | D12: In K-12 schools: | E12: In a university or college setting: | F12: In a clinical setting: | G12: At a local event/organized community event: | H12: At a community or social service setting (shelter, soup kitchen, clinical lobby): | I12: Other Location:
A13: Provider Informational Materials
A14: Referrals
A15: Harm Reduction Supplies (Syringes, wound kits, safer sex supplies)
A16: Basic Needs Supplies
A17: Food
A18: Transportation services (bus passes, taxi vouchers, etc.)
A19: Medical Care
A20: Peer Support services
A21: Support navigating other systems (child welfare, DHS, criminal justice etc.)
A22: Other Outreach Services
A24: If answered "Other Outreach Services" and "Other Location" please describe below:
A32: 4. During this reporting period, how many BHRN-funded outreach encounters has your organization provided focused on promoting or recruiting individuals to receive BHRN services? If direct services are not provided, please count the encounter in this category. For outreach questions 3 and 4, an encounter with one person should only count for one category. Please use your best judgement of where to enter each encounter. ​Example: tabling at a fair, giving out organizational branded materials, passing out flyers, etc. ​ | H32: Numbers Only
A34: Outreach Services/Locations (Required) Place an X in each field below. Counts not required.
B35: On the street or in camps: | C35: In Jails or Prisons: | D35: In K-12 schools: | E35: In a university or college setting: | F35: In a clinical setting: | G35: At a local event/organized community event: | H35: At a community or social service setting (shelter, soup kitchen, clinical lobby): | I35: Other Location:
A36: Provider Informational Materials
A37: Referrals
A38: Harm Reduction Supplies (Syringes, wound kits, safer sex supplies)
A39: Basic Needs Supplies
A40: Food
A41: Transportation services (bus passes, taxi vouchers, etc.)
A42: Medical Care
A43: Peer Support services
A44: Support navigating other systems (child welfare, DHS, criminal justice etc.)
A45: Other Outreach Services
A47: If answered "Other Outreach Services" and "Other Location" please describe below:

Sheet Narratives
A1: What new successes has your organization experienced in relation to your M110-funded services in the last Quarter?(required)
A2: Please describe systemic or organizational successes — such as improvements in service delivery models, infrastructure, interagency collaboration, outreach methods, or Behavioral Health Resource Network (BHRN) coordination. You may include client stories that illustrate these successes, but do not include any personally identifying information. Limit response to 500 words.
A12: What new challenges have your organization experienced with relation to your M110 funded services in the last Quarter?(required)
A13: Please describe systemic or organizational challenges — such as barriers to implementation, service coordination issues, infrastructure or staffing gaps, or challenges related to outreach and engagement. Do not include client-level information or identifying details. Limit response to 500 words.
A23: Is there anything else you would like to share regarding BHRN administration that happened within the last Quarter?

Sheet Summary
A1: Service Area | B1: Subtotal
A2: Screening | B2: ='Expenditure Reporting'!C31 -> 0
A3: Assessment | B3: ='Expenditure Reporting'!G33 -> 0
A4: Low Barrier SUD | B4: ='Expenditure Reporting'!C66 -> 0
A5: Peer Support | B5: ='Expenditure Reporting'!G64 -> 0
A6: Harm Reduction | B6: ='Expenditure Reporting'!C98 -> 0
A7: Housing | B7: ='Expenditure Reporting'!G96 -> 0
A8: Quarterly Total | B8: =SUM(B2:B7) -> 0
A10: Staff and Provider Data
A11: FTE | B11: ='Staff & Provider Data'!B31 -> 0
A12: Total | B12: =SUM(B11:B11) -> 0
A14: Denials
A15: Safety | B15: ='Performance Metrics'!I7 -> 0
A16: Abstinence | B16: ='Performance Metrics'!I8 -> 0
A17: Service Not Provided | B17: ='Performance Metrics'!I9 -> 0
A18: At Capacity | B18: ='Performance Metrics'!I10 -> 0
A19: Supply Constraints | B19: ='Performance Metrics'!I11 -> 0
A20: Other | B20: ='Performance Metrics'!I12 -> 0
A21: Denial Totals | B21: ='Performance Metrics'!F17 -> 0
A23: HR Metric Total | B23: ='Performance Metrics'!B12 -> 0
