{"text_format":"1","workbook":"xlsx","n_sheets":3,"sheets":["Caseload Reporting","Lookup","CSV"],"not_rendered":{"charts":0,"images":0,"macros":1,"external_links":0,"defined_names":20,"comments":0,"pivot_tables":0},"unopened":[],"bounds":{"document_bytes":16777216,"sheet_cells":100000,"rows_first":2000,"rows_last":500,"rows_between":2000,"halvings":0,"cell_chars":16384,"cell_head_chars":4096},"cells_cut":0,"cells_raw":0,"read":"whole","date_system":"1900"}

{"sheet":"Caseload Reporting","index":0,"n_rows":1001,"n_cols":19,"rows_kept":1001,"cut":false,"hidden":false,"merged":[[1,19,1,21]]}
["County","Client Last Name","Client First Name","Case Number","Appeal?","Adult or Juvenile","Most Serious Case Type","Most Serious Charge","Most Serious Incident Date","ORS","Appointment Date","Assigned Attorney OSB #","Attorney Last Name","Attorney First Name","Appointed as Co-Counsel","Extraordinary Case","Disposition","Dispositon date","Comments"]
[]
[null,null,null,null,null,{"$f":"IF(ISBLANK(D3),\"\",F2)","v":""}]
[null,null,null,null,null,{"$f":"IF(ISBLANK(D4),\"\",F3)","v":""}]
[null,null,null,null,null,""]
[null,null,null,null,null,""]
[null,null,null,null,null,""]
[null,null,null,null,null,""]
[null,null,null,null,null,""]
[null,null,null,null,null,""]
[null,null,null,null,null,""]
[null,null,null,null,null,""]
[null,null,null,null,null,""]
[null,null,null,null,null,""]
[null,null,null,null,null,""]
[null,null,null,null,null,""]
[null,null,null,null,null,""]
[null,null,null,null,null,""]
[null,null,null,null,null,""]
[null,null,null,null,null,""]
[null,null,null,null,null,""]
[null,null,null,null,null,""]
[null,null,null,null,null,""]
[null,null,null,null,null,""]
[null,null,null,null,null,""]
[null,null,null,null,null,""]
[null,null,null,null,null,""]
[null,null,null,null,null,""]
[null,null,null,null,null,""]
[null,null,null,null,null,""]
[null,null,null,null,null,""]
[null,null,null,null,null,""]
[null,null,null,null,null,""]
[null,null,null,null,null,""]
[null,null,null,null,null,""]
[null,null,null,null,null,""]
[null,null,null,null,null,""]
[null,null,null,null,null,""]
[null,null,null,null,null,""]
[null,null,null,null,null,""]
[null,null,null,null,null,""]
[null,null,null,null,null,""]
[null,null,null,null,null,""]
[null,null,null,null,null,""]
[null,null,null,null,null,""]
[null,null,null,null,null,""]
[null,null,null,null,null,""]
[null,null,null,null,null,""]
[null,null,null,null,null,""]
[null,null,null,null,null,""]
[null,null,null,null,null,""]
[null,null,null,null,null,""]
[null,null,null,null,null,""]
[null,null,null,null,null,""]
[null,null,null,null,null,""]
[null,null,null,null,null,""]
[null,null,null,null,null,""]
[null,null,null,null,null,""]
[null,null,null,null,null,""]
[null,null,null,null,null,""]
[null,null,null,null,null,""]
[null,null,null,null,null,""]
[null,null,null,null,null,""]
[null,null,null,null,null,""]
[null,null,null,null,null,""]
[null,null,null,null,null,""]
[null,null,null,null,null,""]
[null,null,null,null,null,{"$f":"IF(ISBLANK(D68),\"\",F67)","v":""}]
[null,null,null,null,null,""]
[null,null,null,null,null,""]
[null,null,null,null,null,""]
[null,null,null,null,null,""]
[null,null,null,null,null,""]
[null,null,null,null,null,""]
[null,null,null,null,null,""]
[null,null,null,null,null,""]
[null,null,null,null,null,""]
[null,null,null,null,null,""]
[null,null,null,null,null,""]
[null,null,null,null,null,""]
[null,null,null,null,null,""]
[null,null,null,null,null,""]
[null,null,null,null,null,""]
[null,null,null,null,null,""]
[null,null,null,null,null,""]
[null,null,null,null,null,""]
[null,null,null,null,null,""]
[null,null,null,null,null,""]
[null,null,null,null,null,""]
[null,null,null,null,null,""]
[null,null,null,null,null,""]
[null,null,null,null,null,""]
[null,null,null,null,null,""]
[null,null,null,null,null,""]
[null,null,null,null,null,""]
[null,null,null,null,null,""]
[null,null,null,null,null,""]
[null,null,null,null,null,""]
[null,null,null,null,null,""]
[null,null,null,null,null,""]
[null,null,null,null,null,""]
[null,null,null,null,null,""]
[null,null,null,null,null,""]
[null,null,null,null,null,""]
[null,null,null,null,null,""]
[null,null,null,null,null,""]
[null,null,null,null,null,""]
[null,null,null,null,null,""]
[null,null,null,null,null,""]
[null,null,null,null,null,""]
[null,null,null,null,null,""]
[null,null,null,null,null,""]
[null,null,null,null,null,""]
[null,null,null,null,null,""]
[null,null,null,null,null,""]
[null,null,null,null,null,""]
[null,null,null,null,null,""]
[null,null,null,null,null,""]
[null,null,null,null,null,""]
[null,null,null,null,null,""]
[null,null,null,null,null,""]
[null,null,null,null,null,""]
[null,null,null,null,null,""]
[null,null,null,null,null,""]
[null,null,null,null,null,""]
[null,null,null,null,null,""]
[null,null,null,null,null,""]
[null,null,null,null,null,""]
[null,null,null,null,null,""]
[null,null,null,null,null,""]
[null,null,null,null,null,""]
[null,null,null,null,null,{"$f":"IF(ISBLANK(D132),\"\",F131)","v":""}]
[null,null,null,null,null,""]
[null,null,null,null,null,""]
[null,null,null,null,null,""]
[null,null,null,null,null,""]
[null,null,null,null,null,""]
[null,null,null,null,null,""]
[null,null,null,null,null,""]
[null,null,null,null,null,""]
[null,null,null,null,null,""]
[null,null,null,null,null,""]
[null,null,null,null,null,""]
[null,null,null,null,null,""]
[null,null,null,null,null,""]
[null,null,null,null,null,""]
[null,null,null,null,null,""]
[null,null,null,null,null,""]
[null,null,null,null,null,""]
[null,null,null,null,null,""]
[null,null,null,null,null,""]
[null,null,null,null,null,""]
[null,null,null,null,null,""]
[null,null,null,null,null,""]
[null,null,null,null,null,""]
[null,null,null,null,null,""]
[null,null,null,null,null,""]
[null,null,null,null,null,""]
[null,null,null,null,null,""]
[null,null,null,null,null,""]
[null,null,null,null,null,""]
[null,null,null,null,null,""]
[null,null,null,null,null,""]
[null,null,null,null,null,""]
[null,null,null,null,null,""]
[null,null,null,null,null,""]
[null,null,null,null,null,""]
[null,null,null,null,null,""]
[null,null,null,null,null,""]
[null,null,null,null,null,""]
[null,null,null,null,null,""]
[null,null,null,null,null,""]
[null,null,null,null,null,""]
[null,null,null,null,null,""]
[null,null,null,null,null,""]
[null,null,null,null,null,""]
[null,null,null,null,null,""]
[null,null,null,null,null,""]
[null,null,null,null,null,""]
[null,null,null,null,null,""]
[null,null,null,null,null,""]
[null,null,null,null,null,""]
[null,null,null,null,null,""]
[null,null,null,null,null,""]
[null,null,null,null,null,""]
[null,null,null,null,null,""]
[null,null,null,null,null,""]
[null,null,null,null,null,""]
[null,null,null,null,null,""]
[null,null,null,null,null,""]
[null,null,null,null,null,""]
[null,null,null,null,null,""]
[null,null,null,null,null,""]
[null,null,null,null,null,""]
[null,null,null,null,null,""]
[null,null,null,null,null,{"$f":"IF(ISBLANK(D196),\"\",F195)","v":""}]
[null,null,null,null,null,""]
[null,null,null,null,null,""]
[null,null,null,null,null,""]
[null,null,null,null,null,""]
[null,null,null,null,null,""]
[null,null,null,null,null,""]
[null,null,null,null,null,""]
[null,null,null,null,null,""]
[null,null,null,null,null,""]
[null,null,null,null,null,""]
[null,null,null,null,null,""]
[null,null,null,null,null,""]
[null,null,null,null,null,""]
[null,null,null,null,null,""]
[null,null,null,null,null,""]
[null,null,null,null,null,""]
[null,null,null,null,null,""]
[null,null,null,null,null,""]
[null,null,null,null,null,""]
[null,null,null,null,null,""]
[null,null,null,null,null,""]
[null,null,null,null,null,""]
[null,null,null,null,null,""]
[null,null,null,null,null,""]
[null,null,null,null,null,""]
[null,null,null,null,null,""]
[null,null,null,null,null,""]
[null,null,null,null,null,""]
[null,null,null,null,null,""]
[null,null,null,null,null,""]
[null,null,null,null,null,""]
[null,null,null,null,null,""]
[null,null,null,null,null,""]
[null,null,null,null,null,""]
[null,null,null,null,null,""]
[null,null,null,null,null,""]
[null,null,null,null,null,""]
[null,null,null,null,null,""]
[null,null,null,null,null,""]
[null,null,null,null,null,""]
[null,null,null,null,null,""]
[null,null,null,null,null,""]
[null,null,null,null,null,""]
[null,null,null,null,null,""]
[null,null,null,null,null,""]
[null,null,null,null,null,""]
[null,null,null,null,null,""]
[null,null,null,null,null,""]
[null,null,null,null,null,""]
[null,null,null,null,null,""]
[null,null,null,null,null,""]
[null,null,null,null,null,""]
[null,null,null,null,null,""]
[null,null,null,null,null,""]
[null,null,null,null,null,""]
[null,null,null,null,null,""]
[null,null,null,null,null,""]
[null,null,null,null,null,""]
[null,null,null,null,null,""]
[null,null,null,null,null,""]
[null,null,null,null,null,""]
[null,null,null,null,null,""]
[null,null,null,null,null,""]
[null,null,null,null,null,{"$f":"IF(ISBLANK(D260),\"\",F259)","v":""}]
[null,null,null,null,null,""]
[null,null,null,null,null,""]
[null,null,null,null,null,""]
[null,null,null,null,null,""]
[null,null,null,null,null,""]
[null,null,null,null,null,""]
[null,null,null,null,null,""]
[null,null,null,null,null,""]
[null,null,null,null,null,""]
[null,null,null,null,null,""]
[null,null,null,null,null,""]
[null,null,null,null,null,""]
[null,null,null,null,null,""]
[null,null,null,null,null,""]
[null,null,null,null,null,""]
[null,null,null,null,null,""]
[null,null,null,null,null,""]
[null,null,null,null,null,""]
[null,null,null,null,null,""]
[null,null,null,null,null,""]
[null,null,null,null,null,""]
[null,null,null,null,null,""]
[null,null,null,null,null,""]
[null,null,null,null,null,""]
[null,null,null,null,null,""]
[null,null,null,null,null,""]
[null,null,null,null,null,""]
[null,null,null,null,null,""]
[null,null,null,null,null,""]
[null,null,null,null,null,""]
[null,null,null,null,null,""]
[null,null,null,null,null,""]
[null,null,null,null,null,""]
[null,null,null,null,null,""]
[null,null,null,null,null,""]
[null,null,null,null,null,""]
[null,null,null,null,null,""]
[null,null,null,null,null,""]
[null,null,null,null,null,""]
[null,null,null,null,null,""]
[null,null,null,null,null,""]
[null,null,null,null,null,""]
[null,null,null,null,null,""]
[null,null,null,null,null,""]
[null,null,null,null,null,""]
[null,null,null,null,null,""]
[null,null,null,null,null,""]
[null,null,null,null,null,""]
[null,null,null,null,null,""]
[null,null,null,null,null,""]
[null,null,null,null,null,""]
[null,null,null,null,null,""]
[null,null,null,null,null,""]
[null,null,null,null,null,""]
[null,null,null,null,null,""]
[null,null,null,null,null,""]
[null,null,null,null,null,""]
[null,null,null,null,null,""]
[null,null,null,null,null,""]
[null,null,null,null,null,""]
[null,null,null,null,null,""]
[null,null,null,null,null,""]
[null,null,null,null,null,""]
[null,null,null,null,null,{"$f":"IF(ISBLANK(D324),\"\",F323)","v":""}]
[null,null,null,null,null,""]
[null,null,null,null,null,""]
[null,null,null,null,null,""]
[null,null,null,null,null,""]
[null,null,null,null,null,""]
[null,null,null,null,null,""]
[null,null,null,null,null,""]
[null,null,null,null,null,""]
[null,null,null,null,null,""]
[null,null,null,null,null,""]
[null,null,null,null,null,""]
[null,null,null,null,null,""]
[null,null,null,null,null,""]
[null,null,null,null,null,""]
[null,null,null,null,null,""]
[null,null,null,null,null,""]
[null,null,null,null,null,""]
[null,null,null,null,null,""]
[null,null,null,null,null,""]
[null,null,null,null,null,""]
[null,null,null,null,null,""]
[null,null,null,null,null,""]
[null,null,null,null,null,""]
[null,null,null,null,null,""]
[null,null,null,null,null,""]
[null,null,null,null,null,""]
[null,null,null,null,null,""]
[null,null,null,null,null,""]
[null,null,null,null,null,""]
[null,null,null,null,null,""]
[null,null,null,null,null,""]
[null,null,null,null,null,""]
[null,null,null,null,null,""]
[null,null,null,null,null,""]
[null,null,null,null,null,""]
[null,null,null,null,null,""]
[null,null,null,null,null,""]
[null,null,null,null,null,""]
[null,null,null,null,null,""]
[null,null,null,null,null,""]
[null,null,null,null,null,""]
[null,null,null,null,null,""]
[null,null,null,null,null,""]
[null,null,null,null,null,""]
[null,null,null,null,null,""]
[null,null,null,null,null,""]
[null,null,null,null,null,""]
[null,null,null,null,null,""]
[null,null,null,null,null,""]
[null,null,null,null,null,""]
[null,null,null,null,null,""]
[null,null,null,null,null,""]
[null,null,null,null,null,""]
[null,null,null,null,null,""]
[null,null,null,null,null,""]
[null,null,null,null,null,""]
[null,null,null,null,null,""]
[null,null,null,null,null,""]
[null,null,null,null,null,""]
[null,null,null,null,null,""]
[null,null,null,null,null,""]
[null,null,null,null,null,""]
[null,null,null,null,null,""]
[null,null,null,null,null,{"$f":"IF(ISBLANK(D388),\"\",F387)","v":""}]
[null,null,null,null,null,""]
[null,null,null,null,null,""]
[null,null,null,null,null,""]
[null,null,null,null,null,""]
[null,null,null,null,null,""]
[null,null,null,null,null,""]
[null,null,null,null,null,""]
[null,null,null,null,null,""]
[null,null,null,null,null,""]
[null,null,null,null,null,""]
[null,null,null,null,null,""]
[null,null,null,null,null,""]
[null,null,null,null,null,""]
[null,null,null,null,null,""]
[null,null,null,null,null,""]
[null,null,null,null,null,""]
[null,null,null,null,null,""]
[null,null,null,null,null,""]
[null,null,null,null,null,""]
[null,null,null,null,null,""]
[null,null,null,null,null,""]
[null,null,null,null,null,""]
[null,null,null,null,null,""]
[null,null,null,null,null,""]
[null,null,null,null,null,""]
[null,null,null,null,null,""]
[null,null,null,null,null,""]
[null,null,null,null,null,""]
[null,null,null,null,null,""]
[null,null,null,null,null,""]
[null,null,null,null,null,""]
[null,null,null,null,null,""]
[null,null,null,null,null,""]
[null,null,null,null,null,""]
[null,null,null,null,null,""]
[null,null,null,null,null,""]
[null,null,null,null,null,""]
[null,null,null,null,null,""]
[null,null,null,null,null,""]
[null,null,null,null,null,""]
[null,null,null,null,null,""]
[null,null,null,null,null,""]
[null,null,null,null,null,""]
[null,null,null,null,null,""]
[null,null,null,null,null,""]
[null,null,null,null,null,""]
[null,null,null,null,null,""]
[null,null,null,null,null,""]
[null,null,null,null,null,""]
[null,null,null,null,null,""]
[null,null,null,null,null,""]
[null,null,null,null,null,""]
[null,null,null,null,null,""]
[null,null,null,null,null,""]
[null,null,null,null,null,""]
[null,null,null,null,null,""]
[null,null,null,null,null,""]
[null,null,null,null,null,""]
[null,null,null,null,null,""]
[null,null,null,null,null,""]
[null,null,null,null,null,""]
[null,null,null,null,null,""]
[null,null,null,null,null,""]
[null,null,null,null,null,{"$f":"IF(ISBLANK(D452),\"\",F451)","v":""}]
[null,null,null,null,null,""]
[null,null,null,null,null,""]
[null,null,null,null,null,""]
[null,null,null,null,null,""]
[null,null,null,null,null,""]
[null,null,null,null,null,""]
[null,null,null,null,null,""]
[null,null,null,null,null,""]
[null,null,null,null,null,""]
[null,null,null,null,null,""]
[null,null,null,null,null,""]
[null,null,null,null,null,""]
[null,null,null,null,null,""]
[null,null,null,null,null,""]
[null,null,null,null,null,""]
[null,null,null,null,null,""]
[null,null,null,null,null,""]
[null,null,null,null,null,""]
[null,null,null,null,null,""]
[null,null,null,null,null,""]
[null,null,null,null,null,""]
[null,null,null,null,null,""]
[null,null,null,null,null,""]
[null,null,null,null,null,""]
[null,null,null,null,null,""]
[null,null,null,null,null,""]
[null,null,null,null,null,""]
[null,null,null,null,null,""]
[null,null,null,null,null,""]
[null,null,null,null,null,""]
[null,null,null,null,null,""]
[null,null,null,null,null,""]
[null,null,null,null,null,""]
[null,null,null,null,null,""]
[null,null,null,null,null,""]
[null,null,null,null,null,""]
[null,null,null,null,null,""]
[null,null,null,null,null,""]
[null,null,null,null,null,""]
[null,null,null,null,null,""]
[null,null,null,null,null,""]
[null,null,null,null,null,""]
[null,null,null,null,null,""]
[null,null,null,null,null,""]
[null,null,null,null,null,""]
[null,null,null,null,null,""]
[null,null,null,null,null,""]
[null,null,null,null,null,""]
[null,null,null,null,null,""]
[null,null,null,null,null,""]
[null,null,null,null,null,""]
[null,null,null,null,null,""]
[null,null,null,null,null,""]
[null,null,null,null,null,""]
[null,null,null,null,null,""]
[null,null,null,null,null,""]
[null,null,null,null,null,""]
[null,null,null,null,null,""]
[null,null,null,null,null,""]
[null,null,null,null,null,""]
[null,null,null,null,null,""]
[null,null,null,null,null,""]
[null,null,null,null,null,""]
[null,null,null,null,null,{"$f":"IF(ISBLANK(D516),\"\",F515)","v":""}]
[null,null,null,null,null,""]
[null,null,null,null,null,""]
[null,null,null,null,null,""]
[null,null,null,null,null,""]
[null,null,null,null,null,""]
[null,null,null,null,null,""]
[null,null,null,null,null,""]
[null,null,null,null,null,""]
[null,null,null,null,null,""]
[null,null,null,null,null,""]
[null,null,null,null,null,""]
[null,null,null,null,null,""]
[null,null,null,null,null,""]
[null,null,null,null,null,""]
[null,null,null,null,null,""]
[null,null,null,null,null,""]
[null,null,null,null,null,""]
[null,null,null,null,null,""]
[null,null,null,null,null,""]
[null,null,null,null,null,""]
[null,null,null,null,null,""]
[null,null,null,null,null,""]
[null,null,null,null,null,""]
[null,null,null,null,null,""]
[null,null,null,null,null,""]
[null,null,null,null,null,""]
[null,null,null,null,null,""]
[null,null,null,null,null,""]
[null,null,null,null,null,""]
[null,null,null,null,null,""]
[null,null,null,null,null,""]
[null,null,null,null,null,""]
[null,null,null,null,null,""]
[null,null,null,null,null,""]
[null,null,null,null,null,""]
[null,null,null,null,null,""]
[null,null,null,null,null,""]
[null,null,null,null,null,""]
[null,null,null,null,null,""]
[null,null,null,null,null,""]
[null,null,null,null,null,""]
[null,null,null,null,null,""]
[null,null,null,null,null,""]
[null,null,null,null,null,""]
[null,null,null,null,null,""]
[null,null,null,null,null,""]
[null,null,null,null,null,""]
[null,null,null,null,null,""]
[null,null,null,null,null,""]
[null,null,null,null,null,""]
[null,null,null,null,null,""]
[null,null,null,null,null,""]
[null,null,null,null,null,""]
[null,null,null,null,null,""]
[null,null,null,null,null,""]
[null,null,null,null,null,""]
[null,null,null,null,null,""]
[null,null,null,null,null,""]
[null,null,null,null,null,""]
[null,null,null,null,null,""]
[null,null,null,null,null,""]
[null,null,null,null,null,""]
[null,null,null,null,null,""]
[null,null,null,null,null,{"$f":"IF(ISBLANK(D580),\"\",F579)","v":""}]
[null,null,null,null,null,""]
[null,null,null,null,null,""]
[null,null,null,null,null,""]
[null,null,null,null,null,""]
[null,null,null,null,null,""]
[null,null,null,null,null,""]
[null,null,null,null,null,""]
[null,null,null,null,null,""]
[null,null,null,null,null,""]
[null,null,null,null,null,""]
[null,null,null,null,null,""]
[null,null,null,null,null,""]
[null,null,null,null,null,""]
[null,null,null,null,null,""]
[null,null,null,null,null,""]
[null,null,null,null,null,""]
[null,null,null,null,null,""]
[null,null,null,null,null,""]
[null,null,null,null,null,""]
[null,null,null,null,null,""]
[null,null,null,null,null,""]
[null,null,null,null,null,""]
[null,null,null,null,null,""]
[null,null,null,null,null,""]
[null,null,null,null,null,""]
[null,null,null,null,null,""]
[null,null,null,null,null,""]
[null,null,null,null,null,""]
[null,null,null,null,null,""]
[null,null,null,null,null,""]
[null,null,null,null,null,""]
[null,null,null,null,null,""]
[null,null,null,null,null,""]
[null,null,null,null,null,""]
[null,null,null,null,null,""]
[null,null,null,null,null,""]
[null,null,null,null,null,""]
[null,null,null,null,null,""]
[null,null,null,null,null,""]
[null,null,null,null,null,""]
[null,null,null,null,null,""]
[null,null,null,null,null,""]
[null,null,null,null,null,""]
[null,null,null,null,null,""]
[null,null,null,null,null,""]
[null,null,null,null,null,""]
[null,null,null,null,null,""]
[null,null,null,null,null,""]
[null,null,null,null,null,""]
[null,null,null,null,null,""]
[null,null,null,null,null,""]
[null,null,null,null,null,""]
[null,null,null,null,null,""]
[null,null,null,null,null,""]
[null,null,null,null,null,""]
[null,null,null,null,null,""]
[null,null,null,null,null,""]
[null,null,null,null,null,""]
[null,null,null,null,null,""]
[null,null,null,null,null,""]
[null,null,null,null,null,""]
[null,null,null,null,null,""]
[null,null,null,null,null,""]
[null,null,null,null,null,{"$f":"IF(ISBLANK(D644),\"\",F643)","v":""}]
[null,null,null,null,null,""]
[null,null,null,null,null,""]
[null,null,null,null,null,""]
[null,null,null,null,null,""]
[null,null,null,null,null,""]
[null,null,null,null,null,""]
[null,null,null,null,null,""]
[null,null,null,null,null,""]
[null,null,null,null,null,""]
[null,null,null,null,null,""]
[null,null,null,null,null,""]
[null,null,null,null,null,""]
[null,null,null,null,null,""]
[null,null,null,null,null,""]
[null,null,null,null,null,""]
[null,null,null,null,null,""]
[null,null,null,null,null,""]
[null,null,null,null,null,""]
[null,null,null,null,null,""]
[null,null,null,null,null,""]
[null,null,null,null,null,""]
[null,null,null,null,null,""]
[null,null,null,null,null,""]
[null,null,null,null,null,""]
[null,null,null,null,null,""]
[null,null,null,null,null,""]
[null,null,null,null,null,""]
[null,null,null,null,null,""]
[null,null,null,null,null,""]
[null,null,null,null,null,""]
[null,null,null,null,null,""]
[null,null,null,null,null,""]
[null,null,null,null,null,""]
[null,null,null,null,null,""]
[null,null,null,null,null,""]
[null,null,null,null,null,""]
[null,null,null,null,null,""]
[null,null,null,null,null,""]
[null,null,null,null,null,""]
[null,null,null,null,null,""]
[null,null,null,null,null,""]
[null,null,null,null,null,""]
[null,null,null,null,null,""]
[null,null,null,null,null,""]
[null,null,null,null,null,""]
[null,null,null,null,null,""]
[null,null,null,null,null,""]
[null,null,null,null,null,""]
[null,null,null,null,null,""]
[null,null,null,null,null,""]
[null,null,null,null,null,""]
[null,null,null,null,null,""]
[null,null,null,null,null,""]
[null,null,null,null,null,""]
[null,null,null,null,null,""]
[null,null,null,null,null,""]
[null,null,null,null,null,""]
[null,null,null,null,null,""]
[null,null,null,null,null,""]
[null,null,null,null,null,""]
[null,null,null,null,null,""]
[null,null,null,null,null,""]
[null,null,null,null,null,""]
[null,null,null,null,null,{"$f":"IF(ISBLANK(D708),\"\",F707)","v":""}]
[null,null,null,null,null,""]
[null,null,null,null,null,""]
[null,null,null,null,null,""]
[null,null,null,null,null,""]
[null,null,null,null,null,""]
[null,null,null,null,null,""]
[null,null,null,null,null,""]
[null,null,null,null,null,""]
[null,null,null,null,null,""]
[null,null,null,null,null,""]
[null,null,null,null,null,""]
[null,null,null,null,null,""]
[null,null,null,null,null,""]
[null,null,null,null,null,""]
[null,null,null,null,null,""]
[null,null,null,null,null,""]
[null,null,null,null,null,""]
[null,null,null,null,null,""]
[null,null,null,null,null,""]
[null,null,null,null,null,""]
[null,null,null,null,null,""]
[null,null,null,null,null,""]
[null,null,null,null,null,""]
[null,null,null,null,null,""]
[null,null,null,null,null,""]
[null,null,null,null,null,""]
[null,null,null,null,null,""]
[null,null,null,null,null,""]
[null,null,null,null,null,""]
[null,null,null,null,null,""]
[null,null,null,null,null,""]
[null,null,null,null,null,""]
[null,null,null,null,null,""]
[null,null,null,null,null,""]
[null,null,null,null,null,""]
[null,null,null,null,null,""]
[null,null,null,null,null,""]
[null,null,null,null,null,""]
[null,null,null,null,null,""]
[null,null,null,null,null,""]
[null,null,null,null,null,""]
[null,null,null,null,null,""]
[null,null,null,null,null,""]
[null,null,null,null,null,""]
[null,null,null,null,null,""]
[null,null,null,null,null,""]
[null,null,null,null,null,""]
[null,null,null,null,null,""]
[null,null,null,null,null,""]
[null,null,null,null,null,""]
[null,null,null,null,null,""]
[null,null,null,null,null,""]
[null,null,null,null,null,""]
[null,null,null,null,null,""]
[null,null,null,null,null,""]
[null,null,null,null,null,""]
[null,null,null,null,null,""]
[null,null,null,null,null,""]
[null,null,null,null,null,""]
[null,null,null,null,null,""]
[null,null,null,null,null,""]
[null,null,null,null,null,""]
[null,null,null,null,null,""]
[null,null,null,null,null,{"$f":"IF(ISBLANK(D772),\"\",F771)","v":""}]
[null,null,null,null,null,""]
[null,null,null,null,null,""]
[null,null,null,null,null,""]
[null,null,null,null,null,""]
[null,null,null,null,null,""]
[null,null,null,null,null,""]
[null,null,null,null,null,""]
[null,null,null,null,null,""]
[null,null,null,null,null,""]
[null,null,null,null,null,""]
[null,null,null,null,null,""]
[null,null,null,null,null,""]
[null,null,null,null,null,""]
[null,null,null,null,null,""]
[null,null,null,null,null,""]
[null,null,null,null,null,""]
[null,null,null,null,null,""]
[null,null,null,null,null,""]
[null,null,null,null,null,""]
[null,null,null,null,null,""]
[null,null,null,null,null,""]
[null,null,null,null,null,""]
[null,null,null,null,null,""]
[null,null,null,null,null,""]
[null,null,null,null,null,""]
[null,null,null,null,null,""]
[null,null,null,null,null,""]
[null,null,null,null,null,""]
[null,null,null,null,null,""]
[null,null,null,null,null,""]
[null,null,null,null,null,""]
[null,null,null,null,null,""]
[null,null,null,null,null,""]
[null,null,null,null,null,""]
[null,null,null,null,null,""]
[null,null,null,null,null,""]
[null,null,null,null,null,""]
[null,null,null,null,null,""]
[null,null,null,null,null,""]
[null,null,null,null,null,""]
[null,null,null,null,null,""]
[null,null,null,null,null,""]
[null,null,null,null,null,""]
[null,null,null,null,null,""]
[null,null,null,null,null,""]
[null,null,null,null,null,""]
[null,null,null,null,null,""]
[null,null,null,null,null,""]
[null,null,null,null,null,""]
[null,null,null,null,null,""]
[null,null,null,null,null,""]
[null,null,null,null,null,""]
[null,null,null,null,null,""]
[null,null,null,null,null,""]
[null,null,null,null,null,""]
[null,null,null,null,null,""]
[null,null,null,null,null,""]
[null,null,null,null,null,""]
[null,null,null,null,null,""]
[null,null,null,null,null,""]
[null,null,null,null,null,""]
[null,null,null,null,null,""]
[null,null,null,null,null,""]
[null,null,null,null,null,{"$f":"IF(ISBLANK(D836),\"\",F835)","v":""}]
[null,null,null,null,null,""]
[null,null,null,null,null,""]
[null,null,null,null,null,""]
[null,null,null,null,null,""]
[null,null,null,null,null,""]
[null,null,null,null,null,""]
[null,null,null,null,null,""]
[null,null,null,null,null,""]
[null,null,null,null,null,""]
[null,null,null,null,null,""]
[null,null,null,null,null,""]
[null,null,null,null,null,""]
[null,null,null,null,null,""]
[null,null,null,null,null,""]
[null,null,null,null,null,""]
[null,null,null,null,null,""]
[null,null,null,null,null,""]
[null,null,null,null,null,""]
[null,null,null,null,null,""]
[null,null,null,null,null,""]
[null,null,null,null,null,""]
[null,null,null,null,null,""]
[null,null,null,null,null,""]
[null,null,null,null,null,""]
[null,null,null,null,null,""]
[null,null,null,null,null,""]
[null,null,null,null,null,""]
[null,null,null,null,null,""]
[null,null,null,null,null,""]
[null,null,null,null,null,""]
[null,null,null,null,null,""]
[null,null,null,null,null,""]
[null,null,null,null,null,""]
[null,null,null,null,null,""]
[null,null,null,null,null,""]
[null,null,null,null,null,""]
[null,null,null,null,null,""]
[null,null,null,null,null,""]
[null,null,null,null,null,""]
[null,null,null,null,null,""]
[null,null,null,null,null,""]
[null,null,null,null,null,""]
[null,null,null,null,null,""]
[null,null,null,null,null,""]
[null,null,null,null,null,""]
[null,null,null,null,null,""]
[null,null,null,null,null,""]
[null,null,null,null,null,""]
[null,null,null,null,null,""]
[null,null,null,null,null,""]
[null,null,null,null,null,""]
[null,null,null,null,null,""]
[null,null,null,null,null,""]
[null,null,null,null,null,""]
[null,null,null,null,null,""]
[null,null,null,null,null,""]
[null,null,null,null,null,""]
[null,null,null,null,null,""]
[null,null,null,null,null,""]
[null,null,null,null,null,""]
[null,null,null,null,null,""]
[null,null,null,null,null,""]
[null,null,null,null,null,""]
[null,null,null,null,null,{"$f":"IF(ISBLANK(D900),\"\",F899)","v":""}]
[null,null,null,null,null,""]
[null,null,null,null,null,""]
[null,null,null,null,null,""]
[null,null,null,null,null,""]
[null,null,null,null,null,""]
[null,null,null,null,null,""]
[null,null,null,null,null,""]
[null,null,null,null,null,""]
[null,null,null,null,null,""]
[null,null,null,null,null,""]
[null,null,null,null,null,""]
[null,null,null,null,null,""]
[null,null,null,null,null,""]
[null,null,null,null,null,""]
[null,null,null,null,null,""]
[null,null,null,null,null,""]
[null,null,null,null,null,""]
[null,null,null,null,null,""]
[null,null,null,null,null,""]
[null,null,null,null,null,""]
[null,null,null,null,null,""]
[null,null,null,null,null,""]
[null,null,null,null,null,""]
[null,null,null,null,null,""]
[null,null,null,null,null,""]
[null,null,null,null,null,""]
[null,null,null,null,null,""]
[null,null,null,null,null,""]
[null,null,null,null,null,""]
[null,null,null,null,null,""]
[null,null,null,null,null,""]
[null,null,null,null,null,""]
[null,null,null,null,null,""]
[null,null,null,null,null,""]
[null,null,null,null,null,""]
[null,null,null,null,null,""]
[null,null,null,null,null,""]
[null,null,null,null,null,""]
[null,null,null,null,null,""]
[null,null,null,null,null,""]
[null,null,null,null,null,""]
[null,null,null,null,null,""]
[null,null,null,null,null,""]
[null,null,null,null,null,""]
[null,null,null,null,null,""]
[null,null,null,null,null,""]
[null,null,null,null,null,""]
[null,null,null,null,null,""]
[null,null,null,null,null,""]
[null,null,null,null,null,""]
[null,null,null,null,null,""]
[null,null,null,null,null,""]
[null,null,null,null,null,""]
[null,null,null,null,null,""]
[null,null,null,null,null,""]
[null,null,null,null,null,""]
[null,null,null,null,null,""]
[null,null,null,null,null,""]
[null,null,null,null,null,""]
[null,null,null,null,null,""]
[null,null,null,null,null,""]
[null,null,null,null,null,""]
[null,null,null,null,null,""]
[null,null,null,null,null,{"$f":"IF(ISBLANK(D964),\"\",F963)","v":""}]
[null,null,null,null,null,""]
[null,null,null,null,null,""]
[null,null,null,null,null,""]
[null,null,null,null,null,""]
[null,null,null,null,null,""]
[null,null,null,null,null,""]
[null,null,null,null,null,""]
[null,null,null,null,null,""]
[null,null,null,null,null,""]
[null,null,null,null,null,""]
[null,null,null,null,null,""]
[null,null,null,null,null,""]
[null,null,null,null,null,""]
[null,null,null,null,null,""]
[null,null,null,null,null,""]
[null,null,null,null,null,""]
[null,null,null,null,null,""]
[null,null,null,null,null,""]
[null,null,null,null,null,""]
[null,null,null,null,null,""]
[null,null,null,null,null,""]
[null,null,null,null,null,""]
[null,null,null,null,null,""]
[null,null,null,null,null,""]
[null,null,null,null,null,""]
[null,null,null,null,null,""]
[null,null,null,null,null,""]
[null,null,null,null,null,""]
[null,null,null,null,null,""]
[null,null,null,null,null,""]
[null,null,null,null,null,""]
[null,null,null,null,null,""]
[null,null,null,null,null,""]
[null,null,null,null,null,""]
[null,null,null,null,null,""]
[null,null,null,null,null,""]
["*","*","*","*","*","*","*","*","*","*","*","*","*","*","*","*","*","*","*"]

{"sheet":"Lookup","index":1,"n_rows":73,"n_cols":13,"rows_kept":73,"cut":false,"hidden":false,"merged":[]}
["Case Type List",null,"Extraordinary Case List",null,"Disposition List",null,"Adult or Juvenile ",null,"Appeals Case",null,"Appointed as Co-Counsel",null,"County"]
["Adult",null,"Adult",null,"Adult",null,"Juvenile",null,"Yes",null,"Yes",null,"Baker"]
["AFEL",null,"Voluminous discovery/sophisticated technology ",null,"ACQC",null,"Adult",null,"No",null,"No",null,"Benton"]
["AM11",null,"Multiple criminal episodes ",null,"ACQJ",null,null,null,null,null,null,null,"Clackamas"]
["BFEL",null,"One or more co-defendants ",null,"CLCC",null,null,null,null,null,null,null,"Clatsop"]
["BM11",null,"Complex forensic issues ",null,"CLCJ",null,null,null,null,null,null,null,"Columbia"]
["CFEL",null,"Language barriers ",null,"CNCV",null,null,null,null,null,null,null,"Coos"]
["CMUR",null,"Cultural barriers ",null,"CNVJ",null,null,null,null,null,null,null,"Crook"]
["CONT",null,"Intellectual disability or impairment ",null,"COM",null,null,null,null,null,null,null,"Curry"]
["CVHC",null,"Competency/aid and assist issues ",null,"CONS",null,null,null,null,null,null,null,"Deschutes"]
["CVPC",null,"Guilty except for insanity issues ",null,"CONT",null,null,null,null,null,null,null,"Douglas"]
["DFEL",null,"Complex legal issues post-appeal ",null,"DIVR",null,null,null,null,null,null,null,"Gilliam"]
["DPV",null,"Other ",null,"DSCC",null,null,null,null,null,null,null,"Grant"]
["DUIS",null,null,null,"DSM",null,null,null,null,null,null,null,"Harney"]
["DVIO",null,"Juvenile",null,"EXTR",null,null,null,null,null,null,null,"Hood River"]
["DWSS",null,"Mental health issues that affect ability to understand court proceedings ",null,"GRNT",null,null,null,null,null,null,null,"Jackson"]
["EXTR",null,"Mental health issues that affect ability to work with appointed lawyer ",null,"INSA",null,null,null,null,null,null,null,"Jefferson"]
["FAPA",null,"Intellectual disability that affect ability to understand court proceedings ",null,"MSTR",null,null,null,null,null,null,null,"Josephine"]
["FPV",null,"Intellectual disabilities that affect ability to work with appointed lawyer ",null,"OTHR",null,null,null,null,null,null,null,"Klamath"]
["JLAW",null,"Any other disability that affects ability to understand court proceedings ",null,"OTPA",null,null,null,null,null,null,null,"Lake"]
["MHMI",null,"Any other disability that affects ability to work with appointed lawyer ",null,"PLGY",null,null,null,null,null,null,null,"Lane"]
["MISS",null,"Drug and/or alcohol addiction that affects ability to understand court proceedings ",null,"PLLC",null,null,null,null,null,null,null,"Lincoln"]
["MPV",null,"Drug and/or alcohol addiction that affects ability to work with appointed lawyer ",null,"RCOM",null,null,null,null,null,null,null,"Linn"]
["MURD",null,"Significant child welfare history ",null,"REVK",null,null,null,null,null,null,null,"Malheur"]
["OTHR",null,"Multiple previous attorneys ",null,"WAIV",null,null,null,null,null,null,null,"Marion"]
["OTMS",null,"Waiver eligible case",null,"WTBN",null,null,null,null,null,null,null,"Morrow"]
["CVPCA",null,"Language barriers that affect ability to work with appointed lawyer ",null,"WTHD",null,null,null,null,null,null,null,"Multnomah"]
["PSRB",null,"3 or more children in at least three separate placements ",null,"DENY",null,null,null,null,null,null,null,"Polk"]
["SUPP",null,"Family Treatment Court ",null,null,null,null,null,null,null,null,null,"Sherman"]
["UFEL",null,"Other ",null,"Juvenile",null,null,null,null,null,null,null,"Tillamook"]
["MHC (Specialty Court)",null,null,null,"DIVR",null,null,null,null,null,null,null,"Umatilla"]
["FAM (Specialty Court)",null,"Appeals",null,"DSCC",null,null,null,null,null,null,null,"Union"]
["VET (Speciality Court)",null,"Supreme Court Case",null,"DSM",null,null,null,null,null,null,null,"Wallowa"]
["DRG (Specialty Court)",null,"Other ",null,"EMAN",null,null,null,null,null,null,null,"Wasco"]
["DUII (Speciality Court)",null,null,null,"JUDP",null,null,null,null,null,null,null,"Washington"]
["MHD (Speciality Docket)",null,null,null,"JUNF",null,null,null,null,null,null,null,"Wheeler"]
["FAMD (Speciality Docket)",null,null,null,"OTHR",null,null,null,null,null,null,null,"Yamhill"]
["DUIID (Specialty Docket)",null,null,null,"OTPA"]
["ERD (Speciality Docket)",null,null,null,"PRT"]
["AD (Speciality Docket)",null,null,null,"TERM"]
["OTHC (Speciality Cout)",null,null,null,"WTHD"]
[]
["Juvenile",null,null,null,"Adult Appeals"]
["JMUR",null,null,null,"ADAK"]
["JUDF",null,null,null,"ADAL"]
["JM11",null,null,null,"ADAM"]
["JUDM",null,null,null,"DENY"]
["JPV",null,null,null,"DSMA"]
["JAPR",null,null,null,"DSMC"]
["JUDO",null,null,null,"DSMR"]
["JDEP",null,null,null,"DSMS"]
["JDEC",null,null,null,"GRNT"]
["JDECX",null,null,null,"OTHR"]
["JUTP",null,null,null,"RMND"]
["JUTC",null,null,null,"RVR"]
["JUTCX",null,null,null,"RVWO"]
["JUDFW",null,null,null,"WTHD"]
["JM11W"]
["JGAP",null,null,null,"JUV Appeals"]
["JGAC",null,null,null,"ADAK"]
["JGACX",null,null,null,"ADAL"]
["JGAL",null,null,null,"ADAM"]
["CVAD",null,null,null,"DENY"]
["JFAA",null,null,null,"DSMA"]
["JVPA",null,null,null,"DSMC"]
["JDRG (Specialty Court)",null,null,null,"DSMR"]
["FAMC (Speciality Court)",null,null,null,"DSMS"]
["OTHC (Specialty Court)",null,null,null,"GRNT"]
[null,null,null,null,"OTHR"]
[null,null,null,null,"RMND"]
[null,null,null,null,"RVR"]
[null,null,null,null,"RVWO"]
[null,null,null,null,"WTHD"]

{"sheet":"CSV","index":2,"n_rows":1000,"n_cols":18,"rows_kept":1000,"cut":false,"hidden":false,"merged":[]}
["County","Client Last Name","Client First Name","Case Number","Most Serious Case Type","Most Serious Charge","Most Serious Incident Date","ORS","Appointment Date","Assigned Attorney OSB #","Attorney Last Name","Attorney First Name","Extraordinary Case","Appointed as Co-Counsel","Disposition","Disposition Date","Appeals Case","Comments"]
[{"$f":"IF('Caseload Reporting'!A2 = \"\",\"\",'Caseload Reporting'!A2)","v":""},{"$f":"IF('Caseload Reporting'!B2 = \"\",\"\",'Caseload Reporting'!B2)","v":""},{"$f":"IF('Caseload Reporting'!C2 = \"\",\"\",'Caseload Reporting'!C2)","v":""},{"$f":"IF('Caseload Reporting'!D2 = \"\",\"\",'Caseload Reporting'!D2)","v":""},{"$f":"IF('Caseload Reporting'!G2 = \"\",\"\",'Caseload Reporting'!G2)","v":""},{"$f":"IF('Caseload Reporting'!H2 = \"\",\"\",'Caseload Reporting'!H2)","v":""},{"$f":"IF('Caseload Reporting'!I2 = \"\",\"\",'Caseload Reporting'!I2)","v":""},{"$f":"IF('Caseload Reporting'!J2 = \"\",\"\",'Caseload Reporting'!J2)","v":""},{"$f":"IF('Caseload Reporting'!K2 = \"\",\"\",'Caseload Reporting'!K2)","v":""},{"$f":"IF('Caseload Reporting'!L2 = \"\",\"\",'Caseload Reporting'!L2)","v":""},{"$f":"IF('Caseload Reporting'!M2 = \"\",\"\",'Caseload Reporting'!M2)","v":""},{"$f":"IF('Caseload Reporting'!N2 = \"\",\"\",'Caseload Reporting'!N2)","v":""},{"$f":"IF('Caseload Reporting'!P2 = \"\",\"\",'Caseload Reporting'!P2)","v":""},{"$f":"IF('Caseload Reporting'!O2 = \"\",\"\",'Caseload Reporting'!O2)","v":""},{"$f":"IF('Caseload Reporting'!Q2 = \"\",\"\",'Caseload Reporting'!Q2)","v":""},{"$f":"IF('Caseload Reporting'!R2 = \"\",\"\",'Caseload Reporting'!R2)","v":""},{"$f":"IF('Caseload Reporting'!E2 = \"\",\"\",'Caseload Reporting'!E2)","v":""},{"$f":"IF('Caseload Reporting'!S2 = \"\",\"\",'Caseload Reporting'!S2)","v":""}]
[{"$f":"IF('Caseload Reporting'!A3 = \"\",\"\",'Caseload Reporting'!A3)","v":""},{"$f":"IF('Caseload Reporting'!B3 = \"\",\"\",'Caseload Reporting'!B3)","v":""},{"$f":"IF('Caseload Reporting'!C3 = \"\",\"\",'Caseload Reporting'!C3)","v":""},{"$f":"IF('Caseload Reporting'!D3 = \"\",\"\",'Caseload Reporting'!D3)","v":""},{"$f":"IF('Caseload Reporting'!G3 = \"\",\"\",'Caseload Reporting'!G3)","v":""},{"$f":"IF('Caseload Reporting'!H3 = \"\",\"\",'Caseload Reporting'!H3)","v":""},{"$f":"IF('Caseload Reporting'!I3 = \"\",\"\",'Caseload Reporting'!I3)","v":""},{"$f":"IF('Caseload Reporting'!J3 = \"\",\"\",'Caseload Reporting'!J3)","v":""},{"$f":"IF('Caseload Reporting'!K3 = \"\",\"\",'Caseload Reporting'!K3)","v":""},{"$f":"IF('Caseload Reporting'!L3 = \"\",\"\",'Caseload Reporting'!L3)","v":""},{"$f":"IF('Caseload Reporting'!M3 = \"\",\"\",'Caseload Reporting'!M3)","v":""},{"$f":"IF('Caseload Reporting'!N3 = \"\",\"\",'Caseload Reporting'!N3)","v":""},{"$f":"IF('Caseload Reporting'!P3 = \"\",\"\",'Caseload Reporting'!P3)","v":""},{"$f":"IF('Caseload Reporting'!O3 = \"\",\"\",'Caseload Reporting'!O3)","v":""},{"$f":"IF('Caseload Reporting'!Q3 = \"\",\"\",'Caseload Reporting'!Q3)","v":""},{"$f":"IF('Caseload Reporting'!R3 = \"\",\"\",'Caseload Reporting'!R3)","v":""},{"$f":"IF('Caseload Reporting'!E3 = \"\",\"\",'Caseload Reporting'!E3)","v":""},{"$f":"IF('Caseload Reporting'!S3 = \"\",\"\",'Caseload Reporting'!S3)","v":""}]
[{"$f":"IF('Caseload Reporting'!A4 = \"\",\"\",'Caseload Reporting'!A4)","v":""},{"$f":"IF('Caseload Reporting'!B4 = \"\",\"\",'Caseload Reporting'!B4)","v":""},{"$f":"IF('Caseload Reporting'!C4 = \"\",\"\",'Caseload Reporting'!C4)","v":""},{"$f":"IF('Caseload Reporting'!D4 = \"\",\"\",'Caseload Reporting'!D4)","v":""},{"$f":"IF('Caseload Reporting'!G4 = \"\",\"\",'Caseload Reporting'!G4)","v":""},{"$f":"IF('Caseload Reporting'!H4 = \"\",\"\",'Caseload Reporting'!H4)","v":""},{"$f":"IF('Caseload Reporting'!I4 = \"\",\"\",'Caseload Reporting'!I4)","v":""},{"$f":"IF('Caseload Reporting'!J4 = \"\",\"\",'Caseload Reporting'!J4)","v":""},{"$f":"IF('Caseload Reporting'!K4 = \"\",\"\",'Caseload Reporting'!K4)","v":""},{"$f":"IF('Caseload Reporting'!L4 = \"\",\"\",'Caseload Reporting'!L4)","v":""},{"$f":"IF('Caseload Reporting'!M4 = \"\",\"\",'Caseload Reporting'!M4)","v":""},{"$f":"IF('Caseload Reporting'!N4 = \"\",\"\",'Caseload Reporting'!N4)","v":""},{"$f":"IF('Caseload Reporting'!P4 = \"\",\"\",'Caseload Reporting'!P4)","v":""},{"$f":"IF('Caseload Reporting'!O4 = \"\",\"\",'Caseload Reporting'!O4)","v":""},{"$f":"IF('Caseload Reporting'!Q4 = \"\",\"\",'Caseload Reporting'!Q4)","v":""},{"$f":"IF('Caseload Reporting'!R4 = \"\",\"\",'Caseload Reporting'!R4)","v":""},{"$f":"IF('Caseload Reporting'!E4 = \"\",\"\",'Caseload Reporting'!E4)","v":""},{"$f":"IF('Caseload Reporting'!S4 = \"\",\"\",'Caseload Reporting'!S4)","v":""}]
[{"$f":"IF('Caseload Reporting'!A5 = \"\",\"\",'Caseload Reporting'!A5)","v":""},{"$f":"IF('Caseload Reporting'!B5 = \"\",\"\",'Caseload Reporting'!B5)","v":""},{"$f":"IF('Caseload Reporting'!C5 = \"\",\"\",'Caseload Reporting'!C5)","v":""},{"$f":"IF('Caseload Reporting'!D5 = \"\",\"\",'Caseload Reporting'!D5)","v":""},{"$f":"IF('Caseload Reporting'!G5 = \"\",\"\",'Caseload Reporting'!G5)","v":""},{"$f":"IF('Caseload Reporting'!H5 = \"\",\"\",'Caseload Reporting'!H5)","v":""},{"$f":"IF('Caseload Reporting'!I5 = \"\",\"\",'Caseload Reporting'!I5)","v":""},{"$f":"IF('Caseload Reporting'!J5 = \"\",\"\",'Caseload Reporting'!J5)","v":""},{"$f":"IF('Caseload Reporting'!K5 = \"\",\"\",'Caseload Reporting'!K5)","v":""},{"$f":"IF('Caseload Reporting'!L5 = \"\",\"\",'Caseload Reporting'!L5)","v":""},{"$f":"IF('Caseload Reporting'!M5 = \"\",\"\",'Caseload Reporting'!M5)","v":""},{"$f":"IF('Caseload Reporting'!N5 = \"\",\"\",'Caseload Reporting'!N5)","v":""},{"$f":"IF('Caseload Reporting'!P5 = \"\",\"\",'Caseload Reporting'!P5)","v":""},{"$f":"IF('Caseload Reporting'!O5 = \"\",\"\",'Caseload Reporting'!O5)","v":""},{"$f":"IF('Caseload Reporting'!Q5 = \"\",\"\",'Caseload Reporting'!Q5)","v":""},{"$f":"IF('Caseload Reporting'!R5 = \"\",\"\",'Caseload Reporting'!R5)","v":""},{"$f":"IF('Caseload Reporting'!E5 = \"\",\"\",'Caseload Reporting'!E5)","v":""},{"$f":"IF('Caseload Reporting'!S5 = \"\",\"\",'Caseload Reporting'!S5)","v":""}]
[{"$f":"IF('Caseload Reporting'!A6 = \"\",\"\",'Caseload Reporting'!A6)","v":""},{"$f":"IF('Caseload Reporting'!B6 = \"\",\"\",'Caseload Reporting'!B6)","v":""},{"$f":"IF('Caseload Reporting'!C6 = \"\",\"\",'Caseload Reporting'!C6)","v":""},{"$f":"IF('Caseload Reporting'!D6 = \"\",\"\",'Caseload Reporting'!D6)","v":""},{"$f":"IF('Caseload Reporting'!G6 = \"\",\"\",'Caseload Reporting'!G6)","v":""},{"$f":"IF('Caseload Reporting'!H6 = \"\",\"\",'Caseload Reporting'!H6)","v":""},{"$f":"IF('Caseload Reporting'!I6 = \"\",\"\",'Caseload Reporting'!I6)","v":""},{"$f":"IF('Caseload Reporting'!J6 = \"\",\"\",'Caseload Reporting'!J6)","v":""},{"$f":"IF('Caseload Reporting'!K6 = \"\",\"\",'Caseload Reporting'!K6)","v":""},{"$f":"IF('Caseload Reporting'!L6 = \"\",\"\",'Caseload Reporting'!L6)","v":""},{"$f":"IF('Caseload Reporting'!M6 = \"\",\"\",'Caseload Reporting'!M6)","v":""},{"$f":"IF('Caseload Reporting'!N6 = \"\",\"\",'Caseload Reporting'!N6)","v":""},{"$f":"IF('Caseload Reporting'!P6 = \"\",\"\",'Caseload Reporting'!P6)","v":""},{"$f":"IF('Caseload Reporting'!O6 = \"\",\"\",'Caseload Reporting'!O6)","v":""},{"$f":"IF('Caseload Reporting'!Q6 = \"\",\"\",'Caseload Reporting'!Q6)","v":""},{"$f":"IF('Caseload Reporting'!R6 = \"\",\"\",'Caseload Reporting'!R6)","v":""},{"$f":"IF('Caseload Reporting'!E6 = \"\",\"\",'Caseload Reporting'!E6)","v":""},{"$f":"IF('Caseload Reporting'!S6 = \"\",\"\",'Caseload Reporting'!S6)","v":""}]
[{"$f":"IF('Caseload Reporting'!A7 = \"\",\"\",'Caseload Reporting'!A7)","v":""},{"$f":"IF('Caseload Reporting'!B7 = \"\",\"\",'Caseload Reporting'!B7)","v":""},{"$f":"IF('Caseload Reporting'!C7 = \"\",\"\",'Caseload Reporting'!C7)","v":""},{"$f":"IF('Caseload Reporting'!D7 = \"\",\"\",'Caseload Reporting'!D7)","v":""},{"$f":"IF('Caseload Reporting'!G7 = \"\",\"\",'Caseload Reporting'!G7)","v":""},{"$f":"IF('Caseload Reporting'!H7 = \"\",\"\",'Caseload Reporting'!H7)","v":""},{"$f":"IF('Caseload Reporting'!I7 = \"\",\"\",'Caseload Reporting'!I7)","v":""},{"$f":"IF('Caseload Reporting'!J7 = \"\",\"\",'Caseload Reporting'!J7)","v":""},{"$f":"IF('Caseload Reporting'!K7 = \"\",\"\",'Caseload Reporting'!K7)","v":""},{"$f":"IF('Caseload Reporting'!L7 = \"\",\"\",'Caseload Reporting'!L7)","v":""},{"$f":"IF('Caseload Reporting'!M7 = \"\",\"\",'Caseload Reporting'!M7)","v":""},{"$f":"IF('Caseload Reporting'!N7 = \"\",\"\",'Caseload Reporting'!N7)","v":""},{"$f":"IF('Caseload Reporting'!P7 = \"\",\"\",'Caseload Reporting'!P7)","v":""},{"$f":"IF('Caseload Reporting'!O7 = \"\",\"\",'Caseload Reporting'!O7)","v":""},{"$f":"IF('Caseload Reporting'!Q7 = \"\",\"\",'Caseload Reporting'!Q7)","v":""},{"$f":"IF('Caseload Reporting'!R7 = \"\",\"\",'Caseload Reporting'!R7)","v":""},{"$f":"IF('Caseload Reporting'!E7 = \"\",\"\",'Caseload Reporting'!E7)","v":""},{"$f":"IF('Caseload Reporting'!S7 = \"\",\"\",'Caseload Reporting'!S7)","v":""}]
[{"$f":"IF('Caseload Reporting'!A8 = \"\",\"\",'Caseload Reporting'!A8)","v":""},{"$f":"IF('Caseload Reporting'!B8 = \"\",\"\",'Caseload Reporting'!B8)","v":""},{"$f":"IF('Caseload Reporting'!C8 = \"\",\"\",'Caseload Reporting'!C8)","v":""},{"$f":"IF('Caseload Reporting'!D8 = \"\",\"\",'Caseload Reporting'!D8)","v":""},{"$f":"IF('Caseload Reporting'!G8 = \"\",\"\",'Caseload Reporting'!G8)","v":""},{"$f":"IF('Caseload Reporting'!H8 = \"\",\"\",'Caseload Reporting'!H8)","v":""},{"$f":"IF('Caseload Reporting'!I8 = \"\",\"\",'Caseload Reporting'!I8)","v":""},{"$f":"IF('Caseload Reporting'!J8 = \"\",\"\",'Caseload Reporting'!J8)","v":""},{"$f":"IF('Caseload Reporting'!K8 = \"\",\"\",'Caseload Reporting'!K8)","v":""},{"$f":"IF('Caseload Reporting'!L8 = \"\",\"\",'Caseload Reporting'!L8)","v":""},{"$f":"IF('Caseload Reporting'!M8 = \"\",\"\",'Caseload Reporting'!M8)","v":""},{"$f":"IF('Caseload Reporting'!N8 = \"\",\"\",'Caseload Reporting'!N8)","v":""},{"$f":"IF('Caseload Reporting'!P8 = \"\",\"\",'Caseload Reporting'!P8)","v":""},{"$f":"IF('Caseload Reporting'!O8 = \"\",\"\",'Caseload Reporting'!O8)","v":""},{"$f":"IF('Caseload Reporting'!Q8 = \"\",\"\",'Caseload Reporting'!Q8)","v":""},{"$f":"IF('Caseload Reporting'!R8 = \"\",\"\",'Caseload Reporting'!R8)","v":""},{"$f":"IF('Caseload Reporting'!E8 = \"\",\"\",'Caseload Reporting'!E8)","v":""},{"$f":"IF('Caseload Reporting'!S8 = \"\",\"\",'Caseload Reporting'!S8)","v":""}]
[{"$f":"IF('Caseload Reporting'!A9 = \"\",\"\",'Caseload Reporting'!A9)","v":""},{"$f":"IF('Caseload Reporting'!B9 = \"\",\"\",'Caseload Reporting'!B9)","v":""},{"$f":"IF('Caseload Reporting'!C9 = \"\",\"\",'Caseload Reporting'!C9)","v":""},{"$f":"IF('Caseload Reporting'!D9 = \"\",\"\",'Caseload Reporting'!D9)","v":""},{"$f":"IF('Caseload Reporting'!G9 = \"\",\"\",'Caseload Reporting'!G9)","v":""},{"$f":"IF('Caseload Reporting'!H9 = \"\",\"\",'Caseload Reporting'!H9)","v":""},{"$f":"IF('Caseload Reporting'!I9 = \"\",\"\",'Caseload Reporting'!I9)","v":""},{"$f":"IF('Caseload Reporting'!J9 = \"\",\"\",'Caseload Reporting'!J9)","v":""},{"$f":"IF('Caseload Reporting'!K9 = \"\",\"\",'Caseload Reporting'!K9)","v":""},{"$f":"IF('Caseload Reporting'!L9 = \"\",\"\",'Caseload Reporting'!L9)","v":""},{"$f":"IF('Caseload Reporting'!M9 = \"\",\"\",'Caseload Reporting'!M9)","v":""},{"$f":"IF('Caseload Reporting'!N9 = \"\",\"\",'Caseload Reporting'!N9)","v":""},{"$f":"IF('Caseload Reporting'!P9 = \"\",\"\",'Caseload Reporting'!P9)","v":""},{"$f":"IF('Caseload Reporting'!O9 = \"\",\"\",'Caseload Reporting'!O9)","v":""},{"$f":"IF('Caseload Reporting'!Q9 = \"\",\"\",'Caseload Reporting'!Q9)","v":""},{"$f":"IF('Caseload Reporting'!R9 = \"\",\"\",'Caseload Reporting'!R9)","v":""},{"$f":"IF('Caseload Reporting'!E9 = \"\",\"\",'Caseload Reporting'!E9)","v":""},{"$f":"IF('Caseload Reporting'!S9 = \"\",\"\",'Caseload Reporting'!S9)","v":""}]
[{"$f":"IF('Caseload Reporting'!A10 = \"\",\"\",'Caseload Reporting'!A10)","v":""},{"$f":"IF('Caseload Reporting'!B10 = \"\",\"\",'Caseload Reporting'!B10)","v":""},{"$f":"IF('Caseload Reporting'!C10 = \"\",\"\",'Caseload Reporting'!C10)","v":""},{"$f":"IF('Caseload Reporting'!D10 = \"\",\"\",'Caseload Reporting'!D10)","v":""},{"$f":"IF('Caseload Reporting'!G10 = \"\",\"\",'Caseload Reporting'!G10)","v":""},{"$f":"IF('Caseload Reporting'!H10 = \"\",\"\",'Caseload Reporting'!H10)","v":""},{"$f":"IF('Caseload Reporting'!I10 = \"\",\"\",'Caseload Reporting'!I10)","v":""},{"$f":"IF('Caseload Reporting'!J10 = \"\",\"\",'Caseload Reporting'!J10)","v":""},{"$f":"IF('Caseload Reporting'!K10 = \"\",\"\",'Caseload Reporting'!K10)","v":""},{"$f":"IF('Caseload Reporting'!L10 = \"\",\"\",'Caseload Reporting'!L10)","v":""},{"$f":"IF('Caseload Reporting'!M10 = \"\",\"\",'Caseload Reporting'!M10)","v":""},{"$f":"IF('Caseload Reporting'!N10 = \"\",\"\",'Caseload Reporting'!N10)","v":""},{"$f":"IF('Caseload Reporting'!P10 = \"\",\"\",'Caseload Reporting'!P10)","v":""},{"$f":"IF('Caseload Reporting'!O10 = \"\",\"\",'Caseload Reporting'!O10)","v":""},{"$f":"IF('Caseload Reporting'!Q10 = \"\",\"\",'Caseload Reporting'!Q10)","v":""},{"$f":"IF('Caseload Reporting'!R10 = \"\",\"\",'Caseload Reporting'!R10)","v":""},{"$f":"IF('Caseload Reporting'!E10 = \"\",\"\",'Caseload Reporting'!E10)","v":""},{"$f":"IF('Caseload Reporting'!S10 = \"\",\"\",'Caseload Reporting'!S10)","v":""}]
[{"$f":"IF('Caseload Reporting'!A11 = \"\",\"\",'Caseload Reporting'!A11)","v":""},{"$f":"IF('Caseload Reporting'!B11 = \"\",\"\",'Caseload Reporting'!B11)","v":""},{"$f":"IF('Caseload Reporting'!C11 = \"\",\"\",'Caseload Reporting'!C11)","v":""},{"$f":"IF('Caseload Reporting'!D11 = \"\",\"\",'Caseload Reporting'!D11)","v":""},{"$f":"IF('Caseload Reporting'!G11 = \"\",\"\",'Caseload Reporting'!G11)","v":""},{"$f":"IF('Caseload Reporting'!H11 = \"\",\"\",'Caseload Reporting'!H11)","v":""},{"$f":"IF('Caseload Reporting'!I11 = \"\",\"\",'Caseload Reporting'!I11)","v":""},{"$f":"IF('Caseload Reporting'!J11 = \"\",\"\",'Caseload Reporting'!J11)","v":""},{"$f":"IF('Caseload Reporting'!K11 = \"\",\"\",'Caseload Reporting'!K11)","v":""},{"$f":"IF('Caseload Reporting'!L11 = \"\",\"\",'Caseload Reporting'!L11)","v":""},{"$f":"IF('Caseload Reporting'!M11 = \"\",\"\",'Caseload Reporting'!M11)","v":""},{"$f":"IF('Caseload Reporting'!N11 = \"\",\"\",'Caseload Reporting'!N11)","v":""},{"$f":"IF('Caseload Reporting'!P11 = \"\",\"\",'Caseload Reporting'!P11)","v":""},{"$f":"IF('Caseload Reporting'!O11 = \"\",\"\",'Caseload Reporting'!O11)","v":""},{"$f":"IF('Caseload Reporting'!Q11 = \"\",\"\",'Caseload Reporting'!Q11)","v":""},{"$f":"IF('Caseload Reporting'!R11 = \"\",\"\",'Caseload Reporting'!R11)","v":""},{"$f":"IF('Caseload Reporting'!E11 = \"\",\"\",'Caseload Reporting'!E11)","v":""},{"$f":"IF('Caseload Reporting'!S11 = \"\",\"\",'Caseload Reporting'!S11)","v":""}]
[{"$f":"IF('Caseload Reporting'!A12 = \"\",\"\",'Caseload Reporting'!A12)","v":""},{"$f":"IF('Caseload Reporting'!B12 = \"\",\"\",'Caseload Reporting'!B12)","v":""},{"$f":"IF('Caseload Reporting'!C12 = \"\",\"\",'Caseload Reporting'!C12)","v":""},{"$f":"IF('Caseload Reporting'!D12 = \"\",\"\",'Caseload Reporting'!D12)","v":""},{"$f":"IF('Caseload Reporting'!G12 = \"\",\"\",'Caseload Reporting'!G12)","v":""},{"$f":"IF('Caseload Reporting'!H12 = \"\",\"\",'Caseload Reporting'!H12)","v":""},{"$f":"IF('Caseload Reporting'!I12 = \"\",\"\",'Caseload Reporting'!I12)","v":""},{"$f":"IF('Caseload Reporting'!J12 = \"\",\"\",'Caseload Reporting'!J12)","v":""},{"$f":"IF('Caseload Reporting'!K12 = \"\",\"\",'Caseload Reporting'!K12)","v":""},{"$f":"IF('Caseload Reporting'!L12 = \"\",\"\",'Caseload Reporting'!L12)","v":""},{"$f":"IF('Caseload Reporting'!M12 = \"\",\"\",'Caseload Reporting'!M12)","v":""},{"$f":"IF('Caseload Reporting'!N12 = \"\",\"\",'Caseload Reporting'!N12)","v":""},{"$f":"IF('Caseload Reporting'!P12 = \"\",\"\",'Caseload Reporting'!P12)","v":""},{"$f":"IF('Caseload Reporting'!O12 = \"\",\"\",'Caseload Reporting'!O12)","v":""},{"$f":"IF('Caseload Reporting'!Q12 = \"\",\"\",'Caseload Reporting'!Q12)","v":""},{"$f":"IF('Caseload Reporting'!R12 = \"\",\"\",'Caseload Reporting'!R12)","v":""},{"$f":"IF('Caseload Reporting'!E12 = \"\",\"\",'Caseload Reporting'!E12)","v":""},{"$f":"IF('Caseload Reporting'!S12 = \"\",\"\",'Caseload Reporting'!S12)","v":""}]
[{"$f":"IF('Caseload Reporting'!A13 = \"\",\"\",'Caseload Reporting'!A13)","v":""},{"$f":"IF('Caseload Reporting'!B13 = \"\",\"\",'Caseload Reporting'!B13)","v":""},{"$f":"IF('Caseload Reporting'!C13 = \"\",\"\",'Caseload Reporting'!C13)","v":""},{"$f":"IF('Caseload Reporting'!D13 = \"\",\"\",'Caseload Reporting'!D13)","v":""},{"$f":"IF('Caseload Reporting'!G13 = \"\",\"\",'Caseload Reporting'!G13)","v":""},{"$f":"IF('Caseload Reporting'!H13 = \"\",\"\",'Caseload Reporting'!H13)","v":""},{"$f":"IF('Caseload Reporting'!I13 = \"\",\"\",'Caseload Reporting'!I13)","v":""},{"$f":"IF('Caseload Reporting'!J13 = \"\",\"\",'Caseload Reporting'!J13)","v":""},{"$f":"IF('Caseload Reporting'!K13 = \"\",\"\",'Caseload Reporting'!K13)","v":""},{"$f":"IF('Caseload Reporting'!L13 = \"\",\"\",'Caseload Reporting'!L13)","v":""},{"$f":"IF('Caseload Reporting'!M13 = \"\",\"\",'Caseload Reporting'!M13)","v":""},{"$f":"IF('Caseload Reporting'!N13 = \"\",\"\",'Caseload Reporting'!N13)","v":""},{"$f":"IF('Caseload Reporting'!P13 = \"\",\"\",'Caseload Reporting'!P13)","v":""},{"$f":"IF('Caseload Reporting'!O13 = \"\",\"\",'Caseload Reporting'!O13)","v":""},{"$f":"IF('Caseload Reporting'!Q13 = \"\",\"\",'Caseload Reporting'!Q13)","v":""},{"$f":"IF('Caseload Reporting'!R13 = \"\",\"\",'Caseload Reporting'!R13)","v":""},{"$f":"IF('Caseload Reporting'!E13 = \"\",\"\",'Caseload Reporting'!E13)","v":""},{"$f":"IF('Caseload Reporting'!S13 = \"\",\"\",'Caseload Reporting'!S13)","v":""}]
[{"$f":"IF('Caseload Reporting'!A14 = \"\",\"\",'Caseload Reporting'!A14)","v":""},{"$f":"IF('Caseload Reporting'!B14 = \"\",\"\",'Caseload Reporting'!B14)","v":""},{"$f":"IF('Caseload Reporting'!C14 = \"\",\"\",'Caseload Reporting'!C14)","v":""},{"$f":"IF('Caseload Reporting'!D14 = \"\",\"\",'Caseload Reporting'!D14)","v":""},{"$f":"IF('Caseload Reporting'!G14 = \"\",\"\",'Caseload Reporting'!G14)","v":""},{"$f":"IF('Caseload Reporting'!H14 = \"\",\"\",'Caseload Reporting'!H14)","v":""},{"$f":"IF('Caseload Reporting'!I14 = \"\",\"\",'Caseload Reporting'!I14)","v":""},{"$f":"IF('Caseload Reporting'!J14 = \"\",\"\",'Caseload Reporting'!J14)","v":""},{"$f":"IF('Caseload Reporting'!K14 = \"\",\"\",'Caseload Reporting'!K14)","v":""},{"$f":"IF('Caseload Reporting'!L14 = \"\",\"\",'Caseload Reporting'!L14)","v":""},{"$f":"IF('Caseload Reporting'!M14 = \"\",\"\",'Caseload Reporting'!M14)","v":""},{"$f":"IF('Caseload Reporting'!N14 = \"\",\"\",'Caseload Reporting'!N14)","v":""},{"$f":"IF('Caseload Reporting'!P14 = \"\",\"\",'Caseload Reporting'!P14)","v":""},{"$f":"IF('Caseload Reporting'!O14 = \"\",\"\",'Caseload Reporting'!O14)","v":""},{"$f":"IF('Caseload Reporting'!Q14 = \"\",\"\",'Caseload Reporting'!Q14)","v":""},{"$f":"IF('Caseload Reporting'!R14 = \"\",\"\",'Caseload Reporting'!R14)","v":""},{"$f":"IF('Caseload Reporting'!E14 = \"\",\"\",'Caseload Reporting'!E14)","v":""},{"$f":"IF('Caseload Reporting'!S14 = \"\",\"\",'Caseload Reporting'!S14)","v":""}]
[{"$f":"IF('Caseload Reporting'!A15 = \"\",\"\",'Caseload Reporting'!A15)","v":""},{"$f":"IF('Caseload Reporting'!B15 = \"\",\"\",'Caseload Reporting'!B15)","v":""},{"$f":"IF('Caseload Reporting'!C15 = \"\",\"\",'Caseload Reporting'!C15)","v":""},{"$f":"IF('Caseload Reporting'!D15 = \"\",\"\",'Caseload Reporting'!D15)","v":""},{"$f":"IF('Caseload Reporting'!G15 = \"\",\"\",'Caseload Reporting'!G15)","v":""},{"$f":"IF('Caseload Reporting'!H15 = \"\",\"\",'Caseload Reporting'!H15)","v":""},{"$f":"IF('Caseload Reporting'!I15 = \"\",\"\",'Caseload Reporting'!I15)","v":""},{"$f":"IF('Caseload Reporting'!J15 = \"\",\"\",'Caseload Reporting'!J15)","v":""},{"$f":"IF('Caseload Reporting'!K15 = \"\",\"\",'Caseload Reporting'!K15)","v":""},{"$f":"IF('Caseload Reporting'!L15 = \"\",\"\",'Caseload Reporting'!L15)","v":""},{"$f":"IF('Caseload Reporting'!M15 = \"\",\"\",'Caseload Reporting'!M15)","v":""},{"$f":"IF('Caseload Reporting'!N15 = \"\",\"\",'Caseload Reporting'!N15)","v":""},{"$f":"IF('Caseload Reporting'!P15 = \"\",\"\",'Caseload Reporting'!P15)","v":""},{"$f":"IF('Caseload Reporting'!O15 = \"\",\"\",'Caseload Reporting'!O15)","v":""},{"$f":"IF('Caseload Reporting'!Q15 = \"\",\"\",'Caseload Reporting'!Q15)","v":""},{"$f":"IF('Caseload Reporting'!R15 = \"\",\"\",'Caseload Reporting'!R15)","v":""},{"$f":"IF('Caseload Reporting'!E15 = \"\",\"\",'Caseload Reporting'!E15)","v":""},{"$f":"IF('Caseload Reporting'!S15 = \"\",\"\",'Caseload Reporting'!S15)","v":""}]
[{"$f":"IF('Caseload Reporting'!A16 = \"\",\"\",'Caseload Reporting'!A16)","v":""},{"$f":"IF('Caseload Reporting'!B16 = \"\",\"\",'Caseload Reporting'!B16)","v":""},{"$f":"IF('Caseload Reporting'!C16 = \"\",\"\",'Caseload Reporting'!C16)","v":""},{"$f":"IF('Caseload Reporting'!D16 = \"\",\"\",'Caseload Reporting'!D16)","v":""},{"$f":"IF('Caseload Reporting'!G16 = \"\",\"\",'Caseload Reporting'!G16)","v":""},{"$f":"IF('Caseload Reporting'!H16 = \"\",\"\",'Caseload Reporting'!H16)","v":""},{"$f":"IF('Caseload Reporting'!I16 = \"\",\"\",'Caseload Reporting'!I16)","v":""},{"$f":"IF('Caseload Reporting'!J16 = \"\",\"\",'Caseload Reporting'!J16)","v":""},{"$f":"IF('Caseload Reporting'!K16 = \"\",\"\",'Caseload Reporting'!K16)","v":""},{"$f":"IF('Caseload Reporting'!L16 = \"\",\"\",'Caseload Reporting'!L16)","v":""},{"$f":"IF('Caseload Reporting'!M16 = \"\",\"\",'Caseload Reporting'!M16)","v":""},{"$f":"IF('Caseload Reporting'!N16 = \"\",\"\",'Caseload Reporting'!N16)","v":""},{"$f":"IF('Caseload Reporting'!P16 = \"\",\"\",'Caseload Reporting'!P16)","v":""},{"$f":"IF('Caseload Reporting'!O16 = \"\",\"\",'Caseload Reporting'!O16)","v":""},{"$f":"IF('Caseload Reporting'!Q16 = \"\",\"\",'Caseload Reporting'!Q16)","v":""},{"$f":"IF('Caseload Reporting'!R16 = \"\",\"\",'Caseload Reporting'!R16)","v":""},{"$f":"IF('Caseload Reporting'!E16 = \"\",\"\",'Caseload Reporting'!E16)","v":""},{"$f":"IF('Caseload Reporting'!S16 = \"\",\"\",'Caseload Reporting'!S16)","v":""}]
[{"$f":"IF('Caseload Reporting'!A17 = \"\",\"\",'Caseload Reporting'!A17)","v":""},{"$f":"IF('Caseload Reporting'!B17 = \"\",\"\",'Caseload Reporting'!B17)","v":""},{"$f":"IF('Caseload Reporting'!C17 = \"\",\"\",'Caseload Reporting'!C17)","v":""},{"$f":"IF('Caseload Reporting'!D17 = \"\",\"\",'Caseload Reporting'!D17)","v":""},{"$f":"IF('Caseload Reporting'!G17 = \"\",\"\",'Caseload Reporting'!G17)","v":""},{"$f":"IF('Caseload Reporting'!H17 = \"\",\"\",'Caseload Reporting'!H17)","v":""},{"$f":"IF('Caseload Reporting'!I17 = \"\",\"\",'Caseload Reporting'!I17)","v":""},{"$f":"IF('Caseload Reporting'!J17 = \"\",\"\",'Caseload Reporting'!J17)","v":""},{"$f":"IF('Caseload Reporting'!K17 = \"\",\"\",'Caseload Reporting'!K17)","v":""},{"$f":"IF('Caseload Reporting'!L17 = \"\",\"\",'Caseload Reporting'!L17)","v":""},{"$f":"IF('Caseload Reporting'!M17 = \"\",\"\",'Caseload Reporting'!M17)","v":""},{"$f":"IF('Caseload Reporting'!N17 = \"\",\"\",'Caseload Reporting'!N17)","v":""},{"$f":"IF('Caseload Reporting'!P17 = \"\",\"\",'Caseload Reporting'!P17)","v":""},{"$f":"IF('Caseload Reporting'!O17 = \"\",\"\",'Caseload Reporting'!O17)","v":""},{"$f":"IF('Caseload Reporting'!Q17 = \"\",\"\",'Caseload Reporting'!Q17)","v":""},{"$f":"IF('Caseload Reporting'!R17 = \"\",\"\",'Caseload Reporting'!R17)","v":""},{"$f":"IF('Caseload Reporting'!E17 = \"\",\"\",'Caseload Reporting'!E17)","v":""},{"$f":"IF('Caseload Reporting'!S17 = \"\",\"\",'Caseload Reporting'!S17)","v":""}]
[{"$f":"IF('Caseload Reporting'!A18 = \"\",\"\",'Caseload Reporting'!A18)","v":""},{"$f":"IF('Caseload Reporting'!B18 = \"\",\"\",'Caseload Reporting'!B18)","v":""},{"$f":"IF('Caseload Reporting'!C18 = \"\",\"\",'Caseload Reporting'!C18)","v":""},{"$f":"IF('Caseload Reporting'!D18 = \"\",\"\",'Caseload Reporting'!D18)","v":""},{"$f":"IF('Caseload Reporting'!G18 = \"\",\"\",'Caseload Reporting'!G18)","v":""},{"$f":"IF('Caseload Reporting'!H18 = \"\",\"\",'Caseload Reporting'!H18)","v":""},{"$f":"IF('Caseload Reporting'!I18 = \"\",\"\",'Caseload Reporting'!I18)","v":""},{"$f":"IF('Caseload Reporting'!J18 = \"\",\"\",'Caseload Reporting'!J18)","v":""},{"$f":"IF('Caseload Reporting'!K18 = \"\",\"\",'Caseload Reporting'!K18)","v":""},{"$f":"IF('Caseload Reporting'!L18 = \"\",\"\",'Caseload Reporting'!L18)","v":""},{"$f":"IF('Caseload Reporting'!M18 = \"\",\"\",'Caseload Reporting'!M18)","v":""},{"$f":"IF('Caseload Reporting'!N18 = \"\",\"\",'Caseload Reporting'!N18)","v":""},{"$f":"IF('Caseload Reporting'!P18 = \"\",\"\",'Caseload Reporting'!P18)","v":""},{"$f":"IF('Caseload Reporting'!O18 = \"\",\"\",'Caseload Reporting'!O18)","v":""},{"$f":"IF('Caseload Reporting'!Q18 = \"\",\"\",'Caseload Reporting'!Q18)","v":""},{"$f":"IF('Caseload Reporting'!R18 = \"\",\"\",'Caseload Reporting'!R18)","v":""},{"$f":"IF('Caseload Reporting'!E18 = \"\",\"\",'Caseload Reporting'!E18)","v":""},{"$f":"IF('Caseload Reporting'!S18 = \"\",\"\",'Caseload Reporting'!S18)","v":""}]
[{"$f":"IF('Caseload Reporting'!A19 = \"\",\"\",'Caseload Reporting'!A19)","v":""},{"$f":"IF('Caseload Reporting'!B19 = \"\",\"\",'Caseload Reporting'!B19)","v":""},{"$f":"IF('Caseload Reporting'!C19 = \"\",\"\",'Caseload Reporting'!C19)","v":""},{"$f":"IF('Caseload Reporting'!D19 = \"\",\"\",'Caseload Reporting'!D19)","v":""},{"$f":"IF('Caseload Reporting'!G19 = \"\",\"\",'Caseload Reporting'!G19)","v":""},{"$f":"IF('Caseload Reporting'!H19 = \"\",\"\",'Caseload Reporting'!H19)","v":""},{"$f":"IF('Caseload Reporting'!I19 = \"\",\"\",'Caseload Reporting'!I19)","v":""},{"$f":"IF('Caseload Reporting'!J19 = \"\",\"\",'Caseload Reporting'!J19)","v":""},{"$f":"IF('Caseload Reporting'!K19 = \"\",\"\",'Caseload Reporting'!K19)","v":""},{"$f":"IF('Caseload Reporting'!L19 = \"\",\"\",'Caseload Reporting'!L19)","v":""},{"$f":"IF('Caseload Reporting'!M19 = \"\",\"\",'Caseload Reporting'!M19)","v":""},{"$f":"IF('Caseload Reporting'!N19 = \"\",\"\",'Caseload Reporting'!N19)","v":""},{"$f":"IF('Caseload Reporting'!P19 = \"\",\"\",'Caseload Reporting'!P19)","v":""},{"$f":"IF('Caseload Reporting'!O19 = \"\",\"\",'Caseload Reporting'!O19)","v":""},{"$f":"IF('Caseload Reporting'!Q19 = \"\",\"\",'Caseload Reporting'!Q19)","v":""},{"$f":"IF('Caseload Reporting'!R19 = \"\",\"\",'Caseload Reporting'!R19)","v":""},{"$f":"IF('Caseload Reporting'!E19 = \"\",\"\",'Caseload Reporting'!E19)","v":""},{"$f":"IF('Caseload Reporting'!S19 = \"\",\"\",'Caseload Reporting'!S19)","v":""}]
[{"$f":"IF('Caseload Reporting'!A20 = \"\",\"\",'Caseload Reporting'!A20)","v":""},{"$f":"IF('Caseload Reporting'!B20 = \"\",\"\",'Caseload Reporting'!B20)","v":""},{"$f":"IF('Caseload Reporting'!C20 = \"\",\"\",'Caseload Reporting'!C20)","v":""},{"$f":"IF('Caseload Reporting'!D20 = \"\",\"\",'Caseload Reporting'!D20)","v":""},{"$f":"IF('Caseload Reporting'!G20 = \"\",\"\",'Caseload Reporting'!G20)","v":""},{"$f":"IF('Caseload Reporting'!H20 = \"\",\"\",'Caseload Reporting'!H20)","v":""},{"$f":"IF('Caseload Reporting'!I20 = \"\",\"\",'Caseload Reporting'!I20)","v":""},{"$f":"IF('Caseload Reporting'!J20 = \"\",\"\",'Caseload Reporting'!J20)","v":""},{"$f":"IF('Caseload Reporting'!K20 = \"\",\"\",'Caseload Reporting'!K20)","v":""},{"$f":"IF('Caseload Reporting'!L20 = \"\",\"\",'Caseload Reporting'!L20)","v":""},{"$f":"IF('Caseload Reporting'!M20 = \"\",\"\",'Caseload Reporting'!M20)","v":""},{"$f":"IF('Caseload Reporting'!N20 = \"\",\"\",'Caseload Reporting'!N20)","v":""},{"$f":"IF('Caseload Reporting'!P20 = \"\",\"\",'Caseload Reporting'!P20)","v":""},{"$f":"IF('Caseload Reporting'!O20 = \"\",\"\",'Caseload Reporting'!O20)","v":""},{"$f":"IF('Caseload Reporting'!Q20 = \"\",\"\",'Caseload Reporting'!Q20)","v":""},{"$f":"IF('Caseload Reporting'!R20 = \"\",\"\",'Caseload Reporting'!R20)","v":""},{"$f":"IF('Caseload Reporting'!E20 = \"\",\"\",'Caseload Reporting'!E20)","v":""},{"$f":"IF('Caseload Reporting'!S20 = \"\",\"\",'Caseload Reporting'!S20)","v":""}]
[{"$f":"IF('Caseload Reporting'!A21 = \"\",\"\",'Caseload Reporting'!A21)","v":""},{"$f":"IF('Caseload Reporting'!B21 = \"\",\"\",'Caseload Reporting'!B21)","v":""},{"$f":"IF('Caseload Reporting'!C21 = \"\",\"\",'Caseload Reporting'!C21)","v":""},{"$f":"IF('Caseload Reporting'!D21 = \"\",\"\",'Caseload Reporting'!D21)","v":""},{"$f":"IF('Caseload Reporting'!G21 = \"\",\"\",'Caseload Reporting'!G21)","v":""},{"$f":"IF('Caseload Reporting'!H21 = \"\",\"\",'Caseload Reporting'!H21)","v":""},{"$f":"IF('Caseload Reporting'!I21 = \"\",\"\",'Caseload Reporting'!I21)","v":""},{"$f":"IF('Caseload Reporting'!J21 = \"\",\"\",'Caseload Reporting'!J21)","v":""},{"$f":"IF('Caseload Reporting'!K21 = \"\",\"\",'Caseload Reporting'!K21)","v":""},{"$f":"IF('Caseload Reporting'!L21 = \"\",\"\",'Caseload Reporting'!L21)","v":""},{"$f":"IF('Caseload Reporting'!M21 = \"\",\"\",'Caseload Reporting'!M21)","v":""},{"$f":"IF('Caseload Reporting'!N21 = \"\",\"\",'Caseload Reporting'!N21)","v":""},{"$f":"IF('Caseload Reporting'!P21 = \"\",\"\",'Caseload Reporting'!P21)","v":""},{"$f":"IF('Caseload Reporting'!O21 = \"\",\"\",'Caseload Reporting'!O21)","v":""},{"$f":"IF('Caseload Reporting'!Q21 = \"\",\"\",'Caseload Reporting'!Q21)","v":""},{"$f":"IF('Caseload Reporting'!R21 = \"\",\"\",'Caseload Reporting'!R21)","v":""},{"$f":"IF('Caseload Reporting'!E21 = \"\",\"\",'Caseload Reporting'!E21)","v":""},{"$f":"IF('Caseload Reporting'!S21 = \"\",\"\",'Caseload Reporting'!S21)","v":""}]
[{"$f":"IF('Caseload Reporting'!A22 = \"\",\"\",'Caseload Reporting'!A22)","v":""},{"$f":"IF('Caseload Reporting'!B22 = \"\",\"\",'Caseload Reporting'!B22)","v":""},{"$f":"IF('Caseload Reporting'!C22 = \"\",\"\",'Caseload Reporting'!C22)","v":""},{"$f":"IF('Caseload Reporting'!D22 = \"\",\"\",'Caseload Reporting'!D22)","v":""},{"$f":"IF('Caseload Reporting'!G22 = \"\",\"\",'Caseload Reporting'!G22)","v":""},{"$f":"IF('Caseload Reporting'!H22 = \"\",\"\",'Caseload Reporting'!H22)","v":""},{"$f":"IF('Caseload Reporting'!I22 = \"\",\"\",'Caseload Reporting'!I22)","v":""},{"$f":"IF('Caseload Reporting'!J22 = \"\",\"\",'Caseload Reporting'!J22)","v":""},{"$f":"IF('Caseload Reporting'!K22 = \"\",\"\",'Caseload Reporting'!K22)","v":""},{"$f":"IF('Caseload Reporting'!L22 = \"\",\"\",'Caseload Reporting'!L22)","v":""},{"$f":"IF('Caseload Reporting'!M22 = \"\",\"\",'Caseload Reporting'!M22)","v":""},{"$f":"IF('Caseload Reporting'!N22 = \"\",\"\",'Caseload Reporting'!N22)","v":""},{"$f":"IF('Caseload Reporting'!P22 = \"\",\"\",'Caseload Reporting'!P22)","v":""},{"$f":"IF('Caseload Reporting'!O22 = \"\",\"\",'Caseload Reporting'!O22)","v":""},{"$f":"IF('Caseload Reporting'!Q22 = \"\",\"\",'Caseload Reporting'!Q22)","v":""},{"$f":"IF('Caseload Reporting'!R22 = \"\",\"\",'Caseload Reporting'!R22)","v":""},{"$f":"IF('Caseload Reporting'!E22 = \"\",\"\",'Caseload Reporting'!E22)","v":""},{"$f":"IF('Caseload Reporting'!S22 = \"\",\"\",'Caseload Reporting'!S22)","v":""}]
[{"$f":"IF('Caseload Reporting'!A23 = \"\",\"\",'Caseload Reporting'!A23)","v":""},{"$f":"IF('Caseload Reporting'!B23 = \"\",\"\",'Caseload Reporting'!B23)","v":""},{"$f":"IF('Caseload Reporting'!C23 = \"\",\"\",'Caseload Reporting'!C23)","v":""},{"$f":"IF('Caseload Reporting'!D23 = \"\",\"\",'Caseload Reporting'!D23)","v":""},{"$f":"IF('Caseload Reporting'!G23 = \"\",\"\",'Caseload Reporting'!G23)","v":""},{"$f":"IF('Caseload Reporting'!H23 = \"\",\"\",'Caseload Reporting'!H23)","v":""},{"$f":"IF('Caseload Reporting'!I23 = \"\",\"\",'Caseload Reporting'!I23)","v":""},{"$f":"IF('Caseload Reporting'!J23 = \"\",\"\",'Caseload Reporting'!J23)","v":""},{"$f":"IF('Caseload Reporting'!K23 = \"\",\"\",'Caseload Reporting'!K23)","v":""},{"$f":"IF('Caseload Reporting'!L23 = \"\",\"\",'Caseload Reporting'!L23)","v":""},{"$f":"IF('Caseload Reporting'!M23 = \"\",\"\",'Caseload Reporting'!M23)","v":""},{"$f":"IF('Caseload Reporting'!N23 = \"\",\"\",'Caseload Reporting'!N23)","v":""},{"$f":"IF('Caseload Reporting'!P23 = \"\",\"\",'Caseload Reporting'!P23)","v":""},{"$f":"IF('Caseload Reporting'!O23 = \"\",\"\",'Caseload Reporting'!O23)","v":""},{"$f":"IF('Caseload Reporting'!Q23 = \"\",\"\",'Caseload Reporting'!Q23)","v":""},{"$f":"IF('Caseload Reporting'!R23 = \"\",\"\",'Caseload Reporting'!R23)","v":""},{"$f":"IF('Caseload Reporting'!E23 = \"\",\"\",'Caseload Reporting'!E23)","v":""},{"$f":"IF('Caseload Reporting'!S23 = \"\",\"\",'Caseload Reporting'!S23)","v":""}]
[{"$f":"IF('Caseload Reporting'!A24 = \"\",\"\",'Caseload Reporting'!A24)","v":""},{"$f":"IF('Caseload Reporting'!B24 = \"\",\"\",'Caseload Reporting'!B24)","v":""},{"$f":"IF('Caseload Reporting'!C24 = \"\",\"\",'Caseload Reporting'!C24)","v":""},{"$f":"IF('Caseload Reporting'!D24 = \"\",\"\",'Caseload Reporting'!D24)","v":""},{"$f":"IF('Caseload Reporting'!G24 = \"\",\"\",'Caseload Reporting'!G24)","v":""},{"$f":"IF('Caseload Reporting'!H24 = \"\",\"\",'Caseload Reporting'!H24)","v":""},{"$f":"IF('Caseload Reporting'!I24 = \"\",\"\",'Caseload Reporting'!I24)","v":""},{"$f":"IF('Caseload Reporting'!J24 = \"\",\"\",'Caseload Reporting'!J24)","v":""},{"$f":"IF('Caseload Reporting'!K24 = \"\",\"\",'Caseload Reporting'!K24)","v":""},{"$f":"IF('Caseload Reporting'!L24 = \"\",\"\",'Caseload Reporting'!L24)","v":""},{"$f":"IF('Caseload Reporting'!M24 = \"\",\"\",'Caseload Reporting'!M24)","v":""},{"$f":"IF('Caseload Reporting'!N24 = \"\",\"\",'Caseload Reporting'!N24)","v":""},{"$f":"IF('Caseload Reporting'!P24 = \"\",\"\",'Caseload Reporting'!P24)","v":""},{"$f":"IF('Caseload Reporting'!O24 = \"\",\"\",'Caseload Reporting'!O24)","v":""},{"$f":"IF('Caseload Reporting'!Q24 = \"\",\"\",'Caseload Reporting'!Q24)","v":""},{"$f":"IF('Caseload Reporting'!R24 = \"\",\"\",'Caseload Reporting'!R24)","v":""},{"$f":"IF('Caseload Reporting'!E24 = \"\",\"\",'Caseload Reporting'!E24)","v":""},{"$f":"IF('Caseload Reporting'!S24 = \"\",\"\",'Caseload Reporting'!S24)","v":""}]
[{"$f":"IF('Caseload Reporting'!A25 = \"\",\"\",'Caseload Reporting'!A25)","v":""},{"$f":"IF('Caseload Reporting'!B25 = \"\",\"\",'Caseload Reporting'!B25)","v":""},{"$f":"IF('Caseload Reporting'!C25 = \"\",\"\",'Caseload Reporting'!C25)","v":""},{"$f":"IF('Caseload Reporting'!D25 = \"\",\"\",'Caseload Reporting'!D25)","v":""},{"$f":"IF('Caseload Reporting'!G25 = \"\",\"\",'Caseload Reporting'!G25)","v":""},{"$f":"IF('Caseload Reporting'!H25 = \"\",\"\",'Caseload Reporting'!H25)","v":""},{"$f":"IF('Caseload Reporting'!I25 = \"\",\"\",'Caseload Reporting'!I25)","v":""},{"$f":"IF('Caseload Reporting'!J25 = \"\",\"\",'Caseload Reporting'!J25)","v":""},{"$f":"IF('Caseload Reporting'!K25 = \"\",\"\",'Caseload Reporting'!K25)","v":""},{"$f":"IF('Caseload Reporting'!L25 = \"\",\"\",'Caseload Reporting'!L25)","v":""},{"$f":"IF('Caseload Reporting'!M25 = \"\",\"\",'Caseload Reporting'!M25)","v":""},{"$f":"IF('Caseload Reporting'!N25 = \"\",\"\",'Caseload Reporting'!N25)","v":""},{"$f":"IF('Caseload Reporting'!P25 = \"\",\"\",'Caseload Reporting'!P25)","v":""},{"$f":"IF('Caseload Reporting'!O25 = \"\",\"\",'Caseload Reporting'!O25)","v":""},{"$f":"IF('Caseload Reporting'!Q25 = \"\",\"\",'Caseload Reporting'!Q25)","v":""},{"$f":"IF('Caseload Reporting'!R25 = \"\",\"\",'Caseload Reporting'!R25)","v":""},{"$f":"IF('Caseload Reporting'!E25 = \"\",\"\",'Caseload Reporting'!E25)","v":""},{"$f":"IF('Caseload Reporting'!S25 = \"\",\"\",'Caseload Reporting'!S25)","v":""}]
[{"$f":"IF('Caseload Reporting'!A26 = \"\",\"\",'Caseload Reporting'!A26)","v":""},{"$f":"IF('Caseload Reporting'!B26 = \"\",\"\",'Caseload Reporting'!B26)","v":""},{"$f":"IF('Caseload Reporting'!C26 = \"\",\"\",'Caseload Reporting'!C26)","v":""},{"$f":"IF('Caseload Reporting'!D26 = \"\",\"\",'Caseload Reporting'!D26)","v":""},{"$f":"IF('Caseload Reporting'!G26 = \"\",\"\",'Caseload Reporting'!G26)","v":""},{"$f":"IF('Caseload Reporting'!H26 = \"\",\"\",'Caseload Reporting'!H26)","v":""},{"$f":"IF('Caseload Reporting'!I26 = \"\",\"\",'Caseload Reporting'!I26)","v":""},{"$f":"IF('Caseload Reporting'!J26 = \"\",\"\",'Caseload Reporting'!J26)","v":""},{"$f":"IF('Caseload Reporting'!K26 = \"\",\"\",'Caseload Reporting'!K26)","v":""},{"$f":"IF('Caseload Reporting'!L26 = \"\",\"\",'Caseload Reporting'!L26)","v":""},{"$f":"IF('Caseload Reporting'!M26 = \"\",\"\",'Caseload Reporting'!M26)","v":""},{"$f":"IF('Caseload Reporting'!N26 = \"\",\"\",'Caseload Reporting'!N26)","v":""},{"$f":"IF('Caseload Reporting'!P26 = \"\",\"\",'Caseload Reporting'!P26)","v":""},{"$f":"IF('Caseload Reporting'!O26 = \"\",\"\",'Caseload Reporting'!O26)","v":""},{"$f":"IF('Caseload Reporting'!Q26 = \"\",\"\",'Caseload Reporting'!Q26)","v":""},{"$f":"IF('Caseload Reporting'!R26 = \"\",\"\",'Caseload Reporting'!R26)","v":""},{"$f":"IF('Caseload Reporting'!E26 = \"\",\"\",'Caseload Reporting'!E26)","v":""},{"$f":"IF('Caseload Reporting'!S26 = \"\",\"\",'Caseload Reporting'!S26)","v":""}]
[{"$f":"IF('Caseload Reporting'!A27 = \"\",\"\",'Caseload Reporting'!A27)","v":""},{"$f":"IF('Caseload Reporting'!B27 = \"\",\"\",'Caseload Reporting'!B27)","v":""},{"$f":"IF('Caseload Reporting'!C27 = \"\",\"\",'Caseload Reporting'!C27)","v":""},{"$f":"IF('Caseload Reporting'!D27 = \"\",\"\",'Caseload Reporting'!D27)","v":""},{"$f":"IF('Caseload Reporting'!G27 = \"\",\"\",'Caseload Reporting'!G27)","v":""},{"$f":"IF('Caseload Reporting'!H27 = \"\",\"\",'Caseload Reporting'!H27)","v":""},{"$f":"IF('Caseload Reporting'!I27 = \"\",\"\",'Caseload Reporting'!I27)","v":""},{"$f":"IF('Caseload Reporting'!J27 = \"\",\"\",'Caseload Reporting'!J27)","v":""},{"$f":"IF('Caseload Reporting'!K27 = \"\",\"\",'Caseload Reporting'!K27)","v":""},{"$f":"IF('Caseload Reporting'!L27 = \"\",\"\",'Caseload Reporting'!L27)","v":""},{"$f":"IF('Caseload Reporting'!M27 = \"\",\"\",'Caseload Reporting'!M27)","v":""},{"$f":"IF('Caseload Reporting'!N27 = \"\",\"\",'Caseload Reporting'!N27)","v":""},{"$f":"IF('Caseload Reporting'!P27 = \"\",\"\",'Caseload Reporting'!P27)","v":""},{"$f":"IF('Caseload Reporting'!O27 = \"\",\"\",'Caseload Reporting'!O27)","v":""},{"$f":"IF('Caseload Reporting'!Q27 = \"\",\"\",'Caseload Reporting'!Q27)","v":""},{"$f":"IF('Caseload Reporting'!R27 = \"\",\"\",'Caseload Reporting'!R27)","v":""},{"$f":"IF('Caseload Reporting'!E27 = \"\",\"\",'Caseload Reporting'!E27)","v":""},{"$f":"IF('Caseload Reporting'!S27 = \"\",\"\",'Caseload Reporting'!S27)","v":""}]
[{"$f":"IF('Caseload Reporting'!A28 = \"\",\"\",'Caseload Reporting'!A28)","v":""},{"$f":"IF('Caseload Reporting'!B28 = \"\",\"\",'Caseload Reporting'!B28)","v":""},{"$f":"IF('Caseload Reporting'!C28 = \"\",\"\",'Caseload Reporting'!C28)","v":""},{"$f":"IF('Caseload Reporting'!D28 = \"\",\"\",'Caseload Reporting'!D28)","v":""},{"$f":"IF('Caseload Reporting'!G28 = \"\",\"\",'Caseload Reporting'!G28)","v":""},{"$f":"IF('Caseload Reporting'!H28 = \"\",\"\",'Caseload Reporting'!H28)","v":""},{"$f":"IF('Caseload Reporting'!I28 = \"\",\"\",'Caseload Reporting'!I28)","v":""},{"$f":"IF('Caseload Reporting'!J28 = \"\",\"\",'Caseload Reporting'!J28)","v":""},{"$f":"IF('Caseload Reporting'!K28 = \"\",\"\",'Caseload Reporting'!K28)","v":""},{"$f":"IF('Caseload Reporting'!L28 = \"\",\"\",'Caseload Reporting'!L28)","v":""},{"$f":"IF('Caseload Reporting'!M28 = \"\",\"\",'Caseload Reporting'!M28)","v":""},{"$f":"IF('Caseload Reporting'!N28 = \"\",\"\",'Caseload Reporting'!N28)","v":""},{"$f":"IF('Caseload Reporting'!P28 = \"\",\"\",'Caseload Reporting'!P28)","v":""},{"$f":"IF('Caseload Reporting'!O28 = \"\",\"\",'Caseload Reporting'!O28)","v":""},{"$f":"IF('Caseload Reporting'!Q28 = \"\",\"\",'Caseload Reporting'!Q28)","v":""},{"$f":"IF('Caseload Reporting'!R28 = \"\",\"\",'Caseload Reporting'!R28)","v":""},{"$f":"IF('Caseload Reporting'!E28 = \"\",\"\",'Caseload Reporting'!E28)","v":""},{"$f":"IF('Caseload Reporting'!S28 = \"\",\"\",'Caseload Reporting'!S28)","v":""}]
[{"$f":"IF('Caseload Reporting'!A29 = \"\",\"\",'Caseload Reporting'!A29)","v":""},{"$f":"IF('Caseload Reporting'!B29 = \"\",\"\",'Caseload Reporting'!B29)","v":""},{"$f":"IF('Caseload Reporting'!C29 = \"\",\"\",'Caseload Reporting'!C29)","v":""},{"$f":"IF('Caseload Reporting'!D29 = \"\",\"\",'Caseload Reporting'!D29)","v":""},{"$f":"IF('Caseload Reporting'!G29 = \"\",\"\",'Caseload Reporting'!G29)","v":""},{"$f":"IF('Caseload Reporting'!H29 = \"\",\"\",'Caseload Reporting'!H29)","v":""},{"$f":"IF('Caseload Reporting'!I29 = \"\",\"\",'Caseload Reporting'!I29)","v":""},{"$f":"IF('Caseload Reporting'!J29 = \"\",\"\",'Caseload Reporting'!J29)","v":""},{"$f":"IF('Caseload Reporting'!K29 = \"\",\"\",'Caseload Reporting'!K29)","v":""},{"$f":"IF('Caseload Reporting'!L29 = \"\",\"\",'Caseload Reporting'!L29)","v":""},{"$f":"IF('Caseload Reporting'!M29 = \"\",\"\",'Caseload Reporting'!M29)","v":""},{"$f":"IF('Caseload Reporting'!N29 = \"\",\"\",'Caseload Reporting'!N29)","v":""},{"$f":"IF('Caseload Reporting'!P29 = \"\",\"\",'Caseload Reporting'!P29)","v":""},{"$f":"IF('Caseload Reporting'!O29 = \"\",\"\",'Caseload Reporting'!O29)","v":""},{"$f":"IF('Caseload Reporting'!Q29 = \"\",\"\",'Caseload Reporting'!Q29)","v":""},{"$f":"IF('Caseload Reporting'!R29 = \"\",\"\",'Caseload Reporting'!R29)","v":""},{"$f":"IF('Caseload Reporting'!E29 = \"\",\"\",'Caseload Reporting'!E29)","v":""},{"$f":"IF('Caseload Reporting'!S29 = \"\",\"\",'Caseload Reporting'!S29)","v":""}]
[{"$f":"IF('Caseload Reporting'!A30 = \"\",\"\",'Caseload Reporting'!A30)","v":""},{"$f":"IF('Caseload Reporting'!B30 = \"\",\"\",'Caseload Reporting'!B30)","v":""},{"$f":"IF('Caseload Reporting'!C30 = \"\",\"\",'Caseload Reporting'!C30)","v":""},{"$f":"IF('Caseload Reporting'!D30 = \"\",\"\",'Caseload Reporting'!D30)","v":""},{"$f":"IF('Caseload Reporting'!G30 = \"\",\"\",'Caseload Reporting'!G30)","v":""},{"$f":"IF('Caseload Reporting'!H30 = \"\",\"\",'Caseload Reporting'!H30)","v":""},{"$f":"IF('Caseload Reporting'!I30 = \"\",\"\",'Caseload Reporting'!I30)","v":""},{"$f":"IF('Caseload Reporting'!J30 = \"\",\"\",'Caseload Reporting'!J30)","v":""},{"$f":"IF('Caseload Reporting'!K30 = \"\",\"\",'Caseload Reporting'!K30)","v":""},{"$f":"IF('Caseload Reporting'!L30 = \"\",\"\",'Caseload Reporting'!L30)","v":""},{"$f":"IF('Caseload Reporting'!M30 = \"\",\"\",'Caseload Reporting'!M30)","v":""},{"$f":"IF('Caseload Reporting'!N30 = \"\",\"\",'Caseload Reporting'!N30)","v":""},{"$f":"IF('Caseload Reporting'!P30 = \"\",\"\",'Caseload Reporting'!P30)","v":""},{"$f":"IF('Caseload Reporting'!O30 = \"\",\"\",'Caseload Reporting'!O30)","v":""},{"$f":"IF('Caseload Reporting'!Q30 = \"\",\"\",'Caseload Reporting'!Q30)","v":""},{"$f":"IF('Caseload Reporting'!R30 = \"\",\"\",'Caseload Reporting'!R30)","v":""},{"$f":"IF('Caseload Reporting'!E30 = \"\",\"\",'Caseload Reporting'!E30)","v":""},{"$f":"IF('Caseload Reporting'!S30 = \"\",\"\",'Caseload Reporting'!S30)","v":""}]
[{"$f":"IF('Caseload Reporting'!A31 = \"\",\"\",'Caseload Reporting'!A31)","v":""},{"$f":"IF('Caseload Reporting'!B31 = \"\",\"\",'Caseload Reporting'!B31)","v":""},{"$f":"IF('Caseload Reporting'!C31 = \"\",\"\",'Caseload Reporting'!C31)","v":""},{"$f":"IF('Caseload Reporting'!D31 = \"\",\"\",'Caseload Reporting'!D31)","v":""},{"$f":"IF('Caseload Reporting'!G31 = \"\",\"\",'Caseload Reporting'!G31)","v":""},{"$f":"IF('Caseload Reporting'!H31 = \"\",\"\",'Caseload Reporting'!H31)","v":""},{"$f":"IF('Caseload Reporting'!I31 = \"\",\"\",'Caseload Reporting'!I31)","v":""},{"$f":"IF('Caseload Reporting'!J31 = \"\",\"\",'Caseload Reporting'!J31)","v":""},{"$f":"IF('Caseload Reporting'!K31 = \"\",\"\",'Caseload Reporting'!K31)","v":""},{"$f":"IF('Caseload Reporting'!L31 = \"\",\"\",'Caseload Reporting'!L31)","v":""},{"$f":"IF('Caseload Reporting'!M31 = \"\",\"\",'Caseload Reporting'!M31)","v":""},{"$f":"IF('Caseload Reporting'!N31 = \"\",\"\",'Caseload Reporting'!N31)","v":""},{"$f":"IF('Caseload Reporting'!P31 = \"\",\"\",'Caseload Reporting'!P31)","v":""},{"$f":"IF('Caseload Reporting'!O31 = \"\",\"\",'Caseload Reporting'!O31)","v":""},{"$f":"IF('Caseload Reporting'!Q31 = \"\",\"\",'Caseload Reporting'!Q31)","v":""},{"$f":"IF('Caseload Reporting'!R31 = \"\",\"\",'Caseload Reporting'!R31)","v":""},{"$f":"IF('Caseload Reporting'!E31 = \"\",\"\",'Caseload Reporting'!E31)","v":""},{"$f":"IF('Caseload Reporting'!S31 = \"\",\"\",'Caseload Reporting'!S31)","v":""}]
[{"$f":"IF('Caseload Reporting'!A32 = \"\",\"\",'Caseload Reporting'!A32)","v":""},{"$f":"IF('Caseload Reporting'!B32 = \"\",\"\",'Caseload Reporting'!B32)","v":""},{"$f":"IF('Caseload Reporting'!C32 = \"\",\"\",'Caseload Reporting'!C32)","v":""},{"$f":"IF('Caseload Reporting'!D32 = \"\",\"\",'Caseload Reporting'!D32)","v":""},{"$f":"IF('Caseload Reporting'!G32 = \"\",\"\",'Caseload Reporting'!G32)","v":""},{"$f":"IF('Caseload Reporting'!H32 = \"\",\"\",'Caseload Reporting'!H32)","v":""},{"$f":"IF('Caseload Reporting'!I32 = \"\",\"\",'Caseload Reporting'!I32)","v":""},{"$f":"IF('Caseload Reporting'!J32 = \"\",\"\",'Caseload Reporting'!J32)","v":""},{"$f":"IF('Caseload Reporting'!K32 = \"\",\"\",'Caseload Reporting'!K32)","v":""},{"$f":"IF('Caseload Reporting'!L32 = \"\",\"\",'Caseload Reporting'!L32)","v":""},{"$f":"IF('Caseload Reporting'!M32 = \"\",\"\",'Caseload Reporting'!M32)","v":""},{"$f":"IF('Caseload Reporting'!N32 = \"\",\"\",'Caseload Reporting'!N32)","v":""},{"$f":"IF('Caseload Reporting'!P32 = \"\",\"\",'Caseload Reporting'!P32)","v":""},{"$f":"IF('Caseload Reporting'!O32 = \"\",\"\",'Caseload Reporting'!O32)","v":""},{"$f":"IF('Caseload Reporting'!Q32 = \"\",\"\",'Caseload Reporting'!Q32)","v":""},{"$f":"IF('Caseload Reporting'!R32 = \"\",\"\",'Caseload Reporting'!R32)","v":""},{"$f":"IF('Caseload Reporting'!E32 = \"\",\"\",'Caseload Reporting'!E32)","v":""},{"$f":"IF('Caseload Reporting'!S32 = \"\",\"\",'Caseload Reporting'!S32)","v":""}]
[{"$f":"IF('Caseload Reporting'!A33 = \"\",\"\",'Caseload Reporting'!A33)","v":""},{"$f":"IF('Caseload Reporting'!B33 = \"\",\"\",'Caseload Reporting'!B33)","v":""},{"$f":"IF('Caseload Reporting'!C33 = \"\",\"\",'Caseload Reporting'!C33)","v":""},{"$f":"IF('Caseload Reporting'!D33 = \"\",\"\",'Caseload Reporting'!D33)","v":""},{"$f":"IF('Caseload Reporting'!G33 = \"\",\"\",'Caseload Reporting'!G33)","v":""},{"$f":"IF('Caseload Reporting'!H33 = \"\",\"\",'Caseload Reporting'!H33)","v":""},{"$f":"IF('Caseload Reporting'!I33 = \"\",\"\",'Caseload Reporting'!I33)","v":""},{"$f":"IF('Caseload Reporting'!J33 = \"\",\"\",'Caseload Reporting'!J33)","v":""},{"$f":"IF('Caseload Reporting'!K33 = \"\",\"\",'Caseload Reporting'!K33)","v":""},{"$f":"IF('Caseload Reporting'!L33 = \"\",\"\",'Caseload Reporting'!L33)","v":""},{"$f":"IF('Caseload Reporting'!M33 = \"\",\"\",'Caseload Reporting'!M33)","v":""},{"$f":"IF('Caseload Reporting'!N33 = \"\",\"\",'Caseload Reporting'!N33)","v":""},{"$f":"IF('Caseload Reporting'!P33 = \"\",\"\",'Caseload Reporting'!P33)","v":""},{"$f":"IF('Caseload Reporting'!O33 = \"\",\"\",'Caseload Reporting'!O33)","v":""},{"$f":"IF('Caseload Reporting'!Q33 = \"\",\"\",'Caseload Reporting'!Q33)","v":""},{"$f":"IF('Caseload Reporting'!R33 = \"\",\"\",'Caseload Reporting'!R33)","v":""},{"$f":"IF('Caseload Reporting'!E33 = \"\",\"\",'Caseload Reporting'!E33)","v":""},{"$f":"IF('Caseload Reporting'!S33 = \"\",\"\",'Caseload Reporting'!S33)","v":""}]
[{"$f":"IF('Caseload Reporting'!A34 = \"\",\"\",'Caseload Reporting'!A34)","v":""},{"$f":"IF('Caseload Reporting'!B34 = \"\",\"\",'Caseload Reporting'!B34)","v":""},{"$f":"IF('Caseload Reporting'!C34 = \"\",\"\",'Caseload Reporting'!C34)","v":""},{"$f":"IF('Caseload Reporting'!D34 = \"\",\"\",'Caseload Reporting'!D34)","v":""},{"$f":"IF('Caseload Reporting'!G34 = \"\",\"\",'Caseload Reporting'!G34)","v":""},{"$f":"IF('Caseload Reporting'!H34 = \"\",\"\",'Caseload Reporting'!H34)","v":""},{"$f":"IF('Caseload Reporting'!I34 = \"\",\"\",'Caseload Reporting'!I34)","v":""},{"$f":"IF('Caseload Reporting'!J34 = \"\",\"\",'Caseload Reporting'!J34)","v":""},{"$f":"IF('Caseload Reporting'!K34 = \"\",\"\",'Caseload Reporting'!K34)","v":""},{"$f":"IF('Caseload Reporting'!L34 = \"\",\"\",'Caseload Reporting'!L34)","v":""},{"$f":"IF('Caseload Reporting'!M34 = \"\",\"\",'Caseload Reporting'!M34)","v":""},{"$f":"IF('Caseload Reporting'!N34 = \"\",\"\",'Caseload Reporting'!N34)","v":""},{"$f":"IF('Caseload Reporting'!P34 = \"\",\"\",'Caseload Reporting'!P34)","v":""},{"$f":"IF('Caseload Reporting'!O34 = \"\",\"\",'Caseload Reporting'!O34)","v":""},{"$f":"IF('Caseload Reporting'!Q34 = \"\",\"\",'Caseload Reporting'!Q34)","v":""},{"$f":"IF('Caseload Reporting'!R34 = \"\",\"\",'Caseload Reporting'!R34)","v":""},{"$f":"IF('Caseload Reporting'!E34 = \"\",\"\",'Caseload Reporting'!E34)","v":""},{"$f":"IF('Caseload Reporting'!S34 = \"\",\"\",'Caseload Reporting'!S34)","v":""}]
[{"$f":"IF('Caseload Reporting'!A35 = \"\",\"\",'Caseload Reporting'!A35)","v":""},{"$f":"IF('Caseload Reporting'!B35 = \"\",\"\",'Caseload Reporting'!B35)","v":""},{"$f":"IF('Caseload Reporting'!C35 = \"\",\"\",'Caseload Reporting'!C35)","v":""},{"$f":"IF('Caseload Reporting'!D35 = \"\",\"\",'Caseload Reporting'!D35)","v":""},{"$f":"IF('Caseload Reporting'!G35 = \"\",\"\",'Caseload Reporting'!G35)","v":""},{"$f":"IF('Caseload Reporting'!H35 = \"\",\"\",'Caseload Reporting'!H35)","v":""},{"$f":"IF('Caseload Reporting'!I35 = \"\",\"\",'Caseload Reporting'!I35)","v":""},{"$f":"IF('Caseload Reporting'!J35 = \"\",\"\",'Caseload Reporting'!J35)","v":""},{"$f":"IF('Caseload Reporting'!K35 = \"\",\"\",'Caseload Reporting'!K35)","v":""},{"$f":"IF('Caseload Reporting'!L35 = \"\",\"\",'Caseload Reporting'!L35)","v":""},{"$f":"IF('Caseload Reporting'!M35 = \"\",\"\",'Caseload Reporting'!M35)","v":""},{"$f":"IF('Caseload Reporting'!N35 = \"\",\"\",'Caseload Reporting'!N35)","v":""},{"$f":"IF('Caseload Reporting'!P35 = \"\",\"\",'Caseload Reporting'!P35)","v":""},{"$f":"IF('Caseload Reporting'!O35 = \"\",\"\",'Caseload Reporting'!O35)","v":""},{"$f":"IF('Caseload Reporting'!Q35 = \"\",\"\",'Caseload Reporting'!Q35)","v":""},{"$f":"IF('Caseload Reporting'!R35 = \"\",\"\",'Caseload Reporting'!R35)","v":""},{"$f":"IF('Caseload Reporting'!E35 = \"\",\"\",'Caseload Reporting'!E35)","v":""},{"$f":"IF('Caseload Reporting'!S35 = \"\",\"\",'Caseload Reporting'!S35)","v":""}]
[{"$f":"IF('Caseload Reporting'!A36 = \"\",\"\",'Caseload Reporting'!A36)","v":""},{"$f":"IF('Caseload Reporting'!B36 = \"\",\"\",'Caseload Reporting'!B36)","v":""},{"$f":"IF('Caseload Reporting'!C36 = \"\",\"\",'Caseload Reporting'!C36)","v":""},{"$f":"IF('Caseload Reporting'!D36 = \"\",\"\",'Caseload Reporting'!D36)","v":""},{"$f":"IF('Caseload Reporting'!G36 = \"\",\"\",'Caseload Reporting'!G36)","v":""},{"$f":"IF('Caseload Reporting'!H36 = \"\",\"\",'Caseload Reporting'!H36)","v":""},{"$f":"IF('Caseload Reporting'!I36 = \"\",\"\",'Caseload Reporting'!I36)","v":""},{"$f":"IF('Caseload Reporting'!J36 = \"\",\"\",'Caseload Reporting'!J36)","v":""},{"$f":"IF('Caseload Reporting'!K36 = \"\",\"\",'Caseload Reporting'!K36)","v":""},{"$f":"IF('Caseload Reporting'!L36 = \"\",\"\",'Caseload Reporting'!L36)","v":""},{"$f":"IF('Caseload Reporting'!M36 = \"\",\"\",'Caseload Reporting'!M36)","v":""},{"$f":"IF('Caseload Reporting'!N36 = \"\",\"\",'Caseload Reporting'!N36)","v":""},{"$f":"IF('Caseload Reporting'!P36 = \"\",\"\",'Caseload Reporting'!P36)","v":""},{"$f":"IF('Caseload Reporting'!O36 = \"\",\"\",'Caseload Reporting'!O36)","v":""},{"$f":"IF('Caseload Reporting'!Q36 = \"\",\"\",'Caseload Reporting'!Q36)","v":""},{"$f":"IF('Caseload Reporting'!R36 = \"\",\"\",'Caseload Reporting'!R36)","v":""},{"$f":"IF('Caseload Reporting'!E36 = \"\",\"\",'Caseload Reporting'!E36)","v":""},{"$f":"IF('Caseload Reporting'!S36 = \"\",\"\",'Caseload Reporting'!S36)","v":""}]
[{"$f":"IF('Caseload Reporting'!A37 = \"\",\"\",'Caseload Reporting'!A37)","v":""},{"$f":"IF('Caseload Reporting'!B37 = \"\",\"\",'Caseload Reporting'!B37)","v":""},{"$f":"IF('Caseload Reporting'!C37 = \"\",\"\",'Caseload Reporting'!C37)","v":""},{"$f":"IF('Caseload Reporting'!D37 = \"\",\"\",'Caseload Reporting'!D37)","v":""},{"$f":"IF('Caseload Reporting'!G37 = \"\",\"\",'Caseload Reporting'!G37)","v":""},{"$f":"IF('Caseload Reporting'!H37 = \"\",\"\",'Caseload Reporting'!H37)","v":""},{"$f":"IF('Caseload Reporting'!I37 = \"\",\"\",'Caseload Reporting'!I37)","v":""},{"$f":"IF('Caseload Reporting'!J37 = \"\",\"\",'Caseload Reporting'!J37)","v":""},{"$f":"IF('Caseload Reporting'!K37 = \"\",\"\",'Caseload Reporting'!K37)","v":""},{"$f":"IF('Caseload Reporting'!L37 = \"\",\"\",'Caseload Reporting'!L37)","v":""},{"$f":"IF('Caseload Reporting'!M37 = \"\",\"\",'Caseload Reporting'!M37)","v":""},{"$f":"IF('Caseload Reporting'!N37 = \"\",\"\",'Caseload Reporting'!N37)","v":""},{"$f":"IF('Caseload Reporting'!P37 = \"\",\"\",'Caseload Reporting'!P37)","v":""},{"$f":"IF('Caseload Reporting'!O37 = \"\",\"\",'Caseload Reporting'!O37)","v":""},{"$f":"IF('Caseload Reporting'!Q37 = \"\",\"\",'Caseload Reporting'!Q37)","v":""},{"$f":"IF('Caseload Reporting'!R37 = \"\",\"\",'Caseload Reporting'!R37)","v":""},{"$f":"IF('Caseload Reporting'!E37 = \"\",\"\",'Caseload Reporting'!E37)","v":""},{"$f":"IF('Caseload Reporting'!S37 = \"\",\"\",'Caseload Reporting'!S37)","v":""}]
[{"$f":"IF('Caseload Reporting'!A38 = \"\",\"\",'Caseload Reporting'!A38)","v":""},{"$f":"IF('Caseload Reporting'!B38 = \"\",\"\",'Caseload Reporting'!B38)","v":""},{"$f":"IF('Caseload Reporting'!C38 = \"\",\"\",'Caseload Reporting'!C38)","v":""},{"$f":"IF('Caseload Reporting'!D38 = \"\",\"\",'Caseload Reporting'!D38)","v":""},{"$f":"IF('Caseload Reporting'!G38 = \"\",\"\",'Caseload Reporting'!G38)","v":""},{"$f":"IF('Caseload Reporting'!H38 = \"\",\"\",'Caseload Reporting'!H38)","v":""},{"$f":"IF('Caseload Reporting'!I38 = \"\",\"\",'Caseload Reporting'!I38)","v":""},{"$f":"IF('Caseload Reporting'!J38 = \"\",\"\",'Caseload Reporting'!J38)","v":""},{"$f":"IF('Caseload Reporting'!K38 = \"\",\"\",'Caseload Reporting'!K38)","v":""},{"$f":"IF('Caseload Reporting'!L38 = \"\",\"\",'Caseload Reporting'!L38)","v":""},{"$f":"IF('Caseload Reporting'!M38 = \"\",\"\",'Caseload Reporting'!M38)","v":""},{"$f":"IF('Caseload Reporting'!N38 = \"\",\"\",'Caseload Reporting'!N38)","v":""},{"$f":"IF('Caseload Reporting'!P38 = \"\",\"\",'Caseload Reporting'!P38)","v":""},{"$f":"IF('Caseload Reporting'!O38 = \"\",\"\",'Caseload Reporting'!O38)","v":""},{"$f":"IF('Caseload Reporting'!Q38 = \"\",\"\",'Caseload Reporting'!Q38)","v":""},{"$f":"IF('Caseload Reporting'!R38 = \"\",\"\",'Caseload Reporting'!R38)","v":""},{"$f":"IF('Caseload Reporting'!E38 = \"\",\"\",'Caseload Reporting'!E38)","v":""},{"$f":"IF('Caseload Reporting'!S38 = \"\",\"\",'Caseload Reporting'!S38)","v":""}]
[{"$f":"IF('Caseload Reporting'!A39 = \"\",\"\",'Caseload Reporting'!A39)","v":""},{"$f":"IF('Caseload Reporting'!B39 = \"\",\"\",'Caseload Reporting'!B39)","v":""},{"$f":"IF('Caseload Reporting'!C39 = \"\",\"\",'Caseload Reporting'!C39)","v":""},{"$f":"IF('Caseload Reporting'!D39 = \"\",\"\",'Caseload Reporting'!D39)","v":""},{"$f":"IF('Caseload Reporting'!G39 = \"\",\"\",'Caseload Reporting'!G39)","v":""},{"$f":"IF('Caseload Reporting'!H39 = \"\",\"\",'Caseload Reporting'!H39)","v":""},{"$f":"IF('Caseload Reporting'!I39 = \"\",\"\",'Caseload Reporting'!I39)","v":""},{"$f":"IF('Caseload Reporting'!J39 = \"\",\"\",'Caseload Reporting'!J39)","v":""},{"$f":"IF('Caseload Reporting'!K39 = \"\",\"\",'Caseload Reporting'!K39)","v":""},{"$f":"IF('Caseload Reporting'!L39 = \"\",\"\",'Caseload Reporting'!L39)","v":""},{"$f":"IF('Caseload Reporting'!M39 = \"\",\"\",'Caseload Reporting'!M39)","v":""},{"$f":"IF('Caseload Reporting'!N39 = \"\",\"\",'Caseload Reporting'!N39)","v":""},{"$f":"IF('Caseload Reporting'!P39 = \"\",\"\",'Caseload Reporting'!P39)","v":""},{"$f":"IF('Caseload Reporting'!O39 = \"\",\"\",'Caseload Reporting'!O39)","v":""},{"$f":"IF('Caseload Reporting'!Q39 = \"\",\"\",'Caseload Reporting'!Q39)","v":""},{"$f":"IF('Caseload Reporting'!R39 = \"\",\"\",'Caseload Reporting'!R39)","v":""},{"$f":"IF('Caseload Reporting'!E39 = \"\",\"\",'Caseload Reporting'!E39)","v":""},{"$f":"IF('Caseload Reporting'!S39 = \"\",\"\",'Caseload Reporting'!S39)","v":""}]
[{"$f":"IF('Caseload Reporting'!A40 = \"\",\"\",'Caseload Reporting'!A40)","v":""},{"$f":"IF('Caseload Reporting'!B40 = \"\",\"\",'Caseload Reporting'!B40)","v":""},{"$f":"IF('Caseload Reporting'!C40 = \"\",\"\",'Caseload Reporting'!C40)","v":""},{"$f":"IF('Caseload Reporting'!D40 = \"\",\"\",'Caseload Reporting'!D40)","v":""},{"$f":"IF('Caseload Reporting'!G40 = \"\",\"\",'Caseload Reporting'!G40)","v":""},{"$f":"IF('Caseload Reporting'!H40 = \"\",\"\",'Caseload Reporting'!H40)","v":""},{"$f":"IF('Caseload Reporting'!I40 = \"\",\"\",'Caseload Reporting'!I40)","v":""},{"$f":"IF('Caseload Reporting'!J40 = \"\",\"\",'Caseload Reporting'!J40)","v":""},{"$f":"IF('Caseload Reporting'!K40 = \"\",\"\",'Caseload Reporting'!K40)","v":""},{"$f":"IF('Caseload Reporting'!L40 = \"\",\"\",'Caseload Reporting'!L40)","v":""},{"$f":"IF('Caseload Reporting'!M40 = \"\",\"\",'Caseload Reporting'!M40)","v":""},{"$f":"IF('Caseload Reporting'!N40 = \"\",\"\",'Caseload Reporting'!N40)","v":""},{"$f":"IF('Caseload Reporting'!P40 = \"\",\"\",'Caseload Reporting'!P40)","v":""},{"$f":"IF('Caseload Reporting'!O40 = \"\",\"\",'Caseload Reporting'!O40)","v":""},{"$f":"IF('Caseload Reporting'!Q40 = \"\",\"\",'Caseload Reporting'!Q40)","v":""},{"$f":"IF('Caseload Reporting'!R40 = \"\",\"\",'Caseload Reporting'!R40)","v":""},{"$f":"IF('Caseload Reporting'!E40 = \"\",\"\",'Caseload Reporting'!E40)","v":""},{"$f":"IF('Caseload Reporting'!S40 = \"\",\"\",'Caseload Reporting'!S40)","v":""}]
[{"$f":"IF('Caseload Reporting'!A41 = \"\",\"\",'Caseload Reporting'!A41)","v":""},{"$f":"IF('Caseload Reporting'!B41 = \"\",\"\",'Caseload Reporting'!B41)","v":""},{"$f":"IF('Caseload Reporting'!C41 = \"\",\"\",'Caseload Reporting'!C41)","v":""},{"$f":"IF('Caseload Reporting'!D41 = \"\",\"\",'Caseload Reporting'!D41)","v":""},{"$f":"IF('Caseload Reporting'!G41 = \"\",\"\",'Caseload Reporting'!G41)","v":""},{"$f":"IF('Caseload Reporting'!H41 = \"\",\"\",'Caseload Reporting'!H41)","v":""},{"$f":"IF('Caseload Reporting'!I41 = \"\",\"\",'Caseload Reporting'!I41)","v":""},{"$f":"IF('Caseload Reporting'!J41 = \"\",\"\",'Caseload Reporting'!J41)","v":""},{"$f":"IF('Caseload Reporting'!K41 = \"\",\"\",'Caseload Reporting'!K41)","v":""},{"$f":"IF('Caseload Reporting'!L41 = \"\",\"\",'Caseload Reporting'!L41)","v":""},{"$f":"IF('Caseload Reporting'!M41 = \"\",\"\",'Caseload Reporting'!M41)","v":""},{"$f":"IF('Caseload Reporting'!N41 = \"\",\"\",'Caseload Reporting'!N41)","v":""},{"$f":"IF('Caseload Reporting'!P41 = \"\",\"\",'Caseload Reporting'!P41)","v":""},{"$f":"IF('Caseload Reporting'!O41 = \"\",\"\",'Caseload Reporting'!O41)","v":""},{"$f":"IF('Caseload Reporting'!Q41 = \"\",\"\",'Caseload Reporting'!Q41)","v":""},{"$f":"IF('Caseload Reporting'!R41 = \"\",\"\",'Caseload Reporting'!R41)","v":""},{"$f":"IF('Caseload Reporting'!E41 = \"\",\"\",'Caseload Reporting'!E41)","v":""},{"$f":"IF('Caseload Reporting'!S41 = \"\",\"\",'Caseload Reporting'!S41)","v":""}]
[{"$f":"IF('Caseload Reporting'!A42 = \"\",\"\",'Caseload Reporting'!A42)","v":""},{"$f":"IF('Caseload Reporting'!B42 = \"\",\"\",'Caseload Reporting'!B42)","v":""},{"$f":"IF('Caseload Reporting'!C42 = \"\",\"\",'Caseload Reporting'!C42)","v":""},{"$f":"IF('Caseload Reporting'!D42 = \"\",\"\",'Caseload Reporting'!D42)","v":""},{"$f":"IF('Caseload Reporting'!G42 = \"\",\"\",'Caseload Reporting'!G42)","v":""},{"$f":"IF('Caseload Reporting'!H42 = \"\",\"\",'Caseload Reporting'!H42)","v":""},{"$f":"IF('Caseload Reporting'!I42 = \"\",\"\",'Caseload Reporting'!I42)","v":""},{"$f":"IF('Caseload Reporting'!J42 = \"\",\"\",'Caseload Reporting'!J42)","v":""},{"$f":"IF('Caseload Reporting'!K42 = \"\",\"\",'Caseload Reporting'!K42)","v":""},{"$f":"IF('Caseload Reporting'!L42 = \"\",\"\",'Caseload Reporting'!L42)","v":""},{"$f":"IF('Caseload Reporting'!M42 = \"\",\"\",'Caseload Reporting'!M42)","v":""},{"$f":"IF('Caseload Reporting'!N42 = \"\",\"\",'Caseload Reporting'!N42)","v":""},{"$f":"IF('Caseload Reporting'!P42 = \"\",\"\",'Caseload Reporting'!P42)","v":""},{"$f":"IF('Caseload Reporting'!O42 = \"\",\"\",'Caseload Reporting'!O42)","v":""},{"$f":"IF('Caseload Reporting'!Q42 = \"\",\"\",'Caseload Reporting'!Q42)","v":""},{"$f":"IF('Caseload Reporting'!R42 = \"\",\"\",'Caseload Reporting'!R42)","v":""},{"$f":"IF('Caseload Reporting'!E42 = \"\",\"\",'Caseload Reporting'!E42)","v":""},{"$f":"IF('Caseload Reporting'!S42 = \"\",\"\",'Caseload Reporting'!S42)","v":""}]
[{"$f":"IF('Caseload Reporting'!A43 = \"\",\"\",'Caseload Reporting'!A43)","v":""},{"$f":"IF('Caseload Reporting'!B43 = \"\",\"\",'Caseload Reporting'!B43)","v":""},{"$f":"IF('Caseload Reporting'!C43 = \"\",\"\",'Caseload Reporting'!C43)","v":""},{"$f":"IF('Caseload Reporting'!D43 = \"\",\"\",'Caseload Reporting'!D43)","v":""},{"$f":"IF('Caseload Reporting'!G43 = \"\",\"\",'Caseload Reporting'!G43)","v":""},{"$f":"IF('Caseload Reporting'!H43 = \"\",\"\",'Caseload Reporting'!H43)","v":""},{"$f":"IF('Caseload Reporting'!I43 = \"\",\"\",'Caseload Reporting'!I43)","v":""},{"$f":"IF('Caseload Reporting'!J43 = \"\",\"\",'Caseload Reporting'!J43)","v":""},{"$f":"IF('Caseload Reporting'!K43 = \"\",\"\",'Caseload Reporting'!K43)","v":""},{"$f":"IF('Caseload Reporting'!L43 = \"\",\"\",'Caseload Reporting'!L43)","v":""},{"$f":"IF('Caseload Reporting'!M43 = \"\",\"\",'Caseload Reporting'!M43)","v":""},{"$f":"IF('Caseload Reporting'!N43 = \"\",\"\",'Caseload Reporting'!N43)","v":""},{"$f":"IF('Caseload Reporting'!P43 = \"\",\"\",'Caseload Reporting'!P43)","v":""},{"$f":"IF('Caseload Reporting'!O43 = \"\",\"\",'Caseload Reporting'!O43)","v":""},{"$f":"IF('Caseload Reporting'!Q43 = \"\",\"\",'Caseload Reporting'!Q43)","v":""},{"$f":"IF('Caseload Reporting'!R43 = \"\",\"\",'Caseload Reporting'!R43)","v":""},{"$f":"IF('Caseload Reporting'!E43 = \"\",\"\",'Caseload Reporting'!E43)","v":""},{"$f":"IF('Caseload Reporting'!S43 = \"\",\"\",'Caseload Reporting'!S43)","v":""}]
[{"$f":"IF('Caseload Reporting'!A44 = \"\",\"\",'Caseload Reporting'!A44)","v":""},{"$f":"IF('Caseload Reporting'!B44 = \"\",\"\",'Caseload Reporting'!B44)","v":""},{"$f":"IF('Caseload Reporting'!C44 = \"\",\"\",'Caseload Reporting'!C44)","v":""},{"$f":"IF('Caseload Reporting'!D44 = \"\",\"\",'Caseload Reporting'!D44)","v":""},{"$f":"IF('Caseload Reporting'!G44 = \"\",\"\",'Caseload Reporting'!G44)","v":""},{"$f":"IF('Caseload Reporting'!H44 = \"\",\"\",'Caseload Reporting'!H44)","v":""},{"$f":"IF('Caseload Reporting'!I44 = \"\",\"\",'Caseload Reporting'!I44)","v":""},{"$f":"IF('Caseload Reporting'!J44 = \"\",\"\",'Caseload Reporting'!J44)","v":""},{"$f":"IF('Caseload Reporting'!K44 = \"\",\"\",'Caseload Reporting'!K44)","v":""},{"$f":"IF('Caseload Reporting'!L44 = \"\",\"\",'Caseload Reporting'!L44)","v":""},{"$f":"IF('Caseload Reporting'!M44 = \"\",\"\",'Caseload Reporting'!M44)","v":""},{"$f":"IF('Caseload Reporting'!N44 = \"\",\"\",'Caseload Reporting'!N44)","v":""},{"$f":"IF('Caseload Reporting'!P44 = \"\",\"\",'Caseload Reporting'!P44)","v":""},{"$f":"IF('Caseload Reporting'!O44 = \"\",\"\",'Caseload Reporting'!O44)","v":""},{"$f":"IF('Caseload Reporting'!Q44 = \"\",\"\",'Caseload Reporting'!Q44)","v":""},{"$f":"IF('Caseload Reporting'!R44 = \"\",\"\",'Caseload Reporting'!R44)","v":""},{"$f":"IF('Caseload Reporting'!E44 = \"\",\"\",'Caseload Reporting'!E44)","v":""},{"$f":"IF('Caseload Reporting'!S44 = \"\",\"\",'Caseload Reporting'!S44)","v":""}]
[{"$f":"IF('Caseload Reporting'!A45 = \"\",\"\",'Caseload Reporting'!A45)","v":""},{"$f":"IF('Caseload Reporting'!B45 = \"\",\"\",'Caseload Reporting'!B45)","v":""},{"$f":"IF('Caseload Reporting'!C45 = \"\",\"\",'Caseload Reporting'!C45)","v":""},{"$f":"IF('Caseload Reporting'!D45 = \"\",\"\",'Caseload Reporting'!D45)","v":""},{"$f":"IF('Caseload Reporting'!G45 = \"\",\"\",'Caseload Reporting'!G45)","v":""},{"$f":"IF('Caseload Reporting'!H45 = \"\",\"\",'Caseload Reporting'!H45)","v":""},{"$f":"IF('Caseload Reporting'!I45 = \"\",\"\",'Caseload Reporting'!I45)","v":""},{"$f":"IF('Caseload Reporting'!J45 = \"\",\"\",'Caseload Reporting'!J45)","v":""},{"$f":"IF('Caseload Reporting'!K45 = \"\",\"\",'Caseload Reporting'!K45)","v":""},{"$f":"IF('Caseload Reporting'!L45 = \"\",\"\",'Caseload Reporting'!L45)","v":""},{"$f":"IF('Caseload Reporting'!M45 = \"\",\"\",'Caseload Reporting'!M45)","v":""},{"$f":"IF('Caseload Reporting'!N45 = \"\",\"\",'Caseload Reporting'!N45)","v":""},{"$f":"IF('Caseload Reporting'!P45 = \"\",\"\",'Caseload Reporting'!P45)","v":""},{"$f":"IF('Caseload Reporting'!O45 = \"\",\"\",'Caseload Reporting'!O45)","v":""},{"$f":"IF('Caseload Reporting'!Q45 = \"\",\"\",'Caseload Reporting'!Q45)","v":""},{"$f":"IF('Caseload Reporting'!R45 = \"\",\"\",'Caseload Reporting'!R45)","v":""},{"$f":"IF('Caseload Reporting'!E45 = \"\",\"\",'Caseload Reporting'!E45)","v":""},{"$f":"IF('Caseload Reporting'!S45 = \"\",\"\",'Caseload Reporting'!S45)","v":""}]
[{"$f":"IF('Caseload Reporting'!A46 = \"\",\"\",'Caseload Reporting'!A46)","v":""},{"$f":"IF('Caseload Reporting'!B46 = \"\",\"\",'Caseload Reporting'!B46)","v":""},{"$f":"IF('Caseload Reporting'!C46 = \"\",\"\",'Caseload Reporting'!C46)","v":""},{"$f":"IF('Caseload Reporting'!D46 = \"\",\"\",'Caseload Reporting'!D46)","v":""},{"$f":"IF('Caseload Reporting'!G46 = \"\",\"\",'Caseload Reporting'!G46)","v":""},{"$f":"IF('Caseload Reporting'!H46 = \"\",\"\",'Caseload Reporting'!H46)","v":""},{"$f":"IF('Caseload Reporting'!I46 = \"\",\"\",'Caseload Reporting'!I46)","v":""},{"$f":"IF('Caseload Reporting'!J46 = \"\",\"\",'Caseload Reporting'!J46)","v":""},{"$f":"IF('Caseload Reporting'!K46 = \"\",\"\",'Caseload Reporting'!K46)","v":""},{"$f":"IF('Caseload Reporting'!L46 = \"\",\"\",'Caseload Reporting'!L46)","v":""},{"$f":"IF('Caseload Reporting'!M46 = \"\",\"\",'Caseload Reporting'!M46)","v":""},{"$f":"IF('Caseload Reporting'!N46 = \"\",\"\",'Caseload Reporting'!N46)","v":""},{"$f":"IF('Caseload Reporting'!P46 = \"\",\"\",'Caseload Reporting'!P46)","v":""},{"$f":"IF('Caseload Reporting'!O46 = \"\",\"\",'Caseload Reporting'!O46)","v":""},{"$f":"IF('Caseload Reporting'!Q46 = \"\",\"\",'Caseload Reporting'!Q46)","v":""},{"$f":"IF('Caseload Reporting'!R46 = \"\",\"\",'Caseload Reporting'!R46)","v":""},{"$f":"IF('Caseload Reporting'!E46 = \"\",\"\",'Caseload Reporting'!E46)","v":""},{"$f":"IF('Caseload Reporting'!S46 = \"\",\"\",'Caseload Reporting'!S46)","v":""}]
[{"$f":"IF('Caseload Reporting'!A47 = \"\",\"\",'Caseload Reporting'!A47)","v":""},{"$f":"IF('Caseload Reporting'!B47 = \"\",\"\",'Caseload Reporting'!B47)","v":""},{"$f":"IF('Caseload Reporting'!C47 = \"\",\"\",'Caseload Reporting'!C47)","v":""},{"$f":"IF('Caseload Reporting'!D47 = \"\",\"\",'Caseload Reporting'!D47)","v":""},{"$f":"IF('Caseload Reporting'!G47 = \"\",\"\",'Caseload Reporting'!G47)","v":""},{"$f":"IF('Caseload Reporting'!H47 = \"\",\"\",'Caseload Reporting'!H47)","v":""},{"$f":"IF('Caseload Reporting'!I47 = \"\",\"\",'Caseload Reporting'!I47)","v":""},{"$f":"IF('Caseload Reporting'!J47 = \"\",\"\",'Caseload Reporting'!J47)","v":""},{"$f":"IF('Caseload Reporting'!K47 = \"\",\"\",'Caseload Reporting'!K47)","v":""},{"$f":"IF('Caseload Reporting'!L47 = \"\",\"\",'Caseload Reporting'!L47)","v":""},{"$f":"IF('Caseload Reporting'!M47 = \"\",\"\",'Caseload Reporting'!M47)","v":""},{"$f":"IF('Caseload Reporting'!N47 = \"\",\"\",'Caseload Reporting'!N47)","v":""},{"$f":"IF('Caseload Reporting'!P47 = \"\",\"\",'Caseload Reporting'!P47)","v":""},{"$f":"IF('Caseload Reporting'!O47 = \"\",\"\",'Caseload Reporting'!O47)","v":""},{"$f":"IF('Caseload Reporting'!Q47 = \"\",\"\",'Caseload Reporting'!Q47)","v":""},{"$f":"IF('Caseload Reporting'!R47 = \"\",\"\",'Caseload Reporting'!R47)","v":""},{"$f":"IF('Caseload Reporting'!E47 = \"\",\"\",'Caseload Reporting'!E47)","v":""},{"$f":"IF('Caseload Reporting'!S47 = \"\",\"\",'Caseload Reporting'!S47)","v":""}]
[{"$f":"IF('Caseload Reporting'!A48 = \"\",\"\",'Caseload Reporting'!A48)","v":""},{"$f":"IF('Caseload Reporting'!B48 = \"\",\"\",'Caseload Reporting'!B48)","v":""},{"$f":"IF('Caseload Reporting'!C48 = \"\",\"\",'Caseload Reporting'!C48)","v":""},{"$f":"IF('Caseload Reporting'!D48 = \"\",\"\",'Caseload Reporting'!D48)","v":""},{"$f":"IF('Caseload Reporting'!G48 = \"\",\"\",'Caseload Reporting'!G48)","v":""},{"$f":"IF('Caseload Reporting'!H48 = \"\",\"\",'Caseload Reporting'!H48)","v":""},{"$f":"IF('Caseload Reporting'!I48 = \"\",\"\",'Caseload Reporting'!I48)","v":""},{"$f":"IF('Caseload Reporting'!J48 = \"\",\"\",'Caseload Reporting'!J48)","v":""},{"$f":"IF('Caseload Reporting'!K48 = \"\",\"\",'Caseload Reporting'!K48)","v":""},{"$f":"IF('Caseload Reporting'!L48 = \"\",\"\",'Caseload Reporting'!L48)","v":""},{"$f":"IF('Caseload Reporting'!M48 = \"\",\"\",'Caseload Reporting'!M48)","v":""},{"$f":"IF('Caseload Reporting'!N48 = \"\",\"\",'Caseload Reporting'!N48)","v":""},{"$f":"IF('Caseload Reporting'!P48 = \"\",\"\",'Caseload Reporting'!P48)","v":""},{"$f":"IF('Caseload Reporting'!O48 = \"\",\"\",'Caseload Reporting'!O48)","v":""},{"$f":"IF('Caseload Reporting'!Q48 = \"\",\"\",'Caseload Reporting'!Q48)","v":""},{"$f":"IF('Caseload Reporting'!R48 = \"\",\"\",'Caseload Reporting'!R48)","v":""},{"$f":"IF('Caseload Reporting'!E48 = \"\",\"\",'Caseload Reporting'!E48)","v":""},{"$f":"IF('Caseload Reporting'!S48 = \"\",\"\",'Caseload Reporting'!S48)","v":""}]
[{"$f":"IF('Caseload Reporting'!A49 = \"\",\"\",'Caseload Reporting'!A49)","v":""},{"$f":"IF('Caseload Reporting'!B49 = \"\",\"\",'Caseload Reporting'!B49)","v":""},{"$f":"IF('Caseload Reporting'!C49 = \"\",\"\",'Caseload Reporting'!C49)","v":""},{"$f":"IF('Caseload Reporting'!D49 = \"\",\"\",'Caseload Reporting'!D49)","v":""},{"$f":"IF('Caseload Reporting'!G49 = \"\",\"\",'Caseload Reporting'!G49)","v":""},{"$f":"IF('Caseload Reporting'!H49 = \"\",\"\",'Caseload Reporting'!H49)","v":""},{"$f":"IF('Caseload Reporting'!I49 = \"\",\"\",'Caseload Reporting'!I49)","v":""},{"$f":"IF('Caseload Reporting'!J49 = \"\",\"\",'Caseload Reporting'!J49)","v":""},{"$f":"IF('Caseload Reporting'!K49 = \"\",\"\",'Caseload Reporting'!K49)","v":""},{"$f":"IF('Caseload Reporting'!L49 = \"\",\"\",'Caseload Reporting'!L49)","v":""},{"$f":"IF('Caseload Reporting'!M49 = \"\",\"\",'Caseload Reporting'!M49)","v":""},{"$f":"IF('Caseload Reporting'!N49 = \"\",\"\",'Caseload Reporting'!N49)","v":""},{"$f":"IF('Caseload Reporting'!P49 = \"\",\"\",'Caseload Reporting'!P49)","v":""},{"$f":"IF('Caseload Reporting'!O49 = \"\",\"\",'Caseload Reporting'!O49)","v":""},{"$f":"IF('Caseload Reporting'!Q49 = \"\",\"\",'Caseload Reporting'!Q49)","v":""},{"$f":"IF('Caseload Reporting'!R49 = \"\",\"\",'Caseload Reporting'!R49)","v":""},{"$f":"IF('Caseload Reporting'!E49 = \"\",\"\",'Caseload Reporting'!E49)","v":""},{"$f":"IF('Caseload Reporting'!S49 = \"\",\"\",'Caseload Reporting'!S49)","v":""}]
[{"$f":"IF('Caseload Reporting'!A50 = \"\",\"\",'Caseload Reporting'!A50)","v":""},{"$f":"IF('Caseload Reporting'!B50 = \"\",\"\",'Caseload Reporting'!B50)","v":""},{"$f":"IF('Caseload Reporting'!C50 = \"\",\"\",'Caseload Reporting'!C50)","v":""},{"$f":"IF('Caseload Reporting'!D50 = \"\",\"\",'Caseload Reporting'!D50)","v":""},{"$f":"IF('Caseload Reporting'!G50 = \"\",\"\",'Caseload Reporting'!G50)","v":""},{"$f":"IF('Caseload Reporting'!H50 = \"\",\"\",'Caseload Reporting'!H50)","v":""},{"$f":"IF('Caseload Reporting'!I50 = \"\",\"\",'Caseload Reporting'!I50)","v":""},{"$f":"IF('Caseload Reporting'!J50 = \"\",\"\",'Caseload Reporting'!J50)","v":""},{"$f":"IF('Caseload Reporting'!K50 = \"\",\"\",'Caseload Reporting'!K50)","v":""},{"$f":"IF('Caseload Reporting'!L50 = \"\",\"\",'Caseload Reporting'!L50)","v":""},{"$f":"IF('Caseload Reporting'!M50 = \"\",\"\",'Caseload Reporting'!M50)","v":""},{"$f":"IF('Caseload Reporting'!N50 = \"\",\"\",'Caseload Reporting'!N50)","v":""},{"$f":"IF('Caseload Reporting'!P50 = \"\",\"\",'Caseload Reporting'!P50)","v":""},{"$f":"IF('Caseload Reporting'!O50 = \"\",\"\",'Caseload Reporting'!O50)","v":""},{"$f":"IF('Caseload Reporting'!Q50 = \"\",\"\",'Caseload Reporting'!Q50)","v":""},{"$f":"IF('Caseload Reporting'!R50 = \"\",\"\",'Caseload Reporting'!R50)","v":""},{"$f":"IF('Caseload Reporting'!E50 = \"\",\"\",'Caseload Reporting'!E50)","v":""},{"$f":"IF('Caseload Reporting'!S50 = \"\",\"\",'Caseload Reporting'!S50)","v":""}]
[{"$f":"IF('Caseload Reporting'!A51 = \"\",\"\",'Caseload Reporting'!A51)","v":""},{"$f":"IF('Caseload Reporting'!B51 = \"\",\"\",'Caseload Reporting'!B51)","v":""},{"$f":"IF('Caseload Reporting'!C51 = \"\",\"\",'Caseload Reporting'!C51)","v":""},{"$f":"IF('Caseload Reporting'!D51 = \"\",\"\",'Caseload Reporting'!D51)","v":""},{"$f":"IF('Caseload Reporting'!G51 = \"\",\"\",'Caseload Reporting'!G51)","v":""},{"$f":"IF('Caseload Reporting'!H51 = \"\",\"\",'Caseload Reporting'!H51)","v":""},{"$f":"IF('Caseload Reporting'!I51 = \"\",\"\",'Caseload Reporting'!I51)","v":""},{"$f":"IF('Caseload Reporting'!J51 = \"\",\"\",'Caseload Reporting'!J51)","v":""},{"$f":"IF('Caseload Reporting'!K51 = \"\",\"\",'Caseload Reporting'!K51)","v":""},{"$f":"IF('Caseload Reporting'!L51 = \"\",\"\",'Caseload Reporting'!L51)","v":""},{"$f":"IF('Caseload Reporting'!M51 = \"\",\"\",'Caseload Reporting'!M51)","v":""},{"$f":"IF('Caseload Reporting'!N51 = \"\",\"\",'Caseload Reporting'!N51)","v":""},{"$f":"IF('Caseload Reporting'!P51 = \"\",\"\",'Caseload Reporting'!P51)","v":""},{"$f":"IF('Caseload Reporting'!O51 = \"\",\"\",'Caseload Reporting'!O51)","v":""},{"$f":"IF('Caseload Reporting'!Q51 = \"\",\"\",'Caseload Reporting'!Q51)","v":""},{"$f":"IF('Caseload Reporting'!R51 = \"\",\"\",'Caseload Reporting'!R51)","v":""},{"$f":"IF('Caseload Reporting'!E51 = \"\",\"\",'Caseload Reporting'!E51)","v":""},{"$f":"IF('Caseload Reporting'!S51 = \"\",\"\",'Caseload Reporting'!S51)","v":""}]
[{"$f":"IF('Caseload Reporting'!A52 = \"\",\"\",'Caseload Reporting'!A52)","v":""},{"$f":"IF('Caseload Reporting'!B52 = \"\",\"\",'Caseload Reporting'!B52)","v":""},{"$f":"IF('Caseload Reporting'!C52 = \"\",\"\",'Caseload Reporting'!C52)","v":""},{"$f":"IF('Caseload Reporting'!D52 = \"\",\"\",'Caseload Reporting'!D52)","v":""},{"$f":"IF('Caseload Reporting'!G52 = \"\",\"\",'Caseload Reporting'!G52)","v":""},{"$f":"IF('Caseload Reporting'!H52 = \"\",\"\",'Caseload Reporting'!H52)","v":""},{"$f":"IF('Caseload Reporting'!I52 = \"\",\"\",'Caseload Reporting'!I52)","v":""},{"$f":"IF('Caseload Reporting'!J52 = \"\",\"\",'Caseload Reporting'!J52)","v":""},{"$f":"IF('Caseload Reporting'!K52 = \"\",\"\",'Caseload Reporting'!K52)","v":""},{"$f":"IF('Caseload Reporting'!L52 = \"\",\"\",'Caseload Reporting'!L52)","v":""},{"$f":"IF('Caseload Reporting'!M52 = \"\",\"\",'Caseload Reporting'!M52)","v":""},{"$f":"IF('Caseload Reporting'!N52 = \"\",\"\",'Caseload Reporting'!N52)","v":""},{"$f":"IF('Caseload Reporting'!P52 = \"\",\"\",'Caseload Reporting'!P52)","v":""},{"$f":"IF('Caseload Reporting'!O52 = \"\",\"\",'Caseload Reporting'!O52)","v":""},{"$f":"IF('Caseload Reporting'!Q52 = \"\",\"\",'Caseload Reporting'!Q52)","v":""},{"$f":"IF('Caseload Reporting'!R52 = \"\",\"\",'Caseload Reporting'!R52)","v":""},{"$f":"IF('Caseload Reporting'!E52 = \"\",\"\",'Caseload Reporting'!E52)","v":""},{"$f":"IF('Caseload Reporting'!S52 = \"\",\"\",'Caseload Reporting'!S52)","v":""}]
[{"$f":"IF('Caseload Reporting'!A53 = \"\",\"\",'Caseload Reporting'!A53)","v":""},{"$f":"IF('Caseload Reporting'!B53 = \"\",\"\",'Caseload Reporting'!B53)","v":""},{"$f":"IF('Caseload Reporting'!C53 = \"\",\"\",'Caseload Reporting'!C53)","v":""},{"$f":"IF('Caseload Reporting'!D53 = \"\",\"\",'Caseload Reporting'!D53)","v":""},{"$f":"IF('Caseload Reporting'!G53 = \"\",\"\",'Caseload Reporting'!G53)","v":""},{"$f":"IF('Caseload Reporting'!H53 = \"\",\"\",'Caseload Reporting'!H53)","v":""},{"$f":"IF('Caseload Reporting'!I53 = \"\",\"\",'Caseload Reporting'!I53)","v":""},{"$f":"IF('Caseload Reporting'!J53 = \"\",\"\",'Caseload Reporting'!J53)","v":""},{"$f":"IF('Caseload Reporting'!K53 = \"\",\"\",'Caseload Reporting'!K53)","v":""},{"$f":"IF('Caseload Reporting'!L53 = \"\",\"\",'Caseload Reporting'!L53)","v":""},{"$f":"IF('Caseload Reporting'!M53 = \"\",\"\",'Caseload Reporting'!M53)","v":""},{"$f":"IF('Caseload Reporting'!N53 = \"\",\"\",'Caseload Reporting'!N53)","v":""},{"$f":"IF('Caseload Reporting'!P53 = \"\",\"\",'Caseload Reporting'!P53)","v":""},{"$f":"IF('Caseload Reporting'!O53 = \"\",\"\",'Caseload Reporting'!O53)","v":""},{"$f":"IF('Caseload Reporting'!Q53 = \"\",\"\",'Caseload Reporting'!Q53)","v":""},{"$f":"IF('Caseload Reporting'!R53 = \"\",\"\",'Caseload Reporting'!R53)","v":""},{"$f":"IF('Caseload Reporting'!E53 = \"\",\"\",'Caseload Reporting'!E53)","v":""},{"$f":"IF('Caseload Reporting'!S53 = \"\",\"\",'Caseload Reporting'!S53)","v":""}]
[{"$f":"IF('Caseload Reporting'!A54 = \"\",\"\",'Caseload Reporting'!A54)","v":""},{"$f":"IF('Caseload Reporting'!B54 = \"\",\"\",'Caseload Reporting'!B54)","v":""},{"$f":"IF('Caseload Reporting'!C54 = \"\",\"\",'Caseload Reporting'!C54)","v":""},{"$f":"IF('Caseload Reporting'!D54 = \"\",\"\",'Caseload Reporting'!D54)","v":""},{"$f":"IF('Caseload Reporting'!G54 = \"\",\"\",'Caseload Reporting'!G54)","v":""},{"$f":"IF('Caseload Reporting'!H54 = \"\",\"\",'Caseload Reporting'!H54)","v":""},{"$f":"IF('Caseload Reporting'!I54 = \"\",\"\",'Caseload Reporting'!I54)","v":""},{"$f":"IF('Caseload Reporting'!J54 = \"\",\"\",'Caseload Reporting'!J54)","v":""},{"$f":"IF('Caseload Reporting'!K54 = \"\",\"\",'Caseload Reporting'!K54)","v":""},{"$f":"IF('Caseload Reporting'!L54 = \"\",\"\",'Caseload Reporting'!L54)","v":""},{"$f":"IF('Caseload Reporting'!M54 = \"\",\"\",'Caseload Reporting'!M54)","v":""},{"$f":"IF('Caseload Reporting'!N54 = \"\",\"\",'Caseload Reporting'!N54)","v":""},{"$f":"IF('Caseload Reporting'!P54 = \"\",\"\",'Caseload Reporting'!P54)","v":""},{"$f":"IF('Caseload Reporting'!O54 = \"\",\"\",'Caseload Reporting'!O54)","v":""},{"$f":"IF('Caseload Reporting'!Q54 = \"\",\"\",'Caseload Reporting'!Q54)","v":""},{"$f":"IF('Caseload Reporting'!R54 = \"\",\"\",'Caseload Reporting'!R54)","v":""},{"$f":"IF('Caseload Reporting'!E54 = \"\",\"\",'Caseload Reporting'!E54)","v":""},{"$f":"IF('Caseload Reporting'!S54 = \"\",\"\",'Caseload Reporting'!S54)","v":""}]
[{"$f":"IF('Caseload Reporting'!A55 = \"\",\"\",'Caseload Reporting'!A55)","v":""},{"$f":"IF('Caseload Reporting'!B55 = \"\",\"\",'Caseload Reporting'!B55)","v":""},{"$f":"IF('Caseload Reporting'!C55 = \"\",\"\",'Caseload Reporting'!C55)","v":""},{"$f":"IF('Caseload Reporting'!D55 = \"\",\"\",'Caseload Reporting'!D55)","v":""},{"$f":"IF('Caseload Reporting'!G55 = \"\",\"\",'Caseload Reporting'!G55)","v":""},{"$f":"IF('Caseload Reporting'!H55 = \"\",\"\",'Caseload Reporting'!H55)","v":""},{"$f":"IF('Caseload Reporting'!I55 = \"\",\"\",'Caseload Reporting'!I55)","v":""},{"$f":"IF('Caseload Reporting'!J55 = \"\",\"\",'Caseload Reporting'!J55)","v":""},{"$f":"IF('Caseload Reporting'!K55 = \"\",\"\",'Caseload Reporting'!K55)","v":""},{"$f":"IF('Caseload Reporting'!L55 = \"\",\"\",'Caseload Reporting'!L55)","v":""},{"$f":"IF('Caseload Reporting'!M55 = \"\",\"\",'Caseload Reporting'!M55)","v":""},{"$f":"IF('Caseload Reporting'!N55 = \"\",\"\",'Caseload Reporting'!N55)","v":""},{"$f":"IF('Caseload Reporting'!P55 = \"\",\"\",'Caseload Reporting'!P55)","v":""},{"$f":"IF('Caseload Reporting'!O55 = \"\",\"\",'Caseload Reporting'!O55)","v":""},{"$f":"IF('Caseload Reporting'!Q55 = \"\",\"\",'Caseload Reporting'!Q55)","v":""},{"$f":"IF('Caseload Reporting'!R55 = \"\",\"\",'Caseload Reporting'!R55)","v":""},{"$f":"IF('Caseload Reporting'!E55 = \"\",\"\",'Caseload Reporting'!E55)","v":""},{"$f":"IF('Caseload Reporting'!S55 = \"\",\"\",'Caseload Reporting'!S55)","v":""}]
[{"$f":"IF('Caseload Reporting'!A56 = \"\",\"\",'Caseload Reporting'!A56)","v":""},{"$f":"IF('Caseload Reporting'!B56 = \"\",\"\",'Caseload Reporting'!B56)","v":""},{"$f":"IF('Caseload Reporting'!C56 = \"\",\"\",'Caseload Reporting'!C56)","v":""},{"$f":"IF('Caseload Reporting'!D56 = \"\",\"\",'Caseload Reporting'!D56)","v":""},{"$f":"IF('Caseload Reporting'!G56 = \"\",\"\",'Caseload Reporting'!G56)","v":""},{"$f":"IF('Caseload Reporting'!H56 = \"\",\"\",'Caseload Reporting'!H56)","v":""},{"$f":"IF('Caseload Reporting'!I56 = \"\",\"\",'Caseload Reporting'!I56)","v":""},{"$f":"IF('Caseload Reporting'!J56 = \"\",\"\",'Caseload Reporting'!J56)","v":""},{"$f":"IF('Caseload Reporting'!K56 = \"\",\"\",'Caseload Reporting'!K56)","v":""},{"$f":"IF('Caseload Reporting'!L56 = \"\",\"\",'Caseload Reporting'!L56)","v":""},{"$f":"IF('Caseload Reporting'!M56 = \"\",\"\",'Caseload Reporting'!M56)","v":""},{"$f":"IF('Caseload Reporting'!N56 = \"\",\"\",'Caseload Reporting'!N56)","v":""},{"$f":"IF('Caseload Reporting'!P56 = \"\",\"\",'Caseload Reporting'!P56)","v":""},{"$f":"IF('Caseload Reporting'!O56 = \"\",\"\",'Caseload Reporting'!O56)","v":""},{"$f":"IF('Caseload Reporting'!Q56 = \"\",\"\",'Caseload Reporting'!Q56)","v":""},{"$f":"IF('Caseload Reporting'!R56 = \"\",\"\",'Caseload Reporting'!R56)","v":""},{"$f":"IF('Caseload Reporting'!E56 = \"\",\"\",'Caseload Reporting'!E56)","v":""},{"$f":"IF('Caseload Reporting'!S56 = \"\",\"\",'Caseload Reporting'!S56)","v":""}]
[{"$f":"IF('Caseload Reporting'!A57 = \"\",\"\",'Caseload Reporting'!A57)","v":""},{"$f":"IF('Caseload Reporting'!B57 = \"\",\"\",'Caseload Reporting'!B57)","v":""},{"$f":"IF('Caseload Reporting'!C57 = \"\",\"\",'Caseload Reporting'!C57)","v":""},{"$f":"IF('Caseload Reporting'!D57 = \"\",\"\",'Caseload Reporting'!D57)","v":""},{"$f":"IF('Caseload Reporting'!G57 = \"\",\"\",'Caseload Reporting'!G57)","v":""},{"$f":"IF('Caseload Reporting'!H57 = \"\",\"\",'Caseload Reporting'!H57)","v":""},{"$f":"IF('Caseload Reporting'!I57 = \"\",\"\",'Caseload Reporting'!I57)","v":""},{"$f":"IF('Caseload Reporting'!J57 = \"\",\"\",'Caseload Reporting'!J57)","v":""},{"$f":"IF('Caseload Reporting'!K57 = \"\",\"\",'Caseload Reporting'!K57)","v":""},{"$f":"IF('Caseload Reporting'!L57 = \"\",\"\",'Caseload Reporting'!L57)","v":""},{"$f":"IF('Caseload Reporting'!M57 = \"\",\"\",'Caseload Reporting'!M57)","v":""},{"$f":"IF('Caseload Reporting'!N57 = \"\",\"\",'Caseload Reporting'!N57)","v":""},{"$f":"IF('Caseload Reporting'!P57 = \"\",\"\",'Caseload Reporting'!P57)","v":""},{"$f":"IF('Caseload Reporting'!O57 = \"\",\"\",'Caseload Reporting'!O57)","v":""},{"$f":"IF('Caseload Reporting'!Q57 = \"\",\"\",'Caseload Reporting'!Q57)","v":""},{"$f":"IF('Caseload Reporting'!R57 = \"\",\"\",'Caseload Reporting'!R57)","v":""},{"$f":"IF('Caseload Reporting'!E57 = \"\",\"\",'Caseload Reporting'!E57)","v":""},{"$f":"IF('Caseload Reporting'!S57 = \"\",\"\",'Caseload Reporting'!S57)","v":""}]
[{"$f":"IF('Caseload Reporting'!A58 = \"\",\"\",'Caseload Reporting'!A58)","v":""},{"$f":"IF('Caseload Reporting'!B58 = \"\",\"\",'Caseload Reporting'!B58)","v":""},{"$f":"IF('Caseload Reporting'!C58 = \"\",\"\",'Caseload Reporting'!C58)","v":""},{"$f":"IF('Caseload Reporting'!D58 = \"\",\"\",'Caseload Reporting'!D58)","v":""},{"$f":"IF('Caseload Reporting'!G58 = \"\",\"\",'Caseload Reporting'!G58)","v":""},{"$f":"IF('Caseload Reporting'!H58 = \"\",\"\",'Caseload Reporting'!H58)","v":""},{"$f":"IF('Caseload Reporting'!I58 = \"\",\"\",'Caseload Reporting'!I58)","v":""},{"$f":"IF('Caseload Reporting'!J58 = \"\",\"\",'Caseload Reporting'!J58)","v":""},{"$f":"IF('Caseload Reporting'!K58 = \"\",\"\",'Caseload Reporting'!K58)","v":""},{"$f":"IF('Caseload Reporting'!L58 = \"\",\"\",'Caseload Reporting'!L58)","v":""},{"$f":"IF('Caseload Reporting'!M58 = \"\",\"\",'Caseload Reporting'!M58)","v":""},{"$f":"IF('Caseload Reporting'!N58 = \"\",\"\",'Caseload Reporting'!N58)","v":""},{"$f":"IF('Caseload Reporting'!P58 = \"\",\"\",'Caseload Reporting'!P58)","v":""},{"$f":"IF('Caseload Reporting'!O58 = \"\",\"\",'Caseload Reporting'!O58)","v":""},{"$f":"IF('Caseload Reporting'!Q58 = \"\",\"\",'Caseload Reporting'!Q58)","v":""},{"$f":"IF('Caseload Reporting'!R58 = \"\",\"\",'Caseload Reporting'!R58)","v":""},{"$f":"IF('Caseload Reporting'!E58 = \"\",\"\",'Caseload Reporting'!E58)","v":""},{"$f":"IF('Caseload Reporting'!S58 = \"\",\"\",'Caseload Reporting'!S58)","v":""}]
[{"$f":"IF('Caseload Reporting'!A59 = \"\",\"\",'Caseload Reporting'!A59)","v":""},{"$f":"IF('Caseload Reporting'!B59 = \"\",\"\",'Caseload Reporting'!B59)","v":""},{"$f":"IF('Caseload Reporting'!C59 = \"\",\"\",'Caseload Reporting'!C59)","v":""},{"$f":"IF('Caseload Reporting'!D59 = \"\",\"\",'Caseload Reporting'!D59)","v":""},{"$f":"IF('Caseload Reporting'!G59 = \"\",\"\",'Caseload Reporting'!G59)","v":""},{"$f":"IF('Caseload Reporting'!H59 = \"\",\"\",'Caseload Reporting'!H59)","v":""},{"$f":"IF('Caseload Reporting'!I59 = \"\",\"\",'Caseload Reporting'!I59)","v":""},{"$f":"IF('Caseload Reporting'!J59 = \"\",\"\",'Caseload Reporting'!J59)","v":""},{"$f":"IF('Caseload Reporting'!K59 = \"\",\"\",'Caseload Reporting'!K59)","v":""},{"$f":"IF('Caseload Reporting'!L59 = \"\",\"\",'Caseload Reporting'!L59)","v":""},{"$f":"IF('Caseload Reporting'!M59 = \"\",\"\",'Caseload Reporting'!M59)","v":""},{"$f":"IF('Caseload Reporting'!N59 = \"\",\"\",'Caseload Reporting'!N59)","v":""},{"$f":"IF('Caseload Reporting'!P59 = \"\",\"\",'Caseload Reporting'!P59)","v":""},{"$f":"IF('Caseload Reporting'!O59 = \"\",\"\",'Caseload Reporting'!O59)","v":""},{"$f":"IF('Caseload Reporting'!Q59 = \"\",\"\",'Caseload Reporting'!Q59)","v":""},{"$f":"IF('Caseload Reporting'!R59 = \"\",\"\",'Caseload Reporting'!R59)","v":""},{"$f":"IF('Caseload Reporting'!E59 = \"\",\"\",'Caseload Reporting'!E59)","v":""},{"$f":"IF('Caseload Reporting'!S59 = \"\",\"\",'Caseload Reporting'!S59)","v":""}]
[{"$f":"IF('Caseload Reporting'!A60 = \"\",\"\",'Caseload Reporting'!A60)","v":""},{"$f":"IF('Caseload Reporting'!B60 = \"\",\"\",'Caseload Reporting'!B60)","v":""},{"$f":"IF('Caseload Reporting'!C60 = \"\",\"\",'Caseload Reporting'!C60)","v":""},{"$f":"IF('Caseload Reporting'!D60 = \"\",\"\",'Caseload Reporting'!D60)","v":""},{"$f":"IF('Caseload Reporting'!G60 = \"\",\"\",'Caseload Reporting'!G60)","v":""},{"$f":"IF('Caseload Reporting'!H60 = \"\",\"\",'Caseload Reporting'!H60)","v":""},{"$f":"IF('Caseload Reporting'!I60 = \"\",\"\",'Caseload Reporting'!I60)","v":""},{"$f":"IF('Caseload Reporting'!J60 = \"\",\"\",'Caseload Reporting'!J60)","v":""},{"$f":"IF('Caseload Reporting'!K60 = \"\",\"\",'Caseload Reporting'!K60)","v":""},{"$f":"IF('Caseload Reporting'!L60 = \"\",\"\",'Caseload Reporting'!L60)","v":""},{"$f":"IF('Caseload Reporting'!M60 = \"\",\"\",'Caseload Reporting'!M60)","v":""},{"$f":"IF('Caseload Reporting'!N60 = \"\",\"\",'Caseload Reporting'!N60)","v":""},{"$f":"IF('Caseload Reporting'!P60 = \"\",\"\",'Caseload Reporting'!P60)","v":""},{"$f":"IF('Caseload Reporting'!O60 = \"\",\"\",'Caseload Reporting'!O60)","v":""},{"$f":"IF('Caseload Reporting'!Q60 = \"\",\"\",'Caseload Reporting'!Q60)","v":""},{"$f":"IF('Caseload Reporting'!R60 = \"\",\"\",'Caseload Reporting'!R60)","v":""},{"$f":"IF('Caseload Reporting'!E60 = \"\",\"\",'Caseload Reporting'!E60)","v":""},{"$f":"IF('Caseload Reporting'!S60 = \"\",\"\",'Caseload Reporting'!S60)","v":""}]
[{"$f":"IF('Caseload Reporting'!A61 = \"\",\"\",'Caseload Reporting'!A61)","v":""},{"$f":"IF('Caseload Reporting'!B61 = \"\",\"\",'Caseload Reporting'!B61)","v":""},{"$f":"IF('Caseload Reporting'!C61 = \"\",\"\",'Caseload Reporting'!C61)","v":""},{"$f":"IF('Caseload Reporting'!D61 = \"\",\"\",'Caseload Reporting'!D61)","v":""},{"$f":"IF('Caseload Reporting'!G61 = \"\",\"\",'Caseload Reporting'!G61)","v":""},{"$f":"IF('Caseload Reporting'!H61 = \"\",\"\",'Caseload Reporting'!H61)","v":""},{"$f":"IF('Caseload Reporting'!I61 = \"\",\"\",'Caseload Reporting'!I61)","v":""},{"$f":"IF('Caseload Reporting'!J61 = \"\",\"\",'Caseload Reporting'!J61)","v":""},{"$f":"IF('Caseload Reporting'!K61 = \"\",\"\",'Caseload Reporting'!K61)","v":""},{"$f":"IF('Caseload Reporting'!L61 = \"\",\"\",'Caseload Reporting'!L61)","v":""},{"$f":"IF('Caseload Reporting'!M61 = \"\",\"\",'Caseload Reporting'!M61)","v":""},{"$f":"IF('Caseload Reporting'!N61 = \"\",\"\",'Caseload Reporting'!N61)","v":""},{"$f":"IF('Caseload Reporting'!P61 = \"\",\"\",'Caseload Reporting'!P61)","v":""},{"$f":"IF('Caseload Reporting'!O61 = \"\",\"\",'Caseload Reporting'!O61)","v":""},{"$f":"IF('Caseload Reporting'!Q61 = \"\",\"\",'Caseload Reporting'!Q61)","v":""},{"$f":"IF('Caseload Reporting'!R61 = \"\",\"\",'Caseload Reporting'!R61)","v":""},{"$f":"IF('Caseload Reporting'!E61 = \"\",\"\",'Caseload Reporting'!E61)","v":""},{"$f":"IF('Caseload Reporting'!S61 = \"\",\"\",'Caseload Reporting'!S61)","v":""}]
[{"$f":"IF('Caseload Reporting'!A62 = \"\",\"\",'Caseload Reporting'!A62)","v":""},{"$f":"IF('Caseload Reporting'!B62 = \"\",\"\",'Caseload Reporting'!B62)","v":""},{"$f":"IF('Caseload Reporting'!C62 = \"\",\"\",'Caseload Reporting'!C62)","v":""},{"$f":"IF('Caseload Reporting'!D62 = \"\",\"\",'Caseload Reporting'!D62)","v":""},{"$f":"IF('Caseload Reporting'!G62 = \"\",\"\",'Caseload Reporting'!G62)","v":""},{"$f":"IF('Caseload Reporting'!H62 = \"\",\"\",'Caseload Reporting'!H62)","v":""},{"$f":"IF('Caseload Reporting'!I62 = \"\",\"\",'Caseload Reporting'!I62)","v":""},{"$f":"IF('Caseload Reporting'!J62 = \"\",\"\",'Caseload Reporting'!J62)","v":""},{"$f":"IF('Caseload Reporting'!K62 = \"\",\"\",'Caseload Reporting'!K62)","v":""},{"$f":"IF('Caseload Reporting'!L62 = \"\",\"\",'Caseload Reporting'!L62)","v":""},{"$f":"IF('Caseload Reporting'!M62 = \"\",\"\",'Caseload Reporting'!M62)","v":""},{"$f":"IF('Caseload Reporting'!N62 = \"\",\"\",'Caseload Reporting'!N62)","v":""},{"$f":"IF('Caseload Reporting'!P62 = \"\",\"\",'Caseload Reporting'!P62)","v":""},{"$f":"IF('Caseload Reporting'!O62 = \"\",\"\",'Caseload Reporting'!O62)","v":""},{"$f":"IF('Caseload Reporting'!Q62 = \"\",\"\",'Caseload Reporting'!Q62)","v":""},{"$f":"IF('Caseload Reporting'!R62 = \"\",\"\",'Caseload Reporting'!R62)","v":""},{"$f":"IF('Caseload Reporting'!E62 = \"\",\"\",'Caseload Reporting'!E62)","v":""},{"$f":"IF('Caseload Reporting'!S62 = \"\",\"\",'Caseload Reporting'!S62)","v":""}]
[{"$f":"IF('Caseload Reporting'!A63 = \"\",\"\",'Caseload Reporting'!A63)","v":""},{"$f":"IF('Caseload Reporting'!B63 = \"\",\"\",'Caseload Reporting'!B63)","v":""},{"$f":"IF('Caseload Reporting'!C63 = \"\",\"\",'Caseload Reporting'!C63)","v":""},{"$f":"IF('Caseload Reporting'!D63 = \"\",\"\",'Caseload Reporting'!D63)","v":""},{"$f":"IF('Caseload Reporting'!G63 = \"\",\"\",'Caseload Reporting'!G63)","v":""},{"$f":"IF('Caseload Reporting'!H63 = \"\",\"\",'Caseload Reporting'!H63)","v":""},{"$f":"IF('Caseload Reporting'!I63 = \"\",\"\",'Caseload Reporting'!I63)","v":""},{"$f":"IF('Caseload Reporting'!J63 = \"\",\"\",'Caseload Reporting'!J63)","v":""},{"$f":"IF('Caseload Reporting'!K63 = \"\",\"\",'Caseload Reporting'!K63)","v":""},{"$f":"IF('Caseload Reporting'!L63 = \"\",\"\",'Caseload Reporting'!L63)","v":""},{"$f":"IF('Caseload Reporting'!M63 = \"\",\"\",'Caseload Reporting'!M63)","v":""},{"$f":"IF('Caseload Reporting'!N63 = \"\",\"\",'Caseload Reporting'!N63)","v":""},{"$f":"IF('Caseload Reporting'!P63 = \"\",\"\",'Caseload Reporting'!P63)","v":""},{"$f":"IF('Caseload Reporting'!O63 = \"\",\"\",'Caseload Reporting'!O63)","v":""},{"$f":"IF('Caseload Reporting'!Q63 = \"\",\"\",'Caseload Reporting'!Q63)","v":""},{"$f":"IF('Caseload Reporting'!R63 = \"\",\"\",'Caseload Reporting'!R63)","v":""},{"$f":"IF('Caseload Reporting'!E63 = \"\",\"\",'Caseload Reporting'!E63)","v":""},{"$f":"IF('Caseload Reporting'!S63 = \"\",\"\",'Caseload Reporting'!S63)","v":""}]
[{"$f":"IF('Caseload Reporting'!A64 = \"\",\"\",'Caseload Reporting'!A64)","v":""},{"$f":"IF('Caseload Reporting'!B64 = \"\",\"\",'Caseload Reporting'!B64)","v":""},{"$f":"IF('Caseload Reporting'!C64 = \"\",\"\",'Caseload Reporting'!C64)","v":""},{"$f":"IF('Caseload Reporting'!D64 = \"\",\"\",'Caseload Reporting'!D64)","v":""},{"$f":"IF('Caseload Reporting'!G64 = \"\",\"\",'Caseload Reporting'!G64)","v":""},{"$f":"IF('Caseload Reporting'!H64 = \"\",\"\",'Caseload Reporting'!H64)","v":""},{"$f":"IF('Caseload Reporting'!I64 = \"\",\"\",'Caseload Reporting'!I64)","v":""},{"$f":"IF('Caseload Reporting'!J64 = \"\",\"\",'Caseload Reporting'!J64)","v":""},{"$f":"IF('Caseload Reporting'!K64 = \"\",\"\",'Caseload Reporting'!K64)","v":""},{"$f":"IF('Caseload Reporting'!L64 = \"\",\"\",'Caseload Reporting'!L64)","v":""},{"$f":"IF('Caseload Reporting'!M64 = \"\",\"\",'Caseload Reporting'!M64)","v":""},{"$f":"IF('Caseload Reporting'!N64 = \"\",\"\",'Caseload Reporting'!N64)","v":""},{"$f":"IF('Caseload Reporting'!P64 = \"\",\"\",'Caseload Reporting'!P64)","v":""},{"$f":"IF('Caseload Reporting'!O64 = \"\",\"\",'Caseload Reporting'!O64)","v":""},{"$f":"IF('Caseload Reporting'!Q64 = \"\",\"\",'Caseload Reporting'!Q64)","v":""},{"$f":"IF('Caseload Reporting'!R64 = \"\",\"\",'Caseload Reporting'!R64)","v":""},{"$f":"IF('Caseload Reporting'!E64 = \"\",\"\",'Caseload Reporting'!E64)","v":""},{"$f":"IF('Caseload Reporting'!S64 = \"\",\"\",'Caseload Reporting'!S64)","v":""}]
[{"$f":"IF('Caseload Reporting'!A65 = \"\",\"\",'Caseload Reporting'!A65)","v":""},{"$f":"IF('Caseload Reporting'!B65 = \"\",\"\",'Caseload Reporting'!B65)","v":""},{"$f":"IF('Caseload Reporting'!C65 = \"\",\"\",'Caseload Reporting'!C65)","v":""},{"$f":"IF('Caseload Reporting'!D65 = \"\",\"\",'Caseload Reporting'!D65)","v":""},{"$f":"IF('Caseload Reporting'!G65 = \"\",\"\",'Caseload Reporting'!G65)","v":""},{"$f":"IF('Caseload Reporting'!H65 = \"\",\"\",'Caseload Reporting'!H65)","v":""},{"$f":"IF('Caseload Reporting'!I65 = \"\",\"\",'Caseload Reporting'!I65)","v":""},{"$f":"IF('Caseload Reporting'!J65 = \"\",\"\",'Caseload Reporting'!J65)","v":""},{"$f":"IF('Caseload Reporting'!K65 = \"\",\"\",'Caseload Reporting'!K65)","v":""},{"$f":"IF('Caseload Reporting'!L65 = \"\",\"\",'Caseload Reporting'!L65)","v":""},{"$f":"IF('Caseload Reporting'!M65 = \"\",\"\",'Caseload Reporting'!M65)","v":""},{"$f":"IF('Caseload Reporting'!N65 = \"\",\"\",'Caseload Reporting'!N65)","v":""},{"$f":"IF('Caseload Reporting'!P65 = \"\",\"\",'Caseload Reporting'!P65)","v":""},{"$f":"IF('Caseload Reporting'!O65 = \"\",\"\",'Caseload Reporting'!O65)","v":""},{"$f":"IF('Caseload Reporting'!Q65 = \"\",\"\",'Caseload Reporting'!Q65)","v":""},{"$f":"IF('Caseload Reporting'!R65 = \"\",\"\",'Caseload Reporting'!R65)","v":""},{"$f":"IF('Caseload Reporting'!E65 = \"\",\"\",'Caseload Reporting'!E65)","v":""},{"$f":"IF('Caseload Reporting'!S65 = \"\",\"\",'Caseload Reporting'!S65)","v":""}]
[{"$f":"IF('Caseload Reporting'!A66 = \"\",\"\",'Caseload Reporting'!A66)","v":""},{"$f":"IF('Caseload Reporting'!B66 = \"\",\"\",'Caseload Reporting'!B66)","v":""},{"$f":"IF('Caseload Reporting'!C66 = \"\",\"\",'Caseload Reporting'!C66)","v":""},{"$f":"IF('Caseload Reporting'!D66 = \"\",\"\",'Caseload Reporting'!D66)","v":""},{"$f":"IF('Caseload Reporting'!G66 = \"\",\"\",'Caseload Reporting'!G66)","v":""},{"$f":"IF('Caseload Reporting'!H66 = \"\",\"\",'Caseload Reporting'!H66)","v":""},{"$f":"IF('Caseload Reporting'!I66 = \"\",\"\",'Caseload Reporting'!I66)","v":""},{"$f":"IF('Caseload Reporting'!J66 = \"\",\"\",'Caseload Reporting'!J66)","v":""},{"$f":"IF('Caseload Reporting'!K66 = \"\",\"\",'Caseload Reporting'!K66)","v":""},{"$f":"IF('Caseload Reporting'!L66 = \"\",\"\",'Caseload Reporting'!L66)","v":""},{"$f":"IF('Caseload Reporting'!M66 = \"\",\"\",'Caseload Reporting'!M66)","v":""},{"$f":"IF('Caseload Reporting'!N66 = \"\",\"\",'Caseload Reporting'!N66)","v":""},{"$f":"IF('Caseload Reporting'!P66 = \"\",\"\",'Caseload Reporting'!P66)","v":""},{"$f":"IF('Caseload Reporting'!O66 = \"\",\"\",'Caseload Reporting'!O66)","v":""},{"$f":"IF('Caseload Reporting'!Q66 = \"\",\"\",'Caseload Reporting'!Q66)","v":""},{"$f":"IF('Caseload Reporting'!R66 = \"\",\"\",'Caseload Reporting'!R66)","v":""},{"$f":"IF('Caseload Reporting'!E66 = \"\",\"\",'Caseload Reporting'!E66)","v":""},{"$f":"IF('Caseload Reporting'!S66 = \"\",\"\",'Caseload Reporting'!S66)","v":""}]
[{"$f":"IF('Caseload Reporting'!A67 = \"\",\"\",'Caseload Reporting'!A67)","v":""},{"$f":"IF('Caseload Reporting'!B67 = \"\",\"\",'Caseload Reporting'!B67)","v":""},{"$f":"IF('Caseload Reporting'!C67 = \"\",\"\",'Caseload Reporting'!C67)","v":""},{"$f":"IF('Caseload Reporting'!D67 = \"\",\"\",'Caseload Reporting'!D67)","v":""},{"$f":"IF('Caseload Reporting'!G67 = \"\",\"\",'Caseload Reporting'!G67)","v":""},{"$f":"IF('Caseload Reporting'!H67 = \"\",\"\",'Caseload Reporting'!H67)","v":""},{"$f":"IF('Caseload Reporting'!I67 = \"\",\"\",'Caseload Reporting'!I67)","v":""},{"$f":"IF('Caseload Reporting'!J67 = \"\",\"\",'Caseload Reporting'!J67)","v":""},{"$f":"IF('Caseload Reporting'!K67 = \"\",\"\",'Caseload Reporting'!K67)","v":""},{"$f":"IF('Caseload Reporting'!L67 = \"\",\"\",'Caseload Reporting'!L67)","v":""},{"$f":"IF('Caseload Reporting'!M67 = \"\",\"\",'Caseload Reporting'!M67)","v":""},{"$f":"IF('Caseload Reporting'!N67 = \"\",\"\",'Caseload Reporting'!N67)","v":""},{"$f":"IF('Caseload Reporting'!P67 = \"\",\"\",'Caseload Reporting'!P67)","v":""},{"$f":"IF('Caseload Reporting'!O67 = \"\",\"\",'Caseload Reporting'!O67)","v":""},{"$f":"IF('Caseload Reporting'!Q67 = \"\",\"\",'Caseload Reporting'!Q67)","v":""},{"$f":"IF('Caseload Reporting'!R67 = \"\",\"\",'Caseload Reporting'!R67)","v":""},{"$f":"IF('Caseload Reporting'!E67 = \"\",\"\",'Caseload Reporting'!E67)","v":""},{"$f":"IF('Caseload Reporting'!S67 = \"\",\"\",'Caseload Reporting'!S67)","v":""}]
[{"$f":"IF('Caseload Reporting'!A68 = \"\",\"\",'Caseload Reporting'!A68)","v":""},{"$f":"IF('Caseload Reporting'!B68 = \"\",\"\",'Caseload Reporting'!B68)","v":""},{"$f":"IF('Caseload Reporting'!C68 = \"\",\"\",'Caseload Reporting'!C68)","v":""},{"$f":"IF('Caseload Reporting'!D68 = \"\",\"\",'Caseload Reporting'!D68)","v":""},{"$f":"IF('Caseload Reporting'!G68 = \"\",\"\",'Caseload Reporting'!G68)","v":""},{"$f":"IF('Caseload Reporting'!H68 = \"\",\"\",'Caseload Reporting'!H68)","v":""},{"$f":"IF('Caseload Reporting'!I68 = \"\",\"\",'Caseload Reporting'!I68)","v":""},{"$f":"IF('Caseload Reporting'!J68 = \"\",\"\",'Caseload Reporting'!J68)","v":""},{"$f":"IF('Caseload Reporting'!K68 = \"\",\"\",'Caseload Reporting'!K68)","v":""},{"$f":"IF('Caseload Reporting'!L68 = \"\",\"\",'Caseload Reporting'!L68)","v":""},{"$f":"IF('Caseload Reporting'!M68 = \"\",\"\",'Caseload Reporting'!M68)","v":""},{"$f":"IF('Caseload Reporting'!N68 = \"\",\"\",'Caseload Reporting'!N68)","v":""},{"$f":"IF('Caseload Reporting'!P68 = \"\",\"\",'Caseload Reporting'!P68)","v":""},{"$f":"IF('Caseload Reporting'!O68 = \"\",\"\",'Caseload Reporting'!O68)","v":""},{"$f":"IF('Caseload Reporting'!Q68 = \"\",\"\",'Caseload Reporting'!Q68)","v":""},{"$f":"IF('Caseload Reporting'!R68 = \"\",\"\",'Caseload Reporting'!R68)","v":""},{"$f":"IF('Caseload Reporting'!E68 = \"\",\"\",'Caseload Reporting'!E68)","v":""},{"$f":"IF('Caseload Reporting'!S68 = \"\",\"\",'Caseload Reporting'!S68)","v":""}]
[{"$f":"IF('Caseload Reporting'!A69 = \"\",\"\",'Caseload Reporting'!A69)","v":""},{"$f":"IF('Caseload Reporting'!B69 = \"\",\"\",'Caseload Reporting'!B69)","v":""},{"$f":"IF('Caseload Reporting'!C69 = \"\",\"\",'Caseload Reporting'!C69)","v":""},{"$f":"IF('Caseload Reporting'!D69 = \"\",\"\",'Caseload Reporting'!D69)","v":""},{"$f":"IF('Caseload Reporting'!G69 = \"\",\"\",'Caseload Reporting'!G69)","v":""},{"$f":"IF('Caseload Reporting'!H69 = \"\",\"\",'Caseload Reporting'!H69)","v":""},{"$f":"IF('Caseload Reporting'!I69 = \"\",\"\",'Caseload Reporting'!I69)","v":""},{"$f":"IF('Caseload Reporting'!J69 = \"\",\"\",'Caseload Reporting'!J69)","v":""},{"$f":"IF('Caseload Reporting'!K69 = \"\",\"\",'Caseload Reporting'!K69)","v":""},{"$f":"IF('Caseload Reporting'!L69 = \"\",\"\",'Caseload Reporting'!L69)","v":""},{"$f":"IF('Caseload Reporting'!M69 = \"\",\"\",'Caseload Reporting'!M69)","v":""},{"$f":"IF('Caseload Reporting'!N69 = \"\",\"\",'Caseload Reporting'!N69)","v":""},{"$f":"IF('Caseload Reporting'!P69 = \"\",\"\",'Caseload Reporting'!P69)","v":""},{"$f":"IF('Caseload Reporting'!O69 = \"\",\"\",'Caseload Reporting'!O69)","v":""},{"$f":"IF('Caseload Reporting'!Q69 = \"\",\"\",'Caseload Reporting'!Q69)","v":""},{"$f":"IF('Caseload Reporting'!R69 = \"\",\"\",'Caseload Reporting'!R69)","v":""},{"$f":"IF('Caseload Reporting'!E69 = \"\",\"\",'Caseload Reporting'!E69)","v":""},{"$f":"IF('Caseload Reporting'!S69 = \"\",\"\",'Caseload Reporting'!S69)","v":""}]
[{"$f":"IF('Caseload Reporting'!A70 = \"\",\"\",'Caseload Reporting'!A70)","v":""},{"$f":"IF('Caseload Reporting'!B70 = \"\",\"\",'Caseload Reporting'!B70)","v":""},{"$f":"IF('Caseload Reporting'!C70 = \"\",\"\",'Caseload Reporting'!C70)","v":""},{"$f":"IF('Caseload Reporting'!D70 = \"\",\"\",'Caseload Reporting'!D70)","v":""},{"$f":"IF('Caseload Reporting'!G70 = \"\",\"\",'Caseload Reporting'!G70)","v":""},{"$f":"IF('Caseload Reporting'!H70 = \"\",\"\",'Caseload Reporting'!H70)","v":""},{"$f":"IF('Caseload Reporting'!I70 = \"\",\"\",'Caseload Reporting'!I70)","v":""},{"$f":"IF('Caseload Reporting'!J70 = \"\",\"\",'Caseload Reporting'!J70)","v":""},{"$f":"IF('Caseload Reporting'!K70 = \"\",\"\",'Caseload Reporting'!K70)","v":""},{"$f":"IF('Caseload Reporting'!L70 = \"\",\"\",'Caseload Reporting'!L70)","v":""},{"$f":"IF('Caseload Reporting'!M70 = \"\",\"\",'Caseload Reporting'!M70)","v":""},{"$f":"IF('Caseload Reporting'!N70 = \"\",\"\",'Caseload Reporting'!N70)","v":""},{"$f":"IF('Caseload Reporting'!P70 = \"\",\"\",'Caseload Reporting'!P70)","v":""},{"$f":"IF('Caseload Reporting'!O70 = \"\",\"\",'Caseload Reporting'!O70)","v":""},{"$f":"IF('Caseload Reporting'!Q70 = \"\",\"\",'Caseload Reporting'!Q70)","v":""},{"$f":"IF('Caseload Reporting'!R70 = \"\",\"\",'Caseload Reporting'!R70)","v":""},{"$f":"IF('Caseload Reporting'!E70 = \"\",\"\",'Caseload Reporting'!E70)","v":""},{"$f":"IF('Caseload Reporting'!S70 = \"\",\"\",'Caseload Reporting'!S70)","v":""}]
[{"$f":"IF('Caseload Reporting'!A71 = \"\",\"\",'Caseload Reporting'!A71)","v":""},{"$f":"IF('Caseload Reporting'!B71 = \"\",\"\",'Caseload Reporting'!B71)","v":""},{"$f":"IF('Caseload Reporting'!C71 = \"\",\"\",'Caseload Reporting'!C71)","v":""},{"$f":"IF('Caseload Reporting'!D71 = \"\",\"\",'Caseload Reporting'!D71)","v":""},{"$f":"IF('Caseload Reporting'!G71 = \"\",\"\",'Caseload Reporting'!G71)","v":""},{"$f":"IF('Caseload Reporting'!H71 = \"\",\"\",'Caseload Reporting'!H71)","v":""},{"$f":"IF('Caseload Reporting'!I71 = \"\",\"\",'Caseload Reporting'!I71)","v":""},{"$f":"IF('Caseload Reporting'!J71 = \"\",\"\",'Caseload Reporting'!J71)","v":""},{"$f":"IF('Caseload Reporting'!K71 = \"\",\"\",'Caseload Reporting'!K71)","v":""},{"$f":"IF('Caseload Reporting'!L71 = \"\",\"\",'Caseload Reporting'!L71)","v":""},{"$f":"IF('Caseload Reporting'!M71 = \"\",\"\",'Caseload Reporting'!M71)","v":""},{"$f":"IF('Caseload Reporting'!N71 = \"\",\"\",'Caseload Reporting'!N71)","v":""},{"$f":"IF('Caseload Reporting'!P71 = \"\",\"\",'Caseload Reporting'!P71)","v":""},{"$f":"IF('Caseload Reporting'!O71 = \"\",\"\",'Caseload Reporting'!O71)","v":""},{"$f":"IF('Caseload Reporting'!Q71 = \"\",\"\",'Caseload Reporting'!Q71)","v":""},{"$f":"IF('Caseload Reporting'!R71 = \"\",\"\",'Caseload Reporting'!R71)","v":""},{"$f":"IF('Caseload Reporting'!E71 = \"\",\"\",'Caseload Reporting'!E71)","v":""},{"$f":"IF('Caseload Reporting'!S71 = \"\",\"\",'Caseload Reporting'!S71)","v":""}]
[{"$f":"IF('Caseload Reporting'!A72 = \"\",\"\",'Caseload Reporting'!A72)","v":""},{"$f":"IF('Caseload Reporting'!B72 = \"\",\"\",'Caseload Reporting'!B72)","v":""},{"$f":"IF('Caseload Reporting'!C72 = \"\",\"\",'Caseload Reporting'!C72)","v":""},{"$f":"IF('Caseload Reporting'!D72 = \"\",\"\",'Caseload Reporting'!D72)","v":""},{"$f":"IF('Caseload Reporting'!G72 = \"\",\"\",'Caseload Reporting'!G72)","v":""},{"$f":"IF('Caseload Reporting'!H72 = \"\",\"\",'Caseload Reporting'!H72)","v":""},{"$f":"IF('Caseload Reporting'!I72 = \"\",\"\",'Caseload Reporting'!I72)","v":""},{"$f":"IF('Caseload Reporting'!J72 = \"\",\"\",'Caseload Reporting'!J72)","v":""},{"$f":"IF('Caseload Reporting'!K72 = \"\",\"\",'Caseload Reporting'!K72)","v":""},{"$f":"IF('Caseload Reporting'!L72 = \"\",\"\",'Caseload Reporting'!L72)","v":""},{"$f":"IF('Caseload Reporting'!M72 = \"\",\"\",'Caseload Reporting'!M72)","v":""},{"$f":"IF('Caseload Reporting'!N72 = \"\",\"\",'Caseload Reporting'!N72)","v":""},{"$f":"IF('Caseload Reporting'!P72 = \"\",\"\",'Caseload Reporting'!P72)","v":""},{"$f":"IF('Caseload Reporting'!O72 = \"\",\"\",'Caseload Reporting'!O72)","v":""},{"$f":"IF('Caseload Reporting'!Q72 = \"\",\"\",'Caseload Reporting'!Q72)","v":""},{"$f":"IF('Caseload Reporting'!R72 = \"\",\"\",'Caseload Reporting'!R72)","v":""},{"$f":"IF('Caseload Reporting'!E72 = \"\",\"\",'Caseload Reporting'!E72)","v":""},{"$f":"IF('Caseload Reporting'!S72 = \"\",\"\",'Caseload Reporting'!S72)","v":""}]
[{"$f":"IF('Caseload Reporting'!A73 = \"\",\"\",'Caseload Reporting'!A73)","v":""},{"$f":"IF('Caseload Reporting'!B73 = \"\",\"\",'Caseload Reporting'!B73)","v":""},{"$f":"IF('Caseload Reporting'!C73 = \"\",\"\",'Caseload Reporting'!C73)","v":""},{"$f":"IF('Caseload Reporting'!D73 = \"\",\"\",'Caseload Reporting'!D73)","v":""},{"$f":"IF('Caseload Reporting'!G73 = \"\",\"\",'Caseload Reporting'!G73)","v":""},{"$f":"IF('Caseload Reporting'!H73 = \"\",\"\",'Caseload Reporting'!H73)","v":""},{"$f":"IF('Caseload Reporting'!I73 = \"\",\"\",'Caseload Reporting'!I73)","v":""},{"$f":"IF('Caseload Reporting'!J73 = \"\",\"\",'Caseload Reporting'!J73)","v":""},{"$f":"IF('Caseload Reporting'!K73 = \"\",\"\",'Caseload Reporting'!K73)","v":""},{"$f":"IF('Caseload Reporting'!L73 = \"\",\"\",'Caseload Reporting'!L73)","v":""},{"$f":"IF('Caseload Reporting'!M73 = \"\",\"\",'Caseload Reporting'!M73)","v":""},{"$f":"IF('Caseload Reporting'!N73 = \"\",\"\",'Caseload Reporting'!N73)","v":""},{"$f":"IF('Caseload Reporting'!P73 = \"\",\"\",'Caseload Reporting'!P73)","v":""},{"$f":"IF('Caseload Reporting'!O73 = \"\",\"\",'Caseload Reporting'!O73)","v":""},{"$f":"IF('Caseload Reporting'!Q73 = \"\",\"\",'Caseload Reporting'!Q73)","v":""},{"$f":"IF('Caseload Reporting'!R73 = \"\",\"\",'Caseload Reporting'!R73)","v":""},{"$f":"IF('Caseload Reporting'!E73 = \"\",\"\",'Caseload Reporting'!E73)","v":""},{"$f":"IF('Caseload Reporting'!S73 = \"\",\"\",'Caseload Reporting'!S73)","v":""}]
[{"$f":"IF('Caseload Reporting'!A74 = \"\",\"\",'Caseload Reporting'!A74)","v":""},{"$f":"IF('Caseload Reporting'!B74 = \"\",\"\",'Caseload Reporting'!B74)","v":""},{"$f":"IF('Caseload Reporting'!C74 = \"\",\"\",'Caseload Reporting'!C74)","v":""},{"$f":"IF('Caseload Reporting'!D74 = \"\",\"\",'Caseload Reporting'!D74)","v":""},{"$f":"IF('Caseload Reporting'!G74 = \"\",\"\",'Caseload Reporting'!G74)","v":""},{"$f":"IF('Caseload Reporting'!H74 = \"\",\"\",'Caseload Reporting'!H74)","v":""},{"$f":"IF('Caseload Reporting'!I74 = \"\",\"\",'Caseload Reporting'!I74)","v":""},{"$f":"IF('Caseload Reporting'!J74 = \"\",\"\",'Caseload Reporting'!J74)","v":""},{"$f":"IF('Caseload Reporting'!K74 = \"\",\"\",'Caseload Reporting'!K74)","v":""},{"$f":"IF('Caseload Reporting'!L74 = \"\",\"\",'Caseload Reporting'!L74)","v":""},{"$f":"IF('Caseload Reporting'!M74 = \"\",\"\",'Caseload Reporting'!M74)","v":""},{"$f":"IF('Caseload Reporting'!N74 = \"\",\"\",'Caseload Reporting'!N74)","v":""},{"$f":"IF('Caseload Reporting'!P74 = \"\",\"\",'Caseload Reporting'!P74)","v":""},{"$f":"IF('Caseload Reporting'!O74 = \"\",\"\",'Caseload Reporting'!O74)","v":""},{"$f":"IF('Caseload Reporting'!Q74 = \"\",\"\",'Caseload Reporting'!Q74)","v":""},{"$f":"IF('Caseload Reporting'!R74 = \"\",\"\",'Caseload Reporting'!R74)","v":""},{"$f":"IF('Caseload Reporting'!E74 = \"\",\"\",'Caseload Reporting'!E74)","v":""},{"$f":"IF('Caseload Reporting'!S74 = \"\",\"\",'Caseload Reporting'!S74)","v":""}]
[{"$f":"IF('Caseload Reporting'!A75 = \"\",\"\",'Caseload Reporting'!A75)","v":""},{"$f":"IF('Caseload Reporting'!B75 = \"\",\"\",'Caseload Reporting'!B75)","v":""},{"$f":"IF('Caseload Reporting'!C75 = \"\",\"\",'Caseload Reporting'!C75)","v":""},{"$f":"IF('Caseload Reporting'!D75 = \"\",\"\",'Caseload Reporting'!D75)","v":""},{"$f":"IF('Caseload Reporting'!G75 = \"\",\"\",'Caseload Reporting'!G75)","v":""},{"$f":"IF('Caseload Reporting'!H75 = \"\",\"\",'Caseload Reporting'!H75)","v":""},{"$f":"IF('Caseload Reporting'!I75 = \"\",\"\",'Caseload Reporting'!I75)","v":""},{"$f":"IF('Caseload Reporting'!J75 = \"\",\"\",'Caseload Reporting'!J75)","v":""},{"$f":"IF('Caseload Reporting'!K75 = \"\",\"\",'Caseload Reporting'!K75)","v":""},{"$f":"IF('Caseload Reporting'!L75 = \"\",\"\",'Caseload Reporting'!L75)","v":""},{"$f":"IF('Caseload Reporting'!M75 = \"\",\"\",'Caseload Reporting'!M75)","v":""},{"$f":"IF('Caseload Reporting'!N75 = \"\",\"\",'Caseload Reporting'!N75)","v":""},{"$f":"IF('Caseload Reporting'!P75 = \"\",\"\",'Caseload Reporting'!P75)","v":""},{"$f":"IF('Caseload Reporting'!O75 = \"\",\"\",'Caseload Reporting'!O75)","v":""},{"$f":"IF('Caseload Reporting'!Q75 = \"\",\"\",'Caseload Reporting'!Q75)","v":""},{"$f":"IF('Caseload Reporting'!R75 = \"\",\"\",'Caseload Reporting'!R75)","v":""},{"$f":"IF('Caseload Reporting'!E75 = \"\",\"\",'Caseload Reporting'!E75)","v":""},{"$f":"IF('Caseload Reporting'!S75 = \"\",\"\",'Caseload Reporting'!S75)","v":""}]
[{"$f":"IF('Caseload Reporting'!A76 = \"\",\"\",'Caseload Reporting'!A76)","v":""},{"$f":"IF('Caseload Reporting'!B76 = \"\",\"\",'Caseload Reporting'!B76)","v":""},{"$f":"IF('Caseload Reporting'!C76 = \"\",\"\",'Caseload Reporting'!C76)","v":""},{"$f":"IF('Caseload Reporting'!D76 = \"\",\"\",'Caseload Reporting'!D76)","v":""},{"$f":"IF('Caseload Reporting'!G76 = \"\",\"\",'Caseload Reporting'!G76)","v":""},{"$f":"IF('Caseload Reporting'!H76 = \"\",\"\",'Caseload Reporting'!H76)","v":""},{"$f":"IF('Caseload Reporting'!I76 = \"\",\"\",'Caseload Reporting'!I76)","v":""},{"$f":"IF('Caseload Reporting'!J76 = \"\",\"\",'Caseload Reporting'!J76)","v":""},{"$f":"IF('Caseload Reporting'!K76 = \"\",\"\",'Caseload Reporting'!K76)","v":""},{"$f":"IF('Caseload Reporting'!L76 = \"\",\"\",'Caseload Reporting'!L76)","v":""},{"$f":"IF('Caseload Reporting'!M76 = \"\",\"\",'Caseload Reporting'!M76)","v":""},{"$f":"IF('Caseload Reporting'!N76 = \"\",\"\",'Caseload Reporting'!N76)","v":""},{"$f":"IF('Caseload Reporting'!P76 = \"\",\"\",'Caseload Reporting'!P76)","v":""},{"$f":"IF('Caseload Reporting'!O76 = \"\",\"\",'Caseload Reporting'!O76)","v":""},{"$f":"IF('Caseload Reporting'!Q76 = \"\",\"\",'Caseload Reporting'!Q76)","v":""},{"$f":"IF('Caseload Reporting'!R76 = \"\",\"\",'Caseload Reporting'!R76)","v":""},{"$f":"IF('Caseload Reporting'!E76 = \"\",\"\",'Caseload Reporting'!E76)","v":""},{"$f":"IF('Caseload Reporting'!S76 = \"\",\"\",'Caseload Reporting'!S76)","v":""}]
[{"$f":"IF('Caseload Reporting'!A77 = \"\",\"\",'Caseload Reporting'!A77)","v":""},{"$f":"IF('Caseload Reporting'!B77 = \"\",\"\",'Caseload Reporting'!B77)","v":""},{"$f":"IF('Caseload Reporting'!C77 = \"\",\"\",'Caseload Reporting'!C77)","v":""},{"$f":"IF('Caseload Reporting'!D77 = \"\",\"\",'Caseload Reporting'!D77)","v":""},{"$f":"IF('Caseload Reporting'!G77 = \"\",\"\",'Caseload Reporting'!G77)","v":""},{"$f":"IF('Caseload Reporting'!H77 = \"\",\"\",'Caseload Reporting'!H77)","v":""},{"$f":"IF('Caseload Reporting'!I77 = \"\",\"\",'Caseload Reporting'!I77)","v":""},{"$f":"IF('Caseload Reporting'!J77 = \"\",\"\",'Caseload Reporting'!J77)","v":""},{"$f":"IF('Caseload Reporting'!K77 = \"\",\"\",'Caseload Reporting'!K77)","v":""},{"$f":"IF('Caseload Reporting'!L77 = \"\",\"\",'Caseload Reporting'!L77)","v":""},{"$f":"IF('Caseload Reporting'!M77 = \"\",\"\",'Caseload Reporting'!M77)","v":""},{"$f":"IF('Caseload Reporting'!N77 = \"\",\"\",'Caseload Reporting'!N77)","v":""},{"$f":"IF('Caseload Reporting'!P77 = \"\",\"\",'Caseload Reporting'!P77)","v":""},{"$f":"IF('Caseload Reporting'!O77 = \"\",\"\",'Caseload Reporting'!O77)","v":""},{"$f":"IF('Caseload Reporting'!Q77 = \"\",\"\",'Caseload Reporting'!Q77)","v":""},{"$f":"IF('Caseload Reporting'!R77 = \"\",\"\",'Caseload Reporting'!R77)","v":""},{"$f":"IF('Caseload Reporting'!E77 = \"\",\"\",'Caseload Reporting'!E77)","v":""},{"$f":"IF('Caseload Reporting'!S77 = \"\",\"\",'Caseload Reporting'!S77)","v":""}]
[{"$f":"IF('Caseload Reporting'!A78 = \"\",\"\",'Caseload Reporting'!A78)","v":""},{"$f":"IF('Caseload Reporting'!B78 = \"\",\"\",'Caseload Reporting'!B78)","v":""},{"$f":"IF('Caseload Reporting'!C78 = \"\",\"\",'Caseload Reporting'!C78)","v":""},{"$f":"IF('Caseload Reporting'!D78 = \"\",\"\",'Caseload Reporting'!D78)","v":""},{"$f":"IF('Caseload Reporting'!G78 = \"\",\"\",'Caseload Reporting'!G78)","v":""},{"$f":"IF('Caseload Reporting'!H78 = \"\",\"\",'Caseload Reporting'!H78)","v":""},{"$f":"IF('Caseload Reporting'!I78 = \"\",\"\",'Caseload Reporting'!I78)","v":""},{"$f":"IF('Caseload Reporting'!J78 = \"\",\"\",'Caseload Reporting'!J78)","v":""},{"$f":"IF('Caseload Reporting'!K78 = \"\",\"\",'Caseload Reporting'!K78)","v":""},{"$f":"IF('Caseload Reporting'!L78 = \"\",\"\",'Caseload Reporting'!L78)","v":""},{"$f":"IF('Caseload Reporting'!M78 = \"\",\"\",'Caseload Reporting'!M78)","v":""},{"$f":"IF('Caseload Reporting'!N78 = \"\",\"\",'Caseload Reporting'!N78)","v":""},{"$f":"IF('Caseload Reporting'!P78 = \"\",\"\",'Caseload Reporting'!P78)","v":""},{"$f":"IF('Caseload Reporting'!O78 = \"\",\"\",'Caseload Reporting'!O78)","v":""},{"$f":"IF('Caseload Reporting'!Q78 = \"\",\"\",'Caseload Reporting'!Q78)","v":""},{"$f":"IF('Caseload Reporting'!R78 = \"\",\"\",'Caseload Reporting'!R78)","v":""},{"$f":"IF('Caseload Reporting'!E78 = \"\",\"\",'Caseload Reporting'!E78)","v":""},{"$f":"IF('Caseload Reporting'!S78 = \"\",\"\",'Caseload Reporting'!S78)","v":""}]
[{"$f":"IF('Caseload Reporting'!A79 = \"\",\"\",'Caseload Reporting'!A79)","v":""},{"$f":"IF('Caseload Reporting'!B79 = \"\",\"\",'Caseload Reporting'!B79)","v":""},{"$f":"IF('Caseload Reporting'!C79 = \"\",\"\",'Caseload Reporting'!C79)","v":""},{"$f":"IF('Caseload Reporting'!D79 = \"\",\"\",'Caseload Reporting'!D79)","v":""},{"$f":"IF('Caseload Reporting'!G79 = \"\",\"\",'Caseload Reporting'!G79)","v":""},{"$f":"IF('Caseload Reporting'!H79 = \"\",\"\",'Caseload Reporting'!H79)","v":""},{"$f":"IF('Caseload Reporting'!I79 = \"\",\"\",'Caseload Reporting'!I79)","v":""},{"$f":"IF('Caseload Reporting'!J79 = \"\",\"\",'Caseload Reporting'!J79)","v":""},{"$f":"IF('Caseload Reporting'!K79 = \"\",\"\",'Caseload Reporting'!K79)","v":""},{"$f":"IF('Caseload Reporting'!L79 = \"\",\"\",'Caseload Reporting'!L79)","v":""},{"$f":"IF('Caseload Reporting'!M79 = \"\",\"\",'Caseload Reporting'!M79)","v":""},{"$f":"IF('Caseload Reporting'!N79 = \"\",\"\",'Caseload Reporting'!N79)","v":""},{"$f":"IF('Caseload Reporting'!P79 = \"\",\"\",'Caseload Reporting'!P79)","v":""},{"$f":"IF('Caseload Reporting'!O79 = \"\",\"\",'Caseload Reporting'!O79)","v":""},{"$f":"IF('Caseload Reporting'!Q79 = \"\",\"\",'Caseload Reporting'!Q79)","v":""},{"$f":"IF('Caseload Reporting'!R79 = \"\",\"\",'Caseload Reporting'!R79)","v":""},{"$f":"IF('Caseload Reporting'!E79 = \"\",\"\",'Caseload Reporting'!E79)","v":""},{"$f":"IF('Caseload Reporting'!S79 = \"\",\"\",'Caseload Reporting'!S79)","v":""}]
[{"$f":"IF('Caseload Reporting'!A80 = \"\",\"\",'Caseload Reporting'!A80)","v":""},{"$f":"IF('Caseload Reporting'!B80 = \"\",\"\",'Caseload Reporting'!B80)","v":""},{"$f":"IF('Caseload Reporting'!C80 = \"\",\"\",'Caseload Reporting'!C80)","v":""},{"$f":"IF('Caseload Reporting'!D80 = \"\",\"\",'Caseload Reporting'!D80)","v":""},{"$f":"IF('Caseload Reporting'!G80 = \"\",\"\",'Caseload Reporting'!G80)","v":""},{"$f":"IF('Caseload Reporting'!H80 = \"\",\"\",'Caseload Reporting'!H80)","v":""},{"$f":"IF('Caseload Reporting'!I80 = \"\",\"\",'Caseload Reporting'!I80)","v":""},{"$f":"IF('Caseload Reporting'!J80 = \"\",\"\",'Caseload Reporting'!J80)","v":""},{"$f":"IF('Caseload Reporting'!K80 = \"\",\"\",'Caseload Reporting'!K80)","v":""},{"$f":"IF('Caseload Reporting'!L80 = \"\",\"\",'Caseload Reporting'!L80)","v":""},{"$f":"IF('Caseload Reporting'!M80 = \"\",\"\",'Caseload Reporting'!M80)","v":""},{"$f":"IF('Caseload Reporting'!N80 = \"\",\"\",'Caseload Reporting'!N80)","v":""},{"$f":"IF('Caseload Reporting'!P80 = \"\",\"\",'Caseload Reporting'!P80)","v":""},{"$f":"IF('Caseload Reporting'!O80 = \"\",\"\",'Caseload Reporting'!O80)","v":""},{"$f":"IF('Caseload Reporting'!Q80 = \"\",\"\",'Caseload Reporting'!Q80)","v":""},{"$f":"IF('Caseload Reporting'!R80 = \"\",\"\",'Caseload Reporting'!R80)","v":""},{"$f":"IF('Caseload Reporting'!E80 = \"\",\"\",'Caseload Reporting'!E80)","v":""},{"$f":"IF('Caseload Reporting'!S80 = \"\",\"\",'Caseload Reporting'!S80)","v":""}]
[{"$f":"IF('Caseload Reporting'!A81 = \"\",\"\",'Caseload Reporting'!A81)","v":""},{"$f":"IF('Caseload Reporting'!B81 = \"\",\"\",'Caseload Reporting'!B81)","v":""},{"$f":"IF('Caseload Reporting'!C81 = \"\",\"\",'Caseload Reporting'!C81)","v":""},{"$f":"IF('Caseload Reporting'!D81 = \"\",\"\",'Caseload Reporting'!D81)","v":""},{"$f":"IF('Caseload Reporting'!G81 = \"\",\"\",'Caseload Reporting'!G81)","v":""},{"$f":"IF('Caseload Reporting'!H81 = \"\",\"\",'Caseload Reporting'!H81)","v":""},{"$f":"IF('Caseload Reporting'!I81 = \"\",\"\",'Caseload Reporting'!I81)","v":""},{"$f":"IF('Caseload Reporting'!J81 = \"\",\"\",'Caseload Reporting'!J81)","v":""},{"$f":"IF('Caseload Reporting'!K81 = \"\",\"\",'Caseload Reporting'!K81)","v":""},{"$f":"IF('Caseload Reporting'!L81 = \"\",\"\",'Caseload Reporting'!L81)","v":""},{"$f":"IF('Caseload Reporting'!M81 = \"\",\"\",'Caseload Reporting'!M81)","v":""},{"$f":"IF('Caseload Reporting'!N81 = \"\",\"\",'Caseload Reporting'!N81)","v":""},{"$f":"IF('Caseload Reporting'!P81 = \"\",\"\",'Caseload Reporting'!P81)","v":""},{"$f":"IF('Caseload Reporting'!O81 = \"\",\"\",'Caseload Reporting'!O81)","v":""},{"$f":"IF('Caseload Reporting'!Q81 = \"\",\"\",'Caseload Reporting'!Q81)","v":""},{"$f":"IF('Caseload Reporting'!R81 = \"\",\"\",'Caseload Reporting'!R81)","v":""},{"$f":"IF('Caseload Reporting'!E81 = \"\",\"\",'Caseload Reporting'!E81)","v":""},{"$f":"IF('Caseload Reporting'!S81 = \"\",\"\",'Caseload Reporting'!S81)","v":""}]
[{"$f":"IF('Caseload Reporting'!A82 = \"\",\"\",'Caseload Reporting'!A82)","v":""},{"$f":"IF('Caseload Reporting'!B82 = \"\",\"\",'Caseload Reporting'!B82)","v":""},{"$f":"IF('Caseload Reporting'!C82 = \"\",\"\",'Caseload Reporting'!C82)","v":""},{"$f":"IF('Caseload Reporting'!D82 = \"\",\"\",'Caseload Reporting'!D82)","v":""},{"$f":"IF('Caseload Reporting'!G82 = \"\",\"\",'Caseload Reporting'!G82)","v":""},{"$f":"IF('Caseload Reporting'!H82 = \"\",\"\",'Caseload Reporting'!H82)","v":""},{"$f":"IF('Caseload Reporting'!I82 = \"\",\"\",'Caseload Reporting'!I82)","v":""},{"$f":"IF('Caseload Reporting'!J82 = \"\",\"\",'Caseload Reporting'!J82)","v":""},{"$f":"IF('Caseload Reporting'!K82 = \"\",\"\",'Caseload Reporting'!K82)","v":""},{"$f":"IF('Caseload Reporting'!L82 = \"\",\"\",'Caseload Reporting'!L82)","v":""},{"$f":"IF('Caseload Reporting'!M82 = \"\",\"\",'Caseload Reporting'!M82)","v":""},{"$f":"IF('Caseload Reporting'!N82 = \"\",\"\",'Caseload Reporting'!N82)","v":""},{"$f":"IF('Caseload Reporting'!P82 = \"\",\"\",'Caseload Reporting'!P82)","v":""},{"$f":"IF('Caseload Reporting'!O82 = \"\",\"\",'Caseload Reporting'!O82)","v":""},{"$f":"IF('Caseload Reporting'!Q82 = \"\",\"\",'Caseload Reporting'!Q82)","v":""},{"$f":"IF('Caseload Reporting'!R82 = \"\",\"\",'Caseload Reporting'!R82)","v":""},{"$f":"IF('Caseload Reporting'!E82 = \"\",\"\",'Caseload Reporting'!E82)","v":""},{"$f":"IF('Caseload Reporting'!S82 = \"\",\"\",'Caseload Reporting'!S82)","v":""}]
[{"$f":"IF('Caseload Reporting'!A83 = \"\",\"\",'Caseload Reporting'!A83)","v":""},{"$f":"IF('Caseload Reporting'!B83 = \"\",\"\",'Caseload Reporting'!B83)","v":""},{"$f":"IF('Caseload Reporting'!C83 = \"\",\"\",'Caseload Reporting'!C83)","v":""},{"$f":"IF('Caseload Reporting'!D83 = \"\",\"\",'Caseload Reporting'!D83)","v":""},{"$f":"IF('Caseload Reporting'!G83 = \"\",\"\",'Caseload Reporting'!G83)","v":""},{"$f":"IF('Caseload Reporting'!H83 = \"\",\"\",'Caseload Reporting'!H83)","v":""},{"$f":"IF('Caseload Reporting'!I83 = \"\",\"\",'Caseload Reporting'!I83)","v":""},{"$f":"IF('Caseload Reporting'!J83 = \"\",\"\",'Caseload Reporting'!J83)","v":""},{"$f":"IF('Caseload Reporting'!K83 = \"\",\"\",'Caseload Reporting'!K83)","v":""},{"$f":"IF('Caseload Reporting'!L83 = \"\",\"\",'Caseload Reporting'!L83)","v":""},{"$f":"IF('Caseload Reporting'!M83 = \"\",\"\",'Caseload Reporting'!M83)","v":""},{"$f":"IF('Caseload Reporting'!N83 = \"\",\"\",'Caseload Reporting'!N83)","v":""},{"$f":"IF('Caseload Reporting'!P83 = \"\",\"\",'Caseload Reporting'!P83)","v":""},{"$f":"IF('Caseload Reporting'!O83 = \"\",\"\",'Caseload Reporting'!O83)","v":""},{"$f":"IF('Caseload Reporting'!Q83 = \"\",\"\",'Caseload Reporting'!Q83)","v":""},{"$f":"IF('Caseload Reporting'!R83 = \"\",\"\",'Caseload Reporting'!R83)","v":""},{"$f":"IF('Caseload Reporting'!E83 = \"\",\"\",'Caseload Reporting'!E83)","v":""},{"$f":"IF('Caseload Reporting'!S83 = \"\",\"\",'Caseload Reporting'!S83)","v":""}]
[{"$f":"IF('Caseload Reporting'!A84 = \"\",\"\",'Caseload Reporting'!A84)","v":""},{"$f":"IF('Caseload Reporting'!B84 = \"\",\"\",'Caseload Reporting'!B84)","v":""},{"$f":"IF('Caseload Reporting'!C84 = \"\",\"\",'Caseload Reporting'!C84)","v":""},{"$f":"IF('Caseload Reporting'!D84 = \"\",\"\",'Caseload Reporting'!D84)","v":""},{"$f":"IF('Caseload Reporting'!G84 = \"\",\"\",'Caseload Reporting'!G84)","v":""},{"$f":"IF('Caseload Reporting'!H84 = \"\",\"\",'Caseload Reporting'!H84)","v":""},{"$f":"IF('Caseload Reporting'!I84 = \"\",\"\",'Caseload Reporting'!I84)","v":""},{"$f":"IF('Caseload Reporting'!J84 = \"\",\"\",'Caseload Reporting'!J84)","v":""},{"$f":"IF('Caseload Reporting'!K84 = \"\",\"\",'Caseload Reporting'!K84)","v":""},{"$f":"IF('Caseload Reporting'!L84 = \"\",\"\",'Caseload Reporting'!L84)","v":""},{"$f":"IF('Caseload Reporting'!M84 = \"\",\"\",'Caseload Reporting'!M84)","v":""},{"$f":"IF('Caseload Reporting'!N84 = \"\",\"\",'Caseload Reporting'!N84)","v":""},{"$f":"IF('Caseload Reporting'!P84 = \"\",\"\",'Caseload Reporting'!P84)","v":""},{"$f":"IF('Caseload Reporting'!O84 = \"\",\"\",'Caseload Reporting'!O84)","v":""},{"$f":"IF('Caseload Reporting'!Q84 = \"\",\"\",'Caseload Reporting'!Q84)","v":""},{"$f":"IF('Caseload Reporting'!R84 = \"\",\"\",'Caseload Reporting'!R84)","v":""},{"$f":"IF('Caseload Reporting'!E84 = \"\",\"\",'Caseload Reporting'!E84)","v":""},{"$f":"IF('Caseload Reporting'!S84 = \"\",\"\",'Caseload Reporting'!S84)","v":""}]
[{"$f":"IF('Caseload Reporting'!A85 = \"\",\"\",'Caseload Reporting'!A85)","v":""},{"$f":"IF('Caseload Reporting'!B85 = \"\",\"\",'Caseload Reporting'!B85)","v":""},{"$f":"IF('Caseload Reporting'!C85 = \"\",\"\",'Caseload Reporting'!C85)","v":""},{"$f":"IF('Caseload Reporting'!D85 = \"\",\"\",'Caseload Reporting'!D85)","v":""},{"$f":"IF('Caseload Reporting'!G85 = \"\",\"\",'Caseload Reporting'!G85)","v":""},{"$f":"IF('Caseload Reporting'!H85 = \"\",\"\",'Caseload Reporting'!H85)","v":""},{"$f":"IF('Caseload Reporting'!I85 = \"\",\"\",'Caseload Reporting'!I85)","v":""},{"$f":"IF('Caseload Reporting'!J85 = \"\",\"\",'Caseload Reporting'!J85)","v":""},{"$f":"IF('Caseload Reporting'!K85 = \"\",\"\",'Caseload Reporting'!K85)","v":""},{"$f":"IF('Caseload Reporting'!L85 = \"\",\"\",'Caseload Reporting'!L85)","v":""},{"$f":"IF('Caseload Reporting'!M85 = \"\",\"\",'Caseload Reporting'!M85)","v":""},{"$f":"IF('Caseload Reporting'!N85 = \"\",\"\",'Caseload Reporting'!N85)","v":""},{"$f":"IF('Caseload Reporting'!P85 = \"\",\"\",'Caseload Reporting'!P85)","v":""},{"$f":"IF('Caseload Reporting'!O85 = \"\",\"\",'Caseload Reporting'!O85)","v":""},{"$f":"IF('Caseload Reporting'!Q85 = \"\",\"\",'Caseload Reporting'!Q85)","v":""},{"$f":"IF('Caseload Reporting'!R85 = \"\",\"\",'Caseload Reporting'!R85)","v":""},{"$f":"IF('Caseload Reporting'!E85 = \"\",\"\",'Caseload Reporting'!E85)","v":""},{"$f":"IF('Caseload Reporting'!S85 = \"\",\"\",'Caseload Reporting'!S85)","v":""}]
[{"$f":"IF('Caseload Reporting'!A86 = \"\",\"\",'Caseload Reporting'!A86)","v":""},{"$f":"IF('Caseload Reporting'!B86 = \"\",\"\",'Caseload Reporting'!B86)","v":""},{"$f":"IF('Caseload Reporting'!C86 = \"\",\"\",'Caseload Reporting'!C86)","v":""},{"$f":"IF('Caseload Reporting'!D86 = \"\",\"\",'Caseload Reporting'!D86)","v":""},{"$f":"IF('Caseload Reporting'!G86 = \"\",\"\",'Caseload Reporting'!G86)","v":""},{"$f":"IF('Caseload Reporting'!H86 = \"\",\"\",'Caseload Reporting'!H86)","v":""},{"$f":"IF('Caseload Reporting'!I86 = \"\",\"\",'Caseload Reporting'!I86)","v":""},{"$f":"IF('Caseload Reporting'!J86 = \"\",\"\",'Caseload Reporting'!J86)","v":""},{"$f":"IF('Caseload Reporting'!K86 = \"\",\"\",'Caseload Reporting'!K86)","v":""},{"$f":"IF('Caseload Reporting'!L86 = \"\",\"\",'Caseload Reporting'!L86)","v":""},{"$f":"IF('Caseload Reporting'!M86 = \"\",\"\",'Caseload Reporting'!M86)","v":""},{"$f":"IF('Caseload Reporting'!N86 = \"\",\"\",'Caseload Reporting'!N86)","v":""},{"$f":"IF('Caseload Reporting'!P86 = \"\",\"\",'Caseload Reporting'!P86)","v":""},{"$f":"IF('Caseload Reporting'!O86 = \"\",\"\",'Caseload Reporting'!O86)","v":""},{"$f":"IF('Caseload Reporting'!Q86 = \"\",\"\",'Caseload Reporting'!Q86)","v":""},{"$f":"IF('Caseload Reporting'!R86 = \"\",\"\",'Caseload Reporting'!R86)","v":""},{"$f":"IF('Caseload Reporting'!E86 = \"\",\"\",'Caseload Reporting'!E86)","v":""},{"$f":"IF('Caseload Reporting'!S86 = \"\",\"\",'Caseload Reporting'!S86)","v":""}]
[{"$f":"IF('Caseload Reporting'!A87 = \"\",\"\",'Caseload Reporting'!A87)","v":""},{"$f":"IF('Caseload Reporting'!B87 = \"\",\"\",'Caseload Reporting'!B87)","v":""},{"$f":"IF('Caseload Reporting'!C87 = \"\",\"\",'Caseload Reporting'!C87)","v":""},{"$f":"IF('Caseload Reporting'!D87 = \"\",\"\",'Caseload Reporting'!D87)","v":""},{"$f":"IF('Caseload Reporting'!G87 = \"\",\"\",'Caseload Reporting'!G87)","v":""},{"$f":"IF('Caseload Reporting'!H87 = \"\",\"\",'Caseload Reporting'!H87)","v":""},{"$f":"IF('Caseload Reporting'!I87 = \"\",\"\",'Caseload Reporting'!I87)","v":""},{"$f":"IF('Caseload Reporting'!J87 = \"\",\"\",'Caseload Reporting'!J87)","v":""},{"$f":"IF('Caseload Reporting'!K87 = \"\",\"\",'Caseload Reporting'!K87)","v":""},{"$f":"IF('Caseload Reporting'!L87 = \"\",\"\",'Caseload Reporting'!L87)","v":""},{"$f":"IF('Caseload Reporting'!M87 = \"\",\"\",'Caseload Reporting'!M87)","v":""},{"$f":"IF('Caseload Reporting'!N87 = \"\",\"\",'Caseload Reporting'!N87)","v":""},{"$f":"IF('Caseload Reporting'!P87 = \"\",\"\",'Caseload Reporting'!P87)","v":""},{"$f":"IF('Caseload Reporting'!O87 = \"\",\"\",'Caseload Reporting'!O87)","v":""},{"$f":"IF('Caseload Reporting'!Q87 = \"\",\"\",'Caseload Reporting'!Q87)","v":""},{"$f":"IF('Caseload Reporting'!R87 = \"\",\"\",'Caseload Reporting'!R87)","v":""},{"$f":"IF('Caseload Reporting'!E87 = \"\",\"\",'Caseload Reporting'!E87)","v":""},{"$f":"IF('Caseload Reporting'!S87 = \"\",\"\",'Caseload Reporting'!S87)","v":""}]
[{"$f":"IF('Caseload Reporting'!A88 = \"\",\"\",'Caseload Reporting'!A88)","v":""},{"$f":"IF('Caseload Reporting'!B88 = \"\",\"\",'Caseload Reporting'!B88)","v":""},{"$f":"IF('Caseload Reporting'!C88 = \"\",\"\",'Caseload Reporting'!C88)","v":""},{"$f":"IF('Caseload Reporting'!D88 = \"\",\"\",'Caseload Reporting'!D88)","v":""},{"$f":"IF('Caseload Reporting'!G88 = \"\",\"\",'Caseload Reporting'!G88)","v":""},{"$f":"IF('Caseload Reporting'!H88 = \"\",\"\",'Caseload Reporting'!H88)","v":""},{"$f":"IF('Caseload Reporting'!I88 = \"\",\"\",'Caseload Reporting'!I88)","v":""},{"$f":"IF('Caseload Reporting'!J88 = \"\",\"\",'Caseload Reporting'!J88)","v":""},{"$f":"IF('Caseload Reporting'!K88 = \"\",\"\",'Caseload Reporting'!K88)","v":""},{"$f":"IF('Caseload Reporting'!L88 = \"\",\"\",'Caseload Reporting'!L88)","v":""},{"$f":"IF('Caseload Reporting'!M88 = \"\",\"\",'Caseload Reporting'!M88)","v":""},{"$f":"IF('Caseload Reporting'!N88 = \"\",\"\",'Caseload Reporting'!N88)","v":""},{"$f":"IF('Caseload Reporting'!P88 = \"\",\"\",'Caseload Reporting'!P88)","v":""},{"$f":"IF('Caseload Reporting'!O88 = \"\",\"\",'Caseload Reporting'!O88)","v":""},{"$f":"IF('Caseload Reporting'!Q88 = \"\",\"\",'Caseload Reporting'!Q88)","v":""},{"$f":"IF('Caseload Reporting'!R88 = \"\",\"\",'Caseload Reporting'!R88)","v":""},{"$f":"IF('Caseload Reporting'!E88 = \"\",\"\",'Caseload Reporting'!E88)","v":""},{"$f":"IF('Caseload Reporting'!S88 = \"\",\"\",'Caseload Reporting'!S88)","v":""}]
[{"$f":"IF('Caseload Reporting'!A89 = \"\",\"\",'Caseload Reporting'!A89)","v":""},{"$f":"IF('Caseload Reporting'!B89 = \"\",\"\",'Caseload Reporting'!B89)","v":""},{"$f":"IF('Caseload Reporting'!C89 = \"\",\"\",'Caseload Reporting'!C89)","v":""},{"$f":"IF('Caseload Reporting'!D89 = \"\",\"\",'Caseload Reporting'!D89)","v":""},{"$f":"IF('Caseload Reporting'!G89 = \"\",\"\",'Caseload Reporting'!G89)","v":""},{"$f":"IF('Caseload Reporting'!H89 = \"\",\"\",'Caseload Reporting'!H89)","v":""},{"$f":"IF('Caseload Reporting'!I89 = \"\",\"\",'Caseload Reporting'!I89)","v":""},{"$f":"IF('Caseload Reporting'!J89 = \"\",\"\",'Caseload Reporting'!J89)","v":""},{"$f":"IF('Caseload Reporting'!K89 = \"\",\"\",'Caseload Reporting'!K89)","v":""},{"$f":"IF('Caseload Reporting'!L89 = \"\",\"\",'Caseload Reporting'!L89)","v":""},{"$f":"IF('Caseload Reporting'!M89 = \"\",\"\",'Caseload Reporting'!M89)","v":""},{"$f":"IF('Caseload Reporting'!N89 = \"\",\"\",'Caseload Reporting'!N89)","v":""},{"$f":"IF('Caseload Reporting'!P89 = \"\",\"\",'Caseload Reporting'!P89)","v":""},{"$f":"IF('Caseload Reporting'!O89 = \"\",\"\",'Caseload Reporting'!O89)","v":""},{"$f":"IF('Caseload Reporting'!Q89 = \"\",\"\",'Caseload Reporting'!Q89)","v":""},{"$f":"IF('Caseload Reporting'!R89 = \"\",\"\",'Caseload Reporting'!R89)","v":""},{"$f":"IF('Caseload Reporting'!E89 = \"\",\"\",'Caseload Reporting'!E89)","v":""},{"$f":"IF('Caseload Reporting'!S89 = \"\",\"\",'Caseload Reporting'!S89)","v":""}]
[{"$f":"IF('Caseload Reporting'!A90 = \"\",\"\",'Caseload Reporting'!A90)","v":""},{"$f":"IF('Caseload Reporting'!B90 = \"\",\"\",'Caseload Reporting'!B90)","v":""},{"$f":"IF('Caseload Reporting'!C90 = \"\",\"\",'Caseload Reporting'!C90)","v":""},{"$f":"IF('Caseload Reporting'!D90 = \"\",\"\",'Caseload Reporting'!D90)","v":""},{"$f":"IF('Caseload Reporting'!G90 = \"\",\"\",'Caseload Reporting'!G90)","v":""},{"$f":"IF('Caseload Reporting'!H90 = \"\",\"\",'Caseload Reporting'!H90)","v":""},{"$f":"IF('Caseload Reporting'!I90 = \"\",\"\",'Caseload Reporting'!I90)","v":""},{"$f":"IF('Caseload Reporting'!J90 = \"\",\"\",'Caseload Reporting'!J90)","v":""},{"$f":"IF('Caseload Reporting'!K90 = \"\",\"\",'Caseload Reporting'!K90)","v":""},{"$f":"IF('Caseload Reporting'!L90 = \"\",\"\",'Caseload Reporting'!L90)","v":""},{"$f":"IF('Caseload Reporting'!M90 = \"\",\"\",'Caseload Reporting'!M90)","v":""},{"$f":"IF('Caseload Reporting'!N90 = \"\",\"\",'Caseload Reporting'!N90)","v":""},{"$f":"IF('Caseload Reporting'!P90 = \"\",\"\",'Caseload Reporting'!P90)","v":""},{"$f":"IF('Caseload Reporting'!O90 = \"\",\"\",'Caseload Reporting'!O90)","v":""},{"$f":"IF('Caseload Reporting'!Q90 = \"\",\"\",'Caseload Reporting'!Q90)","v":""},{"$f":"IF('Caseload Reporting'!R90 = \"\",\"\",'Caseload Reporting'!R90)","v":""},{"$f":"IF('Caseload Reporting'!E90 = \"\",\"\",'Caseload Reporting'!E90)","v":""},{"$f":"IF('Caseload Reporting'!S90 = \"\",\"\",'Caseload Reporting'!S90)","v":""}]
[{"$f":"IF('Caseload Reporting'!A91 = \"\",\"\",'Caseload Reporting'!A91)","v":""},{"$f":"IF('Caseload Reporting'!B91 = \"\",\"\",'Caseload Reporting'!B91)","v":""},{"$f":"IF('Caseload Reporting'!C91 = \"\",\"\",'Caseload Reporting'!C91)","v":""},{"$f":"IF('Caseload Reporting'!D91 = \"\",\"\",'Caseload Reporting'!D91)","v":""},{"$f":"IF('Caseload Reporting'!G91 = \"\",\"\",'Caseload Reporting'!G91)","v":""},{"$f":"IF('Caseload Reporting'!H91 = \"\",\"\",'Caseload Reporting'!H91)","v":""},{"$f":"IF('Caseload Reporting'!I91 = \"\",\"\",'Caseload Reporting'!I91)","v":""},{"$f":"IF('Caseload Reporting'!J91 = \"\",\"\",'Caseload Reporting'!J91)","v":""},{"$f":"IF('Caseload Reporting'!K91 = \"\",\"\",'Caseload Reporting'!K91)","v":""},{"$f":"IF('Caseload Reporting'!L91 = \"\",\"\",'Caseload Reporting'!L91)","v":""},{"$f":"IF('Caseload Reporting'!M91 = \"\",\"\",'Caseload Reporting'!M91)","v":""},{"$f":"IF('Caseload Reporting'!N91 = \"\",\"\",'Caseload Reporting'!N91)","v":""},{"$f":"IF('Caseload Reporting'!P91 = \"\",\"\",'Caseload Reporting'!P91)","v":""},{"$f":"IF('Caseload Reporting'!O91 = \"\",\"\",'Caseload Reporting'!O91)","v":""},{"$f":"IF('Caseload Reporting'!Q91 = \"\",\"\",'Caseload Reporting'!Q91)","v":""},{"$f":"IF('Caseload Reporting'!R91 = \"\",\"\",'Caseload Reporting'!R91)","v":""},{"$f":"IF('Caseload Reporting'!E91 = \"\",\"\",'Caseload Reporting'!E91)","v":""},{"$f":"IF('Caseload Reporting'!S91 = \"\",\"\",'Caseload Reporting'!S91)","v":""}]
[{"$f":"IF('Caseload Reporting'!A92 = \"\",\"\",'Caseload Reporting'!A92)","v":""},{"$f":"IF('Caseload Reporting'!B92 = \"\",\"\",'Caseload Reporting'!B92)","v":""},{"$f":"IF('Caseload Reporting'!C92 = \"\",\"\",'Caseload Reporting'!C92)","v":""},{"$f":"IF('Caseload Reporting'!D92 = \"\",\"\",'Caseload Reporting'!D92)","v":""},{"$f":"IF('Caseload Reporting'!G92 = \"\",\"\",'Caseload Reporting'!G92)","v":""},{"$f":"IF('Caseload Reporting'!H92 = \"\",\"\",'Caseload Reporting'!H92)","v":""},{"$f":"IF('Caseload Reporting'!I92 = \"\",\"\",'Caseload Reporting'!I92)","v":""},{"$f":"IF('Caseload Reporting'!J92 = \"\",\"\",'Caseload Reporting'!J92)","v":""},{"$f":"IF('Caseload Reporting'!K92 = \"\",\"\",'Caseload Reporting'!K92)","v":""},{"$f":"IF('Caseload Reporting'!L92 = \"\",\"\",'Caseload Reporting'!L92)","v":""},{"$f":"IF('Caseload Reporting'!M92 = \"\",\"\",'Caseload Reporting'!M92)","v":""},{"$f":"IF('Caseload Reporting'!N92 = \"\",\"\",'Caseload Reporting'!N92)","v":""},{"$f":"IF('Caseload Reporting'!P92 = \"\",\"\",'Caseload Reporting'!P92)","v":""},{"$f":"IF('Caseload Reporting'!O92 = \"\",\"\",'Caseload Reporting'!O92)","v":""},{"$f":"IF('Caseload Reporting'!Q92 = \"\",\"\",'Caseload Reporting'!Q92)","v":""},{"$f":"IF('Caseload Reporting'!R92 = \"\",\"\",'Caseload Reporting'!R92)","v":""},{"$f":"IF('Caseload Reporting'!E92 = \"\",\"\",'Caseload Reporting'!E92)","v":""},{"$f":"IF('Caseload Reporting'!S92 = \"\",\"\",'Caseload Reporting'!S92)","v":""}]
[{"$f":"IF('Caseload Reporting'!A93 = \"\",\"\",'Caseload Reporting'!A93)","v":""},{"$f":"IF('Caseload Reporting'!B93 = \"\",\"\",'Caseload Reporting'!B93)","v":""},{"$f":"IF('Caseload Reporting'!C93 = \"\",\"\",'Caseload Reporting'!C93)","v":""},{"$f":"IF('Caseload Reporting'!D93 = \"\",\"\",'Caseload Reporting'!D93)","v":""},{"$f":"IF('Caseload Reporting'!G93 = \"\",\"\",'Caseload Reporting'!G93)","v":""},{"$f":"IF('Caseload Reporting'!H93 = \"\",\"\",'Caseload Reporting'!H93)","v":""},{"$f":"IF('Caseload Reporting'!I93 = \"\",\"\",'Caseload Reporting'!I93)","v":""},{"$f":"IF('Caseload Reporting'!J93 = \"\",\"\",'Caseload Reporting'!J93)","v":""},{"$f":"IF('Caseload Reporting'!K93 = \"\",\"\",'Caseload Reporting'!K93)","v":""},{"$f":"IF('Caseload Reporting'!L93 = \"\",\"\",'Caseload Reporting'!L93)","v":""},{"$f":"IF('Caseload Reporting'!M93 = \"\",\"\",'Caseload Reporting'!M93)","v":""},{"$f":"IF('Caseload Reporting'!N93 = \"\",\"\",'Caseload Reporting'!N93)","v":""},{"$f":"IF('Caseload Reporting'!P93 = \"\",\"\",'Caseload Reporting'!P93)","v":""},{"$f":"IF('Caseload Reporting'!O93 = \"\",\"\",'Caseload Reporting'!O93)","v":""},{"$f":"IF('Caseload Reporting'!Q93 = \"\",\"\",'Caseload Reporting'!Q93)","v":""},{"$f":"IF('Caseload Reporting'!R93 = \"\",\"\",'Caseload Reporting'!R93)","v":""},{"$f":"IF('Caseload Reporting'!E93 = \"\",\"\",'Caseload Reporting'!E93)","v":""},{"$f":"IF('Caseload Reporting'!S93 = \"\",\"\",'Caseload Reporting'!S93)","v":""}]
[{"$f":"IF('Caseload Reporting'!A94 = \"\",\"\",'Caseload Reporting'!A94)","v":""},{"$f":"IF('Caseload Reporting'!B94 = \"\",\"\",'Caseload Reporting'!B94)","v":""},{"$f":"IF('Caseload Reporting'!C94 = \"\",\"\",'Caseload Reporting'!C94)","v":""},{"$f":"IF('Caseload Reporting'!D94 = \"\",\"\",'Caseload Reporting'!D94)","v":""},{"$f":"IF('Caseload Reporting'!G94 = \"\",\"\",'Caseload Reporting'!G94)","v":""},{"$f":"IF('Caseload Reporting'!H94 = \"\",\"\",'Caseload Reporting'!H94)","v":""},{"$f":"IF('Caseload Reporting'!I94 = \"\",\"\",'Caseload Reporting'!I94)","v":""},{"$f":"IF('Caseload Reporting'!J94 = \"\",\"\",'Caseload Reporting'!J94)","v":""},{"$f":"IF('Caseload Reporting'!K94 = \"\",\"\",'Caseload Reporting'!K94)","v":""},{"$f":"IF('Caseload Reporting'!L94 = \"\",\"\",'Caseload Reporting'!L94)","v":""},{"$f":"IF('Caseload Reporting'!M94 = \"\",\"\",'Caseload Reporting'!M94)","v":""},{"$f":"IF('Caseload Reporting'!N94 = \"\",\"\",'Caseload Reporting'!N94)","v":""},{"$f":"IF('Caseload Reporting'!P94 = \"\",\"\",'Caseload Reporting'!P94)","v":""},{"$f":"IF('Caseload Reporting'!O94 = \"\",\"\",'Caseload Reporting'!O94)","v":""},{"$f":"IF('Caseload Reporting'!Q94 = \"\",\"\",'Caseload Reporting'!Q94)","v":""},{"$f":"IF('Caseload Reporting'!R94 = \"\",\"\",'Caseload Reporting'!R94)","v":""},{"$f":"IF('Caseload Reporting'!E94 = \"\",\"\",'Caseload Reporting'!E94)","v":""},{"$f":"IF('Caseload Reporting'!S94 = \"\",\"\",'Caseload Reporting'!S94)","v":""}]
[{"$f":"IF('Caseload Reporting'!A95 = \"\",\"\",'Caseload Reporting'!A95)","v":""},{"$f":"IF('Caseload Reporting'!B95 = \"\",\"\",'Caseload Reporting'!B95)","v":""},{"$f":"IF('Caseload Reporting'!C95 = \"\",\"\",'Caseload Reporting'!C95)","v":""},{"$f":"IF('Caseload Reporting'!D95 = \"\",\"\",'Caseload Reporting'!D95)","v":""},{"$f":"IF('Caseload Reporting'!G95 = \"\",\"\",'Caseload Reporting'!G95)","v":""},{"$f":"IF('Caseload Reporting'!H95 = \"\",\"\",'Caseload Reporting'!H95)","v":""},{"$f":"IF('Caseload Reporting'!I95 = \"\",\"\",'Caseload Reporting'!I95)","v":""},{"$f":"IF('Caseload Reporting'!J95 = \"\",\"\",'Caseload Reporting'!J95)","v":""},{"$f":"IF('Caseload Reporting'!K95 = \"\",\"\",'Caseload Reporting'!K95)","v":""},{"$f":"IF('Caseload Reporting'!L95 = \"\",\"\",'Caseload Reporting'!L95)","v":""},{"$f":"IF('Caseload Reporting'!M95 = \"\",\"\",'Caseload Reporting'!M95)","v":""},{"$f":"IF('Caseload Reporting'!N95 = \"\",\"\",'Caseload Reporting'!N95)","v":""},{"$f":"IF('Caseload Reporting'!P95 = \"\",\"\",'Caseload Reporting'!P95)","v":""},{"$f":"IF('Caseload Reporting'!O95 = \"\",\"\",'Caseload Reporting'!O95)","v":""},{"$f":"IF('Caseload Reporting'!Q95 = \"\",\"\",'Caseload Reporting'!Q95)","v":""},{"$f":"IF('Caseload Reporting'!R95 = \"\",\"\",'Caseload Reporting'!R95)","v":""},{"$f":"IF('Caseload Reporting'!E95 = \"\",\"\",'Caseload Reporting'!E95)","v":""},{"$f":"IF('Caseload Reporting'!S95 = \"\",\"\",'Caseload Reporting'!S95)","v":""}]
[{"$f":"IF('Caseload Reporting'!A96 = \"\",\"\",'Caseload Reporting'!A96)","v":""},{"$f":"IF('Caseload Reporting'!B96 = \"\",\"\",'Caseload Reporting'!B96)","v":""},{"$f":"IF('Caseload Reporting'!C96 = \"\",\"\",'Caseload Reporting'!C96)","v":""},{"$f":"IF('Caseload Reporting'!D96 = \"\",\"\",'Caseload Reporting'!D96)","v":""},{"$f":"IF('Caseload Reporting'!G96 = \"\",\"\",'Caseload Reporting'!G96)","v":""},{"$f":"IF('Caseload Reporting'!H96 = \"\",\"\",'Caseload Reporting'!H96)","v":""},{"$f":"IF('Caseload Reporting'!I96 = \"\",\"\",'Caseload Reporting'!I96)","v":""},{"$f":"IF('Caseload Reporting'!J96 = \"\",\"\",'Caseload Reporting'!J96)","v":""},{"$f":"IF('Caseload Reporting'!K96 = \"\",\"\",'Caseload Reporting'!K96)","v":""},{"$f":"IF('Caseload Reporting'!L96 = \"\",\"\",'Caseload Reporting'!L96)","v":""},{"$f":"IF('Caseload Reporting'!M96 = \"\",\"\",'Caseload Reporting'!M96)","v":""},{"$f":"IF('Caseload Reporting'!N96 = \"\",\"\",'Caseload Reporting'!N96)","v":""},{"$f":"IF('Caseload Reporting'!P96 = \"\",\"\",'Caseload Reporting'!P96)","v":""},{"$f":"IF('Caseload Reporting'!O96 = \"\",\"\",'Caseload Reporting'!O96)","v":""},{"$f":"IF('Caseload Reporting'!Q96 = \"\",\"\",'Caseload Reporting'!Q96)","v":""},{"$f":"IF('Caseload Reporting'!R96 = \"\",\"\",'Caseload Reporting'!R96)","v":""},{"$f":"IF('Caseload Reporting'!E96 = \"\",\"\",'Caseload Reporting'!E96)","v":""},{"$f":"IF('Caseload Reporting'!S96 = \"\",\"\",'Caseload Reporting'!S96)","v":""}]
[{"$f":"IF('Caseload Reporting'!A97 = \"\",\"\",'Caseload Reporting'!A97)","v":""},{"$f":"IF('Caseload Reporting'!B97 = \"\",\"\",'Caseload Reporting'!B97)","v":""},{"$f":"IF('Caseload Reporting'!C97 = \"\",\"\",'Caseload Reporting'!C97)","v":""},{"$f":"IF('Caseload Reporting'!D97 = \"\",\"\",'Caseload Reporting'!D97)","v":""},{"$f":"IF('Caseload Reporting'!G97 = \"\",\"\",'Caseload Reporting'!G97)","v":""},{"$f":"IF('Caseload Reporting'!H97 = \"\",\"\",'Caseload Reporting'!H97)","v":""},{"$f":"IF('Caseload Reporting'!I97 = \"\",\"\",'Caseload Reporting'!I97)","v":""},{"$f":"IF('Caseload Reporting'!J97 = \"\",\"\",'Caseload Reporting'!J97)","v":""},{"$f":"IF('Caseload Reporting'!K97 = \"\",\"\",'Caseload Reporting'!K97)","v":""},{"$f":"IF('Caseload Reporting'!L97 = \"\",\"\",'Caseload Reporting'!L97)","v":""},{"$f":"IF('Caseload Reporting'!M97 = \"\",\"\",'Caseload Reporting'!M97)","v":""},{"$f":"IF('Caseload Reporting'!N97 = \"\",\"\",'Caseload Reporting'!N97)","v":""},{"$f":"IF('Caseload Reporting'!P97 = \"\",\"\",'Caseload Reporting'!P97)","v":""},{"$f":"IF('Caseload Reporting'!O97 = \"\",\"\",'Caseload Reporting'!O97)","v":""},{"$f":"IF('Caseload Reporting'!Q97 = \"\",\"\",'Caseload Reporting'!Q97)","v":""},{"$f":"IF('Caseload Reporting'!R97 = \"\",\"\",'Caseload Reporting'!R97)","v":""},{"$f":"IF('Caseload Reporting'!E97 = \"\",\"\",'Caseload Reporting'!E97)","v":""},{"$f":"IF('Caseload Reporting'!S97 = \"\",\"\",'Caseload Reporting'!S97)","v":""}]
[{"$f":"IF('Caseload Reporting'!A98 = \"\",\"\",'Caseload Reporting'!A98)","v":""},{"$f":"IF('Caseload Reporting'!B98 = \"\",\"\",'Caseload Reporting'!B98)","v":""},{"$f":"IF('Caseload Reporting'!C98 = \"\",\"\",'Caseload Reporting'!C98)","v":""},{"$f":"IF('Caseload Reporting'!D98 = \"\",\"\",'Caseload Reporting'!D98)","v":""},{"$f":"IF('Caseload Reporting'!G98 = \"\",\"\",'Caseload Reporting'!G98)","v":""},{"$f":"IF('Caseload Reporting'!H98 = \"\",\"\",'Caseload Reporting'!H98)","v":""},{"$f":"IF('Caseload Reporting'!I98 = \"\",\"\",'Caseload Reporting'!I98)","v":""},{"$f":"IF('Caseload Reporting'!J98 = \"\",\"\",'Caseload Reporting'!J98)","v":""},{"$f":"IF('Caseload Reporting'!K98 = \"\",\"\",'Caseload Reporting'!K98)","v":""},{"$f":"IF('Caseload Reporting'!L98 = \"\",\"\",'Caseload Reporting'!L98)","v":""},{"$f":"IF('Caseload Reporting'!M98 = \"\",\"\",'Caseload Reporting'!M98)","v":""},{"$f":"IF('Caseload Reporting'!N98 = \"\",\"\",'Caseload Reporting'!N98)","v":""},{"$f":"IF('Caseload Reporting'!P98 = \"\",\"\",'Caseload Reporting'!P98)","v":""},{"$f":"IF('Caseload Reporting'!O98 = \"\",\"\",'Caseload Reporting'!O98)","v":""},{"$f":"IF('Caseload Reporting'!Q98 = \"\",\"\",'Caseload Reporting'!Q98)","v":""},{"$f":"IF('Caseload Reporting'!R98 = \"\",\"\",'Caseload Reporting'!R98)","v":""},{"$f":"IF('Caseload Reporting'!E98 = \"\",\"\",'Caseload Reporting'!E98)","v":""},{"$f":"IF('Caseload Reporting'!S98 = \"\",\"\",'Caseload Reporting'!S98)","v":""}]
[{"$f":"IF('Caseload Reporting'!A99 = \"\",\"\",'Caseload Reporting'!A99)","v":""},{"$f":"IF('Caseload Reporting'!B99 = \"\",\"\",'Caseload Reporting'!B99)","v":""},{"$f":"IF('Caseload Reporting'!C99 = \"\",\"\",'Caseload Reporting'!C99)","v":""},{"$f":"IF('Caseload Reporting'!D99 = \"\",\"\",'Caseload Reporting'!D99)","v":""},{"$f":"IF('Caseload Reporting'!G99 = \"\",\"\",'Caseload Reporting'!G99)","v":""},{"$f":"IF('Caseload Reporting'!H99 = \"\",\"\",'Caseload Reporting'!H99)","v":""},{"$f":"IF('Caseload Reporting'!I99 = \"\",\"\",'Caseload Reporting'!I99)","v":""},{"$f":"IF('Caseload Reporting'!J99 = \"\",\"\",'Caseload Reporting'!J99)","v":""},{"$f":"IF('Caseload Reporting'!K99 = \"\",\"\",'Caseload Reporting'!K99)","v":""},{"$f":"IF('Caseload Reporting'!L99 = \"\",\"\",'Caseload Reporting'!L99)","v":""},{"$f":"IF('Caseload Reporting'!M99 = \"\",\"\",'Caseload Reporting'!M99)","v":""},{"$f":"IF('Caseload Reporting'!N99 = \"\",\"\",'Caseload Reporting'!N99)","v":""},{"$f":"IF('Caseload Reporting'!P99 = \"\",\"\",'Caseload Reporting'!P99)","v":""},{"$f":"IF('Caseload Reporting'!O99 = \"\",\"\",'Caseload Reporting'!O99)","v":""},{"$f":"IF('Caseload Reporting'!Q99 = \"\",\"\",'Caseload Reporting'!Q99)","v":""},{"$f":"IF('Caseload Reporting'!R99 = \"\",\"\",'Caseload Reporting'!R99)","v":""},{"$f":"IF('Caseload Reporting'!E99 = \"\",\"\",'Caseload Reporting'!E99)","v":""},{"$f":"IF('Caseload Reporting'!S99 = \"\",\"\",'Caseload Reporting'!S99)","v":""}]
[{"$f":"IF('Caseload Reporting'!A100 = \"\",\"\",'Caseload Reporting'!A100)","v":""},{"$f":"IF('Caseload Reporting'!B100 = \"\",\"\",'Caseload Reporting'!B100)","v":""},{"$f":"IF('Caseload Reporting'!C100 = \"\",\"\",'Caseload Reporting'!C100)","v":""},{"$f":"IF('Caseload Reporting'!D100 = \"\",\"\",'Caseload Reporting'!D100)","v":""},{"$f":"IF('Caseload Reporting'!G100 = \"\",\"\",'Caseload Reporting'!G100)","v":""},{"$f":"IF('Caseload Reporting'!H100 = \"\",\"\",'Caseload Reporting'!H100)","v":""},{"$f":"IF('Caseload Reporting'!I100 = \"\",\"\",'Caseload Reporting'!I100)","v":""},{"$f":"IF('Caseload Reporting'!J100 = \"\",\"\",'Caseload Reporting'!J100)","v":""},{"$f":"IF('Caseload Reporting'!K100 = \"\",\"\",'Caseload Reporting'!K100)","v":""},{"$f":"IF('Caseload Reporting'!L100 = \"\",\"\",'Caseload Reporting'!L100)","v":""},{"$f":"IF('Caseload Reporting'!M100 = \"\",\"\",'Caseload Reporting'!M100)","v":""},{"$f":"IF('Caseload Reporting'!N100 = \"\",\"\",'Caseload Reporting'!N100)","v":""},{"$f":"IF('Caseload Reporting'!P100 = \"\",\"\",'Caseload Reporting'!P100)","v":""},{"$f":"IF('Caseload Reporting'!O100 = \"\",\"\",'Caseload Reporting'!O100)","v":""},{"$f":"IF('Caseload Reporting'!Q100 = \"\",\"\",'Caseload Reporting'!Q100)","v":""},{"$f":"IF('Caseload Reporting'!R100 = \"\",\"\",'Caseload Reporting'!R100)","v":""},{"$f":"IF('Caseload Reporting'!E100 = \"\",\"\",'Caseload Reporting'!E100)","v":""},{"$f":"IF('Caseload Reporting'!S100 = \"\",\"\",'Caseload Reporting'!S100)","v":""}]
[{"$f":"IF('Caseload Reporting'!A101 = \"\",\"\",'Caseload Reporting'!A101)","v":""},{"$f":"IF('Caseload Reporting'!B101 = \"\",\"\",'Caseload Reporting'!B101)","v":""},{"$f":"IF('Caseload Reporting'!C101 = \"\",\"\",'Caseload Reporting'!C101)","v":""},{"$f":"IF('Caseload Reporting'!D101 = \"\",\"\",'Caseload Reporting'!D101)","v":""},{"$f":"IF('Caseload Reporting'!G101 = \"\",\"\",'Caseload Reporting'!G101)","v":""},{"$f":"IF('Caseload Reporting'!H101 = \"\",\"\",'Caseload Reporting'!H101)","v":""},{"$f":"IF('Caseload Reporting'!I101 = \"\",\"\",'Caseload Reporting'!I101)","v":""},{"$f":"IF('Caseload Reporting'!J101 = \"\",\"\",'Caseload Reporting'!J101)","v":""},{"$f":"IF('Caseload Reporting'!K101 = \"\",\"\",'Caseload Reporting'!K101)","v":""},{"$f":"IF('Caseload Reporting'!L101 = \"\",\"\",'Caseload Reporting'!L101)","v":""},{"$f":"IF('Caseload Reporting'!M101 = \"\",\"\",'Caseload Reporting'!M101)","v":""},{"$f":"IF('Caseload Reporting'!N101 = \"\",\"\",'Caseload Reporting'!N101)","v":""},{"$f":"IF('Caseload Reporting'!P101 = \"\",\"\",'Caseload Reporting'!P101)","v":""},{"$f":"IF('Caseload Reporting'!O101 = \"\",\"\",'Caseload Reporting'!O101)","v":""},{"$f":"IF('Caseload Reporting'!Q101 = \"\",\"\",'Caseload Reporting'!Q101)","v":""},{"$f":"IF('Caseload Reporting'!R101 = \"\",\"\",'Caseload Reporting'!R101)","v":""},{"$f":"IF('Caseload Reporting'!E101 = \"\",\"\",'Caseload Reporting'!E101)","v":""},{"$f":"IF('Caseload Reporting'!S101 = \"\",\"\",'Caseload Reporting'!S101)","v":""}]
[{"$f":"IF('Caseload Reporting'!A102 = \"\",\"\",'Caseload Reporting'!A102)","v":""},{"$f":"IF('Caseload Reporting'!B102 = \"\",\"\",'Caseload Reporting'!B102)","v":""},{"$f":"IF('Caseload Reporting'!C102 = \"\",\"\",'Caseload Reporting'!C102)","v":""},{"$f":"IF('Caseload Reporting'!D102 = \"\",\"\",'Caseload Reporting'!D102)","v":""},{"$f":"IF('Caseload Reporting'!G102 = \"\",\"\",'Caseload Reporting'!G102)","v":""},{"$f":"IF('Caseload Reporting'!H102 = \"\",\"\",'Caseload Reporting'!H102)","v":""},{"$f":"IF('Caseload Reporting'!I102 = \"\",\"\",'Caseload Reporting'!I102)","v":""},{"$f":"IF('Caseload Reporting'!J102 = \"\",\"\",'Caseload Reporting'!J102)","v":""},{"$f":"IF('Caseload Reporting'!K102 = \"\",\"\",'Caseload Reporting'!K102)","v":""},{"$f":"IF('Caseload Reporting'!L102 = \"\",\"\",'Caseload Reporting'!L102)","v":""},{"$f":"IF('Caseload Reporting'!M102 = \"\",\"\",'Caseload Reporting'!M102)","v":""},{"$f":"IF('Caseload Reporting'!N102 = \"\",\"\",'Caseload Reporting'!N102)","v":""},{"$f":"IF('Caseload Reporting'!P102 = \"\",\"\",'Caseload Reporting'!P102)","v":""},{"$f":"IF('Caseload Reporting'!O102 = \"\",\"\",'Caseload Reporting'!O102)","v":""},{"$f":"IF('Caseload Reporting'!Q102 = \"\",\"\",'Caseload Reporting'!Q102)","v":""},{"$f":"IF('Caseload Reporting'!R102 = \"\",\"\",'Caseload Reporting'!R102)","v":""},{"$f":"IF('Caseload Reporting'!E102 = \"\",\"\",'Caseload Reporting'!E102)","v":""},{"$f":"IF('Caseload Reporting'!S102 = \"\",\"\",'Caseload Reporting'!S102)","v":""}]
[{"$f":"IF('Caseload Reporting'!A103 = \"\",\"\",'Caseload Reporting'!A103)","v":""},{"$f":"IF('Caseload Reporting'!B103 = \"\",\"\",'Caseload Reporting'!B103)","v":""},{"$f":"IF('Caseload Reporting'!C103 = \"\",\"\",'Caseload Reporting'!C103)","v":""},{"$f":"IF('Caseload Reporting'!D103 = \"\",\"\",'Caseload Reporting'!D103)","v":""},{"$f":"IF('Caseload Reporting'!G103 = \"\",\"\",'Caseload Reporting'!G103)","v":""},{"$f":"IF('Caseload Reporting'!H103 = \"\",\"\",'Caseload Reporting'!H103)","v":""},{"$f":"IF('Caseload Reporting'!I103 = \"\",\"\",'Caseload Reporting'!I103)","v":""},{"$f":"IF('Caseload Reporting'!J103 = \"\",\"\",'Caseload Reporting'!J103)","v":""},{"$f":"IF('Caseload Reporting'!K103 = \"\",\"\",'Caseload Reporting'!K103)","v":""},{"$f":"IF('Caseload Reporting'!L103 = \"\",\"\",'Caseload Reporting'!L103)","v":""},{"$f":"IF('Caseload Reporting'!M103 = \"\",\"\",'Caseload Reporting'!M103)","v":""},{"$f":"IF('Caseload Reporting'!N103 = \"\",\"\",'Caseload Reporting'!N103)","v":""},{"$f":"IF('Caseload Reporting'!P103 = \"\",\"\",'Caseload Reporting'!P103)","v":""},{"$f":"IF('Caseload Reporting'!O103 = \"\",\"\",'Caseload Reporting'!O103)","v":""},{"$f":"IF('Caseload Reporting'!Q103 = \"\",\"\",'Caseload Reporting'!Q103)","v":""},{"$f":"IF('Caseload Reporting'!R103 = \"\",\"\",'Caseload Reporting'!R103)","v":""},{"$f":"IF('Caseload Reporting'!E103 = \"\",\"\",'Caseload Reporting'!E103)","v":""},{"$f":"IF('Caseload Reporting'!S103 = \"\",\"\",'Caseload Reporting'!S103)","v":""}]
[{"$f":"IF('Caseload Reporting'!A104 = \"\",\"\",'Caseload Reporting'!A104)","v":""},{"$f":"IF('Caseload Reporting'!B104 = \"\",\"\",'Caseload Reporting'!B104)","v":""},{"$f":"IF('Caseload Reporting'!C104 = \"\",\"\",'Caseload Reporting'!C104)","v":""},{"$f":"IF('Caseload Reporting'!D104 = \"\",\"\",'Caseload Reporting'!D104)","v":""},{"$f":"IF('Caseload Reporting'!G104 = \"\",\"\",'Caseload Reporting'!G104)","v":""},{"$f":"IF('Caseload Reporting'!H104 = \"\",\"\",'Caseload Reporting'!H104)","v":""},{"$f":"IF('Caseload Reporting'!I104 = \"\",\"\",'Caseload Reporting'!I104)","v":""},{"$f":"IF('Caseload Reporting'!J104 = \"\",\"\",'Caseload Reporting'!J104)","v":""},{"$f":"IF('Caseload Reporting'!K104 = \"\",\"\",'Caseload Reporting'!K104)","v":""},{"$f":"IF('Caseload Reporting'!L104 = \"\",\"\",'Caseload Reporting'!L104)","v":""},{"$f":"IF('Caseload Reporting'!M104 = \"\",\"\",'Caseload Reporting'!M104)","v":""},{"$f":"IF('Caseload Reporting'!N104 = \"\",\"\",'Caseload Reporting'!N104)","v":""},{"$f":"IF('Caseload Reporting'!P104 = \"\",\"\",'Caseload Reporting'!P104)","v":""},{"$f":"IF('Caseload Reporting'!O104 = \"\",\"\",'Caseload Reporting'!O104)","v":""},{"$f":"IF('Caseload Reporting'!Q104 = \"\",\"\",'Caseload Reporting'!Q104)","v":""},{"$f":"IF('Caseload Reporting'!R104 = \"\",\"\",'Caseload Reporting'!R104)","v":""},{"$f":"IF('Caseload Reporting'!E104 = \"\",\"\",'Caseload Reporting'!E104)","v":""},{"$f":"IF('Caseload Reporting'!S104 = \"\",\"\",'Caseload Reporting'!S104)","v":""}]
[{"$f":"IF('Caseload Reporting'!A105 = \"\",\"\",'Caseload Reporting'!A105)","v":""},{"$f":"IF('Caseload Reporting'!B105 = \"\",\"\",'Caseload Reporting'!B105)","v":""},{"$f":"IF('Caseload Reporting'!C105 = \"\",\"\",'Caseload Reporting'!C105)","v":""},{"$f":"IF('Caseload Reporting'!D105 = \"\",\"\",'Caseload Reporting'!D105)","v":""},{"$f":"IF('Caseload Reporting'!G105 = \"\",\"\",'Caseload Reporting'!G105)","v":""},{"$f":"IF('Caseload Reporting'!H105 = \"\",\"\",'Caseload Reporting'!H105)","v":""},{"$f":"IF('Caseload Reporting'!I105 = \"\",\"\",'Caseload Reporting'!I105)","v":""},{"$f":"IF('Caseload Reporting'!J105 = \"\",\"\",'Caseload Reporting'!J105)","v":""},{"$f":"IF('Caseload Reporting'!K105 = \"\",\"\",'Caseload Reporting'!K105)","v":""},{"$f":"IF('Caseload Reporting'!L105 = \"\",\"\",'Caseload Reporting'!L105)","v":""},{"$f":"IF('Caseload Reporting'!M105 = \"\",\"\",'Caseload Reporting'!M105)","v":""},{"$f":"IF('Caseload Reporting'!N105 = \"\",\"\",'Caseload Reporting'!N105)","v":""},{"$f":"IF('Caseload Reporting'!P105 = \"\",\"\",'Caseload Reporting'!P105)","v":""},{"$f":"IF('Caseload Reporting'!O105 = \"\",\"\",'Caseload Reporting'!O105)","v":""},{"$f":"IF('Caseload Reporting'!Q105 = \"\",\"\",'Caseload Reporting'!Q105)","v":""},{"$f":"IF('Caseload Reporting'!R105 = \"\",\"\",'Caseload Reporting'!R105)","v":""},{"$f":"IF('Caseload Reporting'!E105 = \"\",\"\",'Caseload Reporting'!E105)","v":""},{"$f":"IF('Caseload Reporting'!S105 = \"\",\"\",'Caseload Reporting'!S105)","v":""}]
[{"$f":"IF('Caseload Reporting'!A106 = \"\",\"\",'Caseload Reporting'!A106)","v":""},{"$f":"IF('Caseload Reporting'!B106 = \"\",\"\",'Caseload Reporting'!B106)","v":""},{"$f":"IF('Caseload Reporting'!C106 = \"\",\"\",'Caseload Reporting'!C106)","v":""},{"$f":"IF('Caseload Reporting'!D106 = \"\",\"\",'Caseload Reporting'!D106)","v":""},{"$f":"IF('Caseload Reporting'!G106 = \"\",\"\",'Caseload Reporting'!G106)","v":""},{"$f":"IF('Caseload Reporting'!H106 = \"\",\"\",'Caseload Reporting'!H106)","v":""},{"$f":"IF('Caseload Reporting'!I106 = \"\",\"\",'Caseload Reporting'!I106)","v":""},{"$f":"IF('Caseload Reporting'!J106 = \"\",\"\",'Caseload Reporting'!J106)","v":""},{"$f":"IF('Caseload Reporting'!K106 = \"\",\"\",'Caseload Reporting'!K106)","v":""},{"$f":"IF('Caseload Reporting'!L106 = \"\",\"\",'Caseload Reporting'!L106)","v":""},{"$f":"IF('Caseload Reporting'!M106 = \"\",\"\",'Caseload Reporting'!M106)","v":""},{"$f":"IF('Caseload Reporting'!N106 = \"\",\"\",'Caseload Reporting'!N106)","v":""},{"$f":"IF('Caseload Reporting'!P106 = \"\",\"\",'Caseload Reporting'!P106)","v":""},{"$f":"IF('Caseload Reporting'!O106 = \"\",\"\",'Caseload Reporting'!O106)","v":""},{"$f":"IF('Caseload Reporting'!Q106 = \"\",\"\",'Caseload Reporting'!Q106)","v":""},{"$f":"IF('Caseload Reporting'!R106 = \"\",\"\",'Caseload Reporting'!R106)","v":""},{"$f":"IF('Caseload Reporting'!E106 = \"\",\"\",'Caseload Reporting'!E106)","v":""},{"$f":"IF('Caseload Reporting'!S106 = \"\",\"\",'Caseload Reporting'!S106)","v":""}]
[{"$f":"IF('Caseload Reporting'!A107 = \"\",\"\",'Caseload Reporting'!A107)","v":""},{"$f":"IF('Caseload Reporting'!B107 = \"\",\"\",'Caseload Reporting'!B107)","v":""},{"$f":"IF('Caseload Reporting'!C107 = \"\",\"\",'Caseload Reporting'!C107)","v":""},{"$f":"IF('Caseload Reporting'!D107 = \"\",\"\",'Caseload Reporting'!D107)","v":""},{"$f":"IF('Caseload Reporting'!G107 = \"\",\"\",'Caseload Reporting'!G107)","v":""},{"$f":"IF('Caseload Reporting'!H107 = \"\",\"\",'Caseload Reporting'!H107)","v":""},{"$f":"IF('Caseload Reporting'!I107 = \"\",\"\",'Caseload Reporting'!I107)","v":""},{"$f":"IF('Caseload Reporting'!J107 = \"\",\"\",'Caseload Reporting'!J107)","v":""},{"$f":"IF('Caseload Reporting'!K107 = \"\",\"\",'Caseload Reporting'!K107)","v":""},{"$f":"IF('Caseload Reporting'!L107 = \"\",\"\",'Caseload Reporting'!L107)","v":""},{"$f":"IF('Caseload Reporting'!M107 = \"\",\"\",'Caseload Reporting'!M107)","v":""},{"$f":"IF('Caseload Reporting'!N107 = \"\",\"\",'Caseload Reporting'!N107)","v":""},{"$f":"IF('Caseload Reporting'!P107 = \"\",\"\",'Caseload Reporting'!P107)","v":""},{"$f":"IF('Caseload Reporting'!O107 = \"\",\"\",'Caseload Reporting'!O107)","v":""},{"$f":"IF('Caseload Reporting'!Q107 = \"\",\"\",'Caseload Reporting'!Q107)","v":""},{"$f":"IF('Caseload Reporting'!R107 = \"\",\"\",'Caseload Reporting'!R107)","v":""},{"$f":"IF('Caseload Reporting'!E107 = \"\",\"\",'Caseload Reporting'!E107)","v":""},{"$f":"IF('Caseload Reporting'!S107 = \"\",\"\",'Caseload Reporting'!S107)","v":""}]
[{"$f":"IF('Caseload Reporting'!A108 = \"\",\"\",'Caseload Reporting'!A108)","v":""},{"$f":"IF('Caseload Reporting'!B108 = \"\",\"\",'Caseload Reporting'!B108)","v":""},{"$f":"IF('Caseload Reporting'!C108 = \"\",\"\",'Caseload Reporting'!C108)","v":""},{"$f":"IF('Caseload Reporting'!D108 = \"\",\"\",'Caseload Reporting'!D108)","v":""},{"$f":"IF('Caseload Reporting'!G108 = \"\",\"\",'Caseload Reporting'!G108)","v":""},{"$f":"IF('Caseload Reporting'!H108 = \"\",\"\",'Caseload Reporting'!H108)","v":""},{"$f":"IF('Caseload Reporting'!I108 = \"\",\"\",'Caseload Reporting'!I108)","v":""},{"$f":"IF('Caseload Reporting'!J108 = \"\",\"\",'Caseload Reporting'!J108)","v":""},{"$f":"IF('Caseload Reporting'!K108 = \"\",\"\",'Caseload Reporting'!K108)","v":""},{"$f":"IF('Caseload Reporting'!L108 = \"\",\"\",'Caseload Reporting'!L108)","v":""},{"$f":"IF('Caseload Reporting'!M108 = \"\",\"\",'Caseload Reporting'!M108)","v":""},{"$f":"IF('Caseload Reporting'!N108 = \"\",\"\",'Caseload Reporting'!N108)","v":""},{"$f":"IF('Caseload Reporting'!P108 = \"\",\"\",'Caseload Reporting'!P108)","v":""},{"$f":"IF('Caseload Reporting'!O108 = \"\",\"\",'Caseload Reporting'!O108)","v":""},{"$f":"IF('Caseload Reporting'!Q108 = \"\",\"\",'Caseload Reporting'!Q108)","v":""},{"$f":"IF('Caseload Reporting'!R108 = \"\",\"\",'Caseload Reporting'!R108)","v":""},{"$f":"IF('Caseload Reporting'!E108 = \"\",\"\",'Caseload Reporting'!E108)","v":""},{"$f":"IF('Caseload Reporting'!S108 = \"\",\"\",'Caseload Reporting'!S108)","v":""}]
[{"$f":"IF('Caseload Reporting'!A109 = \"\",\"\",'Caseload Reporting'!A109)","v":""},{"$f":"IF('Caseload Reporting'!B109 = \"\",\"\",'Caseload Reporting'!B109)","v":""},{"$f":"IF('Caseload Reporting'!C109 = \"\",\"\",'Caseload Reporting'!C109)","v":""},{"$f":"IF('Caseload Reporting'!D109 = \"\",\"\",'Caseload Reporting'!D109)","v":""},{"$f":"IF('Caseload Reporting'!G109 = \"\",\"\",'Caseload Reporting'!G109)","v":""},{"$f":"IF('Caseload Reporting'!H109 = \"\",\"\",'Caseload Reporting'!H109)","v":""},{"$f":"IF('Caseload Reporting'!I109 = \"\",\"\",'Caseload Reporting'!I109)","v":""},{"$f":"IF('Caseload Reporting'!J109 = \"\",\"\",'Caseload Reporting'!J109)","v":""},{"$f":"IF('Caseload Reporting'!K109 = \"\",\"\",'Caseload Reporting'!K109)","v":""},{"$f":"IF('Caseload Reporting'!L109 = \"\",\"\",'Caseload Reporting'!L109)","v":""},{"$f":"IF('Caseload Reporting'!M109 = \"\",\"\",'Caseload Reporting'!M109)","v":""},{"$f":"IF('Caseload Reporting'!N109 = \"\",\"\",'Caseload Reporting'!N109)","v":""},{"$f":"IF('Caseload Reporting'!P109 = \"\",\"\",'Caseload Reporting'!P109)","v":""},{"$f":"IF('Caseload Reporting'!O109 = \"\",\"\",'Caseload Reporting'!O109)","v":""},{"$f":"IF('Caseload Reporting'!Q109 = \"\",\"\",'Caseload Reporting'!Q109)","v":""},{"$f":"IF('Caseload Reporting'!R109 = \"\",\"\",'Caseload Reporting'!R109)","v":""},{"$f":"IF('Caseload Reporting'!E109 = \"\",\"\",'Caseload Reporting'!E109)","v":""},{"$f":"IF('Caseload Reporting'!S109 = \"\",\"\",'Caseload Reporting'!S109)","v":""}]
[{"$f":"IF('Caseload Reporting'!A110 = \"\",\"\",'Caseload Reporting'!A110)","v":""},{"$f":"IF('Caseload Reporting'!B110 = \"\",\"\",'Caseload Reporting'!B110)","v":""},{"$f":"IF('Caseload Reporting'!C110 = \"\",\"\",'Caseload Reporting'!C110)","v":""},{"$f":"IF('Caseload Reporting'!D110 = \"\",\"\",'Caseload Reporting'!D110)","v":""},{"$f":"IF('Caseload Reporting'!G110 = \"\",\"\",'Caseload Reporting'!G110)","v":""},{"$f":"IF('Caseload Reporting'!H110 = \"\",\"\",'Caseload Reporting'!H110)","v":""},{"$f":"IF('Caseload Reporting'!I110 = \"\",\"\",'Caseload Reporting'!I110)","v":""},{"$f":"IF('Caseload Reporting'!J110 = \"\",\"\",'Caseload Reporting'!J110)","v":""},{"$f":"IF('Caseload Reporting'!K110 = \"\",\"\",'Caseload Reporting'!K110)","v":""},{"$f":"IF('Caseload Reporting'!L110 = \"\",\"\",'Caseload Reporting'!L110)","v":""},{"$f":"IF('Caseload Reporting'!M110 = \"\",\"\",'Caseload Reporting'!M110)","v":""},{"$f":"IF('Caseload Reporting'!N110 = \"\",\"\",'Caseload Reporting'!N110)","v":""},{"$f":"IF('Caseload Reporting'!P110 = \"\",\"\",'Caseload Reporting'!P110)","v":""},{"$f":"IF('Caseload Reporting'!O110 = \"\",\"\",'Caseload Reporting'!O110)","v":""},{"$f":"IF('Caseload Reporting'!Q110 = \"\",\"\",'Caseload Reporting'!Q110)","v":""},{"$f":"IF('Caseload Reporting'!R110 = \"\",\"\",'Caseload Reporting'!R110)","v":""},{"$f":"IF('Caseload Reporting'!E110 = \"\",\"\",'Caseload Reporting'!E110)","v":""},{"$f":"IF('Caseload Reporting'!S110 = \"\",\"\",'Caseload Reporting'!S110)","v":""}]
[{"$f":"IF('Caseload Reporting'!A111 = \"\",\"\",'Caseload Reporting'!A111)","v":""},{"$f":"IF('Caseload Reporting'!B111 = \"\",\"\",'Caseload Reporting'!B111)","v":""},{"$f":"IF('Caseload Reporting'!C111 = \"\",\"\",'Caseload Reporting'!C111)","v":""},{"$f":"IF('Caseload Reporting'!D111 = \"\",\"\",'Caseload Reporting'!D111)","v":""},{"$f":"IF('Caseload Reporting'!G111 = \"\",\"\",'Caseload Reporting'!G111)","v":""},{"$f":"IF('Caseload Reporting'!H111 = \"\",\"\",'Caseload Reporting'!H111)","v":""},{"$f":"IF('Caseload Reporting'!I111 = \"\",\"\",'Caseload Reporting'!I111)","v":""},{"$f":"IF('Caseload Reporting'!J111 = \"\",\"\",'Caseload Reporting'!J111)","v":""},{"$f":"IF('Caseload Reporting'!K111 = \"\",\"\",'Caseload Reporting'!K111)","v":""},{"$f":"IF('Caseload Reporting'!L111 = \"\",\"\",'Caseload Reporting'!L111)","v":""},{"$f":"IF('Caseload Reporting'!M111 = \"\",\"\",'Caseload Reporting'!M111)","v":""},{"$f":"IF('Caseload Reporting'!N111 = \"\",\"\",'Caseload Reporting'!N111)","v":""},{"$f":"IF('Caseload Reporting'!P111 = \"\",\"\",'Caseload Reporting'!P111)","v":""},{"$f":"IF('Caseload Reporting'!O111 = \"\",\"\",'Caseload Reporting'!O111)","v":""},{"$f":"IF('Caseload Reporting'!Q111 = \"\",\"\",'Caseload Reporting'!Q111)","v":""},{"$f":"IF('Caseload Reporting'!R111 = \"\",\"\",'Caseload Reporting'!R111)","v":""},{"$f":"IF('Caseload Reporting'!E111 = \"\",\"\",'Caseload Reporting'!E111)","v":""},{"$f":"IF('Caseload Reporting'!S111 = \"\",\"\",'Caseload Reporting'!S111)","v":""}]
[{"$f":"IF('Caseload Reporting'!A112 = \"\",\"\",'Caseload Reporting'!A112)","v":""},{"$f":"IF('Caseload Reporting'!B112 = \"\",\"\",'Caseload Reporting'!B112)","v":""},{"$f":"IF('Caseload Reporting'!C112 = \"\",\"\",'Caseload Reporting'!C112)","v":""},{"$f":"IF('Caseload Reporting'!D112 = \"\",\"\",'Caseload Reporting'!D112)","v":""},{"$f":"IF('Caseload Reporting'!G112 = \"\",\"\",'Caseload Reporting'!G112)","v":""},{"$f":"IF('Caseload Reporting'!H112 = \"\",\"\",'Caseload Reporting'!H112)","v":""},{"$f":"IF('Caseload Reporting'!I112 = \"\",\"\",'Caseload Reporting'!I112)","v":""},{"$f":"IF('Caseload Reporting'!J112 = \"\",\"\",'Caseload Reporting'!J112)","v":""},{"$f":"IF('Caseload Reporting'!K112 = \"\",\"\",'Caseload Reporting'!K112)","v":""},{"$f":"IF('Caseload Reporting'!L112 = \"\",\"\",'Caseload Reporting'!L112)","v":""},{"$f":"IF('Caseload Reporting'!M112 = \"\",\"\",'Caseload Reporting'!M112)","v":""},{"$f":"IF('Caseload Reporting'!N112 = \"\",\"\",'Caseload Reporting'!N112)","v":""},{"$f":"IF('Caseload Reporting'!P112 = \"\",\"\",'Caseload Reporting'!P112)","v":""},{"$f":"IF('Caseload Reporting'!O112 = \"\",\"\",'Caseload Reporting'!O112)","v":""},{"$f":"IF('Caseload Reporting'!Q112 = \"\",\"\",'Caseload Reporting'!Q112)","v":""},{"$f":"IF('Caseload Reporting'!R112 = \"\",\"\",'Caseload Reporting'!R112)","v":""},{"$f":"IF('Caseload Reporting'!E112 = \"\",\"\",'Caseload Reporting'!E112)","v":""},{"$f":"IF('Caseload Reporting'!S112 = \"\",\"\",'Caseload Reporting'!S112)","v":""}]
[{"$f":"IF('Caseload Reporting'!A113 = \"\",\"\",'Caseload Reporting'!A113)","v":""},{"$f":"IF('Caseload Reporting'!B113 = \"\",\"\",'Caseload Reporting'!B113)","v":""},{"$f":"IF('Caseload Reporting'!C113 = \"\",\"\",'Caseload Reporting'!C113)","v":""},{"$f":"IF('Caseload Reporting'!D113 = \"\",\"\",'Caseload Reporting'!D113)","v":""},{"$f":"IF('Caseload Reporting'!G113 = \"\",\"\",'Caseload Reporting'!G113)","v":""},{"$f":"IF('Caseload Reporting'!H113 = \"\",\"\",'Caseload Reporting'!H113)","v":""},{"$f":"IF('Caseload Reporting'!I113 = \"\",\"\",'Caseload Reporting'!I113)","v":""},{"$f":"IF('Caseload Reporting'!J113 = \"\",\"\",'Caseload Reporting'!J113)","v":""},{"$f":"IF('Caseload Reporting'!K113 = \"\",\"\",'Caseload Reporting'!K113)","v":""},{"$f":"IF('Caseload Reporting'!L113 = \"\",\"\",'Caseload Reporting'!L113)","v":""},{"$f":"IF('Caseload Reporting'!M113 = \"\",\"\",'Caseload Reporting'!M113)","v":""},{"$f":"IF('Caseload Reporting'!N113 = \"\",\"\",'Caseload Reporting'!N113)","v":""},{"$f":"IF('Caseload Reporting'!P113 = \"\",\"\",'Caseload Reporting'!P113)","v":""},{"$f":"IF('Caseload Reporting'!O113 = \"\",\"\",'Caseload Reporting'!O113)","v":""},{"$f":"IF('Caseload Reporting'!Q113 = \"\",\"\",'Caseload Reporting'!Q113)","v":""},{"$f":"IF('Caseload Reporting'!R113 = \"\",\"\",'Caseload Reporting'!R113)","v":""},{"$f":"IF('Caseload Reporting'!E113 = \"\",\"\",'Caseload Reporting'!E113)","v":""},{"$f":"IF('Caseload Reporting'!S113 = \"\",\"\",'Caseload Reporting'!S113)","v":""}]
[{"$f":"IF('Caseload Reporting'!A114 = \"\",\"\",'Caseload Reporting'!A114)","v":""},{"$f":"IF('Caseload Reporting'!B114 = \"\",\"\",'Caseload Reporting'!B114)","v":""},{"$f":"IF('Caseload Reporting'!C114 = \"\",\"\",'Caseload Reporting'!C114)","v":""},{"$f":"IF('Caseload Reporting'!D114 = \"\",\"\",'Caseload Reporting'!D114)","v":""},{"$f":"IF('Caseload Reporting'!G114 = \"\",\"\",'Caseload Reporting'!G114)","v":""},{"$f":"IF('Caseload Reporting'!H114 = \"\",\"\",'Caseload Reporting'!H114)","v":""},{"$f":"IF('Caseload Reporting'!I114 = \"\",\"\",'Caseload Reporting'!I114)","v":""},{"$f":"IF('Caseload Reporting'!J114 = \"\",\"\",'Caseload Reporting'!J114)","v":""},{"$f":"IF('Caseload Reporting'!K114 = \"\",\"\",'Caseload Reporting'!K114)","v":""},{"$f":"IF('Caseload Reporting'!L114 = \"\",\"\",'Caseload Reporting'!L114)","v":""},{"$f":"IF('Caseload Reporting'!M114 = \"\",\"\",'Caseload Reporting'!M114)","v":""},{"$f":"IF('Caseload Reporting'!N114 = \"\",\"\",'Caseload Reporting'!N114)","v":""},{"$f":"IF('Caseload Reporting'!P114 = \"\",\"\",'Caseload Reporting'!P114)","v":""},{"$f":"IF('Caseload Reporting'!O114 = \"\",\"\",'Caseload Reporting'!O114)","v":""},{"$f":"IF('Caseload Reporting'!Q114 = \"\",\"\",'Caseload Reporting'!Q114)","v":""},{"$f":"IF('Caseload Reporting'!R114 = \"\",\"\",'Caseload Reporting'!R114)","v":""},{"$f":"IF('Caseload Reporting'!E114 = \"\",\"\",'Caseload Reporting'!E114)","v":""},{"$f":"IF('Caseload Reporting'!S114 = \"\",\"\",'Caseload Reporting'!S114)","v":""}]
[{"$f":"IF('Caseload Reporting'!A115 = \"\",\"\",'Caseload Reporting'!A115)","v":""},{"$f":"IF('Caseload Reporting'!B115 = \"\",\"\",'Caseload Reporting'!B115)","v":""},{"$f":"IF('Caseload Reporting'!C115 = \"\",\"\",'Caseload Reporting'!C115)","v":""},{"$f":"IF('Caseload Reporting'!D115 = \"\",\"\",'Caseload Reporting'!D115)","v":""},{"$f":"IF('Caseload Reporting'!G115 = \"\",\"\",'Caseload Reporting'!G115)","v":""},{"$f":"IF('Caseload Reporting'!H115 = \"\",\"\",'Caseload Reporting'!H115)","v":""},{"$f":"IF('Caseload Reporting'!I115 = \"\",\"\",'Caseload Reporting'!I115)","v":""},{"$f":"IF('Caseload Reporting'!J115 = \"\",\"\",'Caseload Reporting'!J115)","v":""},{"$f":"IF('Caseload Reporting'!K115 = \"\",\"\",'Caseload Reporting'!K115)","v":""},{"$f":"IF('Caseload Reporting'!L115 = \"\",\"\",'Caseload Reporting'!L115)","v":""},{"$f":"IF('Caseload Reporting'!M115 = \"\",\"\",'Caseload Reporting'!M115)","v":""},{"$f":"IF('Caseload Reporting'!N115 = \"\",\"\",'Caseload Reporting'!N115)","v":""},{"$f":"IF('Caseload Reporting'!P115 = \"\",\"\",'Caseload Reporting'!P115)","v":""},{"$f":"IF('Caseload Reporting'!O115 = \"\",\"\",'Caseload Reporting'!O115)","v":""},{"$f":"IF('Caseload Reporting'!Q115 = \"\",\"\",'Caseload Reporting'!Q115)","v":""},{"$f":"IF('Caseload Reporting'!R115 = \"\",\"\",'Caseload Reporting'!R115)","v":""},{"$f":"IF('Caseload Reporting'!E115 = \"\",\"\",'Caseload Reporting'!E115)","v":""},{"$f":"IF('Caseload Reporting'!S115 = \"\",\"\",'Caseload Reporting'!S115)","v":""}]
[{"$f":"IF('Caseload Reporting'!A116 = \"\",\"\",'Caseload Reporting'!A116)","v":""},{"$f":"IF('Caseload Reporting'!B116 = \"\",\"\",'Caseload Reporting'!B116)","v":""},{"$f":"IF('Caseload Reporting'!C116 = \"\",\"\",'Caseload Reporting'!C116)","v":""},{"$f":"IF('Caseload Reporting'!D116 = \"\",\"\",'Caseload Reporting'!D116)","v":""},{"$f":"IF('Caseload Reporting'!G116 = \"\",\"\",'Caseload Reporting'!G116)","v":""},{"$f":"IF('Caseload Reporting'!H116 = \"\",\"\",'Caseload Reporting'!H116)","v":""},{"$f":"IF('Caseload Reporting'!I116 = \"\",\"\",'Caseload Reporting'!I116)","v":""},{"$f":"IF('Caseload Reporting'!J116 = \"\",\"\",'Caseload Reporting'!J116)","v":""},{"$f":"IF('Caseload Reporting'!K116 = \"\",\"\",'Caseload Reporting'!K116)","v":""},{"$f":"IF('Caseload Reporting'!L116 = \"\",\"\",'Caseload Reporting'!L116)","v":""},{"$f":"IF('Caseload Reporting'!M116 = \"\",\"\",'Caseload Reporting'!M116)","v":""},{"$f":"IF('Caseload Reporting'!N116 = \"\",\"\",'Caseload Reporting'!N116)","v":""},{"$f":"IF('Caseload Reporting'!P116 = \"\",\"\",'Caseload Reporting'!P116)","v":""},{"$f":"IF('Caseload Reporting'!O116 = \"\",\"\",'Caseload Reporting'!O116)","v":""},{"$f":"IF('Caseload Reporting'!Q116 = \"\",\"\",'Caseload Reporting'!Q116)","v":""},{"$f":"IF('Caseload Reporting'!R116 = \"\",\"\",'Caseload Reporting'!R116)","v":""},{"$f":"IF('Caseload Reporting'!E116 = \"\",\"\",'Caseload Reporting'!E116)","v":""},{"$f":"IF('Caseload Reporting'!S116 = \"\",\"\",'Caseload Reporting'!S116)","v":""}]
[{"$f":"IF('Caseload Reporting'!A117 = \"\",\"\",'Caseload Reporting'!A117)","v":""},{"$f":"IF('Caseload Reporting'!B117 = \"\",\"\",'Caseload Reporting'!B117)","v":""},{"$f":"IF('Caseload Reporting'!C117 = \"\",\"\",'Caseload Reporting'!C117)","v":""},{"$f":"IF('Caseload Reporting'!D117 = \"\",\"\",'Caseload Reporting'!D117)","v":""},{"$f":"IF('Caseload Reporting'!G117 = \"\",\"\",'Caseload Reporting'!G117)","v":""},{"$f":"IF('Caseload Reporting'!H117 = \"\",\"\",'Caseload Reporting'!H117)","v":""},{"$f":"IF('Caseload Reporting'!I117 = \"\",\"\",'Caseload Reporting'!I117)","v":""},{"$f":"IF('Caseload Reporting'!J117 = \"\",\"\",'Caseload Reporting'!J117)","v":""},{"$f":"IF('Caseload Reporting'!K117 = \"\",\"\",'Caseload Reporting'!K117)","v":""},{"$f":"IF('Caseload Reporting'!L117 = \"\",\"\",'Caseload Reporting'!L117)","v":""},{"$f":"IF('Caseload Reporting'!M117 = \"\",\"\",'Caseload Reporting'!M117)","v":""},{"$f":"IF('Caseload Reporting'!N117 = \"\",\"\",'Caseload Reporting'!N117)","v":""},{"$f":"IF('Caseload Reporting'!P117 = \"\",\"\",'Caseload Reporting'!P117)","v":""},{"$f":"IF('Caseload Reporting'!O117 = \"\",\"\",'Caseload Reporting'!O117)","v":""},{"$f":"IF('Caseload Reporting'!Q117 = \"\",\"\",'Caseload Reporting'!Q117)","v":""},{"$f":"IF('Caseload Reporting'!R117 = \"\",\"\",'Caseload Reporting'!R117)","v":""},{"$f":"IF('Caseload Reporting'!E117 = \"\",\"\",'Caseload Reporting'!E117)","v":""},{"$f":"IF('Caseload Reporting'!S117 = \"\",\"\",'Caseload Reporting'!S117)","v":""}]
[{"$f":"IF('Caseload Reporting'!A118 = \"\",\"\",'Caseload Reporting'!A118)","v":""},{"$f":"IF('Caseload Reporting'!B118 = \"\",\"\",'Caseload Reporting'!B118)","v":""},{"$f":"IF('Caseload Reporting'!C118 = \"\",\"\",'Caseload Reporting'!C118)","v":""},{"$f":"IF('Caseload Reporting'!D118 = \"\",\"\",'Caseload Reporting'!D118)","v":""},{"$f":"IF('Caseload Reporting'!G118 = \"\",\"\",'Caseload Reporting'!G118)","v":""},{"$f":"IF('Caseload Reporting'!H118 = \"\",\"\",'Caseload Reporting'!H118)","v":""},{"$f":"IF('Caseload Reporting'!I118 = \"\",\"\",'Caseload Reporting'!I118)","v":""},{"$f":"IF('Caseload Reporting'!J118 = \"\",\"\",'Caseload Reporting'!J118)","v":""},{"$f":"IF('Caseload Reporting'!K118 = \"\",\"\",'Caseload Reporting'!K118)","v":""},{"$f":"IF('Caseload Reporting'!L118 = \"\",\"\",'Caseload Reporting'!L118)","v":""},{"$f":"IF('Caseload Reporting'!M118 = \"\",\"\",'Caseload Reporting'!M118)","v":""},{"$f":"IF('Caseload Reporting'!N118 = \"\",\"\",'Caseload Reporting'!N118)","v":""},{"$f":"IF('Caseload Reporting'!P118 = \"\",\"\",'Caseload Reporting'!P118)","v":""},{"$f":"IF('Caseload Reporting'!O118 = \"\",\"\",'Caseload Reporting'!O118)","v":""},{"$f":"IF('Caseload Reporting'!Q118 = \"\",\"\",'Caseload Reporting'!Q118)","v":""},{"$f":"IF('Caseload Reporting'!R118 = \"\",\"\",'Caseload Reporting'!R118)","v":""},{"$f":"IF('Caseload Reporting'!E118 = \"\",\"\",'Caseload Reporting'!E118)","v":""},{"$f":"IF('Caseload Reporting'!S118 = \"\",\"\",'Caseload Reporting'!S118)","v":""}]
[{"$f":"IF('Caseload Reporting'!A119 = \"\",\"\",'Caseload Reporting'!A119)","v":""},{"$f":"IF('Caseload Reporting'!B119 = \"\",\"\",'Caseload Reporting'!B119)","v":""},{"$f":"IF('Caseload Reporting'!C119 = \"\",\"\",'Caseload Reporting'!C119)","v":""},{"$f":"IF('Caseload Reporting'!D119 = \"\",\"\",'Caseload Reporting'!D119)","v":""},{"$f":"IF('Caseload Reporting'!G119 = \"\",\"\",'Caseload Reporting'!G119)","v":""},{"$f":"IF('Caseload Reporting'!H119 = \"\",\"\",'Caseload Reporting'!H119)","v":""},{"$f":"IF('Caseload Reporting'!I119 = \"\",\"\",'Caseload Reporting'!I119)","v":""},{"$f":"IF('Caseload Reporting'!J119 = \"\",\"\",'Caseload Reporting'!J119)","v":""},{"$f":"IF('Caseload Reporting'!K119 = \"\",\"\",'Caseload Reporting'!K119)","v":""},{"$f":"IF('Caseload Reporting'!L119 = \"\",\"\",'Caseload Reporting'!L119)","v":""},{"$f":"IF('Caseload Reporting'!M119 = \"\",\"\",'Caseload Reporting'!M119)","v":""},{"$f":"IF('Caseload Reporting'!N119 = \"\",\"\",'Caseload Reporting'!N119)","v":""},{"$f":"IF('Caseload Reporting'!P119 = \"\",\"\",'Caseload Reporting'!P119)","v":""},{"$f":"IF('Caseload Reporting'!O119 = \"\",\"\",'Caseload Reporting'!O119)","v":""},{"$f":"IF('Caseload Reporting'!Q119 = \"\",\"\",'Caseload Reporting'!Q119)","v":""},{"$f":"IF('Caseload Reporting'!R119 = \"\",\"\",'Caseload Reporting'!R119)","v":""},{"$f":"IF('Caseload Reporting'!E119 = \"\",\"\",'Caseload Reporting'!E119)","v":""},{"$f":"IF('Caseload Reporting'!S119 = \"\",\"\",'Caseload Reporting'!S119)","v":""}]
[{"$f":"IF('Caseload Reporting'!A120 = \"\",\"\",'Caseload Reporting'!A120)","v":""},{"$f":"IF('Caseload Reporting'!B120 = \"\",\"\",'Caseload Reporting'!B120)","v":""},{"$f":"IF('Caseload Reporting'!C120 = \"\",\"\",'Caseload Reporting'!C120)","v":""},{"$f":"IF('Caseload Reporting'!D120 = \"\",\"\",'Caseload Reporting'!D120)","v":""},{"$f":"IF('Caseload Reporting'!G120 = \"\",\"\",'Caseload Reporting'!G120)","v":""},{"$f":"IF('Caseload Reporting'!H120 = \"\",\"\",'Caseload Reporting'!H120)","v":""},{"$f":"IF('Caseload Reporting'!I120 = \"\",\"\",'Caseload Reporting'!I120)","v":""},{"$f":"IF('Caseload Reporting'!J120 = \"\",\"\",'Caseload Reporting'!J120)","v":""},{"$f":"IF('Caseload Reporting'!K120 = \"\",\"\",'Caseload Reporting'!K120)","v":""},{"$f":"IF('Caseload Reporting'!L120 = \"\",\"\",'Caseload Reporting'!L120)","v":""},{"$f":"IF('Caseload Reporting'!M120 = \"\",\"\",'Caseload Reporting'!M120)","v":""},{"$f":"IF('Caseload Reporting'!N120 = \"\",\"\",'Caseload Reporting'!N120)","v":""},{"$f":"IF('Caseload Reporting'!P120 = \"\",\"\",'Caseload Reporting'!P120)","v":""},{"$f":"IF('Caseload Reporting'!O120 = \"\",\"\",'Caseload Reporting'!O120)","v":""},{"$f":"IF('Caseload Reporting'!Q120 = \"\",\"\",'Caseload Reporting'!Q120)","v":""},{"$f":"IF('Caseload Reporting'!R120 = \"\",\"\",'Caseload Reporting'!R120)","v":""},{"$f":"IF('Caseload Reporting'!E120 = \"\",\"\",'Caseload Reporting'!E120)","v":""},{"$f":"IF('Caseload Reporting'!S120 = \"\",\"\",'Caseload Reporting'!S120)","v":""}]
[{"$f":"IF('Caseload Reporting'!A121 = \"\",\"\",'Caseload Reporting'!A121)","v":""},{"$f":"IF('Caseload Reporting'!B121 = \"\",\"\",'Caseload Reporting'!B121)","v":""},{"$f":"IF('Caseload Reporting'!C121 = \"\",\"\",'Caseload Reporting'!C121)","v":""},{"$f":"IF('Caseload Reporting'!D121 = \"\",\"\",'Caseload Reporting'!D121)","v":""},{"$f":"IF('Caseload Reporting'!G121 = \"\",\"\",'Caseload Reporting'!G121)","v":""},{"$f":"IF('Caseload Reporting'!H121 = \"\",\"\",'Caseload Reporting'!H121)","v":""},{"$f":"IF('Caseload Reporting'!I121 = \"\",\"\",'Caseload Reporting'!I121)","v":""},{"$f":"IF('Caseload Reporting'!J121 = \"\",\"\",'Caseload Reporting'!J121)","v":""},{"$f":"IF('Caseload Reporting'!K121 = \"\",\"\",'Caseload Reporting'!K121)","v":""},{"$f":"IF('Caseload Reporting'!L121 = \"\",\"\",'Caseload Reporting'!L121)","v":""},{"$f":"IF('Caseload Reporting'!M121 = \"\",\"\",'Caseload Reporting'!M121)","v":""},{"$f":"IF('Caseload Reporting'!N121 = \"\",\"\",'Caseload Reporting'!N121)","v":""},{"$f":"IF('Caseload Reporting'!P121 = \"\",\"\",'Caseload Reporting'!P121)","v":""},{"$f":"IF('Caseload Reporting'!O121 = \"\",\"\",'Caseload Reporting'!O121)","v":""},{"$f":"IF('Caseload Reporting'!Q121 = \"\",\"\",'Caseload Reporting'!Q121)","v":""},{"$f":"IF('Caseload Reporting'!R121 = \"\",\"\",'Caseload Reporting'!R121)","v":""},{"$f":"IF('Caseload Reporting'!E121 = \"\",\"\",'Caseload Reporting'!E121)","v":""},{"$f":"IF('Caseload Reporting'!S121 = \"\",\"\",'Caseload Reporting'!S121)","v":""}]
[{"$f":"IF('Caseload Reporting'!A122 = \"\",\"\",'Caseload Reporting'!A122)","v":""},{"$f":"IF('Caseload Reporting'!B122 = \"\",\"\",'Caseload Reporting'!B122)","v":""},{"$f":"IF('Caseload Reporting'!C122 = \"\",\"\",'Caseload Reporting'!C122)","v":""},{"$f":"IF('Caseload Reporting'!D122 = \"\",\"\",'Caseload Reporting'!D122)","v":""},{"$f":"IF('Caseload Reporting'!G122 = \"\",\"\",'Caseload Reporting'!G122)","v":""},{"$f":"IF('Caseload Reporting'!H122 = \"\",\"\",'Caseload Reporting'!H122)","v":""},{"$f":"IF('Caseload Reporting'!I122 = \"\",\"\",'Caseload Reporting'!I122)","v":""},{"$f":"IF('Caseload Reporting'!J122 = \"\",\"\",'Caseload Reporting'!J122)","v":""},{"$f":"IF('Caseload Reporting'!K122 = \"\",\"\",'Caseload Reporting'!K122)","v":""},{"$f":"IF('Caseload Reporting'!L122 = \"\",\"\",'Caseload Reporting'!L122)","v":""},{"$f":"IF('Caseload Reporting'!M122 = \"\",\"\",'Caseload Reporting'!M122)","v":""},{"$f":"IF('Caseload Reporting'!N122 = \"\",\"\",'Caseload Reporting'!N122)","v":""},{"$f":"IF('Caseload Reporting'!P122 = \"\",\"\",'Caseload Reporting'!P122)","v":""},{"$f":"IF('Caseload Reporting'!O122 = \"\",\"\",'Caseload Reporting'!O122)","v":""},{"$f":"IF('Caseload Reporting'!Q122 = \"\",\"\",'Caseload Reporting'!Q122)","v":""},{"$f":"IF('Caseload Reporting'!R122 = \"\",\"\",'Caseload Reporting'!R122)","v":""},{"$f":"IF('Caseload Reporting'!E122 = \"\",\"\",'Caseload Reporting'!E122)","v":""},{"$f":"IF('Caseload Reporting'!S122 = \"\",\"\",'Caseload Reporting'!S122)","v":""}]
[{"$f":"IF('Caseload Reporting'!A123 = \"\",\"\",'Caseload Reporting'!A123)","v":""},{"$f":"IF('Caseload Reporting'!B123 = \"\",\"\",'Caseload Reporting'!B123)","v":""},{"$f":"IF('Caseload Reporting'!C123 = \"\",\"\",'Caseload Reporting'!C123)","v":""},{"$f":"IF('Caseload Reporting'!D123 = \"\",\"\",'Caseload Reporting'!D123)","v":""},{"$f":"IF('Caseload Reporting'!G123 = \"\",\"\",'Caseload Reporting'!G123)","v":""},{"$f":"IF('Caseload Reporting'!H123 = \"\",\"\",'Caseload Reporting'!H123)","v":""},{"$f":"IF('Caseload Reporting'!I123 = \"\",\"\",'Caseload Reporting'!I123)","v":""},{"$f":"IF('Caseload Reporting'!J123 = \"\",\"\",'Caseload Reporting'!J123)","v":""},{"$f":"IF('Caseload Reporting'!K123 = \"\",\"\",'Caseload Reporting'!K123)","v":""},{"$f":"IF('Caseload Reporting'!L123 = \"\",\"\",'Caseload Reporting'!L123)","v":""},{"$f":"IF('Caseload Reporting'!M123 = \"\",\"\",'Caseload Reporting'!M123)","v":""},{"$f":"IF('Caseload Reporting'!N123 = \"\",\"\",'Caseload Reporting'!N123)","v":""},{"$f":"IF('Caseload Reporting'!P123 = \"\",\"\",'Caseload Reporting'!P123)","v":""},{"$f":"IF('Caseload Reporting'!O123 = \"\",\"\",'Caseload Reporting'!O123)","v":""},{"$f":"IF('Caseload Reporting'!Q123 = \"\",\"\",'Caseload Reporting'!Q123)","v":""},{"$f":"IF('Caseload Reporting'!R123 = \"\",\"\",'Caseload Reporting'!R123)","v":""},{"$f":"IF('Caseload Reporting'!E123 = \"\",\"\",'Caseload Reporting'!E123)","v":""},{"$f":"IF('Caseload Reporting'!S123 = \"\",\"\",'Caseload Reporting'!S123)","v":""}]
[{"$f":"IF('Caseload Reporting'!A124 = \"\",\"\",'Caseload Reporting'!A124)","v":""},{"$f":"IF('Caseload Reporting'!B124 = \"\",\"\",'Caseload Reporting'!B124)","v":""},{"$f":"IF('Caseload Reporting'!C124 = \"\",\"\",'Caseload Reporting'!C124)","v":""},{"$f":"IF('Caseload Reporting'!D124 = \"\",\"\",'Caseload Reporting'!D124)","v":""},{"$f":"IF('Caseload Reporting'!G124 = \"\",\"\",'Caseload Reporting'!G124)","v":""},{"$f":"IF('Caseload Reporting'!H124 = \"\",\"\",'Caseload Reporting'!H124)","v":""},{"$f":"IF('Caseload Reporting'!I124 = \"\",\"\",'Caseload Reporting'!I124)","v":""},{"$f":"IF('Caseload Reporting'!J124 = \"\",\"\",'Caseload Reporting'!J124)","v":""},{"$f":"IF('Caseload Reporting'!K124 = \"\",\"\",'Caseload Reporting'!K124)","v":""},{"$f":"IF('Caseload Reporting'!L124 = \"\",\"\",'Caseload Reporting'!L124)","v":""},{"$f":"IF('Caseload Reporting'!M124 = \"\",\"\",'Caseload Reporting'!M124)","v":""},{"$f":"IF('Caseload Reporting'!N124 = \"\",\"\",'Caseload Reporting'!N124)","v":""},{"$f":"IF('Caseload Reporting'!P124 = \"\",\"\",'Caseload Reporting'!P124)","v":""},{"$f":"IF('Caseload Reporting'!O124 = \"\",\"\",'Caseload Reporting'!O124)","v":""},{"$f":"IF('Caseload Reporting'!Q124 = \"\",\"\",'Caseload Reporting'!Q124)","v":""},{"$f":"IF('Caseload Reporting'!R124 = \"\",\"\",'Caseload Reporting'!R124)","v":""},{"$f":"IF('Caseload Reporting'!E124 = \"\",\"\",'Caseload Reporting'!E124)","v":""},{"$f":"IF('Caseload Reporting'!S124 = \"\",\"\",'Caseload Reporting'!S124)","v":""}]
[{"$f":"IF('Caseload Reporting'!A125 = \"\",\"\",'Caseload Reporting'!A125)","v":""},{"$f":"IF('Caseload Reporting'!B125 = \"\",\"\",'Caseload Reporting'!B125)","v":""},{"$f":"IF('Caseload Reporting'!C125 = \"\",\"\",'Caseload Reporting'!C125)","v":""},{"$f":"IF('Caseload Reporting'!D125 = \"\",\"\",'Caseload Reporting'!D125)","v":""},{"$f":"IF('Caseload Reporting'!G125 = \"\",\"\",'Caseload Reporting'!G125)","v":""},{"$f":"IF('Caseload Reporting'!H125 = \"\",\"\",'Caseload Reporting'!H125)","v":""},{"$f":"IF('Caseload Reporting'!I125 = \"\",\"\",'Caseload Reporting'!I125)","v":""},{"$f":"IF('Caseload Reporting'!J125 = \"\",\"\",'Caseload Reporting'!J125)","v":""},{"$f":"IF('Caseload Reporting'!K125 = \"\",\"\",'Caseload Reporting'!K125)","v":""},{"$f":"IF('Caseload Reporting'!L125 = \"\",\"\",'Caseload Reporting'!L125)","v":""},{"$f":"IF('Caseload Reporting'!M125 = \"\",\"\",'Caseload Reporting'!M125)","v":""},{"$f":"IF('Caseload Reporting'!N125 = \"\",\"\",'Caseload Reporting'!N125)","v":""},{"$f":"IF('Caseload Reporting'!P125 = \"\",\"\",'Caseload Reporting'!P125)","v":""},{"$f":"IF('Caseload Reporting'!O125 = \"\",\"\",'Caseload Reporting'!O125)","v":""},{"$f":"IF('Caseload Reporting'!Q125 = \"\",\"\",'Caseload Reporting'!Q125)","v":""},{"$f":"IF('Caseload Reporting'!R125 = \"\",\"\",'Caseload Reporting'!R125)","v":""},{"$f":"IF('Caseload Reporting'!E125 = \"\",\"\",'Caseload Reporting'!E125)","v":""},{"$f":"IF('Caseload Reporting'!S125 = \"\",\"\",'Caseload Reporting'!S125)","v":""}]
[{"$f":"IF('Caseload Reporting'!A126 = \"\",\"\",'Caseload Reporting'!A126)","v":""},{"$f":"IF('Caseload Reporting'!B126 = \"\",\"\",'Caseload Reporting'!B126)","v":""},{"$f":"IF('Caseload Reporting'!C126 = \"\",\"\",'Caseload Reporting'!C126)","v":""},{"$f":"IF('Caseload Reporting'!D126 = \"\",\"\",'Caseload Reporting'!D126)","v":""},{"$f":"IF('Caseload Reporting'!G126 = \"\",\"\",'Caseload Reporting'!G126)","v":""},{"$f":"IF('Caseload Reporting'!H126 = \"\",\"\",'Caseload Reporting'!H126)","v":""},{"$f":"IF('Caseload Reporting'!I126 = \"\",\"\",'Caseload Reporting'!I126)","v":""},{"$f":"IF('Caseload Reporting'!J126 = \"\",\"\",'Caseload Reporting'!J126)","v":""},{"$f":"IF('Caseload Reporting'!K126 = \"\",\"\",'Caseload Reporting'!K126)","v":""},{"$f":"IF('Caseload Reporting'!L126 = \"\",\"\",'Caseload Reporting'!L126)","v":""},{"$f":"IF('Caseload Reporting'!M126 = \"\",\"\",'Caseload Reporting'!M126)","v":""},{"$f":"IF('Caseload Reporting'!N126 = \"\",\"\",'Caseload Reporting'!N126)","v":""},{"$f":"IF('Caseload Reporting'!P126 = \"\",\"\",'Caseload Reporting'!P126)","v":""},{"$f":"IF('Caseload Reporting'!O126 = \"\",\"\",'Caseload Reporting'!O126)","v":""},{"$f":"IF('Caseload Reporting'!Q126 = \"\",\"\",'Caseload Reporting'!Q126)","v":""},{"$f":"IF('Caseload Reporting'!R126 = \"\",\"\",'Caseload Reporting'!R126)","v":""},{"$f":"IF('Caseload Reporting'!E126 = \"\",\"\",'Caseload Reporting'!E126)","v":""},{"$f":"IF('Caseload Reporting'!S126 = \"\",\"\",'Caseload Reporting'!S126)","v":""}]
[{"$f":"IF('Caseload Reporting'!A127 = \"\",\"\",'Caseload Reporting'!A127)","v":""},{"$f":"IF('Caseload Reporting'!B127 = \"\",\"\",'Caseload Reporting'!B127)","v":""},{"$f":"IF('Caseload Reporting'!C127 = \"\",\"\",'Caseload Reporting'!C127)","v":""},{"$f":"IF('Caseload Reporting'!D127 = \"\",\"\",'Caseload Reporting'!D127)","v":""},{"$f":"IF('Caseload Reporting'!G127 = \"\",\"\",'Caseload Reporting'!G127)","v":""},{"$f":"IF('Caseload Reporting'!H127 = \"\",\"\",'Caseload Reporting'!H127)","v":""},{"$f":"IF('Caseload Reporting'!I127 = \"\",\"\",'Caseload Reporting'!I127)","v":""},{"$f":"IF('Caseload Reporting'!J127 = \"\",\"\",'Caseload Reporting'!J127)","v":""},{"$f":"IF('Caseload Reporting'!K127 = \"\",\"\",'Caseload Reporting'!K127)","v":""},{"$f":"IF('Caseload Reporting'!L127 = \"\",\"\",'Caseload Reporting'!L127)","v":""},{"$f":"IF('Caseload Reporting'!M127 = \"\",\"\",'Caseload Reporting'!M127)","v":""},{"$f":"IF('Caseload Reporting'!N127 = \"\",\"\",'Caseload Reporting'!N127)","v":""},{"$f":"IF('Caseload Reporting'!P127 = \"\",\"\",'Caseload Reporting'!P127)","v":""},{"$f":"IF('Caseload Reporting'!O127 = \"\",\"\",'Caseload Reporting'!O127)","v":""},{"$f":"IF('Caseload Reporting'!Q127 = \"\",\"\",'Caseload Reporting'!Q127)","v":""},{"$f":"IF('Caseload Reporting'!R127 = \"\",\"\",'Caseload Reporting'!R127)","v":""},{"$f":"IF('Caseload Reporting'!E127 = \"\",\"\",'Caseload Reporting'!E127)","v":""},{"$f":"IF('Caseload Reporting'!S127 = \"\",\"\",'Caseload Reporting'!S127)","v":""}]
[{"$f":"IF('Caseload Reporting'!A128 = \"\",\"\",'Caseload Reporting'!A128)","v":""},{"$f":"IF('Caseload Reporting'!B128 = \"\",\"\",'Caseload Reporting'!B128)","v":""},{"$f":"IF('Caseload Reporting'!C128 = \"\",\"\",'Caseload Reporting'!C128)","v":""},{"$f":"IF('Caseload Reporting'!D128 = \"\",\"\",'Caseload Reporting'!D128)","v":""},{"$f":"IF('Caseload Reporting'!G128 = \"\",\"\",'Caseload Reporting'!G128)","v":""},{"$f":"IF('Caseload Reporting'!H128 = \"\",\"\",'Caseload Reporting'!H128)","v":""},{"$f":"IF('Caseload Reporting'!I128 = \"\",\"\",'Caseload Reporting'!I128)","v":""},{"$f":"IF('Caseload Reporting'!J128 = \"\",\"\",'Caseload Reporting'!J128)","v":""},{"$f":"IF('Caseload Reporting'!K128 = \"\",\"\",'Caseload Reporting'!K128)","v":""},{"$f":"IF('Caseload Reporting'!L128 = \"\",\"\",'Caseload Reporting'!L128)","v":""},{"$f":"IF('Caseload Reporting'!M128 = \"\",\"\",'Caseload Reporting'!M128)","v":""},{"$f":"IF('Caseload Reporting'!N128 = \"\",\"\",'Caseload Reporting'!N128)","v":""},{"$f":"IF('Caseload Reporting'!P128 = \"\",\"\",'Caseload Reporting'!P128)","v":""},{"$f":"IF('Caseload Reporting'!O128 = \"\",\"\",'Caseload Reporting'!O128)","v":""},{"$f":"IF('Caseload Reporting'!Q128 = \"\",\"\",'Caseload Reporting'!Q128)","v":""},{"$f":"IF('Caseload Reporting'!R128 = \"\",\"\",'Caseload Reporting'!R128)","v":""},{"$f":"IF('Caseload Reporting'!E128 = \"\",\"\",'Caseload Reporting'!E128)","v":""},{"$f":"IF('Caseload Reporting'!S128 = \"\",\"\",'Caseload Reporting'!S128)","v":""}]
[{"$f":"IF('Caseload Reporting'!A129 = \"\",\"\",'Caseload Reporting'!A129)","v":""},{"$f":"IF('Caseload Reporting'!B129 = \"\",\"\",'Caseload Reporting'!B129)","v":""},{"$f":"IF('Caseload Reporting'!C129 = \"\",\"\",'Caseload Reporting'!C129)","v":""},{"$f":"IF('Caseload Reporting'!D129 = \"\",\"\",'Caseload Reporting'!D129)","v":""},{"$f":"IF('Caseload Reporting'!G129 = \"\",\"\",'Caseload Reporting'!G129)","v":""},{"$f":"IF('Caseload Reporting'!H129 = \"\",\"\",'Caseload Reporting'!H129)","v":""},{"$f":"IF('Caseload Reporting'!I129 = \"\",\"\",'Caseload Reporting'!I129)","v":""},{"$f":"IF('Caseload Reporting'!J129 = \"\",\"\",'Caseload Reporting'!J129)","v":""},{"$f":"IF('Caseload Reporting'!K129 = \"\",\"\",'Caseload Reporting'!K129)","v":""},{"$f":"IF('Caseload Reporting'!L129 = \"\",\"\",'Caseload Reporting'!L129)","v":""},{"$f":"IF('Caseload Reporting'!M129 = \"\",\"\",'Caseload Reporting'!M129)","v":""},{"$f":"IF('Caseload Reporting'!N129 = \"\",\"\",'Caseload Reporting'!N129)","v":""},{"$f":"IF('Caseload Reporting'!P129 = \"\",\"\",'Caseload Reporting'!P129)","v":""},{"$f":"IF('Caseload Reporting'!O129 = \"\",\"\",'Caseload Reporting'!O129)","v":""},{"$f":"IF('Caseload Reporting'!Q129 = \"\",\"\",'Caseload Reporting'!Q129)","v":""},{"$f":"IF('Caseload Reporting'!R129 = \"\",\"\",'Caseload Reporting'!R129)","v":""},{"$f":"IF('Caseload Reporting'!E129 = \"\",\"\",'Caseload Reporting'!E129)","v":""},{"$f":"IF('Caseload Reporting'!S129 = \"\",\"\",'Caseload Reporting'!S129)","v":""}]
[{"$f":"IF('Caseload Reporting'!A130 = \"\",\"\",'Caseload Reporting'!A130)","v":""},{"$f":"IF('Caseload Reporting'!B130 = \"\",\"\",'Caseload Reporting'!B130)","v":""},{"$f":"IF('Caseload Reporting'!C130 = \"\",\"\",'Caseload Reporting'!C130)","v":""},{"$f":"IF('Caseload Reporting'!D130 = \"\",\"\",'Caseload Reporting'!D130)","v":""},{"$f":"IF('Caseload Reporting'!G130 = \"\",\"\",'Caseload Reporting'!G130)","v":""},{"$f":"IF('Caseload Reporting'!H130 = \"\",\"\",'Caseload Reporting'!H130)","v":""},{"$f":"IF('Caseload Reporting'!I130 = \"\",\"\",'Caseload Reporting'!I130)","v":""},{"$f":"IF('Caseload Reporting'!J130 = \"\",\"\",'Caseload Reporting'!J130)","v":""},{"$f":"IF('Caseload Reporting'!K130 = \"\",\"\",'Caseload Reporting'!K130)","v":""},{"$f":"IF('Caseload Reporting'!L130 = \"\",\"\",'Caseload Reporting'!L130)","v":""},{"$f":"IF('Caseload Reporting'!M130 = \"\",\"\",'Caseload Reporting'!M130)","v":""},{"$f":"IF('Caseload Reporting'!N130 = \"\",\"\",'Caseload Reporting'!N130)","v":""},{"$f":"IF('Caseload Reporting'!P130 = \"\",\"\",'Caseload Reporting'!P130)","v":""},{"$f":"IF('Caseload Reporting'!O130 = \"\",\"\",'Caseload Reporting'!O130)","v":""},{"$f":"IF('Caseload Reporting'!Q130 = \"\",\"\",'Caseload Reporting'!Q130)","v":""},{"$f":"IF('Caseload Reporting'!R130 = \"\",\"\",'Caseload Reporting'!R130)","v":""},{"$f":"IF('Caseload Reporting'!E130 = \"\",\"\",'Caseload Reporting'!E130)","v":""},{"$f":"IF('Caseload Reporting'!S130 = \"\",\"\",'Caseload Reporting'!S130)","v":""}]
[{"$f":"IF('Caseload Reporting'!A131 = \"\",\"\",'Caseload Reporting'!A131)","v":""},{"$f":"IF('Caseload Reporting'!B131 = \"\",\"\",'Caseload Reporting'!B131)","v":""},{"$f":"IF('Caseload Reporting'!C131 = \"\",\"\",'Caseload Reporting'!C131)","v":""},{"$f":"IF('Caseload Reporting'!D131 = \"\",\"\",'Caseload Reporting'!D131)","v":""},{"$f":"IF('Caseload Reporting'!G131 = \"\",\"\",'Caseload Reporting'!G131)","v":""},{"$f":"IF('Caseload Reporting'!H131 = \"\",\"\",'Caseload Reporting'!H131)","v":""},{"$f":"IF('Caseload Reporting'!I131 = \"\",\"\",'Caseload Reporting'!I131)","v":""},{"$f":"IF('Caseload Reporting'!J131 = \"\",\"\",'Caseload Reporting'!J131)","v":""},{"$f":"IF('Caseload Reporting'!K131 = \"\",\"\",'Caseload Reporting'!K131)","v":""},{"$f":"IF('Caseload Reporting'!L131 = \"\",\"\",'Caseload Reporting'!L131)","v":""},{"$f":"IF('Caseload Reporting'!M131 = \"\",\"\",'Caseload Reporting'!M131)","v":""},{"$f":"IF('Caseload Reporting'!N131 = \"\",\"\",'Caseload Reporting'!N131)","v":""},{"$f":"IF('Caseload Reporting'!P131 = \"\",\"\",'Caseload Reporting'!P131)","v":""},{"$f":"IF('Caseload Reporting'!O131 = \"\",\"\",'Caseload Reporting'!O131)","v":""},{"$f":"IF('Caseload Reporting'!Q131 = \"\",\"\",'Caseload Reporting'!Q131)","v":""},{"$f":"IF('Caseload Reporting'!R131 = \"\",\"\",'Caseload Reporting'!R131)","v":""},{"$f":"IF('Caseload Reporting'!E131 = \"\",\"\",'Caseload Reporting'!E131)","v":""},{"$f":"IF('Caseload Reporting'!S131 = \"\",\"\",'Caseload Reporting'!S131)","v":""}]
[{"$f":"IF('Caseload Reporting'!A132 = \"\",\"\",'Caseload Reporting'!A132)","v":""},{"$f":"IF('Caseload Reporting'!B132 = \"\",\"\",'Caseload Reporting'!B132)","v":""},{"$f":"IF('Caseload Reporting'!C132 = \"\",\"\",'Caseload Reporting'!C132)","v":""},{"$f":"IF('Caseload Reporting'!D132 = \"\",\"\",'Caseload Reporting'!D132)","v":""},{"$f":"IF('Caseload Reporting'!G132 = \"\",\"\",'Caseload Reporting'!G132)","v":""},{"$f":"IF('Caseload Reporting'!H132 = \"\",\"\",'Caseload Reporting'!H132)","v":""},{"$f":"IF('Caseload Reporting'!I132 = \"\",\"\",'Caseload Reporting'!I132)","v":""},{"$f":"IF('Caseload Reporting'!J132 = \"\",\"\",'Caseload Reporting'!J132)","v":""},{"$f":"IF('Caseload Reporting'!K132 = \"\",\"\",'Caseload Reporting'!K132)","v":""},{"$f":"IF('Caseload Reporting'!L132 = \"\",\"\",'Caseload Reporting'!L132)","v":""},{"$f":"IF('Caseload Reporting'!M132 = \"\",\"\",'Caseload Reporting'!M132)","v":""},{"$f":"IF('Caseload Reporting'!N132 = \"\",\"\",'Caseload Reporting'!N132)","v":""},{"$f":"IF('Caseload Reporting'!P132 = \"\",\"\",'Caseload Reporting'!P132)","v":""},{"$f":"IF('Caseload Reporting'!O132 = \"\",\"\",'Caseload Reporting'!O132)","v":""},{"$f":"IF('Caseload Reporting'!Q132 = \"\",\"\",'Caseload Reporting'!Q132)","v":""},{"$f":"IF('Caseload Reporting'!R132 = \"\",\"\",'Caseload Reporting'!R132)","v":""},{"$f":"IF('Caseload Reporting'!E132 = \"\",\"\",'Caseload Reporting'!E132)","v":""},{"$f":"IF('Caseload Reporting'!S132 = \"\",\"\",'Caseload Reporting'!S132)","v":""}]
[{"$f":"IF('Caseload Reporting'!A133 = \"\",\"\",'Caseload Reporting'!A133)","v":""},{"$f":"IF('Caseload Reporting'!B133 = \"\",\"\",'Caseload Reporting'!B133)","v":""},{"$f":"IF('Caseload Reporting'!C133 = \"\",\"\",'Caseload Reporting'!C133)","v":""},{"$f":"IF('Caseload Reporting'!D133 = \"\",\"\",'Caseload Reporting'!D133)","v":""},{"$f":"IF('Caseload Reporting'!G133 = \"\",\"\",'Caseload Reporting'!G133)","v":""},{"$f":"IF('Caseload Reporting'!H133 = \"\",\"\",'Caseload Reporting'!H133)","v":""},{"$f":"IF('Caseload Reporting'!I133 = \"\",\"\",'Caseload Reporting'!I133)","v":""},{"$f":"IF('Caseload Reporting'!J133 = \"\",\"\",'Caseload Reporting'!J133)","v":""},{"$f":"IF('Caseload Reporting'!K133 = \"\",\"\",'Caseload Reporting'!K133)","v":""},{"$f":"IF('Caseload Reporting'!L133 = \"\",\"\",'Caseload Reporting'!L133)","v":""},{"$f":"IF('Caseload Reporting'!M133 = \"\",\"\",'Caseload Reporting'!M133)","v":""},{"$f":"IF('Caseload Reporting'!N133 = \"\",\"\",'Caseload Reporting'!N133)","v":""},{"$f":"IF('Caseload Reporting'!P133 = \"\",\"\",'Caseload Reporting'!P133)","v":""},{"$f":"IF('Caseload Reporting'!O133 = \"\",\"\",'Caseload Reporting'!O133)","v":""},{"$f":"IF('Caseload Reporting'!Q133 = \"\",\"\",'Caseload Reporting'!Q133)","v":""},{"$f":"IF('Caseload Reporting'!R133 = \"\",\"\",'Caseload Reporting'!R133)","v":""},{"$f":"IF('Caseload Reporting'!E133 = \"\",\"\",'Caseload Reporting'!E133)","v":""},{"$f":"IF('Caseload Reporting'!S133 = \"\",\"\",'Caseload Reporting'!S133)","v":""}]
[{"$f":"IF('Caseload Reporting'!A134 = \"\",\"\",'Caseload Reporting'!A134)","v":""},{"$f":"IF('Caseload Reporting'!B134 = \"\",\"\",'Caseload Reporting'!B134)","v":""},{"$f":"IF('Caseload Reporting'!C134 = \"\",\"\",'Caseload Reporting'!C134)","v":""},{"$f":"IF('Caseload Reporting'!D134 = \"\",\"\",'Caseload Reporting'!D134)","v":""},{"$f":"IF('Caseload Reporting'!G134 = \"\",\"\",'Caseload Reporting'!G134)","v":""},{"$f":"IF('Caseload Reporting'!H134 = \"\",\"\",'Caseload Reporting'!H134)","v":""},{"$f":"IF('Caseload Reporting'!I134 = \"\",\"\",'Caseload Reporting'!I134)","v":""},{"$f":"IF('Caseload Reporting'!J134 = \"\",\"\",'Caseload Reporting'!J134)","v":""},{"$f":"IF('Caseload Reporting'!K134 = \"\",\"\",'Caseload Reporting'!K134)","v":""},{"$f":"IF('Caseload Reporting'!L134 = \"\",\"\",'Caseload Reporting'!L134)","v":""},{"$f":"IF('Caseload Reporting'!M134 = \"\",\"\",'Caseload Reporting'!M134)","v":""},{"$f":"IF('Caseload Reporting'!N134 = \"\",\"\",'Caseload Reporting'!N134)","v":""},{"$f":"IF('Caseload Reporting'!P134 = \"\",\"\",'Caseload Reporting'!P134)","v":""},{"$f":"IF('Caseload Reporting'!O134 = \"\",\"\",'Caseload Reporting'!O134)","v":""},{"$f":"IF('Caseload Reporting'!Q134 = \"\",\"\",'Caseload Reporting'!Q134)","v":""},{"$f":"IF('Caseload Reporting'!R134 = \"\",\"\",'Caseload Reporting'!R134)","v":""},{"$f":"IF('Caseload Reporting'!E134 = \"\",\"\",'Caseload Reporting'!E134)","v":""},{"$f":"IF('Caseload Reporting'!S134 = \"\",\"\",'Caseload Reporting'!S134)","v":""}]
[{"$f":"IF('Caseload Reporting'!A135 = \"\",\"\",'Caseload Reporting'!A135)","v":""},{"$f":"IF('Caseload Reporting'!B135 = \"\",\"\",'Caseload Reporting'!B135)","v":""},{"$f":"IF('Caseload Reporting'!C135 = \"\",\"\",'Caseload Reporting'!C135)","v":""},{"$f":"IF('Caseload Reporting'!D135 = \"\",\"\",'Caseload Reporting'!D135)","v":""},{"$f":"IF('Caseload Reporting'!G135 = \"\",\"\",'Caseload Reporting'!G135)","v":""},{"$f":"IF('Caseload Reporting'!H135 = \"\",\"\",'Caseload Reporting'!H135)","v":""},{"$f":"IF('Caseload Reporting'!I135 = \"\",\"\",'Caseload Reporting'!I135)","v":""},{"$f":"IF('Caseload Reporting'!J135 = \"\",\"\",'Caseload Reporting'!J135)","v":""},{"$f":"IF('Caseload Reporting'!K135 = \"\",\"\",'Caseload Reporting'!K135)","v":""},{"$f":"IF('Caseload Reporting'!L135 = \"\",\"\",'Caseload Reporting'!L135)","v":""},{"$f":"IF('Caseload Reporting'!M135 = \"\",\"\",'Caseload Reporting'!M135)","v":""},{"$f":"IF('Caseload Reporting'!N135 = \"\",\"\",'Caseload Reporting'!N135)","v":""},{"$f":"IF('Caseload Reporting'!P135 = \"\",\"\",'Caseload Reporting'!P135)","v":""},{"$f":"IF('Caseload Reporting'!O135 = \"\",\"\",'Caseload Reporting'!O135)","v":""},{"$f":"IF('Caseload Reporting'!Q135 = \"\",\"\",'Caseload Reporting'!Q135)","v":""},{"$f":"IF('Caseload Reporting'!R135 = \"\",\"\",'Caseload Reporting'!R135)","v":""},{"$f":"IF('Caseload Reporting'!E135 = \"\",\"\",'Caseload Reporting'!E135)","v":""},{"$f":"IF('Caseload Reporting'!S135 = \"\",\"\",'Caseload Reporting'!S135)","v":""}]
[{"$f":"IF('Caseload Reporting'!A136 = \"\",\"\",'Caseload Reporting'!A136)","v":""},{"$f":"IF('Caseload Reporting'!B136 = \"\",\"\",'Caseload Reporting'!B136)","v":""},{"$f":"IF('Caseload Reporting'!C136 = \"\",\"\",'Caseload Reporting'!C136)","v":""},{"$f":"IF('Caseload Reporting'!D136 = \"\",\"\",'Caseload Reporting'!D136)","v":""},{"$f":"IF('Caseload Reporting'!G136 = \"\",\"\",'Caseload Reporting'!G136)","v":""},{"$f":"IF('Caseload Reporting'!H136 = \"\",\"\",'Caseload Reporting'!H136)","v":""},{"$f":"IF('Caseload Reporting'!I136 = \"\",\"\",'Caseload Reporting'!I136)","v":""},{"$f":"IF('Caseload Reporting'!J136 = \"\",\"\",'Caseload Reporting'!J136)","v":""},{"$f":"IF('Caseload Reporting'!K136 = \"\",\"\",'Caseload Reporting'!K136)","v":""},{"$f":"IF('Caseload Reporting'!L136 = \"\",\"\",'Caseload Reporting'!L136)","v":""},{"$f":"IF('Caseload Reporting'!M136 = \"\",\"\",'Caseload Reporting'!M136)","v":""},{"$f":"IF('Caseload Reporting'!N136 = \"\",\"\",'Caseload Reporting'!N136)","v":""},{"$f":"IF('Caseload Reporting'!P136 = \"\",\"\",'Caseload Reporting'!P136)","v":""},{"$f":"IF('Caseload Reporting'!O136 = \"\",\"\",'Caseload Reporting'!O136)","v":""},{"$f":"IF('Caseload Reporting'!Q136 = \"\",\"\",'Caseload Reporting'!Q136)","v":""},{"$f":"IF('Caseload Reporting'!R136 = \"\",\"\",'Caseload Reporting'!R136)","v":""},{"$f":"IF('Caseload Reporting'!E136 = \"\",\"\",'Caseload Reporting'!E136)","v":""},{"$f":"IF('Caseload Reporting'!S136 = \"\",\"\",'Caseload Reporting'!S136)","v":""}]
[{"$f":"IF('Caseload Reporting'!A137 = \"\",\"\",'Caseload Reporting'!A137)","v":""},{"$f":"IF('Caseload Reporting'!B137 = \"\",\"\",'Caseload Reporting'!B137)","v":""},{"$f":"IF('Caseload Reporting'!C137 = \"\",\"\",'Caseload Reporting'!C137)","v":""},{"$f":"IF('Caseload Reporting'!D137 = \"\",\"\",'Caseload Reporting'!D137)","v":""},{"$f":"IF('Caseload Reporting'!G137 = \"\",\"\",'Caseload Reporting'!G137)","v":""},{"$f":"IF('Caseload Reporting'!H137 = \"\",\"\",'Caseload Reporting'!H137)","v":""},{"$f":"IF('Caseload Reporting'!I137 = \"\",\"\",'Caseload Reporting'!I137)","v":""},{"$f":"IF('Caseload Reporting'!J137 = \"\",\"\",'Caseload Reporting'!J137)","v":""},{"$f":"IF('Caseload Reporting'!K137 = \"\",\"\",'Caseload Reporting'!K137)","v":""},{"$f":"IF('Caseload Reporting'!L137 = \"\",\"\",'Caseload Reporting'!L137)","v":""},{"$f":"IF('Caseload Reporting'!M137 = \"\",\"\",'Caseload Reporting'!M137)","v":""},{"$f":"IF('Caseload Reporting'!N137 = \"\",\"\",'Caseload Reporting'!N137)","v":""},{"$f":"IF('Caseload Reporting'!P137 = \"\",\"\",'Caseload Reporting'!P137)","v":""},{"$f":"IF('Caseload Reporting'!O137 = \"\",\"\",'Caseload Reporting'!O137)","v":""},{"$f":"IF('Caseload Reporting'!Q137 = \"\",\"\",'Caseload Reporting'!Q137)","v":""},{"$f":"IF('Caseload Reporting'!R137 = \"\",\"\",'Caseload Reporting'!R137)","v":""},{"$f":"IF('Caseload Reporting'!E137 = \"\",\"\",'Caseload Reporting'!E137)","v":""},{"$f":"IF('Caseload Reporting'!S137 = \"\",\"\",'Caseload Reporting'!S137)","v":""}]
[{"$f":"IF('Caseload Reporting'!A138 = \"\",\"\",'Caseload Reporting'!A138)","v":""},{"$f":"IF('Caseload Reporting'!B138 = \"\",\"\",'Caseload Reporting'!B138)","v":""},{"$f":"IF('Caseload Reporting'!C138 = \"\",\"\",'Caseload Reporting'!C138)","v":""},{"$f":"IF('Caseload Reporting'!D138 = \"\",\"\",'Caseload Reporting'!D138)","v":""},{"$f":"IF('Caseload Reporting'!G138 = \"\",\"\",'Caseload Reporting'!G138)","v":""},{"$f":"IF('Caseload Reporting'!H138 = \"\",\"\",'Caseload Reporting'!H138)","v":""},{"$f":"IF('Caseload Reporting'!I138 = \"\",\"\",'Caseload Reporting'!I138)","v":""},{"$f":"IF('Caseload Reporting'!J138 = \"\",\"\",'Caseload Reporting'!J138)","v":""},{"$f":"IF('Caseload Reporting'!K138 = \"\",\"\",'Caseload Reporting'!K138)","v":""},{"$f":"IF('Caseload Reporting'!L138 = \"\",\"\",'Caseload Reporting'!L138)","v":""},{"$f":"IF('Caseload Reporting'!M138 = \"\",\"\",'Caseload Reporting'!M138)","v":""},{"$f":"IF('Caseload Reporting'!N138 = \"\",\"\",'Caseload Reporting'!N138)","v":""},{"$f":"IF('Caseload Reporting'!P138 = \"\",\"\",'Caseload Reporting'!P138)","v":""},{"$f":"IF('Caseload Reporting'!O138 = \"\",\"\",'Caseload Reporting'!O138)","v":""},{"$f":"IF('Caseload Reporting'!Q138 = \"\",\"\",'Caseload Reporting'!Q138)","v":""},{"$f":"IF('Caseload Reporting'!R138 = \"\",\"\",'Caseload Reporting'!R138)","v":""},{"$f":"IF('Caseload Reporting'!E138 = \"\",\"\",'Caseload Reporting'!E138)","v":""},{"$f":"IF('Caseload Reporting'!S138 = \"\",\"\",'Caseload Reporting'!S138)","v":""}]
[{"$f":"IF('Caseload Reporting'!A139 = \"\",\"\",'Caseload Reporting'!A139)","v":""},{"$f":"IF('Caseload Reporting'!B139 = \"\",\"\",'Caseload Reporting'!B139)","v":""},{"$f":"IF('Caseload Reporting'!C139 = \"\",\"\",'Caseload Reporting'!C139)","v":""},{"$f":"IF('Caseload Reporting'!D139 = \"\",\"\",'Caseload Reporting'!D139)","v":""},{"$f":"IF('Caseload Reporting'!G139 = \"\",\"\",'Caseload Reporting'!G139)","v":""},{"$f":"IF('Caseload Reporting'!H139 = \"\",\"\",'Caseload Reporting'!H139)","v":""},{"$f":"IF('Caseload Reporting'!I139 = \"\",\"\",'Caseload Reporting'!I139)","v":""},{"$f":"IF('Caseload Reporting'!J139 = \"\",\"\",'Caseload Reporting'!J139)","v":""},{"$f":"IF('Caseload Reporting'!K139 = \"\",\"\",'Caseload Reporting'!K139)","v":""},{"$f":"IF('Caseload Reporting'!L139 = \"\",\"\",'Caseload Reporting'!L139)","v":""},{"$f":"IF('Caseload Reporting'!M139 = \"\",\"\",'Caseload Reporting'!M139)","v":""},{"$f":"IF('Caseload Reporting'!N139 = \"\",\"\",'Caseload Reporting'!N139)","v":""},{"$f":"IF('Caseload Reporting'!P139 = \"\",\"\",'Caseload Reporting'!P139)","v":""},{"$f":"IF('Caseload Reporting'!O139 = \"\",\"\",'Caseload Reporting'!O139)","v":""},{"$f":"IF('Caseload Reporting'!Q139 = \"\",\"\",'Caseload Reporting'!Q139)","v":""},{"$f":"IF('Caseload Reporting'!R139 = \"\",\"\",'Caseload Reporting'!R139)","v":""},{"$f":"IF('Caseload Reporting'!E139 = \"\",\"\",'Caseload Reporting'!E139)","v":""},{"$f":"IF('Caseload Reporting'!S139 = \"\",\"\",'Caseload Reporting'!S139)","v":""}]
[{"$f":"IF('Caseload Reporting'!A140 = \"\",\"\",'Caseload Reporting'!A140)","v":""},{"$f":"IF('Caseload Reporting'!B140 = \"\",\"\",'Caseload Reporting'!B140)","v":""},{"$f":"IF('Caseload Reporting'!C140 = \"\",\"\",'Caseload Reporting'!C140)","v":""},{"$f":"IF('Caseload Reporting'!D140 = \"\",\"\",'Caseload Reporting'!D140)","v":""},{"$f":"IF('Caseload Reporting'!G140 = \"\",\"\",'Caseload Reporting'!G140)","v":""},{"$f":"IF('Caseload Reporting'!H140 = \"\",\"\",'Caseload Reporting'!H140)","v":""},{"$f":"IF('Caseload Reporting'!I140 = \"\",\"\",'Caseload Reporting'!I140)","v":""},{"$f":"IF('Caseload Reporting'!J140 = \"\",\"\",'Caseload Reporting'!J140)","v":""},{"$f":"IF('Caseload Reporting'!K140 = \"\",\"\",'Caseload Reporting'!K140)","v":""},{"$f":"IF('Caseload Reporting'!L140 = \"\",\"\",'Caseload Reporting'!L140)","v":""},{"$f":"IF('Caseload Reporting'!M140 = \"\",\"\",'Caseload Reporting'!M140)","v":""},{"$f":"IF('Caseload Reporting'!N140 = \"\",\"\",'Caseload Reporting'!N140)","v":""},{"$f":"IF('Caseload Reporting'!P140 = \"\",\"\",'Caseload Reporting'!P140)","v":""},{"$f":"IF('Caseload Reporting'!O140 = \"\",\"\",'Caseload Reporting'!O140)","v":""},{"$f":"IF('Caseload Reporting'!Q140 = \"\",\"\",'Caseload Reporting'!Q140)","v":""},{"$f":"IF('Caseload Reporting'!R140 = \"\",\"\",'Caseload Reporting'!R140)","v":""},{"$f":"IF('Caseload Reporting'!E140 = \"\",\"\",'Caseload Reporting'!E140)","v":""},{"$f":"IF('Caseload Reporting'!S140 = \"\",\"\",'Caseload Reporting'!S140)","v":""}]
[{"$f":"IF('Caseload Reporting'!A141 = \"\",\"\",'Caseload Reporting'!A141)","v":""},{"$f":"IF('Caseload Reporting'!B141 = \"\",\"\",'Caseload Reporting'!B141)","v":""},{"$f":"IF('Caseload Reporting'!C141 = \"\",\"\",'Caseload Reporting'!C141)","v":""},{"$f":"IF('Caseload Reporting'!D141 = \"\",\"\",'Caseload Reporting'!D141)","v":""},{"$f":"IF('Caseload Reporting'!G141 = \"\",\"\",'Caseload Reporting'!G141)","v":""},{"$f":"IF('Caseload Reporting'!H141 = \"\",\"\",'Caseload Reporting'!H141)","v":""},{"$f":"IF('Caseload Reporting'!I141 = \"\",\"\",'Caseload Reporting'!I141)","v":""},{"$f":"IF('Caseload Reporting'!J141 = \"\",\"\",'Caseload Reporting'!J141)","v":""},{"$f":"IF('Caseload Reporting'!K141 = \"\",\"\",'Caseload Reporting'!K141)","v":""},{"$f":"IF('Caseload Reporting'!L141 = \"\",\"\",'Caseload Reporting'!L141)","v":""},{"$f":"IF('Caseload Reporting'!M141 = \"\",\"\",'Caseload Reporting'!M141)","v":""},{"$f":"IF('Caseload Reporting'!N141 = \"\",\"\",'Caseload Reporting'!N141)","v":""},{"$f":"IF('Caseload Reporting'!P141 = \"\",\"\",'Caseload Reporting'!P141)","v":""},{"$f":"IF('Caseload Reporting'!O141 = \"\",\"\",'Caseload Reporting'!O141)","v":""},{"$f":"IF('Caseload Reporting'!Q141 = \"\",\"\",'Caseload Reporting'!Q141)","v":""},{"$f":"IF('Caseload Reporting'!R141 = \"\",\"\",'Caseload Reporting'!R141)","v":""},{"$f":"IF('Caseload Reporting'!E141 = \"\",\"\",'Caseload Reporting'!E141)","v":""},{"$f":"IF('Caseload Reporting'!S141 = \"\",\"\",'Caseload Reporting'!S141)","v":""}]
[{"$f":"IF('Caseload Reporting'!A142 = \"\",\"\",'Caseload Reporting'!A142)","v":""},{"$f":"IF('Caseload Reporting'!B142 = \"\",\"\",'Caseload Reporting'!B142)","v":""},{"$f":"IF('Caseload Reporting'!C142 = \"\",\"\",'Caseload Reporting'!C142)","v":""},{"$f":"IF('Caseload Reporting'!D142 = \"\",\"\",'Caseload Reporting'!D142)","v":""},{"$f":"IF('Caseload Reporting'!G142 = \"\",\"\",'Caseload Reporting'!G142)","v":""},{"$f":"IF('Caseload Reporting'!H142 = \"\",\"\",'Caseload Reporting'!H142)","v":""},{"$f":"IF('Caseload Reporting'!I142 = \"\",\"\",'Caseload Reporting'!I142)","v":""},{"$f":"IF('Caseload Reporting'!J142 = \"\",\"\",'Caseload Reporting'!J142)","v":""},{"$f":"IF('Caseload Reporting'!K142 = \"\",\"\",'Caseload Reporting'!K142)","v":""},{"$f":"IF('Caseload Reporting'!L142 = \"\",\"\",'Caseload Reporting'!L142)","v":""},{"$f":"IF('Caseload Reporting'!M142 = \"\",\"\",'Caseload Reporting'!M142)","v":""},{"$f":"IF('Caseload Reporting'!N142 = \"\",\"\",'Caseload Reporting'!N142)","v":""},{"$f":"IF('Caseload Reporting'!P142 = \"\",\"\",'Caseload Reporting'!P142)","v":""},{"$f":"IF('Caseload Reporting'!O142 = \"\",\"\",'Caseload Reporting'!O142)","v":""},{"$f":"IF('Caseload Reporting'!Q142 = \"\",\"\",'Caseload Reporting'!Q142)","v":""},{"$f":"IF('Caseload Reporting'!R142 = \"\",\"\",'Caseload Reporting'!R142)","v":""},{"$f":"IF('Caseload Reporting'!E142 = \"\",\"\",'Caseload Reporting'!E142)","v":""},{"$f":"IF('Caseload Reporting'!S142 = \"\",\"\",'Caseload Reporting'!S142)","v":""}]
[{"$f":"IF('Caseload Reporting'!A143 = \"\",\"\",'Caseload Reporting'!A143)","v":""},{"$f":"IF('Caseload Reporting'!B143 = \"\",\"\",'Caseload Reporting'!B143)","v":""},{"$f":"IF('Caseload Reporting'!C143 = \"\",\"\",'Caseload Reporting'!C143)","v":""},{"$f":"IF('Caseload Reporting'!D143 = \"\",\"\",'Caseload Reporting'!D143)","v":""},{"$f":"IF('Caseload Reporting'!G143 = \"\",\"\",'Caseload Reporting'!G143)","v":""},{"$f":"IF('Caseload Reporting'!H143 = \"\",\"\",'Caseload Reporting'!H143)","v":""},{"$f":"IF('Caseload Reporting'!I143 = \"\",\"\",'Caseload Reporting'!I143)","v":""},{"$f":"IF('Caseload Reporting'!J143 = \"\",\"\",'Caseload Reporting'!J143)","v":""},{"$f":"IF('Caseload Reporting'!K143 = \"\",\"\",'Caseload Reporting'!K143)","v":""},{"$f":"IF('Caseload Reporting'!L143 = \"\",\"\",'Caseload Reporting'!L143)","v":""},{"$f":"IF('Caseload Reporting'!M143 = \"\",\"\",'Caseload Reporting'!M143)","v":""},{"$f":"IF('Caseload Reporting'!N143 = \"\",\"\",'Caseload Reporting'!N143)","v":""},{"$f":"IF('Caseload Reporting'!P143 = \"\",\"\",'Caseload Reporting'!P143)","v":""},{"$f":"IF('Caseload Reporting'!O143 = \"\",\"\",'Caseload Reporting'!O143)","v":""},{"$f":"IF('Caseload Reporting'!Q143 = \"\",\"\",'Caseload Reporting'!Q143)","v":""},{"$f":"IF('Caseload Reporting'!R143 = \"\",\"\",'Caseload Reporting'!R143)","v":""},{"$f":"IF('Caseload Reporting'!E143 = \"\",\"\",'Caseload Reporting'!E143)","v":""},{"$f":"IF('Caseload Reporting'!S143 = \"\",\"\",'Caseload Reporting'!S143)","v":""}]
[{"$f":"IF('Caseload Reporting'!A144 = \"\",\"\",'Caseload Reporting'!A144)","v":""},{"$f":"IF('Caseload Reporting'!B144 = \"\",\"\",'Caseload Reporting'!B144)","v":""},{"$f":"IF('Caseload Reporting'!C144 = \"\",\"\",'Caseload Reporting'!C144)","v":""},{"$f":"IF('Caseload Reporting'!D144 = \"\",\"\",'Caseload Reporting'!D144)","v":""},{"$f":"IF('Caseload Reporting'!G144 = \"\",\"\",'Caseload Reporting'!G144)","v":""},{"$f":"IF('Caseload Reporting'!H144 = \"\",\"\",'Caseload Reporting'!H144)","v":""},{"$f":"IF('Caseload Reporting'!I144 = \"\",\"\",'Caseload Reporting'!I144)","v":""},{"$f":"IF('Caseload Reporting'!J144 = \"\",\"\",'Caseload Reporting'!J144)","v":""},{"$f":"IF('Caseload Reporting'!K144 = \"\",\"\",'Caseload Reporting'!K144)","v":""},{"$f":"IF('Caseload Reporting'!L144 = \"\",\"\",'Caseload Reporting'!L144)","v":""},{"$f":"IF('Caseload Reporting'!M144 = \"\",\"\",'Caseload Reporting'!M144)","v":""},{"$f":"IF('Caseload Reporting'!N144 = \"\",\"\",'Caseload Reporting'!N144)","v":""},{"$f":"IF('Caseload Reporting'!P144 = \"\",\"\",'Caseload Reporting'!P144)","v":""},{"$f":"IF('Caseload Reporting'!O144 = \"\",\"\",'Caseload Reporting'!O144)","v":""},{"$f":"IF('Caseload Reporting'!Q144 = \"\",\"\",'Caseload Reporting'!Q144)","v":""},{"$f":"IF('Caseload Reporting'!R144 = \"\",\"\",'Caseload Reporting'!R144)","v":""},{"$f":"IF('Caseload Reporting'!E144 = \"\",\"\",'Caseload Reporting'!E144)","v":""},{"$f":"IF('Caseload Reporting'!S144 = \"\",\"\",'Caseload Reporting'!S144)","v":""}]
[{"$f":"IF('Caseload Reporting'!A145 = \"\",\"\",'Caseload Reporting'!A145)","v":""},{"$f":"IF('Caseload Reporting'!B145 = \"\",\"\",'Caseload Reporting'!B145)","v":""},{"$f":"IF('Caseload Reporting'!C145 = \"\",\"\",'Caseload Reporting'!C145)","v":""},{"$f":"IF('Caseload Reporting'!D145 = \"\",\"\",'Caseload Reporting'!D145)","v":""},{"$f":"IF('Caseload Reporting'!G145 = \"\",\"\",'Caseload Reporting'!G145)","v":""},{"$f":"IF('Caseload Reporting'!H145 = \"\",\"\",'Caseload Reporting'!H145)","v":""},{"$f":"IF('Caseload Reporting'!I145 = \"\",\"\",'Caseload Reporting'!I145)","v":""},{"$f":"IF('Caseload Reporting'!J145 = \"\",\"\",'Caseload Reporting'!J145)","v":""},{"$f":"IF('Caseload Reporting'!K145 = \"\",\"\",'Caseload Reporting'!K145)","v":""},{"$f":"IF('Caseload Reporting'!L145 = \"\",\"\",'Caseload Reporting'!L145)","v":""},{"$f":"IF('Caseload Reporting'!M145 = \"\",\"\",'Caseload Reporting'!M145)","v":""},{"$f":"IF('Caseload Reporting'!N145 = \"\",\"\",'Caseload Reporting'!N145)","v":""},{"$f":"IF('Caseload Reporting'!P145 = \"\",\"\",'Caseload Reporting'!P145)","v":""},{"$f":"IF('Caseload Reporting'!O145 = \"\",\"\",'Caseload Reporting'!O145)","v":""},{"$f":"IF('Caseload Reporting'!Q145 = \"\",\"\",'Caseload Reporting'!Q145)","v":""},{"$f":"IF('Caseload Reporting'!R145 = \"\",\"\",'Caseload Reporting'!R145)","v":""},{"$f":"IF('Caseload Reporting'!E145 = \"\",\"\",'Caseload Reporting'!E145)","v":""},{"$f":"IF('Caseload Reporting'!S145 = \"\",\"\",'Caseload Reporting'!S145)","v":""}]
[{"$f":"IF('Caseload Reporting'!A146 = \"\",\"\",'Caseload Reporting'!A146)","v":""},{"$f":"IF('Caseload Reporting'!B146 = \"\",\"\",'Caseload Reporting'!B146)","v":""},{"$f":"IF('Caseload Reporting'!C146 = \"\",\"\",'Caseload Reporting'!C146)","v":""},{"$f":"IF('Caseload Reporting'!D146 = \"\",\"\",'Caseload Reporting'!D146)","v":""},{"$f":"IF('Caseload Reporting'!G146 = \"\",\"\",'Caseload Reporting'!G146)","v":""},{"$f":"IF('Caseload Reporting'!H146 = \"\",\"\",'Caseload Reporting'!H146)","v":""},{"$f":"IF('Caseload Reporting'!I146 = \"\",\"\",'Caseload Reporting'!I146)","v":""},{"$f":"IF('Caseload Reporting'!J146 = \"\",\"\",'Caseload Reporting'!J146)","v":""},{"$f":"IF('Caseload Reporting'!K146 = \"\",\"\",'Caseload Reporting'!K146)","v":""},{"$f":"IF('Caseload Reporting'!L146 = \"\",\"\",'Caseload Reporting'!L146)","v":""},{"$f":"IF('Caseload Reporting'!M146 = \"\",\"\",'Caseload Reporting'!M146)","v":""},{"$f":"IF('Caseload Reporting'!N146 = \"\",\"\",'Caseload Reporting'!N146)","v":""},{"$f":"IF('Caseload Reporting'!P146 = \"\",\"\",'Caseload Reporting'!P146)","v":""},{"$f":"IF('Caseload Reporting'!O146 = \"\",\"\",'Caseload Reporting'!O146)","v":""},{"$f":"IF('Caseload Reporting'!Q146 = \"\",\"\",'Caseload Reporting'!Q146)","v":""},{"$f":"IF('Caseload Reporting'!R146 = \"\",\"\",'Caseload Reporting'!R146)","v":""},{"$f":"IF('Caseload Reporting'!E146 = \"\",\"\",'Caseload Reporting'!E146)","v":""},{"$f":"IF('Caseload Reporting'!S146 = \"\",\"\",'Caseload Reporting'!S146)","v":""}]
[{"$f":"IF('Caseload Reporting'!A147 = \"\",\"\",'Caseload Reporting'!A147)","v":""},{"$f":"IF('Caseload Reporting'!B147 = \"\",\"\",'Caseload Reporting'!B147)","v":""},{"$f":"IF('Caseload Reporting'!C147 = \"\",\"\",'Caseload Reporting'!C147)","v":""},{"$f":"IF('Caseload Reporting'!D147 = \"\",\"\",'Caseload Reporting'!D147)","v":""},{"$f":"IF('Caseload Reporting'!G147 = \"\",\"\",'Caseload Reporting'!G147)","v":""},{"$f":"IF('Caseload Reporting'!H147 = \"\",\"\",'Caseload Reporting'!H147)","v":""},{"$f":"IF('Caseload Reporting'!I147 = \"\",\"\",'Caseload Reporting'!I147)","v":""},{"$f":"IF('Caseload Reporting'!J147 = \"\",\"\",'Caseload Reporting'!J147)","v":""},{"$f":"IF('Caseload Reporting'!K147 = \"\",\"\",'Caseload Reporting'!K147)","v":""},{"$f":"IF('Caseload Reporting'!L147 = \"\",\"\",'Caseload Reporting'!L147)","v":""},{"$f":"IF('Caseload Reporting'!M147 = \"\",\"\",'Caseload Reporting'!M147)","v":""},{"$f":"IF('Caseload Reporting'!N147 = \"\",\"\",'Caseload Reporting'!N147)","v":""},{"$f":"IF('Caseload Reporting'!P147 = \"\",\"\",'Caseload Reporting'!P147)","v":""},{"$f":"IF('Caseload Reporting'!O147 = \"\",\"\",'Caseload Reporting'!O147)","v":""},{"$f":"IF('Caseload Reporting'!Q147 = \"\",\"\",'Caseload Reporting'!Q147)","v":""},{"$f":"IF('Caseload Reporting'!R147 = \"\",\"\",'Caseload Reporting'!R147)","v":""},{"$f":"IF('Caseload Reporting'!E147 = \"\",\"\",'Caseload Reporting'!E147)","v":""},{"$f":"IF('Caseload Reporting'!S147 = \"\",\"\",'Caseload Reporting'!S147)","v":""}]
[{"$f":"IF('Caseload Reporting'!A148 = \"\",\"\",'Caseload Reporting'!A148)","v":""},{"$f":"IF('Caseload Reporting'!B148 = \"\",\"\",'Caseload Reporting'!B148)","v":""},{"$f":"IF('Caseload Reporting'!C148 = \"\",\"\",'Caseload Reporting'!C148)","v":""},{"$f":"IF('Caseload Reporting'!D148 = \"\",\"\",'Caseload Reporting'!D148)","v":""},{"$f":"IF('Caseload Reporting'!G148 = \"\",\"\",'Caseload Reporting'!G148)","v":""},{"$f":"IF('Caseload Reporting'!H148 = \"\",\"\",'Caseload Reporting'!H148)","v":""},{"$f":"IF('Caseload Reporting'!I148 = \"\",\"\",'Caseload Reporting'!I148)","v":""},{"$f":"IF('Caseload Reporting'!J148 = \"\",\"\",'Caseload Reporting'!J148)","v":""},{"$f":"IF('Caseload Reporting'!K148 = \"\",\"\",'Caseload Reporting'!K148)","v":""},{"$f":"IF('Caseload Reporting'!L148 = \"\",\"\",'Caseload Reporting'!L148)","v":""},{"$f":"IF('Caseload Reporting'!M148 = \"\",\"\",'Caseload Reporting'!M148)","v":""},{"$f":"IF('Caseload Reporting'!N148 = \"\",\"\",'Caseload Reporting'!N148)","v":""},{"$f":"IF('Caseload Reporting'!P148 = \"\",\"\",'Caseload Reporting'!P148)","v":""},{"$f":"IF('Caseload Reporting'!O148 = \"\",\"\",'Caseload Reporting'!O148)","v":""},{"$f":"IF('Caseload Reporting'!Q148 = \"\",\"\",'Caseload Reporting'!Q148)","v":""},{"$f":"IF('Caseload Reporting'!R148 = \"\",\"\",'Caseload Reporting'!R148)","v":""},{"$f":"IF('Caseload Reporting'!E148 = \"\",\"\",'Caseload Reporting'!E148)","v":""},{"$f":"IF('Caseload Reporting'!S148 = \"\",\"\",'Caseload Reporting'!S148)","v":""}]
[{"$f":"IF('Caseload Reporting'!A149 = \"\",\"\",'Caseload Reporting'!A149)","v":""},{"$f":"IF('Caseload Reporting'!B149 = \"\",\"\",'Caseload Reporting'!B149)","v":""},{"$f":"IF('Caseload Reporting'!C149 = \"\",\"\",'Caseload Reporting'!C149)","v":""},{"$f":"IF('Caseload Reporting'!D149 = \"\",\"\",'Caseload Reporting'!D149)","v":""},{"$f":"IF('Caseload Reporting'!G149 = \"\",\"\",'Caseload Reporting'!G149)","v":""},{"$f":"IF('Caseload Reporting'!H149 = \"\",\"\",'Caseload Reporting'!H149)","v":""},{"$f":"IF('Caseload Reporting'!I149 = \"\",\"\",'Caseload Reporting'!I149)","v":""},{"$f":"IF('Caseload Reporting'!J149 = \"\",\"\",'Caseload Reporting'!J149)","v":""},{"$f":"IF('Caseload Reporting'!K149 = \"\",\"\",'Caseload Reporting'!K149)","v":""},{"$f":"IF('Caseload Reporting'!L149 = \"\",\"\",'Caseload Reporting'!L149)","v":""},{"$f":"IF('Caseload Reporting'!M149 = \"\",\"\",'Caseload Reporting'!M149)","v":""},{"$f":"IF('Caseload Reporting'!N149 = \"\",\"\",'Caseload Reporting'!N149)","v":""},{"$f":"IF('Caseload Reporting'!P149 = \"\",\"\",'Caseload Reporting'!P149)","v":""},{"$f":"IF('Caseload Reporting'!O149 = \"\",\"\",'Caseload Reporting'!O149)","v":""},{"$f":"IF('Caseload Reporting'!Q149 = \"\",\"\",'Caseload Reporting'!Q149)","v":""},{"$f":"IF('Caseload Reporting'!R149 = \"\",\"\",'Caseload Reporting'!R149)","v":""},{"$f":"IF('Caseload Reporting'!E149 = \"\",\"\",'Caseload Reporting'!E149)","v":""},{"$f":"IF('Caseload Reporting'!S149 = \"\",\"\",'Caseload Reporting'!S149)","v":""}]
[{"$f":"IF('Caseload Reporting'!A150 = \"\",\"\",'Caseload Reporting'!A150)","v":""},{"$f":"IF('Caseload Reporting'!B150 = \"\",\"\",'Caseload Reporting'!B150)","v":""},{"$f":"IF('Caseload Reporting'!C150 = \"\",\"\",'Caseload Reporting'!C150)","v":""},{"$f":"IF('Caseload Reporting'!D150 = \"\",\"\",'Caseload Reporting'!D150)","v":""},{"$f":"IF('Caseload Reporting'!G150 = \"\",\"\",'Caseload Reporting'!G150)","v":""},{"$f":"IF('Caseload Reporting'!H150 = \"\",\"\",'Caseload Reporting'!H150)","v":""},{"$f":"IF('Caseload Reporting'!I150 = \"\",\"\",'Caseload Reporting'!I150)","v":""},{"$f":"IF('Caseload Reporting'!J150 = \"\",\"\",'Caseload Reporting'!J150)","v":""},{"$f":"IF('Caseload Reporting'!K150 = \"\",\"\",'Caseload Reporting'!K150)","v":""},{"$f":"IF('Caseload Reporting'!L150 = \"\",\"\",'Caseload Reporting'!L150)","v":""},{"$f":"IF('Caseload Reporting'!M150 = \"\",\"\",'Caseload Reporting'!M150)","v":""},{"$f":"IF('Caseload Reporting'!N150 = \"\",\"\",'Caseload Reporting'!N150)","v":""},{"$f":"IF('Caseload Reporting'!P150 = \"\",\"\",'Caseload Reporting'!P150)","v":""},{"$f":"IF('Caseload Reporting'!O150 = \"\",\"\",'Caseload Reporting'!O150)","v":""},{"$f":"IF('Caseload Reporting'!Q150 = \"\",\"\",'Caseload Reporting'!Q150)","v":""},{"$f":"IF('Caseload Reporting'!R150 = \"\",\"\",'Caseload Reporting'!R150)","v":""},{"$f":"IF('Caseload Reporting'!E150 = \"\",\"\",'Caseload Reporting'!E150)","v":""},{"$f":"IF('Caseload Reporting'!S150 = \"\",\"\",'Caseload Reporting'!S150)","v":""}]
[{"$f":"IF('Caseload Reporting'!A151 = \"\",\"\",'Caseload Reporting'!A151)","v":""},{"$f":"IF('Caseload Reporting'!B151 = \"\",\"\",'Caseload Reporting'!B151)","v":""},{"$f":"IF('Caseload Reporting'!C151 = \"\",\"\",'Caseload Reporting'!C151)","v":""},{"$f":"IF('Caseload Reporting'!D151 = \"\",\"\",'Caseload Reporting'!D151)","v":""},{"$f":"IF('Caseload Reporting'!G151 = \"\",\"\",'Caseload Reporting'!G151)","v":""},{"$f":"IF('Caseload Reporting'!H151 = \"\",\"\",'Caseload Reporting'!H151)","v":""},{"$f":"IF('Caseload Reporting'!I151 = \"\",\"\",'Caseload Reporting'!I151)","v":""},{"$f":"IF('Caseload Reporting'!J151 = \"\",\"\",'Caseload Reporting'!J151)","v":""},{"$f":"IF('Caseload Reporting'!K151 = \"\",\"\",'Caseload Reporting'!K151)","v":""},{"$f":"IF('Caseload Reporting'!L151 = \"\",\"\",'Caseload Reporting'!L151)","v":""},{"$f":"IF('Caseload Reporting'!M151 = \"\",\"\",'Caseload Reporting'!M151)","v":""},{"$f":"IF('Caseload Reporting'!N151 = \"\",\"\",'Caseload Reporting'!N151)","v":""},{"$f":"IF('Caseload Reporting'!P151 = \"\",\"\",'Caseload Reporting'!P151)","v":""},{"$f":"IF('Caseload Reporting'!O151 = \"\",\"\",'Caseload Reporting'!O151)","v":""},{"$f":"IF('Caseload Reporting'!Q151 = \"\",\"\",'Caseload Reporting'!Q151)","v":""},{"$f":"IF('Caseload Reporting'!R151 = \"\",\"\",'Caseload Reporting'!R151)","v":""},{"$f":"IF('Caseload Reporting'!E151 = \"\",\"\",'Caseload Reporting'!E151)","v":""},{"$f":"IF('Caseload Reporting'!S151 = \"\",\"\",'Caseload Reporting'!S151)","v":""}]
[{"$f":"IF('Caseload Reporting'!A152 = \"\",\"\",'Caseload Reporting'!A152)","v":""},{"$f":"IF('Caseload Reporting'!B152 = \"\",\"\",'Caseload Reporting'!B152)","v":""},{"$f":"IF('Caseload Reporting'!C152 = \"\",\"\",'Caseload Reporting'!C152)","v":""},{"$f":"IF('Caseload Reporting'!D152 = \"\",\"\",'Caseload Reporting'!D152)","v":""},{"$f":"IF('Caseload Reporting'!G152 = \"\",\"\",'Caseload Reporting'!G152)","v":""},{"$f":"IF('Caseload Reporting'!H152 = \"\",\"\",'Caseload Reporting'!H152)","v":""},{"$f":"IF('Caseload Reporting'!I152 = \"\",\"\",'Caseload Reporting'!I152)","v":""},{"$f":"IF('Caseload Reporting'!J152 = \"\",\"\",'Caseload Reporting'!J152)","v":""},{"$f":"IF('Caseload Reporting'!K152 = \"\",\"\",'Caseload Reporting'!K152)","v":""},{"$f":"IF('Caseload Reporting'!L152 = \"\",\"\",'Caseload Reporting'!L152)","v":""},{"$f":"IF('Caseload Reporting'!M152 = \"\",\"\",'Caseload Reporting'!M152)","v":""},{"$f":"IF('Caseload Reporting'!N152 = \"\",\"\",'Caseload Reporting'!N152)","v":""},{"$f":"IF('Caseload Reporting'!P152 = \"\",\"\",'Caseload Reporting'!P152)","v":""},{"$f":"IF('Caseload Reporting'!O152 = \"\",\"\",'Caseload Reporting'!O152)","v":""},{"$f":"IF('Caseload Reporting'!Q152 = \"\",\"\",'Caseload Reporting'!Q152)","v":""},{"$f":"IF('Caseload Reporting'!R152 = \"\",\"\",'Caseload Reporting'!R152)","v":""},{"$f":"IF('Caseload Reporting'!E152 = \"\",\"\",'Caseload Reporting'!E152)","v":""},{"$f":"IF('Caseload Reporting'!S152 = \"\",\"\",'Caseload Reporting'!S152)","v":""}]
[{"$f":"IF('Caseload Reporting'!A153 = \"\",\"\",'Caseload Reporting'!A153)","v":""},{"$f":"IF('Caseload Reporting'!B153 = \"\",\"\",'Caseload Reporting'!B153)","v":""},{"$f":"IF('Caseload Reporting'!C153 = \"\",\"\",'Caseload Reporting'!C153)","v":""},{"$f":"IF('Caseload Reporting'!D153 = \"\",\"\",'Caseload Reporting'!D153)","v":""},{"$f":"IF('Caseload Reporting'!G153 = \"\",\"\",'Caseload Reporting'!G153)","v":""},{"$f":"IF('Caseload Reporting'!H153 = \"\",\"\",'Caseload Reporting'!H153)","v":""},{"$f":"IF('Caseload Reporting'!I153 = \"\",\"\",'Caseload Reporting'!I153)","v":""},{"$f":"IF('Caseload Reporting'!J153 = \"\",\"\",'Caseload Reporting'!J153)","v":""},{"$f":"IF('Caseload Reporting'!K153 = \"\",\"\",'Caseload Reporting'!K153)","v":""},{"$f":"IF('Caseload Reporting'!L153 = \"\",\"\",'Caseload Reporting'!L153)","v":""},{"$f":"IF('Caseload Reporting'!M153 = \"\",\"\",'Caseload Reporting'!M153)","v":""},{"$f":"IF('Caseload Reporting'!N153 = \"\",\"\",'Caseload Reporting'!N153)","v":""},{"$f":"IF('Caseload Reporting'!P153 = \"\",\"\",'Caseload Reporting'!P153)","v":""},{"$f":"IF('Caseload Reporting'!O153 = \"\",\"\",'Caseload Reporting'!O153)","v":""},{"$f":"IF('Caseload Reporting'!Q153 = \"\",\"\",'Caseload Reporting'!Q153)","v":""},{"$f":"IF('Caseload Reporting'!R153 = \"\",\"\",'Caseload Reporting'!R153)","v":""},{"$f":"IF('Caseload Reporting'!E153 = \"\",\"\",'Caseload Reporting'!E153)","v":""},{"$f":"IF('Caseload Reporting'!S153 = \"\",\"\",'Caseload Reporting'!S153)","v":""}]
[{"$f":"IF('Caseload Reporting'!A154 = \"\",\"\",'Caseload Reporting'!A154)","v":""},{"$f":"IF('Caseload Reporting'!B154 = \"\",\"\",'Caseload Reporting'!B154)","v":""},{"$f":"IF('Caseload Reporting'!C154 = \"\",\"\",'Caseload Reporting'!C154)","v":""},{"$f":"IF('Caseload Reporting'!D154 = \"\",\"\",'Caseload Reporting'!D154)","v":""},{"$f":"IF('Caseload Reporting'!G154 = \"\",\"\",'Caseload Reporting'!G154)","v":""},{"$f":"IF('Caseload Reporting'!H154 = \"\",\"\",'Caseload Reporting'!H154)","v":""},{"$f":"IF('Caseload Reporting'!I154 = \"\",\"\",'Caseload Reporting'!I154)","v":""},{"$f":"IF('Caseload Reporting'!J154 = \"\",\"\",'Caseload Reporting'!J154)","v":""},{"$f":"IF('Caseload Reporting'!K154 = \"\",\"\",'Caseload Reporting'!K154)","v":""},{"$f":"IF('Caseload Reporting'!L154 = \"\",\"\",'Caseload Reporting'!L154)","v":""},{"$f":"IF('Caseload Reporting'!M154 = \"\",\"\",'Caseload Reporting'!M154)","v":""},{"$f":"IF('Caseload Reporting'!N154 = \"\",\"\",'Caseload Reporting'!N154)","v":""},{"$f":"IF('Caseload Reporting'!P154 = \"\",\"\",'Caseload Reporting'!P154)","v":""},{"$f":"IF('Caseload Reporting'!O154 = \"\",\"\",'Caseload Reporting'!O154)","v":""},{"$f":"IF('Caseload Reporting'!Q154 = \"\",\"\",'Caseload Reporting'!Q154)","v":""},{"$f":"IF('Caseload Reporting'!R154 = \"\",\"\",'Caseload Reporting'!R154)","v":""},{"$f":"IF('Caseload Reporting'!E154 = \"\",\"\",'Caseload Reporting'!E154)","v":""},{"$f":"IF('Caseload Reporting'!S154 = \"\",\"\",'Caseload Reporting'!S154)","v":""}]
[{"$f":"IF('Caseload Reporting'!A155 = \"\",\"\",'Caseload Reporting'!A155)","v":""},{"$f":"IF('Caseload Reporting'!B155 = \"\",\"\",'Caseload Reporting'!B155)","v":""},{"$f":"IF('Caseload Reporting'!C155 = \"\",\"\",'Caseload Reporting'!C155)","v":""},{"$f":"IF('Caseload Reporting'!D155 = \"\",\"\",'Caseload Reporting'!D155)","v":""},{"$f":"IF('Caseload Reporting'!G155 = \"\",\"\",'Caseload Reporting'!G155)","v":""},{"$f":"IF('Caseload Reporting'!H155 = \"\",\"\",'Caseload Reporting'!H155)","v":""},{"$f":"IF('Caseload Reporting'!I155 = \"\",\"\",'Caseload Reporting'!I155)","v":""},{"$f":"IF('Caseload Reporting'!J155 = \"\",\"\",'Caseload Reporting'!J155)","v":""},{"$f":"IF('Caseload Reporting'!K155 = \"\",\"\",'Caseload Reporting'!K155)","v":""},{"$f":"IF('Caseload Reporting'!L155 = \"\",\"\",'Caseload Reporting'!L155)","v":""},{"$f":"IF('Caseload Reporting'!M155 = \"\",\"\",'Caseload Reporting'!M155)","v":""},{"$f":"IF('Caseload Reporting'!N155 = \"\",\"\",'Caseload Reporting'!N155)","v":""},{"$f":"IF('Caseload Reporting'!P155 = \"\",\"\",'Caseload Reporting'!P155)","v":""},{"$f":"IF('Caseload Reporting'!O155 = \"\",\"\",'Caseload Reporting'!O155)","v":""},{"$f":"IF('Caseload Reporting'!Q155 = \"\",\"\",'Caseload Reporting'!Q155)","v":""},{"$f":"IF('Caseload Reporting'!R155 = \"\",\"\",'Caseload Reporting'!R155)","v":""},{"$f":"IF('Caseload Reporting'!E155 = \"\",\"\",'Caseload Reporting'!E155)","v":""},{"$f":"IF('Caseload Reporting'!S155 = \"\",\"\",'Caseload Reporting'!S155)","v":""}]
[{"$f":"IF('Caseload Reporting'!A156 = \"\",\"\",'Caseload Reporting'!A156)","v":""},{"$f":"IF('Caseload Reporting'!B156 = \"\",\"\",'Caseload Reporting'!B156)","v":""},{"$f":"IF('Caseload Reporting'!C156 = \"\",\"\",'Caseload Reporting'!C156)","v":""},{"$f":"IF('Caseload Reporting'!D156 = \"\",\"\",'Caseload Reporting'!D156)","v":""},{"$f":"IF('Caseload Reporting'!G156 = \"\",\"\",'Caseload Reporting'!G156)","v":""},{"$f":"IF('Caseload Reporting'!H156 = \"\",\"\",'Caseload Reporting'!H156)","v":""},{"$f":"IF('Caseload Reporting'!I156 = \"\",\"\",'Caseload Reporting'!I156)","v":""},{"$f":"IF('Caseload Reporting'!J156 = \"\",\"\",'Caseload Reporting'!J156)","v":""},{"$f":"IF('Caseload Reporting'!K156 = \"\",\"\",'Caseload Reporting'!K156)","v":""},{"$f":"IF('Caseload Reporting'!L156 = \"\",\"\",'Caseload Reporting'!L156)","v":""},{"$f":"IF('Caseload Reporting'!M156 = \"\",\"\",'Caseload Reporting'!M156)","v":""},{"$f":"IF('Caseload Reporting'!N156 = \"\",\"\",'Caseload Reporting'!N156)","v":""},{"$f":"IF('Caseload Reporting'!P156 = \"\",\"\",'Caseload Reporting'!P156)","v":""},{"$f":"IF('Caseload Reporting'!O156 = \"\",\"\",'Caseload Reporting'!O156)","v":""},{"$f":"IF('Caseload Reporting'!Q156 = \"\",\"\",'Caseload Reporting'!Q156)","v":""},{"$f":"IF('Caseload Reporting'!R156 = \"\",\"\",'Caseload Reporting'!R156)","v":""},{"$f":"IF('Caseload Reporting'!E156 = \"\",\"\",'Caseload Reporting'!E156)","v":""},{"$f":"IF('Caseload Reporting'!S156 = \"\",\"\",'Caseload Reporting'!S156)","v":""}]
[{"$f":"IF('Caseload Reporting'!A157 = \"\",\"\",'Caseload Reporting'!A157)","v":""},{"$f":"IF('Caseload Reporting'!B157 = \"\",\"\",'Caseload Reporting'!B157)","v":""},{"$f":"IF('Caseload Reporting'!C157 = \"\",\"\",'Caseload Reporting'!C157)","v":""},{"$f":"IF('Caseload Reporting'!D157 = \"\",\"\",'Caseload Reporting'!D157)","v":""},{"$f":"IF('Caseload Reporting'!G157 = \"\",\"\",'Caseload Reporting'!G157)","v":""},{"$f":"IF('Caseload Reporting'!H157 = \"\",\"\",'Caseload Reporting'!H157)","v":""},{"$f":"IF('Caseload Reporting'!I157 = \"\",\"\",'Caseload Reporting'!I157)","v":""},{"$f":"IF('Caseload Reporting'!J157 = \"\",\"\",'Caseload Reporting'!J157)","v":""},{"$f":"IF('Caseload Reporting'!K157 = \"\",\"\",'Caseload Reporting'!K157)","v":""},{"$f":"IF('Caseload Reporting'!L157 = \"\",\"\",'Caseload Reporting'!L157)","v":""},{"$f":"IF('Caseload Reporting'!M157 = \"\",\"\",'Caseload Reporting'!M157)","v":""},{"$f":"IF('Caseload Reporting'!N157 = \"\",\"\",'Caseload Reporting'!N157)","v":""},{"$f":"IF('Caseload Reporting'!P157 = \"\",\"\",'Caseload Reporting'!P157)","v":""},{"$f":"IF('Caseload Reporting'!O157 = \"\",\"\",'Caseload Reporting'!O157)","v":""},{"$f":"IF('Caseload Reporting'!Q157 = \"\",\"\",'Caseload Reporting'!Q157)","v":""},{"$f":"IF('Caseload Reporting'!R157 = \"\",\"\",'Caseload Reporting'!R157)","v":""},{"$f":"IF('Caseload Reporting'!E157 = \"\",\"\",'Caseload Reporting'!E157)","v":""},{"$f":"IF('Caseload Reporting'!S157 = \"\",\"\",'Caseload Reporting'!S157)","v":""}]
[{"$f":"IF('Caseload Reporting'!A158 = \"\",\"\",'Caseload Reporting'!A158)","v":""},{"$f":"IF('Caseload Reporting'!B158 = \"\",\"\",'Caseload Reporting'!B158)","v":""},{"$f":"IF('Caseload Reporting'!C158 = \"\",\"\",'Caseload Reporting'!C158)","v":""},{"$f":"IF('Caseload Reporting'!D158 = \"\",\"\",'Caseload Reporting'!D158)","v":""},{"$f":"IF('Caseload Reporting'!G158 = \"\",\"\",'Caseload Reporting'!G158)","v":""},{"$f":"IF('Caseload Reporting'!H158 = \"\",\"\",'Caseload Reporting'!H158)","v":""},{"$f":"IF('Caseload Reporting'!I158 = \"\",\"\",'Caseload Reporting'!I158)","v":""},{"$f":"IF('Caseload Reporting'!J158 = \"\",\"\",'Caseload Reporting'!J158)","v":""},{"$f":"IF('Caseload Reporting'!K158 = \"\",\"\",'Caseload Reporting'!K158)","v":""},{"$f":"IF('Caseload Reporting'!L158 = \"\",\"\",'Caseload Reporting'!L158)","v":""},{"$f":"IF('Caseload Reporting'!M158 = \"\",\"\",'Caseload Reporting'!M158)","v":""},{"$f":"IF('Caseload Reporting'!N158 = \"\",\"\",'Caseload Reporting'!N158)","v":""},{"$f":"IF('Caseload Reporting'!P158 = \"\",\"\",'Caseload Reporting'!P158)","v":""},{"$f":"IF('Caseload Reporting'!O158 = \"\",\"\",'Caseload Reporting'!O158)","v":""},{"$f":"IF('Caseload Reporting'!Q158 = \"\",\"\",'Caseload Reporting'!Q158)","v":""},{"$f":"IF('Caseload Reporting'!R158 = \"\",\"\",'Caseload Reporting'!R158)","v":""},{"$f":"IF('Caseload Reporting'!E158 = \"\",\"\",'Caseload Reporting'!E158)","v":""},{"$f":"IF('Caseload Reporting'!S158 = \"\",\"\",'Caseload Reporting'!S158)","v":""}]
[{"$f":"IF('Caseload Reporting'!A159 = \"\",\"\",'Caseload Reporting'!A159)","v":""},{"$f":"IF('Caseload Reporting'!B159 = \"\",\"\",'Caseload Reporting'!B159)","v":""},{"$f":"IF('Caseload Reporting'!C159 = \"\",\"\",'Caseload Reporting'!C159)","v":""},{"$f":"IF('Caseload Reporting'!D159 = \"\",\"\",'Caseload Reporting'!D159)","v":""},{"$f":"IF('Caseload Reporting'!G159 = \"\",\"\",'Caseload Reporting'!G159)","v":""},{"$f":"IF('Caseload Reporting'!H159 = \"\",\"\",'Caseload Reporting'!H159)","v":""},{"$f":"IF('Caseload Reporting'!I159 = \"\",\"\",'Caseload Reporting'!I159)","v":""},{"$f":"IF('Caseload Reporting'!J159 = \"\",\"\",'Caseload Reporting'!J159)","v":""},{"$f":"IF('Caseload Reporting'!K159 = \"\",\"\",'Caseload Reporting'!K159)","v":""},{"$f":"IF('Caseload Reporting'!L159 = \"\",\"\",'Caseload Reporting'!L159)","v":""},{"$f":"IF('Caseload Reporting'!M159 = \"\",\"\",'Caseload Reporting'!M159)","v":""},{"$f":"IF('Caseload Reporting'!N159 = \"\",\"\",'Caseload Reporting'!N159)","v":""},{"$f":"IF('Caseload Reporting'!P159 = \"\",\"\",'Caseload Reporting'!P159)","v":""},{"$f":"IF('Caseload Reporting'!O159 = \"\",\"\",'Caseload Reporting'!O159)","v":""},{"$f":"IF('Caseload Reporting'!Q159 = \"\",\"\",'Caseload Reporting'!Q159)","v":""},{"$f":"IF('Caseload Reporting'!R159 = \"\",\"\",'Caseload Reporting'!R159)","v":""},{"$f":"IF('Caseload Reporting'!E159 = \"\",\"\",'Caseload Reporting'!E159)","v":""},{"$f":"IF('Caseload Reporting'!S159 = \"\",\"\",'Caseload Reporting'!S159)","v":""}]
[{"$f":"IF('Caseload Reporting'!A160 = \"\",\"\",'Caseload Reporting'!A160)","v":""},{"$f":"IF('Caseload Reporting'!B160 = \"\",\"\",'Caseload Reporting'!B160)","v":""},{"$f":"IF('Caseload Reporting'!C160 = \"\",\"\",'Caseload Reporting'!C160)","v":""},{"$f":"IF('Caseload Reporting'!D160 = \"\",\"\",'Caseload Reporting'!D160)","v":""},{"$f":"IF('Caseload Reporting'!G160 = \"\",\"\",'Caseload Reporting'!G160)","v":""},{"$f":"IF('Caseload Reporting'!H160 = \"\",\"\",'Caseload Reporting'!H160)","v":""},{"$f":"IF('Caseload Reporting'!I160 = \"\",\"\",'Caseload Reporting'!I160)","v":""},{"$f":"IF('Caseload Reporting'!J160 = \"\",\"\",'Caseload Reporting'!J160)","v":""},{"$f":"IF('Caseload Reporting'!K160 = \"\",\"\",'Caseload Reporting'!K160)","v":""},{"$f":"IF('Caseload Reporting'!L160 = \"\",\"\",'Caseload Reporting'!L160)","v":""},{"$f":"IF('Caseload Reporting'!M160 = \"\",\"\",'Caseload Reporting'!M160)","v":""},{"$f":"IF('Caseload Reporting'!N160 = \"\",\"\",'Caseload Reporting'!N160)","v":""},{"$f":"IF('Caseload Reporting'!P160 = \"\",\"\",'Caseload Reporting'!P160)","v":""},{"$f":"IF('Caseload Reporting'!O160 = \"\",\"\",'Caseload Reporting'!O160)","v":""},{"$f":"IF('Caseload Reporting'!Q160 = \"\",\"\",'Caseload Reporting'!Q160)","v":""},{"$f":"IF('Caseload Reporting'!R160 = \"\",\"\",'Caseload Reporting'!R160)","v":""},{"$f":"IF('Caseload Reporting'!E160 = \"\",\"\",'Caseload Reporting'!E160)","v":""},{"$f":"IF('Caseload Reporting'!S160 = \"\",\"\",'Caseload Reporting'!S160)","v":""}]
[{"$f":"IF('Caseload Reporting'!A161 = \"\",\"\",'Caseload Reporting'!A161)","v":""},{"$f":"IF('Caseload Reporting'!B161 = \"\",\"\",'Caseload Reporting'!B161)","v":""},{"$f":"IF('Caseload Reporting'!C161 = \"\",\"\",'Caseload Reporting'!C161)","v":""},{"$f":"IF('Caseload Reporting'!D161 = \"\",\"\",'Caseload Reporting'!D161)","v":""},{"$f":"IF('Caseload Reporting'!G161 = \"\",\"\",'Caseload Reporting'!G161)","v":""},{"$f":"IF('Caseload Reporting'!H161 = \"\",\"\",'Caseload Reporting'!H161)","v":""},{"$f":"IF('Caseload Reporting'!I161 = \"\",\"\",'Caseload Reporting'!I161)","v":""},{"$f":"IF('Caseload Reporting'!J161 = \"\",\"\",'Caseload Reporting'!J161)","v":""},{"$f":"IF('Caseload Reporting'!K161 = \"\",\"\",'Caseload Reporting'!K161)","v":""},{"$f":"IF('Caseload Reporting'!L161 = \"\",\"\",'Caseload Reporting'!L161)","v":""},{"$f":"IF('Caseload Reporting'!M161 = \"\",\"\",'Caseload Reporting'!M161)","v":""},{"$f":"IF('Caseload Reporting'!N161 = \"\",\"\",'Caseload Reporting'!N161)","v":""},{"$f":"IF('Caseload Reporting'!P161 = \"\",\"\",'Caseload Reporting'!P161)","v":""},{"$f":"IF('Caseload Reporting'!O161 = \"\",\"\",'Caseload Reporting'!O161)","v":""},{"$f":"IF('Caseload Reporting'!Q161 = \"\",\"\",'Caseload Reporting'!Q161)","v":""},{"$f":"IF('Caseload Reporting'!R161 = \"\",\"\",'Caseload Reporting'!R161)","v":""},{"$f":"IF('Caseload Reporting'!E161 = \"\",\"\",'Caseload Reporting'!E161)","v":""},{"$f":"IF('Caseload Reporting'!S161 = \"\",\"\",'Caseload Reporting'!S161)","v":""}]
[{"$f":"IF('Caseload Reporting'!A162 = \"\",\"\",'Caseload Reporting'!A162)","v":""},{"$f":"IF('Caseload Reporting'!B162 = \"\",\"\",'Caseload Reporting'!B162)","v":""},{"$f":"IF('Caseload Reporting'!C162 = \"\",\"\",'Caseload Reporting'!C162)","v":""},{"$f":"IF('Caseload Reporting'!D162 = \"\",\"\",'Caseload Reporting'!D162)","v":""},{"$f":"IF('Caseload Reporting'!G162 = \"\",\"\",'Caseload Reporting'!G162)","v":""},{"$f":"IF('Caseload Reporting'!H162 = \"\",\"\",'Caseload Reporting'!H162)","v":""},{"$f":"IF('Caseload Reporting'!I162 = \"\",\"\",'Caseload Reporting'!I162)","v":""},{"$f":"IF('Caseload Reporting'!J162 = \"\",\"\",'Caseload Reporting'!J162)","v":""},{"$f":"IF('Caseload Reporting'!K162 = \"\",\"\",'Caseload Reporting'!K162)","v":""},{"$f":"IF('Caseload Reporting'!L162 = \"\",\"\",'Caseload Reporting'!L162)","v":""},{"$f":"IF('Caseload Reporting'!M162 = \"\",\"\",'Caseload Reporting'!M162)","v":""},{"$f":"IF('Caseload Reporting'!N162 = \"\",\"\",'Caseload Reporting'!N162)","v":""},{"$f":"IF('Caseload Reporting'!P162 = \"\",\"\",'Caseload Reporting'!P162)","v":""},{"$f":"IF('Caseload Reporting'!O162 = \"\",\"\",'Caseload Reporting'!O162)","v":""},{"$f":"IF('Caseload Reporting'!Q162 = \"\",\"\",'Caseload Reporting'!Q162)","v":""},{"$f":"IF('Caseload Reporting'!R162 = \"\",\"\",'Caseload Reporting'!R162)","v":""},{"$f":"IF('Caseload Reporting'!E162 = \"\",\"\",'Caseload Reporting'!E162)","v":""},{"$f":"IF('Caseload Reporting'!S162 = \"\",\"\",'Caseload Reporting'!S162)","v":""}]
[{"$f":"IF('Caseload Reporting'!A163 = \"\",\"\",'Caseload Reporting'!A163)","v":""},{"$f":"IF('Caseload Reporting'!B163 = \"\",\"\",'Caseload Reporting'!B163)","v":""},{"$f":"IF('Caseload Reporting'!C163 = \"\",\"\",'Caseload Reporting'!C163)","v":""},{"$f":"IF('Caseload Reporting'!D163 = \"\",\"\",'Caseload Reporting'!D163)","v":""},{"$f":"IF('Caseload Reporting'!G163 = \"\",\"\",'Caseload Reporting'!G163)","v":""},{"$f":"IF('Caseload Reporting'!H163 = \"\",\"\",'Caseload Reporting'!H163)","v":""},{"$f":"IF('Caseload Reporting'!I163 = \"\",\"\",'Caseload Reporting'!I163)","v":""},{"$f":"IF('Caseload Reporting'!J163 = \"\",\"\",'Caseload Reporting'!J163)","v":""},{"$f":"IF('Caseload Reporting'!K163 = \"\",\"\",'Caseload Reporting'!K163)","v":""},{"$f":"IF('Caseload Reporting'!L163 = \"\",\"\",'Caseload Reporting'!L163)","v":""},{"$f":"IF('Caseload Reporting'!M163 = \"\",\"\",'Caseload Reporting'!M163)","v":""},{"$f":"IF('Caseload Reporting'!N163 = \"\",\"\",'Caseload Reporting'!N163)","v":""},{"$f":"IF('Caseload Reporting'!P163 = \"\",\"\",'Caseload Reporting'!P163)","v":""},{"$f":"IF('Caseload Reporting'!O163 = \"\",\"\",'Caseload Reporting'!O163)","v":""},{"$f":"IF('Caseload Reporting'!Q163 = \"\",\"\",'Caseload Reporting'!Q163)","v":""},{"$f":"IF('Caseload Reporting'!R163 = \"\",\"\",'Caseload Reporting'!R163)","v":""},{"$f":"IF('Caseload Reporting'!E163 = \"\",\"\",'Caseload Reporting'!E163)","v":""},{"$f":"IF('Caseload Reporting'!S163 = \"\",\"\",'Caseload Reporting'!S163)","v":""}]
[{"$f":"IF('Caseload Reporting'!A164 = \"\",\"\",'Caseload Reporting'!A164)","v":""},{"$f":"IF('Caseload Reporting'!B164 = \"\",\"\",'Caseload Reporting'!B164)","v":""},{"$f":"IF('Caseload Reporting'!C164 = \"\",\"\",'Caseload Reporting'!C164)","v":""},{"$f":"IF('Caseload Reporting'!D164 = \"\",\"\",'Caseload Reporting'!D164)","v":""},{"$f":"IF('Caseload Reporting'!G164 = \"\",\"\",'Caseload Reporting'!G164)","v":""},{"$f":"IF('Caseload Reporting'!H164 = \"\",\"\",'Caseload Reporting'!H164)","v":""},{"$f":"IF('Caseload Reporting'!I164 = \"\",\"\",'Caseload Reporting'!I164)","v":""},{"$f":"IF('Caseload Reporting'!J164 = \"\",\"\",'Caseload Reporting'!J164)","v":""},{"$f":"IF('Caseload Reporting'!K164 = \"\",\"\",'Caseload Reporting'!K164)","v":""},{"$f":"IF('Caseload Reporting'!L164 = \"\",\"\",'Caseload Reporting'!L164)","v":""},{"$f":"IF('Caseload Reporting'!M164 = \"\",\"\",'Caseload Reporting'!M164)","v":""},{"$f":"IF('Caseload Reporting'!N164 = \"\",\"\",'Caseload Reporting'!N164)","v":""},{"$f":"IF('Caseload Reporting'!P164 = \"\",\"\",'Caseload Reporting'!P164)","v":""},{"$f":"IF('Caseload Reporting'!O164 = \"\",\"\",'Caseload Reporting'!O164)","v":""},{"$f":"IF('Caseload Reporting'!Q164 = \"\",\"\",'Caseload Reporting'!Q164)","v":""},{"$f":"IF('Caseload Reporting'!R164 = \"\",\"\",'Caseload Reporting'!R164)","v":""},{"$f":"IF('Caseload Reporting'!E164 = \"\",\"\",'Caseload Reporting'!E164)","v":""},{"$f":"IF('Caseload Reporting'!S164 = \"\",\"\",'Caseload Reporting'!S164)","v":""}]
[{"$f":"IF('Caseload Reporting'!A165 = \"\",\"\",'Caseload Reporting'!A165)","v":""},{"$f":"IF('Caseload Reporting'!B165 = \"\",\"\",'Caseload Reporting'!B165)","v":""},{"$f":"IF('Caseload Reporting'!C165 = \"\",\"\",'Caseload Reporting'!C165)","v":""},{"$f":"IF('Caseload Reporting'!D165 = \"\",\"\",'Caseload Reporting'!D165)","v":""},{"$f":"IF('Caseload Reporting'!G165 = \"\",\"\",'Caseload Reporting'!G165)","v":""},{"$f":"IF('Caseload Reporting'!H165 = \"\",\"\",'Caseload Reporting'!H165)","v":""},{"$f":"IF('Caseload Reporting'!I165 = \"\",\"\",'Caseload Reporting'!I165)","v":""},{"$f":"IF('Caseload Reporting'!J165 = \"\",\"\",'Caseload Reporting'!J165)","v":""},{"$f":"IF('Caseload Reporting'!K165 = \"\",\"\",'Caseload Reporting'!K165)","v":""},{"$f":"IF('Caseload Reporting'!L165 = \"\",\"\",'Caseload Reporting'!L165)","v":""},{"$f":"IF('Caseload Reporting'!M165 = \"\",\"\",'Caseload Reporting'!M165)","v":""},{"$f":"IF('Caseload Reporting'!N165 = \"\",\"\",'Caseload Reporting'!N165)","v":""},{"$f":"IF('Caseload Reporting'!P165 = \"\",\"\",'Caseload Reporting'!P165)","v":""},{"$f":"IF('Caseload Reporting'!O165 = \"\",\"\",'Caseload Reporting'!O165)","v":""},{"$f":"IF('Caseload Reporting'!Q165 = \"\",\"\",'Caseload Reporting'!Q165)","v":""},{"$f":"IF('Caseload Reporting'!R165 = \"\",\"\",'Caseload Reporting'!R165)","v":""},{"$f":"IF('Caseload Reporting'!E165 = \"\",\"\",'Caseload Reporting'!E165)","v":""},{"$f":"IF('Caseload Reporting'!S165 = \"\",\"\",'Caseload Reporting'!S165)","v":""}]
[{"$f":"IF('Caseload Reporting'!A166 = \"\",\"\",'Caseload Reporting'!A166)","v":""},{"$f":"IF('Caseload Reporting'!B166 = \"\",\"\",'Caseload Reporting'!B166)","v":""},{"$f":"IF('Caseload Reporting'!C166 = \"\",\"\",'Caseload Reporting'!C166)","v":""},{"$f":"IF('Caseload Reporting'!D166 = \"\",\"\",'Caseload Reporting'!D166)","v":""},{"$f":"IF('Caseload Reporting'!G166 = \"\",\"\",'Caseload Reporting'!G166)","v":""},{"$f":"IF('Caseload Reporting'!H166 = \"\",\"\",'Caseload Reporting'!H166)","v":""},{"$f":"IF('Caseload Reporting'!I166 = \"\",\"\",'Caseload Reporting'!I166)","v":""},{"$f":"IF('Caseload Reporting'!J166 = \"\",\"\",'Caseload Reporting'!J166)","v":""},{"$f":"IF('Caseload Reporting'!K166 = \"\",\"\",'Caseload Reporting'!K166)","v":""},{"$f":"IF('Caseload Reporting'!L166 = \"\",\"\",'Caseload Reporting'!L166)","v":""},{"$f":"IF('Caseload Reporting'!M166 = \"\",\"\",'Caseload Reporting'!M166)","v":""},{"$f":"IF('Caseload Reporting'!N166 = \"\",\"\",'Caseload Reporting'!N166)","v":""},{"$f":"IF('Caseload Reporting'!P166 = \"\",\"\",'Caseload Reporting'!P166)","v":""},{"$f":"IF('Caseload Reporting'!O166 = \"\",\"\",'Caseload Reporting'!O166)","v":""},{"$f":"IF('Caseload Reporting'!Q166 = \"\",\"\",'Caseload Reporting'!Q166)","v":""},{"$f":"IF('Caseload Reporting'!R166 = \"\",\"\",'Caseload Reporting'!R166)","v":""},{"$f":"IF('Caseload Reporting'!E166 = \"\",\"\",'Caseload Reporting'!E166)","v":""},{"$f":"IF('Caseload Reporting'!S166 = \"\",\"\",'Caseload Reporting'!S166)","v":""}]
[{"$f":"IF('Caseload Reporting'!A167 = \"\",\"\",'Caseload Reporting'!A167)","v":""},{"$f":"IF('Caseload Reporting'!B167 = \"\",\"\",'Caseload Reporting'!B167)","v":""},{"$f":"IF('Caseload Reporting'!C167 = \"\",\"\",'Caseload Reporting'!C167)","v":""},{"$f":"IF('Caseload Reporting'!D167 = \"\",\"\",'Caseload Reporting'!D167)","v":""},{"$f":"IF('Caseload Reporting'!G167 = \"\",\"\",'Caseload Reporting'!G167)","v":""},{"$f":"IF('Caseload Reporting'!H167 = \"\",\"\",'Caseload Reporting'!H167)","v":""},{"$f":"IF('Caseload Reporting'!I167 = \"\",\"\",'Caseload Reporting'!I167)","v":""},{"$f":"IF('Caseload Reporting'!J167 = \"\",\"\",'Caseload Reporting'!J167)","v":""},{"$f":"IF('Caseload Reporting'!K167 = \"\",\"\",'Caseload Reporting'!K167)","v":""},{"$f":"IF('Caseload Reporting'!L167 = \"\",\"\",'Caseload Reporting'!L167)","v":""},{"$f":"IF('Caseload Reporting'!M167 = \"\",\"\",'Caseload Reporting'!M167)","v":""},{"$f":"IF('Caseload Reporting'!N167 = \"\",\"\",'Caseload Reporting'!N167)","v":""},{"$f":"IF('Caseload Reporting'!P167 = \"\",\"\",'Caseload Reporting'!P167)","v":""},{"$f":"IF('Caseload Reporting'!O167 = \"\",\"\",'Caseload Reporting'!O167)","v":""},{"$f":"IF('Caseload Reporting'!Q167 = \"\",\"\",'Caseload Reporting'!Q167)","v":""},{"$f":"IF('Caseload Reporting'!R167 = \"\",\"\",'Caseload Reporting'!R167)","v":""},{"$f":"IF('Caseload Reporting'!E167 = \"\",\"\",'Caseload Reporting'!E167)","v":""},{"$f":"IF('Caseload Reporting'!S167 = \"\",\"\",'Caseload Reporting'!S167)","v":""}]
[{"$f":"IF('Caseload Reporting'!A168 = \"\",\"\",'Caseload Reporting'!A168)","v":""},{"$f":"IF('Caseload Reporting'!B168 = \"\",\"\",'Caseload Reporting'!B168)","v":""},{"$f":"IF('Caseload Reporting'!C168 = \"\",\"\",'Caseload Reporting'!C168)","v":""},{"$f":"IF('Caseload Reporting'!D168 = \"\",\"\",'Caseload Reporting'!D168)","v":""},{"$f":"IF('Caseload Reporting'!G168 = \"\",\"\",'Caseload Reporting'!G168)","v":""},{"$f":"IF('Caseload Reporting'!H168 = \"\",\"\",'Caseload Reporting'!H168)","v":""},{"$f":"IF('Caseload Reporting'!I168 = \"\",\"\",'Caseload Reporting'!I168)","v":""},{"$f":"IF('Caseload Reporting'!J168 = \"\",\"\",'Caseload Reporting'!J168)","v":""},{"$f":"IF('Caseload Reporting'!K168 = \"\",\"\",'Caseload Reporting'!K168)","v":""},{"$f":"IF('Caseload Reporting'!L168 = \"\",\"\",'Caseload Reporting'!L168)","v":""},{"$f":"IF('Caseload Reporting'!M168 = \"\",\"\",'Caseload Reporting'!M168)","v":""},{"$f":"IF('Caseload Reporting'!N168 = \"\",\"\",'Caseload Reporting'!N168)","v":""},{"$f":"IF('Caseload Reporting'!P168 = \"\",\"\",'Caseload Reporting'!P168)","v":""},{"$f":"IF('Caseload Reporting'!O168 = \"\",\"\",'Caseload Reporting'!O168)","v":""},{"$f":"IF('Caseload Reporting'!Q168 = \"\",\"\",'Caseload Reporting'!Q168)","v":""},{"$f":"IF('Caseload Reporting'!R168 = \"\",\"\",'Caseload Reporting'!R168)","v":""},{"$f":"IF('Caseload Reporting'!E168 = \"\",\"\",'Caseload Reporting'!E168)","v":""},{"$f":"IF('Caseload Reporting'!S168 = \"\",\"\",'Caseload Reporting'!S168)","v":""}]
[{"$f":"IF('Caseload Reporting'!A169 = \"\",\"\",'Caseload Reporting'!A169)","v":""},{"$f":"IF('Caseload Reporting'!B169 = \"\",\"\",'Caseload Reporting'!B169)","v":""},{"$f":"IF('Caseload Reporting'!C169 = \"\",\"\",'Caseload Reporting'!C169)","v":""},{"$f":"IF('Caseload Reporting'!D169 = \"\",\"\",'Caseload Reporting'!D169)","v":""},{"$f":"IF('Caseload Reporting'!G169 = \"\",\"\",'Caseload Reporting'!G169)","v":""},{"$f":"IF('Caseload Reporting'!H169 = \"\",\"\",'Caseload Reporting'!H169)","v":""},{"$f":"IF('Caseload Reporting'!I169 = \"\",\"\",'Caseload Reporting'!I169)","v":""},{"$f":"IF('Caseload Reporting'!J169 = \"\",\"\",'Caseload Reporting'!J169)","v":""},{"$f":"IF('Caseload Reporting'!K169 = \"\",\"\",'Caseload Reporting'!K169)","v":""},{"$f":"IF('Caseload Reporting'!L169 = \"\",\"\",'Caseload Reporting'!L169)","v":""},{"$f":"IF('Caseload Reporting'!M169 = \"\",\"\",'Caseload Reporting'!M169)","v":""},{"$f":"IF('Caseload Reporting'!N169 = \"\",\"\",'Caseload Reporting'!N169)","v":""},{"$f":"IF('Caseload Reporting'!P169 = \"\",\"\",'Caseload Reporting'!P169)","v":""},{"$f":"IF('Caseload Reporting'!O169 = \"\",\"\",'Caseload Reporting'!O169)","v":""},{"$f":"IF('Caseload Reporting'!Q169 = \"\",\"\",'Caseload Reporting'!Q169)","v":""},{"$f":"IF('Caseload Reporting'!R169 = \"\",\"\",'Caseload Reporting'!R169)","v":""},{"$f":"IF('Caseload Reporting'!E169 = \"\",\"\",'Caseload Reporting'!E169)","v":""},{"$f":"IF('Caseload Reporting'!S169 = \"\",\"\",'Caseload Reporting'!S169)","v":""}]
[{"$f":"IF('Caseload Reporting'!A170 = \"\",\"\",'Caseload Reporting'!A170)","v":""},{"$f":"IF('Caseload Reporting'!B170 = \"\",\"\",'Caseload Reporting'!B170)","v":""},{"$f":"IF('Caseload Reporting'!C170 = \"\",\"\",'Caseload Reporting'!C170)","v":""},{"$f":"IF('Caseload Reporting'!D170 = \"\",\"\",'Caseload Reporting'!D170)","v":""},{"$f":"IF('Caseload Reporting'!G170 = \"\",\"\",'Caseload Reporting'!G170)","v":""},{"$f":"IF('Caseload Reporting'!H170 = \"\",\"\",'Caseload Reporting'!H170)","v":""},{"$f":"IF('Caseload Reporting'!I170 = \"\",\"\",'Caseload Reporting'!I170)","v":""},{"$f":"IF('Caseload Reporting'!J170 = \"\",\"\",'Caseload Reporting'!J170)","v":""},{"$f":"IF('Caseload Reporting'!K170 = \"\",\"\",'Caseload Reporting'!K170)","v":""},{"$f":"IF('Caseload Reporting'!L170 = \"\",\"\",'Caseload Reporting'!L170)","v":""},{"$f":"IF('Caseload Reporting'!M170 = \"\",\"\",'Caseload Reporting'!M170)","v":""},{"$f":"IF('Caseload Reporting'!N170 = \"\",\"\",'Caseload Reporting'!N170)","v":""},{"$f":"IF('Caseload Reporting'!P170 = \"\",\"\",'Caseload Reporting'!P170)","v":""},{"$f":"IF('Caseload Reporting'!O170 = \"\",\"\",'Caseload Reporting'!O170)","v":""},{"$f":"IF('Caseload Reporting'!Q170 = \"\",\"\",'Caseload Reporting'!Q170)","v":""},{"$f":"IF('Caseload Reporting'!R170 = \"\",\"\",'Caseload Reporting'!R170)","v":""},{"$f":"IF('Caseload Reporting'!E170 = \"\",\"\",'Caseload Reporting'!E170)","v":""},{"$f":"IF('Caseload Reporting'!S170 = \"\",\"\",'Caseload Reporting'!S170)","v":""}]
[{"$f":"IF('Caseload Reporting'!A171 = \"\",\"\",'Caseload Reporting'!A171)","v":""},{"$f":"IF('Caseload Reporting'!B171 = \"\",\"\",'Caseload Reporting'!B171)","v":""},{"$f":"IF('Caseload Reporting'!C171 = \"\",\"\",'Caseload Reporting'!C171)","v":""},{"$f":"IF('Caseload Reporting'!D171 = \"\",\"\",'Caseload Reporting'!D171)","v":""},{"$f":"IF('Caseload Reporting'!G171 = \"\",\"\",'Caseload Reporting'!G171)","v":""},{"$f":"IF('Caseload Reporting'!H171 = \"\",\"\",'Caseload Reporting'!H171)","v":""},{"$f":"IF('Caseload Reporting'!I171 = \"\",\"\",'Caseload Reporting'!I171)","v":""},{"$f":"IF('Caseload Reporting'!J171 = \"\",\"\",'Caseload Reporting'!J171)","v":""},{"$f":"IF('Caseload Reporting'!K171 = \"\",\"\",'Caseload Reporting'!K171)","v":""},{"$f":"IF('Caseload Reporting'!L171 = \"\",\"\",'Caseload Reporting'!L171)","v":""},{"$f":"IF('Caseload Reporting'!M171 = \"\",\"\",'Caseload Reporting'!M171)","v":""},{"$f":"IF('Caseload Reporting'!N171 = \"\",\"\",'Caseload Reporting'!N171)","v":""},{"$f":"IF('Caseload Reporting'!P171 = \"\",\"\",'Caseload Reporting'!P171)","v":""},{"$f":"IF('Caseload Reporting'!O171 = \"\",\"\",'Caseload Reporting'!O171)","v":""},{"$f":"IF('Caseload Reporting'!Q171 = \"\",\"\",'Caseload Reporting'!Q171)","v":""},{"$f":"IF('Caseload Reporting'!R171 = \"\",\"\",'Caseload Reporting'!R171)","v":""},{"$f":"IF('Caseload Reporting'!E171 = \"\",\"\",'Caseload Reporting'!E171)","v":""},{"$f":"IF('Caseload Reporting'!S171 = \"\",\"\",'Caseload Reporting'!S171)","v":""}]
[{"$f":"IF('Caseload Reporting'!A172 = \"\",\"\",'Caseload Reporting'!A172)","v":""},{"$f":"IF('Caseload Reporting'!B172 = \"\",\"\",'Caseload Reporting'!B172)","v":""},{"$f":"IF('Caseload Reporting'!C172 = \"\",\"\",'Caseload Reporting'!C172)","v":""},{"$f":"IF('Caseload Reporting'!D172 = \"\",\"\",'Caseload Reporting'!D172)","v":""},{"$f":"IF('Caseload Reporting'!G172 = \"\",\"\",'Caseload Reporting'!G172)","v":""},{"$f":"IF('Caseload Reporting'!H172 = \"\",\"\",'Caseload Reporting'!H172)","v":""},{"$f":"IF('Caseload Reporting'!I172 = \"\",\"\",'Caseload Reporting'!I172)","v":""},{"$f":"IF('Caseload Reporting'!J172 = \"\",\"\",'Caseload Reporting'!J172)","v":""},{"$f":"IF('Caseload Reporting'!K172 = \"\",\"\",'Caseload Reporting'!K172)","v":""},{"$f":"IF('Caseload Reporting'!L172 = \"\",\"\",'Caseload Reporting'!L172)","v":""},{"$f":"IF('Caseload Reporting'!M172 = \"\",\"\",'Caseload Reporting'!M172)","v":""},{"$f":"IF('Caseload Reporting'!N172 = \"\",\"\",'Caseload Reporting'!N172)","v":""},{"$f":"IF('Caseload Reporting'!P172 = \"\",\"\",'Caseload Reporting'!P172)","v":""},{"$f":"IF('Caseload Reporting'!O172 = \"\",\"\",'Caseload Reporting'!O172)","v":""},{"$f":"IF('Caseload Reporting'!Q172 = \"\",\"\",'Caseload Reporting'!Q172)","v":""},{"$f":"IF('Caseload Reporting'!R172 = \"\",\"\",'Caseload Reporting'!R172)","v":""},{"$f":"IF('Caseload Reporting'!E172 = \"\",\"\",'Caseload Reporting'!E172)","v":""},{"$f":"IF('Caseload Reporting'!S172 = \"\",\"\",'Caseload Reporting'!S172)","v":""}]
[{"$f":"IF('Caseload Reporting'!A173 = \"\",\"\",'Caseload Reporting'!A173)","v":""},{"$f":"IF('Caseload Reporting'!B173 = \"\",\"\",'Caseload Reporting'!B173)","v":""},{"$f":"IF('Caseload Reporting'!C173 = \"\",\"\",'Caseload Reporting'!C173)","v":""},{"$f":"IF('Caseload Reporting'!D173 = \"\",\"\",'Caseload Reporting'!D173)","v":""},{"$f":"IF('Caseload Reporting'!G173 = \"\",\"\",'Caseload Reporting'!G173)","v":""},{"$f":"IF('Caseload Reporting'!H173 = \"\",\"\",'Caseload Reporting'!H173)","v":""},{"$f":"IF('Caseload Reporting'!I173 = \"\",\"\",'Caseload Reporting'!I173)","v":""},{"$f":"IF('Caseload Reporting'!J173 = \"\",\"\",'Caseload Reporting'!J173)","v":""},{"$f":"IF('Caseload Reporting'!K173 = \"\",\"\",'Caseload Reporting'!K173)","v":""},{"$f":"IF('Caseload Reporting'!L173 = \"\",\"\",'Caseload Reporting'!L173)","v":""},{"$f":"IF('Caseload Reporting'!M173 = \"\",\"\",'Caseload Reporting'!M173)","v":""},{"$f":"IF('Caseload Reporting'!N173 = \"\",\"\",'Caseload Reporting'!N173)","v":""},{"$f":"IF('Caseload Reporting'!P173 = \"\",\"\",'Caseload Reporting'!P173)","v":""},{"$f":"IF('Caseload Reporting'!O173 = \"\",\"\",'Caseload Reporting'!O173)","v":""},{"$f":"IF('Caseload Reporting'!Q173 = \"\",\"\",'Caseload Reporting'!Q173)","v":""},{"$f":"IF('Caseload Reporting'!R173 = \"\",\"\",'Caseload Reporting'!R173)","v":""},{"$f":"IF('Caseload Reporting'!E173 = \"\",\"\",'Caseload Reporting'!E173)","v":""},{"$f":"IF('Caseload Reporting'!S173 = \"\",\"\",'Caseload Reporting'!S173)","v":""}]
[{"$f":"IF('Caseload Reporting'!A174 = \"\",\"\",'Caseload Reporting'!A174)","v":""},{"$f":"IF('Caseload Reporting'!B174 = \"\",\"\",'Caseload Reporting'!B174)","v":""},{"$f":"IF('Caseload Reporting'!C174 = \"\",\"\",'Caseload Reporting'!C174)","v":""},{"$f":"IF('Caseload Reporting'!D174 = \"\",\"\",'Caseload Reporting'!D174)","v":""},{"$f":"IF('Caseload Reporting'!G174 = \"\",\"\",'Caseload Reporting'!G174)","v":""},{"$f":"IF('Caseload Reporting'!H174 = \"\",\"\",'Caseload Reporting'!H174)","v":""},{"$f":"IF('Caseload Reporting'!I174 = \"\",\"\",'Caseload Reporting'!I174)","v":""},{"$f":"IF('Caseload Reporting'!J174 = \"\",\"\",'Caseload Reporting'!J174)","v":""},{"$f":"IF('Caseload Reporting'!K174 = \"\",\"\",'Caseload Reporting'!K174)","v":""},{"$f":"IF('Caseload Reporting'!L174 = \"\",\"\",'Caseload Reporting'!L174)","v":""},{"$f":"IF('Caseload Reporting'!M174 = \"\",\"\",'Caseload Reporting'!M174)","v":""},{"$f":"IF('Caseload Reporting'!N174 = \"\",\"\",'Caseload Reporting'!N174)","v":""},{"$f":"IF('Caseload Reporting'!P174 = \"\",\"\",'Caseload Reporting'!P174)","v":""},{"$f":"IF('Caseload Reporting'!O174 = \"\",\"\",'Caseload Reporting'!O174)","v":""},{"$f":"IF('Caseload Reporting'!Q174 = \"\",\"\",'Caseload Reporting'!Q174)","v":""},{"$f":"IF('Caseload Reporting'!R174 = \"\",\"\",'Caseload Reporting'!R174)","v":""},{"$f":"IF('Caseload Reporting'!E174 = \"\",\"\",'Caseload Reporting'!E174)","v":""},{"$f":"IF('Caseload Reporting'!S174 = \"\",\"\",'Caseload Reporting'!S174)","v":""}]
[{"$f":"IF('Caseload Reporting'!A175 = \"\",\"\",'Caseload Reporting'!A175)","v":""},{"$f":"IF('Caseload Reporting'!B175 = \"\",\"\",'Caseload Reporting'!B175)","v":""},{"$f":"IF('Caseload Reporting'!C175 = \"\",\"\",'Caseload Reporting'!C175)","v":""},{"$f":"IF('Caseload Reporting'!D175 = \"\",\"\",'Caseload Reporting'!D175)","v":""},{"$f":"IF('Caseload Reporting'!G175 = \"\",\"\",'Caseload Reporting'!G175)","v":""},{"$f":"IF('Caseload Reporting'!H175 = \"\",\"\",'Caseload Reporting'!H175)","v":""},{"$f":"IF('Caseload Reporting'!I175 = \"\",\"\",'Caseload Reporting'!I175)","v":""},{"$f":"IF('Caseload Reporting'!J175 = \"\",\"\",'Caseload Reporting'!J175)","v":""},{"$f":"IF('Caseload Reporting'!K175 = \"\",\"\",'Caseload Reporting'!K175)","v":""},{"$f":"IF('Caseload Reporting'!L175 = \"\",\"\",'Caseload Reporting'!L175)","v":""},{"$f":"IF('Caseload Reporting'!M175 = \"\",\"\",'Caseload Reporting'!M175)","v":""},{"$f":"IF('Caseload Reporting'!N175 = \"\",\"\",'Caseload Reporting'!N175)","v":""},{"$f":"IF('Caseload Reporting'!P175 = \"\",\"\",'Caseload Reporting'!P175)","v":""},{"$f":"IF('Caseload Reporting'!O175 = \"\",\"\",'Caseload Reporting'!O175)","v":""},{"$f":"IF('Caseload Reporting'!Q175 = \"\",\"\",'Caseload Reporting'!Q175)","v":""},{"$f":"IF('Caseload Reporting'!R175 = \"\",\"\",'Caseload Reporting'!R175)","v":""},{"$f":"IF('Caseload Reporting'!E175 = \"\",\"\",'Caseload Reporting'!E175)","v":""},{"$f":"IF('Caseload Reporting'!S175 = \"\",\"\",'Caseload Reporting'!S175)","v":""}]
[{"$f":"IF('Caseload Reporting'!A176 = \"\",\"\",'Caseload Reporting'!A176)","v":""},{"$f":"IF('Caseload Reporting'!B176 = \"\",\"\",'Caseload Reporting'!B176)","v":""},{"$f":"IF('Caseload Reporting'!C176 = \"\",\"\",'Caseload Reporting'!C176)","v":""},{"$f":"IF('Caseload Reporting'!D176 = \"\",\"\",'Caseload Reporting'!D176)","v":""},{"$f":"IF('Caseload Reporting'!G176 = \"\",\"\",'Caseload Reporting'!G176)","v":""},{"$f":"IF('Caseload Reporting'!H176 = \"\",\"\",'Caseload Reporting'!H176)","v":""},{"$f":"IF('Caseload Reporting'!I176 = \"\",\"\",'Caseload Reporting'!I176)","v":""},{"$f":"IF('Caseload Reporting'!J176 = \"\",\"\",'Caseload Reporting'!J176)","v":""},{"$f":"IF('Caseload Reporting'!K176 = \"\",\"\",'Caseload Reporting'!K176)","v":""},{"$f":"IF('Caseload Reporting'!L176 = \"\",\"\",'Caseload Reporting'!L176)","v":""},{"$f":"IF('Caseload Reporting'!M176 = \"\",\"\",'Caseload Reporting'!M176)","v":""},{"$f":"IF('Caseload Reporting'!N176 = \"\",\"\",'Caseload Reporting'!N176)","v":""},{"$f":"IF('Caseload Reporting'!P176 = \"\",\"\",'Caseload Reporting'!P176)","v":""},{"$f":"IF('Caseload Reporting'!O176 = \"\",\"\",'Caseload Reporting'!O176)","v":""},{"$f":"IF('Caseload Reporting'!Q176 = \"\",\"\",'Caseload Reporting'!Q176)","v":""},{"$f":"IF('Caseload Reporting'!R176 = \"\",\"\",'Caseload Reporting'!R176)","v":""},{"$f":"IF('Caseload Reporting'!E176 = \"\",\"\",'Caseload Reporting'!E176)","v":""},{"$f":"IF('Caseload Reporting'!S176 = \"\",\"\",'Caseload Reporting'!S176)","v":""}]
[{"$f":"IF('Caseload Reporting'!A177 = \"\",\"\",'Caseload Reporting'!A177)","v":""},{"$f":"IF('Caseload Reporting'!B177 = \"\",\"\",'Caseload Reporting'!B177)","v":""},{"$f":"IF('Caseload Reporting'!C177 = \"\",\"\",'Caseload Reporting'!C177)","v":""},{"$f":"IF('Caseload Reporting'!D177 = \"\",\"\",'Caseload Reporting'!D177)","v":""},{"$f":"IF('Caseload Reporting'!G177 = \"\",\"\",'Caseload Reporting'!G177)","v":""},{"$f":"IF('Caseload Reporting'!H177 = \"\",\"\",'Caseload Reporting'!H177)","v":""},{"$f":"IF('Caseload Reporting'!I177 = \"\",\"\",'Caseload Reporting'!I177)","v":""},{"$f":"IF('Caseload Reporting'!J177 = \"\",\"\",'Caseload Reporting'!J177)","v":""},{"$f":"IF('Caseload Reporting'!K177 = \"\",\"\",'Caseload Reporting'!K177)","v":""},{"$f":"IF('Caseload Reporting'!L177 = \"\",\"\",'Caseload Reporting'!L177)","v":""},{"$f":"IF('Caseload Reporting'!M177 = \"\",\"\",'Caseload Reporting'!M177)","v":""},{"$f":"IF('Caseload Reporting'!N177 = \"\",\"\",'Caseload Reporting'!N177)","v":""},{"$f":"IF('Caseload Reporting'!P177 = \"\",\"\",'Caseload Reporting'!P177)","v":""},{"$f":"IF('Caseload Reporting'!O177 = \"\",\"\",'Caseload Reporting'!O177)","v":""},{"$f":"IF('Caseload Reporting'!Q177 = \"\",\"\",'Caseload Reporting'!Q177)","v":""},{"$f":"IF('Caseload Reporting'!R177 = \"\",\"\",'Caseload Reporting'!R177)","v":""},{"$f":"IF('Caseload Reporting'!E177 = \"\",\"\",'Caseload Reporting'!E177)","v":""},{"$f":"IF('Caseload Reporting'!S177 = \"\",\"\",'Caseload Reporting'!S177)","v":""}]
[{"$f":"IF('Caseload Reporting'!A178 = \"\",\"\",'Caseload Reporting'!A178)","v":""},{"$f":"IF('Caseload Reporting'!B178 = \"\",\"\",'Caseload Reporting'!B178)","v":""},{"$f":"IF('Caseload Reporting'!C178 = \"\",\"\",'Caseload Reporting'!C178)","v":""},{"$f":"IF('Caseload Reporting'!D178 = \"\",\"\",'Caseload Reporting'!D178)","v":""},{"$f":"IF('Caseload Reporting'!G178 = \"\",\"\",'Caseload Reporting'!G178)","v":""},{"$f":"IF('Caseload Reporting'!H178 = \"\",\"\",'Caseload Reporting'!H178)","v":""},{"$f":"IF('Caseload Reporting'!I178 = \"\",\"\",'Caseload Reporting'!I178)","v":""},{"$f":"IF('Caseload Reporting'!J178 = \"\",\"\",'Caseload Reporting'!J178)","v":""},{"$f":"IF('Caseload Reporting'!K178 = \"\",\"\",'Caseload Reporting'!K178)","v":""},{"$f":"IF('Caseload Reporting'!L178 = \"\",\"\",'Caseload Reporting'!L178)","v":""},{"$f":"IF('Caseload Reporting'!M178 = \"\",\"\",'Caseload Reporting'!M178)","v":""},{"$f":"IF('Caseload Reporting'!N178 = \"\",\"\",'Caseload Reporting'!N178)","v":""},{"$f":"IF('Caseload Reporting'!P178 = \"\",\"\",'Caseload Reporting'!P178)","v":""},{"$f":"IF('Caseload Reporting'!O178 = \"\",\"\",'Caseload Reporting'!O178)","v":""},{"$f":"IF('Caseload Reporting'!Q178 = \"\",\"\",'Caseload Reporting'!Q178)","v":""},{"$f":"IF('Caseload Reporting'!R178 = \"\",\"\",'Caseload Reporting'!R178)","v":""},{"$f":"IF('Caseload Reporting'!E178 = \"\",\"\",'Caseload Reporting'!E178)","v":""},{"$f":"IF('Caseload Reporting'!S178 = \"\",\"\",'Caseload Reporting'!S178)","v":""}]
[{"$f":"IF('Caseload Reporting'!A179 = \"\",\"\",'Caseload Reporting'!A179)","v":""},{"$f":"IF('Caseload Reporting'!B179 = \"\",\"\",'Caseload Reporting'!B179)","v":""},{"$f":"IF('Caseload Reporting'!C179 = \"\",\"\",'Caseload Reporting'!C179)","v":""},{"$f":"IF('Caseload Reporting'!D179 = \"\",\"\",'Caseload Reporting'!D179)","v":""},{"$f":"IF('Caseload Reporting'!G179 = \"\",\"\",'Caseload Reporting'!G179)","v":""},{"$f":"IF('Caseload Reporting'!H179 = \"\",\"\",'Caseload Reporting'!H179)","v":""},{"$f":"IF('Caseload Reporting'!I179 = \"\",\"\",'Caseload Reporting'!I179)","v":""},{"$f":"IF('Caseload Reporting'!J179 = \"\",\"\",'Caseload Reporting'!J179)","v":""},{"$f":"IF('Caseload Reporting'!K179 = \"\",\"\",'Caseload Reporting'!K179)","v":""},{"$f":"IF('Caseload Reporting'!L179 = \"\",\"\",'Caseload Reporting'!L179)","v":""},{"$f":"IF('Caseload Reporting'!M179 = \"\",\"\",'Caseload Reporting'!M179)","v":""},{"$f":"IF('Caseload Reporting'!N179 = \"\",\"\",'Caseload Reporting'!N179)","v":""},{"$f":"IF('Caseload Reporting'!P179 = \"\",\"\",'Caseload Reporting'!P179)","v":""},{"$f":"IF('Caseload Reporting'!O179 = \"\",\"\",'Caseload Reporting'!O179)","v":""},{"$f":"IF('Caseload Reporting'!Q179 = \"\",\"\",'Caseload Reporting'!Q179)","v":""},{"$f":"IF('Caseload Reporting'!R179 = \"\",\"\",'Caseload Reporting'!R179)","v":""},{"$f":"IF('Caseload Reporting'!E179 = \"\",\"\",'Caseload Reporting'!E179)","v":""},{"$f":"IF('Caseload Reporting'!S179 = \"\",\"\",'Caseload Reporting'!S179)","v":""}]
[{"$f":"IF('Caseload Reporting'!A180 = \"\",\"\",'Caseload Reporting'!A180)","v":""},{"$f":"IF('Caseload Reporting'!B180 = \"\",\"\",'Caseload Reporting'!B180)","v":""},{"$f":"IF('Caseload Reporting'!C180 = \"\",\"\",'Caseload Reporting'!C180)","v":""},{"$f":"IF('Caseload Reporting'!D180 = \"\",\"\",'Caseload Reporting'!D180)","v":""},{"$f":"IF('Caseload Reporting'!G180 = \"\",\"\",'Caseload Reporting'!G180)","v":""},{"$f":"IF('Caseload Reporting'!H180 = \"\",\"\",'Caseload Reporting'!H180)","v":""},{"$f":"IF('Caseload Reporting'!I180 = \"\",\"\",'Caseload Reporting'!I180)","v":""},{"$f":"IF('Caseload Reporting'!J180 = \"\",\"\",'Caseload Reporting'!J180)","v":""},{"$f":"IF('Caseload Reporting'!K180 = \"\",\"\",'Caseload Reporting'!K180)","v":""},{"$f":"IF('Caseload Reporting'!L180 = \"\",\"\",'Caseload Reporting'!L180)","v":""},{"$f":"IF('Caseload Reporting'!M180 = \"\",\"\",'Caseload Reporting'!M180)","v":""},{"$f":"IF('Caseload Reporting'!N180 = \"\",\"\",'Caseload Reporting'!N180)","v":""},{"$f":"IF('Caseload Reporting'!P180 = \"\",\"\",'Caseload Reporting'!P180)","v":""},{"$f":"IF('Caseload Reporting'!O180 = \"\",\"\",'Caseload Reporting'!O180)","v":""},{"$f":"IF('Caseload Reporting'!Q180 = \"\",\"\",'Caseload Reporting'!Q180)","v":""},{"$f":"IF('Caseload Reporting'!R180 = \"\",\"\",'Caseload Reporting'!R180)","v":""},{"$f":"IF('Caseload Reporting'!E180 = \"\",\"\",'Caseload Reporting'!E180)","v":""},{"$f":"IF('Caseload Reporting'!S180 = \"\",\"\",'Caseload Reporting'!S180)","v":""}]
[{"$f":"IF('Caseload Reporting'!A181 = \"\",\"\",'Caseload Reporting'!A181)","v":""},{"$f":"IF('Caseload Reporting'!B181 = \"\",\"\",'Caseload Reporting'!B181)","v":""},{"$f":"IF('Caseload Reporting'!C181 = \"\",\"\",'Caseload Reporting'!C181)","v":""},{"$f":"IF('Caseload Reporting'!D181 = \"\",\"\",'Caseload Reporting'!D181)","v":""},{"$f":"IF('Caseload Reporting'!G181 = \"\",\"\",'Caseload Reporting'!G181)","v":""},{"$f":"IF('Caseload Reporting'!H181 = \"\",\"\",'Caseload Reporting'!H181)","v":""},{"$f":"IF('Caseload Reporting'!I181 = \"\",\"\",'Caseload Reporting'!I181)","v":""},{"$f":"IF('Caseload Reporting'!J181 = \"\",\"\",'Caseload Reporting'!J181)","v":""},{"$f":"IF('Caseload Reporting'!K181 = \"\",\"\",'Caseload Reporting'!K181)","v":""},{"$f":"IF('Caseload Reporting'!L181 = \"\",\"\",'Caseload Reporting'!L181)","v":""},{"$f":"IF('Caseload Reporting'!M181 = \"\",\"\",'Caseload Reporting'!M181)","v":""},{"$f":"IF('Caseload Reporting'!N181 = \"\",\"\",'Caseload Reporting'!N181)","v":""},{"$f":"IF('Caseload Reporting'!P181 = \"\",\"\",'Caseload Reporting'!P181)","v":""},{"$f":"IF('Caseload Reporting'!O181 = \"\",\"\",'Caseload Reporting'!O181)","v":""},{"$f":"IF('Caseload Reporting'!Q181 = \"\",\"\",'Caseload Reporting'!Q181)","v":""},{"$f":"IF('Caseload Reporting'!R181 = \"\",\"\",'Caseload Reporting'!R181)","v":""},{"$f":"IF('Caseload Reporting'!E181 = \"\",\"\",'Caseload Reporting'!E181)","v":""},{"$f":"IF('Caseload Reporting'!S181 = \"\",\"\",'Caseload Reporting'!S181)","v":""}]
[{"$f":"IF('Caseload Reporting'!A182 = \"\",\"\",'Caseload Reporting'!A182)","v":""},{"$f":"IF('Caseload Reporting'!B182 = \"\",\"\",'Caseload Reporting'!B182)","v":""},{"$f":"IF('Caseload Reporting'!C182 = \"\",\"\",'Caseload Reporting'!C182)","v":""},{"$f":"IF('Caseload Reporting'!D182 = \"\",\"\",'Caseload Reporting'!D182)","v":""},{"$f":"IF('Caseload Reporting'!G182 = \"\",\"\",'Caseload Reporting'!G182)","v":""},{"$f":"IF('Caseload Reporting'!H182 = \"\",\"\",'Caseload Reporting'!H182)","v":""},{"$f":"IF('Caseload Reporting'!I182 = \"\",\"\",'Caseload Reporting'!I182)","v":""},{"$f":"IF('Caseload Reporting'!J182 = \"\",\"\",'Caseload Reporting'!J182)","v":""},{"$f":"IF('Caseload Reporting'!K182 = \"\",\"\",'Caseload Reporting'!K182)","v":""},{"$f":"IF('Caseload Reporting'!L182 = \"\",\"\",'Caseload Reporting'!L182)","v":""},{"$f":"IF('Caseload Reporting'!M182 = \"\",\"\",'Caseload Reporting'!M182)","v":""},{"$f":"IF('Caseload Reporting'!N182 = \"\",\"\",'Caseload Reporting'!N182)","v":""},{"$f":"IF('Caseload Reporting'!P182 = \"\",\"\",'Caseload Reporting'!P182)","v":""},{"$f":"IF('Caseload Reporting'!O182 = \"\",\"\",'Caseload Reporting'!O182)","v":""},{"$f":"IF('Caseload Reporting'!Q182 = \"\",\"\",'Caseload Reporting'!Q182)","v":""},{"$f":"IF('Caseload Reporting'!R182 = \"\",\"\",'Caseload Reporting'!R182)","v":""},{"$f":"IF('Caseload Reporting'!E182 = \"\",\"\",'Caseload Reporting'!E182)","v":""},{"$f":"IF('Caseload Reporting'!S182 = \"\",\"\",'Caseload Reporting'!S182)","v":""}]
[{"$f":"IF('Caseload Reporting'!A183 = \"\",\"\",'Caseload Reporting'!A183)","v":""},{"$f":"IF('Caseload Reporting'!B183 = \"\",\"\",'Caseload Reporting'!B183)","v":""},{"$f":"IF('Caseload Reporting'!C183 = \"\",\"\",'Caseload Reporting'!C183)","v":""},{"$f":"IF('Caseload Reporting'!D183 = \"\",\"\",'Caseload Reporting'!D183)","v":""},{"$f":"IF('Caseload Reporting'!G183 = \"\",\"\",'Caseload Reporting'!G183)","v":""},{"$f":"IF('Caseload Reporting'!H183 = \"\",\"\",'Caseload Reporting'!H183)","v":""},{"$f":"IF('Caseload Reporting'!I183 = \"\",\"\",'Caseload Reporting'!I183)","v":""},{"$f":"IF('Caseload Reporting'!J183 = \"\",\"\",'Caseload Reporting'!J183)","v":""},{"$f":"IF('Caseload Reporting'!K183 = \"\",\"\",'Caseload Reporting'!K183)","v":""},{"$f":"IF('Caseload Reporting'!L183 = \"\",\"\",'Caseload Reporting'!L183)","v":""},{"$f":"IF('Caseload Reporting'!M183 = \"\",\"\",'Caseload Reporting'!M183)","v":""},{"$f":"IF('Caseload Reporting'!N183 = \"\",\"\",'Caseload Reporting'!N183)","v":""},{"$f":"IF('Caseload Reporting'!P183 = \"\",\"\",'Caseload Reporting'!P183)","v":""},{"$f":"IF('Caseload Reporting'!O183 = \"\",\"\",'Caseload Reporting'!O183)","v":""},{"$f":"IF('Caseload Reporting'!Q183 = \"\",\"\",'Caseload Reporting'!Q183)","v":""},{"$f":"IF('Caseload Reporting'!R183 = \"\",\"\",'Caseload Reporting'!R183)","v":""},{"$f":"IF('Caseload Reporting'!E183 = \"\",\"\",'Caseload Reporting'!E183)","v":""},{"$f":"IF('Caseload Reporting'!S183 = \"\",\"\",'Caseload Reporting'!S183)","v":""}]
[{"$f":"IF('Caseload Reporting'!A184 = \"\",\"\",'Caseload Reporting'!A184)","v":""},{"$f":"IF('Caseload Reporting'!B184 = \"\",\"\",'Caseload Reporting'!B184)","v":""},{"$f":"IF('Caseload Reporting'!C184 = \"\",\"\",'Caseload Reporting'!C184)","v":""},{"$f":"IF('Caseload Reporting'!D184 = \"\",\"\",'Caseload Reporting'!D184)","v":""},{"$f":"IF('Caseload Reporting'!G184 = \"\",\"\",'Caseload Reporting'!G184)","v":""},{"$f":"IF('Caseload Reporting'!H184 = \"\",\"\",'Caseload Reporting'!H184)","v":""},{"$f":"IF('Caseload Reporting'!I184 = \"\",\"\",'Caseload Reporting'!I184)","v":""},{"$f":"IF('Caseload Reporting'!J184 = \"\",\"\",'Caseload Reporting'!J184)","v":""},{"$f":"IF('Caseload Reporting'!K184 = \"\",\"\",'Caseload Reporting'!K184)","v":""},{"$f":"IF('Caseload Reporting'!L184 = \"\",\"\",'Caseload Reporting'!L184)","v":""},{"$f":"IF('Caseload Reporting'!M184 = \"\",\"\",'Caseload Reporting'!M184)","v":""},{"$f":"IF('Caseload Reporting'!N184 = \"\",\"\",'Caseload Reporting'!N184)","v":""},{"$f":"IF('Caseload Reporting'!P184 = \"\",\"\",'Caseload Reporting'!P184)","v":""},{"$f":"IF('Caseload Reporting'!O184 = \"\",\"\",'Caseload Reporting'!O184)","v":""},{"$f":"IF('Caseload Reporting'!Q184 = \"\",\"\",'Caseload Reporting'!Q184)","v":""},{"$f":"IF('Caseload Reporting'!R184 = \"\",\"\",'Caseload Reporting'!R184)","v":""},{"$f":"IF('Caseload Reporting'!E184 = \"\",\"\",'Caseload Reporting'!E184)","v":""},{"$f":"IF('Caseload Reporting'!S184 = \"\",\"\",'Caseload Reporting'!S184)","v":""}]
[{"$f":"IF('Caseload Reporting'!A185 = \"\",\"\",'Caseload Reporting'!A185)","v":""},{"$f":"IF('Caseload Reporting'!B185 = \"\",\"\",'Caseload Reporting'!B185)","v":""},{"$f":"IF('Caseload Reporting'!C185 = \"\",\"\",'Caseload Reporting'!C185)","v":""},{"$f":"IF('Caseload Reporting'!D185 = \"\",\"\",'Caseload Reporting'!D185)","v":""},{"$f":"IF('Caseload Reporting'!G185 = \"\",\"\",'Caseload Reporting'!G185)","v":""},{"$f":"IF('Caseload Reporting'!H185 = \"\",\"\",'Caseload Reporting'!H185)","v":""},{"$f":"IF('Caseload Reporting'!I185 = \"\",\"\",'Caseload Reporting'!I185)","v":""},{"$f":"IF('Caseload Reporting'!J185 = \"\",\"\",'Caseload Reporting'!J185)","v":""},{"$f":"IF('Caseload Reporting'!K185 = \"\",\"\",'Caseload Reporting'!K185)","v":""},{"$f":"IF('Caseload Reporting'!L185 = \"\",\"\",'Caseload Reporting'!L185)","v":""},{"$f":"IF('Caseload Reporting'!M185 = \"\",\"\",'Caseload Reporting'!M185)","v":""},{"$f":"IF('Caseload Reporting'!N185 = \"\",\"\",'Caseload Reporting'!N185)","v":""},{"$f":"IF('Caseload Reporting'!P185 = \"\",\"\",'Caseload Reporting'!P185)","v":""},{"$f":"IF('Caseload Reporting'!O185 = \"\",\"\",'Caseload Reporting'!O185)","v":""},{"$f":"IF('Caseload Reporting'!Q185 = \"\",\"\",'Caseload Reporting'!Q185)","v":""},{"$f":"IF('Caseload Reporting'!R185 = \"\",\"\",'Caseload Reporting'!R185)","v":""},{"$f":"IF('Caseload Reporting'!E185 = \"\",\"\",'Caseload Reporting'!E185)","v":""},{"$f":"IF('Caseload Reporting'!S185 = \"\",\"\",'Caseload Reporting'!S185)","v":""}]
[{"$f":"IF('Caseload Reporting'!A186 = \"\",\"\",'Caseload Reporting'!A186)","v":""},{"$f":"IF('Caseload Reporting'!B186 = \"\",\"\",'Caseload Reporting'!B186)","v":""},{"$f":"IF('Caseload Reporting'!C186 = \"\",\"\",'Caseload Reporting'!C186)","v":""},{"$f":"IF('Caseload Reporting'!D186 = \"\",\"\",'Caseload Reporting'!D186)","v":""},{"$f":"IF('Caseload Reporting'!G186 = \"\",\"\",'Caseload Reporting'!G186)","v":""},{"$f":"IF('Caseload Reporting'!H186 = \"\",\"\",'Caseload Reporting'!H186)","v":""},{"$f":"IF('Caseload Reporting'!I186 = \"\",\"\",'Caseload Reporting'!I186)","v":""},{"$f":"IF('Caseload Reporting'!J186 = \"\",\"\",'Caseload Reporting'!J186)","v":""},{"$f":"IF('Caseload Reporting'!K186 = \"\",\"\",'Caseload Reporting'!K186)","v":""},{"$f":"IF('Caseload Reporting'!L186 = \"\",\"\",'Caseload Reporting'!L186)","v":""},{"$f":"IF('Caseload Reporting'!M186 = \"\",\"\",'Caseload Reporting'!M186)","v":""},{"$f":"IF('Caseload Reporting'!N186 = \"\",\"\",'Caseload Reporting'!N186)","v":""},{"$f":"IF('Caseload Reporting'!P186 = \"\",\"\",'Caseload Reporting'!P186)","v":""},{"$f":"IF('Caseload Reporting'!O186 = \"\",\"\",'Caseload Reporting'!O186)","v":""},{"$f":"IF('Caseload Reporting'!Q186 = \"\",\"\",'Caseload Reporting'!Q186)","v":""},{"$f":"IF('Caseload Reporting'!R186 = \"\",\"\",'Caseload Reporting'!R186)","v":""},{"$f":"IF('Caseload Reporting'!E186 = \"\",\"\",'Caseload Reporting'!E186)","v":""},{"$f":"IF('Caseload Reporting'!S186 = \"\",\"\",'Caseload Reporting'!S186)","v":""}]
[{"$f":"IF('Caseload Reporting'!A187 = \"\",\"\",'Caseload Reporting'!A187)","v":""},{"$f":"IF('Caseload Reporting'!B187 = \"\",\"\",'Caseload Reporting'!B187)","v":""},{"$f":"IF('Caseload Reporting'!C187 = \"\",\"\",'Caseload Reporting'!C187)","v":""},{"$f":"IF('Caseload Reporting'!D187 = \"\",\"\",'Caseload Reporting'!D187)","v":""},{"$f":"IF('Caseload Reporting'!G187 = \"\",\"\",'Caseload Reporting'!G187)","v":""},{"$f":"IF('Caseload Reporting'!H187 = \"\",\"\",'Caseload Reporting'!H187)","v":""},{"$f":"IF('Caseload Reporting'!I187 = \"\",\"\",'Caseload Reporting'!I187)","v":""},{"$f":"IF('Caseload Reporting'!J187 = \"\",\"\",'Caseload Reporting'!J187)","v":""},{"$f":"IF('Caseload Reporting'!K187 = \"\",\"\",'Caseload Reporting'!K187)","v":""},{"$f":"IF('Caseload Reporting'!L187 = \"\",\"\",'Caseload Reporting'!L187)","v":""},{"$f":"IF('Caseload Reporting'!M187 = \"\",\"\",'Caseload Reporting'!M187)","v":""},{"$f":"IF('Caseload Reporting'!N187 = \"\",\"\",'Caseload Reporting'!N187)","v":""},{"$f":"IF('Caseload Reporting'!P187 = \"\",\"\",'Caseload Reporting'!P187)","v":""},{"$f":"IF('Caseload Reporting'!O187 = \"\",\"\",'Caseload Reporting'!O187)","v":""},{"$f":"IF('Caseload Reporting'!Q187 = \"\",\"\",'Caseload Reporting'!Q187)","v":""},{"$f":"IF('Caseload Reporting'!R187 = \"\",\"\",'Caseload Reporting'!R187)","v":""},{"$f":"IF('Caseload Reporting'!E187 = \"\",\"\",'Caseload Reporting'!E187)","v":""},{"$f":"IF('Caseload Reporting'!S187 = \"\",\"\",'Caseload Reporting'!S187)","v":""}]
[{"$f":"IF('Caseload Reporting'!A188 = \"\",\"\",'Caseload Reporting'!A188)","v":""},{"$f":"IF('Caseload Reporting'!B188 = \"\",\"\",'Caseload Reporting'!B188)","v":""},{"$f":"IF('Caseload Reporting'!C188 = \"\",\"\",'Caseload Reporting'!C188)","v":""},{"$f":"IF('Caseload Reporting'!D188 = \"\",\"\",'Caseload Reporting'!D188)","v":""},{"$f":"IF('Caseload Reporting'!G188 = \"\",\"\",'Caseload Reporting'!G188)","v":""},{"$f":"IF('Caseload Reporting'!H188 = \"\",\"\",'Caseload Reporting'!H188)","v":""},{"$f":"IF('Caseload Reporting'!I188 = \"\",\"\",'Caseload Reporting'!I188)","v":""},{"$f":"IF('Caseload Reporting'!J188 = \"\",\"\",'Caseload Reporting'!J188)","v":""},{"$f":"IF('Caseload Reporting'!K188 = \"\",\"\",'Caseload Reporting'!K188)","v":""},{"$f":"IF('Caseload Reporting'!L188 = \"\",\"\",'Caseload Reporting'!L188)","v":""},{"$f":"IF('Caseload Reporting'!M188 = \"\",\"\",'Caseload Reporting'!M188)","v":""},{"$f":"IF('Caseload Reporting'!N188 = \"\",\"\",'Caseload Reporting'!N188)","v":""},{"$f":"IF('Caseload Reporting'!P188 = \"\",\"\",'Caseload Reporting'!P188)","v":""},{"$f":"IF('Caseload Reporting'!O188 = \"\",\"\",'Caseload Reporting'!O188)","v":""},{"$f":"IF('Caseload Reporting'!Q188 = \"\",\"\",'Caseload Reporting'!Q188)","v":""},{"$f":"IF('Caseload Reporting'!R188 = \"\",\"\",'Caseload Reporting'!R188)","v":""},{"$f":"IF('Caseload Reporting'!E188 = \"\",\"\",'Caseload Reporting'!E188)","v":""},{"$f":"IF('Caseload Reporting'!S188 = \"\",\"\",'Caseload Reporting'!S188)","v":""}]
[{"$f":"IF('Caseload Reporting'!A189 = \"\",\"\",'Caseload Reporting'!A189)","v":""},{"$f":"IF('Caseload Reporting'!B189 = \"\",\"\",'Caseload Reporting'!B189)","v":""},{"$f":"IF('Caseload Reporting'!C189 = \"\",\"\",'Caseload Reporting'!C189)","v":""},{"$f":"IF('Caseload Reporting'!D189 = \"\",\"\",'Caseload Reporting'!D189)","v":""},{"$f":"IF('Caseload Reporting'!G189 = \"\",\"\",'Caseload Reporting'!G189)","v":""},{"$f":"IF('Caseload Reporting'!H189 = \"\",\"\",'Caseload Reporting'!H189)","v":""},{"$f":"IF('Caseload Reporting'!I189 = \"\",\"\",'Caseload Reporting'!I189)","v":""},{"$f":"IF('Caseload Reporting'!J189 = \"\",\"\",'Caseload Reporting'!J189)","v":""},{"$f":"IF('Caseload Reporting'!K189 = \"\",\"\",'Caseload Reporting'!K189)","v":""},{"$f":"IF('Caseload Reporting'!L189 = \"\",\"\",'Caseload Reporting'!L189)","v":""},{"$f":"IF('Caseload Reporting'!M189 = \"\",\"\",'Caseload Reporting'!M189)","v":""},{"$f":"IF('Caseload Reporting'!N189 = \"\",\"\",'Caseload Reporting'!N189)","v":""},{"$f":"IF('Caseload Reporting'!P189 = \"\",\"\",'Caseload Reporting'!P189)","v":""},{"$f":"IF('Caseload Reporting'!O189 = \"\",\"\",'Caseload Reporting'!O189)","v":""},{"$f":"IF('Caseload Reporting'!Q189 = \"\",\"\",'Caseload Reporting'!Q189)","v":""},{"$f":"IF('Caseload Reporting'!R189 = \"\",\"\",'Caseload Reporting'!R189)","v":""},{"$f":"IF('Caseload Reporting'!E189 = \"\",\"\",'Caseload Reporting'!E189)","v":""},{"$f":"IF('Caseload Reporting'!S189 = \"\",\"\",'Caseload Reporting'!S189)","v":""}]
[{"$f":"IF('Caseload Reporting'!A190 = \"\",\"\",'Caseload Reporting'!A190)","v":""},{"$f":"IF('Caseload Reporting'!B190 = \"\",\"\",'Caseload Reporting'!B190)","v":""},{"$f":"IF('Caseload Reporting'!C190 = \"\",\"\",'Caseload Reporting'!C190)","v":""},{"$f":"IF('Caseload Reporting'!D190 = \"\",\"\",'Caseload Reporting'!D190)","v":""},{"$f":"IF('Caseload Reporting'!G190 = \"\",\"\",'Caseload Reporting'!G190)","v":""},{"$f":"IF('Caseload Reporting'!H190 = \"\",\"\",'Caseload Reporting'!H190)","v":""},{"$f":"IF('Caseload Reporting'!I190 = \"\",\"\",'Caseload Reporting'!I190)","v":""},{"$f":"IF('Caseload Reporting'!J190 = \"\",\"\",'Caseload Reporting'!J190)","v":""},{"$f":"IF('Caseload Reporting'!K190 = \"\",\"\",'Caseload Reporting'!K190)","v":""},{"$f":"IF('Caseload Reporting'!L190 = \"\",\"\",'Caseload Reporting'!L190)","v":""},{"$f":"IF('Caseload Reporting'!M190 = \"\",\"\",'Caseload Reporting'!M190)","v":""},{"$f":"IF('Caseload Reporting'!N190 = \"\",\"\",'Caseload Reporting'!N190)","v":""},{"$f":"IF('Caseload Reporting'!P190 = \"\",\"\",'Caseload Reporting'!P190)","v":""},{"$f":"IF('Caseload Reporting'!O190 = \"\",\"\",'Caseload Reporting'!O190)","v":""},{"$f":"IF('Caseload Reporting'!Q190 = \"\",\"\",'Caseload Reporting'!Q190)","v":""},{"$f":"IF('Caseload Reporting'!R190 = \"\",\"\",'Caseload Reporting'!R190)","v":""},{"$f":"IF('Caseload Reporting'!E190 = \"\",\"\",'Caseload Reporting'!E190)","v":""},{"$f":"IF('Caseload Reporting'!S190 = \"\",\"\",'Caseload Reporting'!S190)","v":""}]
[{"$f":"IF('Caseload Reporting'!A191 = \"\",\"\",'Caseload Reporting'!A191)","v":""},{"$f":"IF('Caseload Reporting'!B191 = \"\",\"\",'Caseload Reporting'!B191)","v":""},{"$f":"IF('Caseload Reporting'!C191 = \"\",\"\",'Caseload Reporting'!C191)","v":""},{"$f":"IF('Caseload Reporting'!D191 = \"\",\"\",'Caseload Reporting'!D191)","v":""},{"$f":"IF('Caseload Reporting'!G191 = \"\",\"\",'Caseload Reporting'!G191)","v":""},{"$f":"IF('Caseload Reporting'!H191 = \"\",\"\",'Caseload Reporting'!H191)","v":""},{"$f":"IF('Caseload Reporting'!I191 = \"\",\"\",'Caseload Reporting'!I191)","v":""},{"$f":"IF('Caseload Reporting'!J191 = \"\",\"\",'Caseload Reporting'!J191)","v":""},{"$f":"IF('Caseload Reporting'!K191 = \"\",\"\",'Caseload Reporting'!K191)","v":""},{"$f":"IF('Caseload Reporting'!L191 = \"\",\"\",'Caseload Reporting'!L191)","v":""},{"$f":"IF('Caseload Reporting'!M191 = \"\",\"\",'Caseload Reporting'!M191)","v":""},{"$f":"IF('Caseload Reporting'!N191 = \"\",\"\",'Caseload Reporting'!N191)","v":""},{"$f":"IF('Caseload Reporting'!P191 = \"\",\"\",'Caseload Reporting'!P191)","v":""},{"$f":"IF('Caseload Reporting'!O191 = \"\",\"\",'Caseload Reporting'!O191)","v":""},{"$f":"IF('Caseload Reporting'!Q191 = \"\",\"\",'Caseload Reporting'!Q191)","v":""},{"$f":"IF('Caseload Reporting'!R191 = \"\",\"\",'Caseload Reporting'!R191)","v":""},{"$f":"IF('Caseload Reporting'!E191 = \"\",\"\",'Caseload Reporting'!E191)","v":""},{"$f":"IF('Caseload Reporting'!S191 = \"\",\"\",'Caseload Reporting'!S191)","v":""}]
[{"$f":"IF('Caseload Reporting'!A192 = \"\",\"\",'Caseload Reporting'!A192)","v":""},{"$f":"IF('Caseload Reporting'!B192 = \"\",\"\",'Caseload Reporting'!B192)","v":""},{"$f":"IF('Caseload Reporting'!C192 = \"\",\"\",'Caseload Reporting'!C192)","v":""},{"$f":"IF('Caseload Reporting'!D192 = \"\",\"\",'Caseload Reporting'!D192)","v":""},{"$f":"IF('Caseload Reporting'!G192 = \"\",\"\",'Caseload Reporting'!G192)","v":""},{"$f":"IF('Caseload Reporting'!H192 = \"\",\"\",'Caseload Reporting'!H192)","v":""},{"$f":"IF('Caseload Reporting'!I192 = \"\",\"\",'Caseload Reporting'!I192)","v":""},{"$f":"IF('Caseload Reporting'!J192 = \"\",\"\",'Caseload Reporting'!J192)","v":""},{"$f":"IF('Caseload Reporting'!K192 = \"\",\"\",'Caseload Reporting'!K192)","v":""},{"$f":"IF('Caseload Reporting'!L192 = \"\",\"\",'Caseload Reporting'!L192)","v":""},{"$f":"IF('Caseload Reporting'!M192 = \"\",\"\",'Caseload Reporting'!M192)","v":""},{"$f":"IF('Caseload Reporting'!N192 = \"\",\"\",'Caseload Reporting'!N192)","v":""},{"$f":"IF('Caseload Reporting'!P192 = \"\",\"\",'Caseload Reporting'!P192)","v":""},{"$f":"IF('Caseload Reporting'!O192 = \"\",\"\",'Caseload Reporting'!O192)","v":""},{"$f":"IF('Caseload Reporting'!Q192 = \"\",\"\",'Caseload Reporting'!Q192)","v":""},{"$f":"IF('Caseload Reporting'!R192 = \"\",\"\",'Caseload Reporting'!R192)","v":""},{"$f":"IF('Caseload Reporting'!E192 = \"\",\"\",'Caseload Reporting'!E192)","v":""},{"$f":"IF('Caseload Reporting'!S192 = \"\",\"\",'Caseload Reporting'!S192)","v":""}]
[{"$f":"IF('Caseload Reporting'!A193 = \"\",\"\",'Caseload Reporting'!A193)","v":""},{"$f":"IF('Caseload Reporting'!B193 = \"\",\"\",'Caseload Reporting'!B193)","v":""},{"$f":"IF('Caseload Reporting'!C193 = \"\",\"\",'Caseload Reporting'!C193)","v":""},{"$f":"IF('Caseload Reporting'!D193 = \"\",\"\",'Caseload Reporting'!D193)","v":""},{"$f":"IF('Caseload Reporting'!G193 = \"\",\"\",'Caseload Reporting'!G193)","v":""},{"$f":"IF('Caseload Reporting'!H193 = \"\",\"\",'Caseload Reporting'!H193)","v":""},{"$f":"IF('Caseload Reporting'!I193 = \"\",\"\",'Caseload Reporting'!I193)","v":""},{"$f":"IF('Caseload Reporting'!J193 = \"\",\"\",'Caseload Reporting'!J193)","v":""},{"$f":"IF('Caseload Reporting'!K193 = \"\",\"\",'Caseload Reporting'!K193)","v":""},{"$f":"IF('Caseload Reporting'!L193 = \"\",\"\",'Caseload Reporting'!L193)","v":""},{"$f":"IF('Caseload Reporting'!M193 = \"\",\"\",'Caseload Reporting'!M193)","v":""},{"$f":"IF('Caseload Reporting'!N193 = \"\",\"\",'Caseload Reporting'!N193)","v":""},{"$f":"IF('Caseload Reporting'!P193 = \"\",\"\",'Caseload Reporting'!P193)","v":""},{"$f":"IF('Caseload Reporting'!O193 = \"\",\"\",'Caseload Reporting'!O193)","v":""},{"$f":"IF('Caseload Reporting'!Q193 = \"\",\"\",'Caseload Reporting'!Q193)","v":""},{"$f":"IF('Caseload Reporting'!R193 = \"\",\"\",'Caseload Reporting'!R193)","v":""},{"$f":"IF('Caseload Reporting'!E193 = \"\",\"\",'Caseload Reporting'!E193)","v":""},{"$f":"IF('Caseload Reporting'!S193 = \"\",\"\",'Caseload Reporting'!S193)","v":""}]
[{"$f":"IF('Caseload Reporting'!A194 = \"\",\"\",'Caseload Reporting'!A194)","v":""},{"$f":"IF('Caseload Reporting'!B194 = \"\",\"\",'Caseload Reporting'!B194)","v":""},{"$f":"IF('Caseload Reporting'!C194 = \"\",\"\",'Caseload Reporting'!C194)","v":""},{"$f":"IF('Caseload Reporting'!D194 = \"\",\"\",'Caseload Reporting'!D194)","v":""},{"$f":"IF('Caseload Reporting'!G194 = \"\",\"\",'Caseload Reporting'!G194)","v":""},{"$f":"IF('Caseload Reporting'!H194 = \"\",\"\",'Caseload Reporting'!H194)","v":""},{"$f":"IF('Caseload Reporting'!I194 = \"\",\"\",'Caseload Reporting'!I194)","v":""},{"$f":"IF('Caseload Reporting'!J194 = \"\",\"\",'Caseload Reporting'!J194)","v":""},{"$f":"IF('Caseload Reporting'!K194 = \"\",\"\",'Caseload Reporting'!K194)","v":""},{"$f":"IF('Caseload Reporting'!L194 = \"\",\"\",'Caseload Reporting'!L194)","v":""},{"$f":"IF('Caseload Reporting'!M194 = \"\",\"\",'Caseload Reporting'!M194)","v":""},{"$f":"IF('Caseload Reporting'!N194 = \"\",\"\",'Caseload Reporting'!N194)","v":""},{"$f":"IF('Caseload Reporting'!P194 = \"\",\"\",'Caseload Reporting'!P194)","v":""},{"$f":"IF('Caseload Reporting'!O194 = \"\",\"\",'Caseload Reporting'!O194)","v":""},{"$f":"IF('Caseload Reporting'!Q194 = \"\",\"\",'Caseload Reporting'!Q194)","v":""},{"$f":"IF('Caseload Reporting'!R194 = \"\",\"\",'Caseload Reporting'!R194)","v":""},{"$f":"IF('Caseload Reporting'!E194 = \"\",\"\",'Caseload Reporting'!E194)","v":""},{"$f":"IF('Caseload Reporting'!S194 = \"\",\"\",'Caseload Reporting'!S194)","v":""}]
[{"$f":"IF('Caseload Reporting'!A195 = \"\",\"\",'Caseload Reporting'!A195)","v":""},{"$f":"IF('Caseload Reporting'!B195 = \"\",\"\",'Caseload Reporting'!B195)","v":""},{"$f":"IF('Caseload Reporting'!C195 = \"\",\"\",'Caseload Reporting'!C195)","v":""},{"$f":"IF('Caseload Reporting'!D195 = \"\",\"\",'Caseload Reporting'!D195)","v":""},{"$f":"IF('Caseload Reporting'!G195 = \"\",\"\",'Caseload Reporting'!G195)","v":""},{"$f":"IF('Caseload Reporting'!H195 = \"\",\"\",'Caseload Reporting'!H195)","v":""},{"$f":"IF('Caseload Reporting'!I195 = \"\",\"\",'Caseload Reporting'!I195)","v":""},{"$f":"IF('Caseload Reporting'!J195 = \"\",\"\",'Caseload Reporting'!J195)","v":""},{"$f":"IF('Caseload Reporting'!K195 = \"\",\"\",'Caseload Reporting'!K195)","v":""},{"$f":"IF('Caseload Reporting'!L195 = \"\",\"\",'Caseload Reporting'!L195)","v":""},{"$f":"IF('Caseload Reporting'!M195 = \"\",\"\",'Caseload Reporting'!M195)","v":""},{"$f":"IF('Caseload Reporting'!N195 = \"\",\"\",'Caseload Reporting'!N195)","v":""},{"$f":"IF('Caseload Reporting'!P195 = \"\",\"\",'Caseload Reporting'!P195)","v":""},{"$f":"IF('Caseload Reporting'!O195 = \"\",\"\",'Caseload Reporting'!O195)","v":""},{"$f":"IF('Caseload Reporting'!Q195 = \"\",\"\",'Caseload Reporting'!Q195)","v":""},{"$f":"IF('Caseload Reporting'!R195 = \"\",\"\",'Caseload Reporting'!R195)","v":""},{"$f":"IF('Caseload Reporting'!E195 = \"\",\"\",'Caseload Reporting'!E195)","v":""},{"$f":"IF('Caseload Reporting'!S195 = \"\",\"\",'Caseload Reporting'!S195)","v":""}]
[{"$f":"IF('Caseload Reporting'!A196 = \"\",\"\",'Caseload Reporting'!A196)","v":""},{"$f":"IF('Caseload Reporting'!B196 = \"\",\"\",'Caseload Reporting'!B196)","v":""},{"$f":"IF('Caseload Reporting'!C196 = \"\",\"\",'Caseload Reporting'!C196)","v":""},{"$f":"IF('Caseload Reporting'!D196 = \"\",\"\",'Caseload Reporting'!D196)","v":""},{"$f":"IF('Caseload Reporting'!G196 = \"\",\"\",'Caseload Reporting'!G196)","v":""},{"$f":"IF('Caseload Reporting'!H196 = \"\",\"\",'Caseload Reporting'!H196)","v":""},{"$f":"IF('Caseload Reporting'!I196 = \"\",\"\",'Caseload Reporting'!I196)","v":""},{"$f":"IF('Caseload Reporting'!J196 = \"\",\"\",'Caseload Reporting'!J196)","v":""},{"$f":"IF('Caseload Reporting'!K196 = \"\",\"\",'Caseload Reporting'!K196)","v":""},{"$f":"IF('Caseload Reporting'!L196 = \"\",\"\",'Caseload Reporting'!L196)","v":""},{"$f":"IF('Caseload Reporting'!M196 = \"\",\"\",'Caseload Reporting'!M196)","v":""},{"$f":"IF('Caseload Reporting'!N196 = \"\",\"\",'Caseload Reporting'!N196)","v":""},{"$f":"IF('Caseload Reporting'!P196 = \"\",\"\",'Caseload Reporting'!P196)","v":""},{"$f":"IF('Caseload Reporting'!O196 = \"\",\"\",'Caseload Reporting'!O196)","v":""},{"$f":"IF('Caseload Reporting'!Q196 = \"\",\"\",'Caseload Reporting'!Q196)","v":""},{"$f":"IF('Caseload Reporting'!R196 = \"\",\"\",'Caseload Reporting'!R196)","v":""},{"$f":"IF('Caseload Reporting'!E196 = \"\",\"\",'Caseload Reporting'!E196)","v":""},{"$f":"IF('Caseload Reporting'!S196 = \"\",\"\",'Caseload Reporting'!S196)","v":""}]
[{"$f":"IF('Caseload Reporting'!A197 = \"\",\"\",'Caseload Reporting'!A197)","v":""},{"$f":"IF('Caseload Reporting'!B197 = \"\",\"\",'Caseload Reporting'!B197)","v":""},{"$f":"IF('Caseload Reporting'!C197 = \"\",\"\",'Caseload Reporting'!C197)","v":""},{"$f":"IF('Caseload Reporting'!D197 = \"\",\"\",'Caseload Reporting'!D197)","v":""},{"$f":"IF('Caseload Reporting'!G197 = \"\",\"\",'Caseload Reporting'!G197)","v":""},{"$f":"IF('Caseload Reporting'!H197 = \"\",\"\",'Caseload Reporting'!H197)","v":""},{"$f":"IF('Caseload Reporting'!I197 = \"\",\"\",'Caseload Reporting'!I197)","v":""},{"$f":"IF('Caseload Reporting'!J197 = \"\",\"\",'Caseload Reporting'!J197)","v":""},{"$f":"IF('Caseload Reporting'!K197 = \"\",\"\",'Caseload Reporting'!K197)","v":""},{"$f":"IF('Caseload Reporting'!L197 = \"\",\"\",'Caseload Reporting'!L197)","v":""},{"$f":"IF('Caseload Reporting'!M197 = \"\",\"\",'Caseload Reporting'!M197)","v":""},{"$f":"IF('Caseload Reporting'!N197 = \"\",\"\",'Caseload Reporting'!N197)","v":""},{"$f":"IF('Caseload Reporting'!P197 = \"\",\"\",'Caseload Reporting'!P197)","v":""},{"$f":"IF('Caseload Reporting'!O197 = \"\",\"\",'Caseload Reporting'!O197)","v":""},{"$f":"IF('Caseload Reporting'!Q197 = \"\",\"\",'Caseload Reporting'!Q197)","v":""},{"$f":"IF('Caseload Reporting'!R197 = \"\",\"\",'Caseload Reporting'!R197)","v":""},{"$f":"IF('Caseload Reporting'!E197 = \"\",\"\",'Caseload Reporting'!E197)","v":""},{"$f":"IF('Caseload Reporting'!S197 = \"\",\"\",'Caseload Reporting'!S197)","v":""}]
[{"$f":"IF('Caseload Reporting'!A198 = \"\",\"\",'Caseload Reporting'!A198)","v":""},{"$f":"IF('Caseload Reporting'!B198 = \"\",\"\",'Caseload Reporting'!B198)","v":""},{"$f":"IF('Caseload Reporting'!C198 = \"\",\"\",'Caseload Reporting'!C198)","v":""},{"$f":"IF('Caseload Reporting'!D198 = \"\",\"\",'Caseload Reporting'!D198)","v":""},{"$f":"IF('Caseload Reporting'!G198 = \"\",\"\",'Caseload Reporting'!G198)","v":""},{"$f":"IF('Caseload Reporting'!H198 = \"\",\"\",'Caseload Reporting'!H198)","v":""},{"$f":"IF('Caseload Reporting'!I198 = \"\",\"\",'Caseload Reporting'!I198)","v":""},{"$f":"IF('Caseload Reporting'!J198 = \"\",\"\",'Caseload Reporting'!J198)","v":""},{"$f":"IF('Caseload Reporting'!K198 = \"\",\"\",'Caseload Reporting'!K198)","v":""},{"$f":"IF('Caseload Reporting'!L198 = \"\",\"\",'Caseload Reporting'!L198)","v":""},{"$f":"IF('Caseload Reporting'!M198 = \"\",\"\",'Caseload Reporting'!M198)","v":""},{"$f":"IF('Caseload Reporting'!N198 = \"\",\"\",'Caseload Reporting'!N198)","v":""},{"$f":"IF('Caseload Reporting'!P198 = \"\",\"\",'Caseload Reporting'!P198)","v":""},{"$f":"IF('Caseload Reporting'!O198 = \"\",\"\",'Caseload Reporting'!O198)","v":""},{"$f":"IF('Caseload Reporting'!Q198 = \"\",\"\",'Caseload Reporting'!Q198)","v":""},{"$f":"IF('Caseload Reporting'!R198 = \"\",\"\",'Caseload Reporting'!R198)","v":""},{"$f":"IF('Caseload Reporting'!E198 = \"\",\"\",'Caseload Reporting'!E198)","v":""},{"$f":"IF('Caseload Reporting'!S198 = \"\",\"\",'Caseload Reporting'!S198)","v":""}]
[{"$f":"IF('Caseload Reporting'!A199 = \"\",\"\",'Caseload Reporting'!A199)","v":""},{"$f":"IF('Caseload Reporting'!B199 = \"\",\"\",'Caseload Reporting'!B199)","v":""},{"$f":"IF('Caseload Reporting'!C199 = \"\",\"\",'Caseload Reporting'!C199)","v":""},{"$f":"IF('Caseload Reporting'!D199 = \"\",\"\",'Caseload Reporting'!D199)","v":""},{"$f":"IF('Caseload Reporting'!G199 = \"\",\"\",'Caseload Reporting'!G199)","v":""},{"$f":"IF('Caseload Reporting'!H199 = \"\",\"\",'Caseload Reporting'!H199)","v":""},{"$f":"IF('Caseload Reporting'!I199 = \"\",\"\",'Caseload Reporting'!I199)","v":""},{"$f":"IF('Caseload Reporting'!J199 = \"\",\"\",'Caseload Reporting'!J199)","v":""},{"$f":"IF('Caseload Reporting'!K199 = \"\",\"\",'Caseload Reporting'!K199)","v":""},{"$f":"IF('Caseload Reporting'!L199 = \"\",\"\",'Caseload Reporting'!L199)","v":""},{"$f":"IF('Caseload Reporting'!M199 = \"\",\"\",'Caseload Reporting'!M199)","v":""},{"$f":"IF('Caseload Reporting'!N199 = \"\",\"\",'Caseload Reporting'!N199)","v":""},{"$f":"IF('Caseload Reporting'!P199 = \"\",\"\",'Caseload Reporting'!P199)","v":""},{"$f":"IF('Caseload Reporting'!O199 = \"\",\"\",'Caseload Reporting'!O199)","v":""},{"$f":"IF('Caseload Reporting'!Q199 = \"\",\"\",'Caseload Reporting'!Q199)","v":""},{"$f":"IF('Caseload Reporting'!R199 = \"\",\"\",'Caseload Reporting'!R199)","v":""},{"$f":"IF('Caseload Reporting'!E199 = \"\",\"\",'Caseload Reporting'!E199)","v":""},{"$f":"IF('Caseload Reporting'!S199 = \"\",\"\",'Caseload Reporting'!S199)","v":""}]
[{"$f":"IF('Caseload Reporting'!A200 = \"\",\"\",'Caseload Reporting'!A200)","v":""},{"$f":"IF('Caseload Reporting'!B200 = \"\",\"\",'Caseload Reporting'!B200)","v":""},{"$f":"IF('Caseload Reporting'!C200 = \"\",\"\",'Caseload Reporting'!C200)","v":""},{"$f":"IF('Caseload Reporting'!D200 = \"\",\"\",'Caseload Reporting'!D200)","v":""},{"$f":"IF('Caseload Reporting'!G200 = \"\",\"\",'Caseload Reporting'!G200)","v":""},{"$f":"IF('Caseload Reporting'!H200 = \"\",\"\",'Caseload Reporting'!H200)","v":""},{"$f":"IF('Caseload Reporting'!I200 = \"\",\"\",'Caseload Reporting'!I200)","v":""},{"$f":"IF('Caseload Reporting'!J200 = \"\",\"\",'Caseload Reporting'!J200)","v":""},{"$f":"IF('Caseload Reporting'!K200 = \"\",\"\",'Caseload Reporting'!K200)","v":""},{"$f":"IF('Caseload Reporting'!L200 = \"\",\"\",'Caseload Reporting'!L200)","v":""},{"$f":"IF('Caseload Reporting'!M200 = \"\",\"\",'Caseload Reporting'!M200)","v":""},{"$f":"IF('Caseload Reporting'!N200 = \"\",\"\",'Caseload Reporting'!N200)","v":""},{"$f":"IF('Caseload Reporting'!P200 = \"\",\"\",'Caseload Reporting'!P200)","v":""},{"$f":"IF('Caseload Reporting'!O200 = \"\",\"\",'Caseload Reporting'!O200)","v":""},{"$f":"IF('Caseload Reporting'!Q200 = \"\",\"\",'Caseload Reporting'!Q200)","v":""},{"$f":"IF('Caseload Reporting'!R200 = \"\",\"\",'Caseload Reporting'!R200)","v":""},{"$f":"IF('Caseload Reporting'!E200 = \"\",\"\",'Caseload Reporting'!E200)","v":""},{"$f":"IF('Caseload Reporting'!S200 = \"\",\"\",'Caseload Reporting'!S200)","v":""}]
[{"$f":"IF('Caseload Reporting'!A201 = \"\",\"\",'Caseload Reporting'!A201)","v":""},{"$f":"IF('Caseload Reporting'!B201 = \"\",\"\",'Caseload Reporting'!B201)","v":""},{"$f":"IF('Caseload Reporting'!C201 = \"\",\"\",'Caseload Reporting'!C201)","v":""},{"$f":"IF('Caseload Reporting'!D201 = \"\",\"\",'Caseload Reporting'!D201)","v":""},{"$f":"IF('Caseload Reporting'!G201 = \"\",\"\",'Caseload Reporting'!G201)","v":""},{"$f":"IF('Caseload Reporting'!H201 = \"\",\"\",'Caseload Reporting'!H201)","v":""},{"$f":"IF('Caseload Reporting'!I201 = \"\",\"\",'Caseload Reporting'!I201)","v":""},{"$f":"IF('Caseload Reporting'!J201 = \"\",\"\",'Caseload Reporting'!J201)","v":""},{"$f":"IF('Caseload Reporting'!K201 = \"\",\"\",'Caseload Reporting'!K201)","v":""},{"$f":"IF('Caseload Reporting'!L201 = \"\",\"\",'Caseload Reporting'!L201)","v":""},{"$f":"IF('Caseload Reporting'!M201 = \"\",\"\",'Caseload Reporting'!M201)","v":""},{"$f":"IF('Caseload Reporting'!N201 = \"\",\"\",'Caseload Reporting'!N201)","v":""},{"$f":"IF('Caseload Reporting'!P201 = \"\",\"\",'Caseload Reporting'!P201)","v":""},{"$f":"IF('Caseload Reporting'!O201 = \"\",\"\",'Caseload Reporting'!O201)","v":""},{"$f":"IF('Caseload Reporting'!Q201 = \"\",\"\",'Caseload Reporting'!Q201)","v":""},{"$f":"IF('Caseload Reporting'!R201 = \"\",\"\",'Caseload Reporting'!R201)","v":""},{"$f":"IF('Caseload Reporting'!E201 = \"\",\"\",'Caseload Reporting'!E201)","v":""},{"$f":"IF('Caseload Reporting'!S201 = \"\",\"\",'Caseload Reporting'!S201)","v":""}]
[{"$f":"IF('Caseload Reporting'!A202 = \"\",\"\",'Caseload Reporting'!A202)","v":""},{"$f":"IF('Caseload Reporting'!B202 = \"\",\"\",'Caseload Reporting'!B202)","v":""},{"$f":"IF('Caseload Reporting'!C202 = \"\",\"\",'Caseload Reporting'!C202)","v":""},{"$f":"IF('Caseload Reporting'!D202 = \"\",\"\",'Caseload Reporting'!D202)","v":""},{"$f":"IF('Caseload Reporting'!G202 = \"\",\"\",'Caseload Reporting'!G202)","v":""},{"$f":"IF('Caseload Reporting'!H202 = \"\",\"\",'Caseload Reporting'!H202)","v":""},{"$f":"IF('Caseload Reporting'!I202 = \"\",\"\",'Caseload Reporting'!I202)","v":""},{"$f":"IF('Caseload Reporting'!J202 = \"\",\"\",'Caseload Reporting'!J202)","v":""},{"$f":"IF('Caseload Reporting'!K202 = \"\",\"\",'Caseload Reporting'!K202)","v":""},{"$f":"IF('Caseload Reporting'!L202 = \"\",\"\",'Caseload Reporting'!L202)","v":""},{"$f":"IF('Caseload Reporting'!M202 = \"\",\"\",'Caseload Reporting'!M202)","v":""},{"$f":"IF('Caseload Reporting'!N202 = \"\",\"\",'Caseload Reporting'!N202)","v":""},{"$f":"IF('Caseload Reporting'!P202 = \"\",\"\",'Caseload Reporting'!P202)","v":""},{"$f":"IF('Caseload Reporting'!O202 = \"\",\"\",'Caseload Reporting'!O202)","v":""},{"$f":"IF('Caseload Reporting'!Q202 = \"\",\"\",'Caseload Reporting'!Q202)","v":""},{"$f":"IF('Caseload Reporting'!R202 = \"\",\"\",'Caseload Reporting'!R202)","v":""},{"$f":"IF('Caseload Reporting'!E202 = \"\",\"\",'Caseload Reporting'!E202)","v":""},{"$f":"IF('Caseload Reporting'!S202 = \"\",\"\",'Caseload Reporting'!S202)","v":""}]
[{"$f":"IF('Caseload Reporting'!A203 = \"\",\"\",'Caseload Reporting'!A203)","v":""},{"$f":"IF('Caseload Reporting'!B203 = \"\",\"\",'Caseload Reporting'!B203)","v":""},{"$f":"IF('Caseload Reporting'!C203 = \"\",\"\",'Caseload Reporting'!C203)","v":""},{"$f":"IF('Caseload Reporting'!D203 = \"\",\"\",'Caseload Reporting'!D203)","v":""},{"$f":"IF('Caseload Reporting'!G203 = \"\",\"\",'Caseload Reporting'!G203)","v":""},{"$f":"IF('Caseload Reporting'!H203 = \"\",\"\",'Caseload Reporting'!H203)","v":""},{"$f":"IF('Caseload Reporting'!I203 = \"\",\"\",'Caseload Reporting'!I203)","v":""},{"$f":"IF('Caseload Reporting'!J203 = \"\",\"\",'Caseload Reporting'!J203)","v":""},{"$f":"IF('Caseload Reporting'!K203 = \"\",\"\",'Caseload Reporting'!K203)","v":""},{"$f":"IF('Caseload Reporting'!L203 = \"\",\"\",'Caseload Reporting'!L203)","v":""},{"$f":"IF('Caseload Reporting'!M203 = \"\",\"\",'Caseload Reporting'!M203)","v":""},{"$f":"IF('Caseload Reporting'!N203 = \"\",\"\",'Caseload Reporting'!N203)","v":""},{"$f":"IF('Caseload Reporting'!P203 = \"\",\"\",'Caseload Reporting'!P203)","v":""},{"$f":"IF('Caseload Reporting'!O203 = \"\",\"\",'Caseload Reporting'!O203)","v":""},{"$f":"IF('Caseload Reporting'!Q203 = \"\",\"\",'Caseload Reporting'!Q203)","v":""},{"$f":"IF('Caseload Reporting'!R203 = \"\",\"\",'Caseload Reporting'!R203)","v":""},{"$f":"IF('Caseload Reporting'!E203 = \"\",\"\",'Caseload Reporting'!E203)","v":""},{"$f":"IF('Caseload Reporting'!S203 = \"\",\"\",'Caseload Reporting'!S203)","v":""}]
[{"$f":"IF('Caseload Reporting'!A204 = \"\",\"\",'Caseload Reporting'!A204)","v":""},{"$f":"IF('Caseload Reporting'!B204 = \"\",\"\",'Caseload Reporting'!B204)","v":""},{"$f":"IF('Caseload Reporting'!C204 = \"\",\"\",'Caseload Reporting'!C204)","v":""},{"$f":"IF('Caseload Reporting'!D204 = \"\",\"\",'Caseload Reporting'!D204)","v":""},{"$f":"IF('Caseload Reporting'!G204 = \"\",\"\",'Caseload Reporting'!G204)","v":""},{"$f":"IF('Caseload Reporting'!H204 = \"\",\"\",'Caseload Reporting'!H204)","v":""},{"$f":"IF('Caseload Reporting'!I204 = \"\",\"\",'Caseload Reporting'!I204)","v":""},{"$f":"IF('Caseload Reporting'!J204 = \"\",\"\",'Caseload Reporting'!J204)","v":""},{"$f":"IF('Caseload Reporting'!K204 = \"\",\"\",'Caseload Reporting'!K204)","v":""},{"$f":"IF('Caseload Reporting'!L204 = \"\",\"\",'Caseload Reporting'!L204)","v":""},{"$f":"IF('Caseload Reporting'!M204 = \"\",\"\",'Caseload Reporting'!M204)","v":""},{"$f":"IF('Caseload Reporting'!N204 = \"\",\"\",'Caseload Reporting'!N204)","v":""},{"$f":"IF('Caseload Reporting'!P204 = \"\",\"\",'Caseload Reporting'!P204)","v":""},{"$f":"IF('Caseload Reporting'!O204 = \"\",\"\",'Caseload Reporting'!O204)","v":""},{"$f":"IF('Caseload Reporting'!Q204 = \"\",\"\",'Caseload Reporting'!Q204)","v":""},{"$f":"IF('Caseload Reporting'!R204 = \"\",\"\",'Caseload Reporting'!R204)","v":""},{"$f":"IF('Caseload Reporting'!E204 = \"\",\"\",'Caseload Reporting'!E204)","v":""},{"$f":"IF('Caseload Reporting'!S204 = \"\",\"\",'Caseload Reporting'!S204)","v":""}]
[{"$f":"IF('Caseload Reporting'!A205 = \"\",\"\",'Caseload Reporting'!A205)","v":""},{"$f":"IF('Caseload Reporting'!B205 = \"\",\"\",'Caseload Reporting'!B205)","v":""},{"$f":"IF('Caseload Reporting'!C205 = \"\",\"\",'Caseload Reporting'!C205)","v":""},{"$f":"IF('Caseload Reporting'!D205 = \"\",\"\",'Caseload Reporting'!D205)","v":""},{"$f":"IF('Caseload Reporting'!G205 = \"\",\"\",'Caseload Reporting'!G205)","v":""},{"$f":"IF('Caseload Reporting'!H205 = \"\",\"\",'Caseload Reporting'!H205)","v":""},{"$f":"IF('Caseload Reporting'!I205 = \"\",\"\",'Caseload Reporting'!I205)","v":""},{"$f":"IF('Caseload Reporting'!J205 = \"\",\"\",'Caseload Reporting'!J205)","v":""},{"$f":"IF('Caseload Reporting'!K205 = \"\",\"\",'Caseload Reporting'!K205)","v":""},{"$f":"IF('Caseload Reporting'!L205 = \"\",\"\",'Caseload Reporting'!L205)","v":""},{"$f":"IF('Caseload Reporting'!M205 = \"\",\"\",'Caseload Reporting'!M205)","v":""},{"$f":"IF('Caseload Reporting'!N205 = \"\",\"\",'Caseload Reporting'!N205)","v":""},{"$f":"IF('Caseload Reporting'!P205 = \"\",\"\",'Caseload Reporting'!P205)","v":""},{"$f":"IF('Caseload Reporting'!O205 = \"\",\"\",'Caseload Reporting'!O205)","v":""},{"$f":"IF('Caseload Reporting'!Q205 = \"\",\"\",'Caseload Reporting'!Q205)","v":""},{"$f":"IF('Caseload Reporting'!R205 = \"\",\"\",'Caseload Reporting'!R205)","v":""},{"$f":"IF('Caseload Reporting'!E205 = \"\",\"\",'Caseload Reporting'!E205)","v":""},{"$f":"IF('Caseload Reporting'!S205 = \"\",\"\",'Caseload Reporting'!S205)","v":""}]
[{"$f":"IF('Caseload Reporting'!A206 = \"\",\"\",'Caseload Reporting'!A206)","v":""},{"$f":"IF('Caseload Reporting'!B206 = \"\",\"\",'Caseload Reporting'!B206)","v":""},{"$f":"IF('Caseload Reporting'!C206 = \"\",\"\",'Caseload Reporting'!C206)","v":""},{"$f":"IF('Caseload Reporting'!D206 = \"\",\"\",'Caseload Reporting'!D206)","v":""},{"$f":"IF('Caseload Reporting'!G206 = \"\",\"\",'Caseload Reporting'!G206)","v":""},{"$f":"IF('Caseload Reporting'!H206 = \"\",\"\",'Caseload Reporting'!H206)","v":""},{"$f":"IF('Caseload Reporting'!I206 = \"\",\"\",'Caseload Reporting'!I206)","v":""},{"$f":"IF('Caseload Reporting'!J206 = \"\",\"\",'Caseload Reporting'!J206)","v":""},{"$f":"IF('Caseload Reporting'!K206 = \"\",\"\",'Caseload Reporting'!K206)","v":""},{"$f":"IF('Caseload Reporting'!L206 = \"\",\"\",'Caseload Reporting'!L206)","v":""},{"$f":"IF('Caseload Reporting'!M206 = \"\",\"\",'Caseload Reporting'!M206)","v":""},{"$f":"IF('Caseload Reporting'!N206 = \"\",\"\",'Caseload Reporting'!N206)","v":""},{"$f":"IF('Caseload Reporting'!P206 = \"\",\"\",'Caseload Reporting'!P206)","v":""},{"$f":"IF('Caseload Reporting'!O206 = \"\",\"\",'Caseload Reporting'!O206)","v":""},{"$f":"IF('Caseload Reporting'!Q206 = \"\",\"\",'Caseload Reporting'!Q206)","v":""},{"$f":"IF('Caseload Reporting'!R206 = \"\",\"\",'Caseload Reporting'!R206)","v":""},{"$f":"IF('Caseload Reporting'!E206 = \"\",\"\",'Caseload Reporting'!E206)","v":""},{"$f":"IF('Caseload Reporting'!S206 = \"\",\"\",'Caseload Reporting'!S206)","v":""}]
[{"$f":"IF('Caseload Reporting'!A207 = \"\",\"\",'Caseload Reporting'!A207)","v":""},{"$f":"IF('Caseload Reporting'!B207 = \"\",\"\",'Caseload Reporting'!B207)","v":""},{"$f":"IF('Caseload Reporting'!C207 = \"\",\"\",'Caseload Reporting'!C207)","v":""},{"$f":"IF('Caseload Reporting'!D207 = \"\",\"\",'Caseload Reporting'!D207)","v":""},{"$f":"IF('Caseload Reporting'!G207 = \"\",\"\",'Caseload Reporting'!G207)","v":""},{"$f":"IF('Caseload Reporting'!H207 = \"\",\"\",'Caseload Reporting'!H207)","v":""},{"$f":"IF('Caseload Reporting'!I207 = \"\",\"\",'Caseload Reporting'!I207)","v":""},{"$f":"IF('Caseload Reporting'!J207 = \"\",\"\",'Caseload Reporting'!J207)","v":""},{"$f":"IF('Caseload Reporting'!K207 = \"\",\"\",'Caseload Reporting'!K207)","v":""},{"$f":"IF('Caseload Reporting'!L207 = \"\",\"\",'Caseload Reporting'!L207)","v":""},{"$f":"IF('Caseload Reporting'!M207 = \"\",\"\",'Caseload Reporting'!M207)","v":""},{"$f":"IF('Caseload Reporting'!N207 = \"\",\"\",'Caseload Reporting'!N207)","v":""},{"$f":"IF('Caseload Reporting'!P207 = \"\",\"\",'Caseload Reporting'!P207)","v":""},{"$f":"IF('Caseload Reporting'!O207 = \"\",\"\",'Caseload Reporting'!O207)","v":""},{"$f":"IF('Caseload Reporting'!Q207 = \"\",\"\",'Caseload Reporting'!Q207)","v":""},{"$f":"IF('Caseload Reporting'!R207 = \"\",\"\",'Caseload Reporting'!R207)","v":""},{"$f":"IF('Caseload Reporting'!E207 = \"\",\"\",'Caseload Reporting'!E207)","v":""},{"$f":"IF('Caseload Reporting'!S207 = \"\",\"\",'Caseload Reporting'!S207)","v":""}]
[{"$f":"IF('Caseload Reporting'!A208 = \"\",\"\",'Caseload Reporting'!A208)","v":""},{"$f":"IF('Caseload Reporting'!B208 = \"\",\"\",'Caseload Reporting'!B208)","v":""},{"$f":"IF('Caseload Reporting'!C208 = \"\",\"\",'Caseload Reporting'!C208)","v":""},{"$f":"IF('Caseload Reporting'!D208 = \"\",\"\",'Caseload Reporting'!D208)","v":""},{"$f":"IF('Caseload Reporting'!G208 = \"\",\"\",'Caseload Reporting'!G208)","v":""},{"$f":"IF('Caseload Reporting'!H208 = \"\",\"\",'Caseload Reporting'!H208)","v":""},{"$f":"IF('Caseload Reporting'!I208 = \"\",\"\",'Caseload Reporting'!I208)","v":""},{"$f":"IF('Caseload Reporting'!J208 = \"\",\"\",'Caseload Reporting'!J208)","v":""},{"$f":"IF('Caseload Reporting'!K208 = \"\",\"\",'Caseload Reporting'!K208)","v":""},{"$f":"IF('Caseload Reporting'!L208 = \"\",\"\",'Caseload Reporting'!L208)","v":""},{"$f":"IF('Caseload Reporting'!M208 = \"\",\"\",'Caseload Reporting'!M208)","v":""},{"$f":"IF('Caseload Reporting'!N208 = \"\",\"\",'Caseload Reporting'!N208)","v":""},{"$f":"IF('Caseload Reporting'!P208 = \"\",\"\",'Caseload Reporting'!P208)","v":""},{"$f":"IF('Caseload Reporting'!O208 = \"\",\"\",'Caseload Reporting'!O208)","v":""},{"$f":"IF('Caseload Reporting'!Q208 = \"\",\"\",'Caseload Reporting'!Q208)","v":""},{"$f":"IF('Caseload Reporting'!R208 = \"\",\"\",'Caseload Reporting'!R208)","v":""},{"$f":"IF('Caseload Reporting'!E208 = \"\",\"\",'Caseload Reporting'!E208)","v":""},{"$f":"IF('Caseload Reporting'!S208 = \"\",\"\",'Caseload Reporting'!S208)","v":""}]
[{"$f":"IF('Caseload Reporting'!A209 = \"\",\"\",'Caseload Reporting'!A209)","v":""},{"$f":"IF('Caseload Reporting'!B209 = \"\",\"\",'Caseload Reporting'!B209)","v":""},{"$f":"IF('Caseload Reporting'!C209 = \"\",\"\",'Caseload Reporting'!C209)","v":""},{"$f":"IF('Caseload Reporting'!D209 = \"\",\"\",'Caseload Reporting'!D209)","v":""},{"$f":"IF('Caseload Reporting'!G209 = \"\",\"\",'Caseload Reporting'!G209)","v":""},{"$f":"IF('Caseload Reporting'!H209 = \"\",\"\",'Caseload Reporting'!H209)","v":""},{"$f":"IF('Caseload Reporting'!I209 = \"\",\"\",'Caseload Reporting'!I209)","v":""},{"$f":"IF('Caseload Reporting'!J209 = \"\",\"\",'Caseload Reporting'!J209)","v":""},{"$f":"IF('Caseload Reporting'!K209 = \"\",\"\",'Caseload Reporting'!K209)","v":""},{"$f":"IF('Caseload Reporting'!L209 = \"\",\"\",'Caseload Reporting'!L209)","v":""},{"$f":"IF('Caseload Reporting'!M209 = \"\",\"\",'Caseload Reporting'!M209)","v":""},{"$f":"IF('Caseload Reporting'!N209 = \"\",\"\",'Caseload Reporting'!N209)","v":""},{"$f":"IF('Caseload Reporting'!P209 = \"\",\"\",'Caseload Reporting'!P209)","v":""},{"$f":"IF('Caseload Reporting'!O209 = \"\",\"\",'Caseload Reporting'!O209)","v":""},{"$f":"IF('Caseload Reporting'!Q209 = \"\",\"\",'Caseload Reporting'!Q209)","v":""},{"$f":"IF('Caseload Reporting'!R209 = \"\",\"\",'Caseload Reporting'!R209)","v":""},{"$f":"IF('Caseload Reporting'!E209 = \"\",\"\",'Caseload Reporting'!E209)","v":""},{"$f":"IF('Caseload Reporting'!S209 = \"\",\"\",'Caseload Reporting'!S209)","v":""}]
[{"$f":"IF('Caseload Reporting'!A210 = \"\",\"\",'Caseload Reporting'!A210)","v":""},{"$f":"IF('Caseload Reporting'!B210 = \"\",\"\",'Caseload Reporting'!B210)","v":""},{"$f":"IF('Caseload Reporting'!C210 = \"\",\"\",'Caseload Reporting'!C210)","v":""},{"$f":"IF('Caseload Reporting'!D210 = \"\",\"\",'Caseload Reporting'!D210)","v":""},{"$f":"IF('Caseload Reporting'!G210 = \"\",\"\",'Caseload Reporting'!G210)","v":""},{"$f":"IF('Caseload Reporting'!H210 = \"\",\"\",'Caseload Reporting'!H210)","v":""},{"$f":"IF('Caseload Reporting'!I210 = \"\",\"\",'Caseload Reporting'!I210)","v":""},{"$f":"IF('Caseload Reporting'!J210 = \"\",\"\",'Caseload Reporting'!J210)","v":""},{"$f":"IF('Caseload Reporting'!K210 = \"\",\"\",'Caseload Reporting'!K210)","v":""},{"$f":"IF('Caseload Reporting'!L210 = \"\",\"\",'Caseload Reporting'!L210)","v":""},{"$f":"IF('Caseload Reporting'!M210 = \"\",\"\",'Caseload Reporting'!M210)","v":""},{"$f":"IF('Caseload Reporting'!N210 = \"\",\"\",'Caseload Reporting'!N210)","v":""},{"$f":"IF('Caseload Reporting'!P210 = \"\",\"\",'Caseload Reporting'!P210)","v":""},{"$f":"IF('Caseload Reporting'!O210 = \"\",\"\",'Caseload Reporting'!O210)","v":""},{"$f":"IF('Caseload Reporting'!Q210 = \"\",\"\",'Caseload Reporting'!Q210)","v":""},{"$f":"IF('Caseload Reporting'!R210 = \"\",\"\",'Caseload Reporting'!R210)","v":""},{"$f":"IF('Caseload Reporting'!E210 = \"\",\"\",'Caseload Reporting'!E210)","v":""},{"$f":"IF('Caseload Reporting'!S210 = \"\",\"\",'Caseload Reporting'!S210)","v":""}]
[{"$f":"IF('Caseload Reporting'!A211 = \"\",\"\",'Caseload Reporting'!A211)","v":""},{"$f":"IF('Caseload Reporting'!B211 = \"\",\"\",'Caseload Reporting'!B211)","v":""},{"$f":"IF('Caseload Reporting'!C211 = \"\",\"\",'Caseload Reporting'!C211)","v":""},{"$f":"IF('Caseload Reporting'!D211 = \"\",\"\",'Caseload Reporting'!D211)","v":""},{"$f":"IF('Caseload Reporting'!G211 = \"\",\"\",'Caseload Reporting'!G211)","v":""},{"$f":"IF('Caseload Reporting'!H211 = \"\",\"\",'Caseload Reporting'!H211)","v":""},{"$f":"IF('Caseload Reporting'!I211 = \"\",\"\",'Caseload Reporting'!I211)","v":""},{"$f":"IF('Caseload Reporting'!J211 = \"\",\"\",'Caseload Reporting'!J211)","v":""},{"$f":"IF('Caseload Reporting'!K211 = \"\",\"\",'Caseload Reporting'!K211)","v":""},{"$f":"IF('Caseload Reporting'!L211 = \"\",\"\",'Caseload Reporting'!L211)","v":""},{"$f":"IF('Caseload Reporting'!M211 = \"\",\"\",'Caseload Reporting'!M211)","v":""},{"$f":"IF('Caseload Reporting'!N211 = \"\",\"\",'Caseload Reporting'!N211)","v":""},{"$f":"IF('Caseload Reporting'!P211 = \"\",\"\",'Caseload Reporting'!P211)","v":""},{"$f":"IF('Caseload Reporting'!O211 = \"\",\"\",'Caseload Reporting'!O211)","v":""},{"$f":"IF('Caseload Reporting'!Q211 = \"\",\"\",'Caseload Reporting'!Q211)","v":""},{"$f":"IF('Caseload Reporting'!R211 = \"\",\"\",'Caseload Reporting'!R211)","v":""},{"$f":"IF('Caseload Reporting'!E211 = \"\",\"\",'Caseload Reporting'!E211)","v":""},{"$f":"IF('Caseload Reporting'!S211 = \"\",\"\",'Caseload Reporting'!S211)","v":""}]
[{"$f":"IF('Caseload Reporting'!A212 = \"\",\"\",'Caseload Reporting'!A212)","v":""},{"$f":"IF('Caseload Reporting'!B212 = \"\",\"\",'Caseload Reporting'!B212)","v":""},{"$f":"IF('Caseload Reporting'!C212 = \"\",\"\",'Caseload Reporting'!C212)","v":""},{"$f":"IF('Caseload Reporting'!D212 = \"\",\"\",'Caseload Reporting'!D212)","v":""},{"$f":"IF('Caseload Reporting'!G212 = \"\",\"\",'Caseload Reporting'!G212)","v":""},{"$f":"IF('Caseload Reporting'!H212 = \"\",\"\",'Caseload Reporting'!H212)","v":""},{"$f":"IF('Caseload Reporting'!I212 = \"\",\"\",'Caseload Reporting'!I212)","v":""},{"$f":"IF('Caseload Reporting'!J212 = \"\",\"\",'Caseload Reporting'!J212)","v":""},{"$f":"IF('Caseload Reporting'!K212 = \"\",\"\",'Caseload Reporting'!K212)","v":""},{"$f":"IF('Caseload Reporting'!L212 = \"\",\"\",'Caseload Reporting'!L212)","v":""},{"$f":"IF('Caseload Reporting'!M212 = \"\",\"\",'Caseload Reporting'!M212)","v":""},{"$f":"IF('Caseload Reporting'!N212 = \"\",\"\",'Caseload Reporting'!N212)","v":""},{"$f":"IF('Caseload Reporting'!P212 = \"\",\"\",'Caseload Reporting'!P212)","v":""},{"$f":"IF('Caseload Reporting'!O212 = \"\",\"\",'Caseload Reporting'!O212)","v":""},{"$f":"IF('Caseload Reporting'!Q212 = \"\",\"\",'Caseload Reporting'!Q212)","v":""},{"$f":"IF('Caseload Reporting'!R212 = \"\",\"\",'Caseload Reporting'!R212)","v":""},{"$f":"IF('Caseload Reporting'!E212 = \"\",\"\",'Caseload Reporting'!E212)","v":""},{"$f":"IF('Caseload Reporting'!S212 = \"\",\"\",'Caseload Reporting'!S212)","v":""}]
[{"$f":"IF('Caseload Reporting'!A213 = \"\",\"\",'Caseload Reporting'!A213)","v":""},{"$f":"IF('Caseload Reporting'!B213 = \"\",\"\",'Caseload Reporting'!B213)","v":""},{"$f":"IF('Caseload Reporting'!C213 = \"\",\"\",'Caseload Reporting'!C213)","v":""},{"$f":"IF('Caseload Reporting'!D213 = \"\",\"\",'Caseload Reporting'!D213)","v":""},{"$f":"IF('Caseload Reporting'!G213 = \"\",\"\",'Caseload Reporting'!G213)","v":""},{"$f":"IF('Caseload Reporting'!H213 = \"\",\"\",'Caseload Reporting'!H213)","v":""},{"$f":"IF('Caseload Reporting'!I213 = \"\",\"\",'Caseload Reporting'!I213)","v":""},{"$f":"IF('Caseload Reporting'!J213 = \"\",\"\",'Caseload Reporting'!J213)","v":""},{"$f":"IF('Caseload Reporting'!K213 = \"\",\"\",'Caseload Reporting'!K213)","v":""},{"$f":"IF('Caseload Reporting'!L213 = \"\",\"\",'Caseload Reporting'!L213)","v":""},{"$f":"IF('Caseload Reporting'!M213 = \"\",\"\",'Caseload Reporting'!M213)","v":""},{"$f":"IF('Caseload Reporting'!N213 = \"\",\"\",'Caseload Reporting'!N213)","v":""},{"$f":"IF('Caseload Reporting'!P213 = \"\",\"\",'Caseload Reporting'!P213)","v":""},{"$f":"IF('Caseload Reporting'!O213 = \"\",\"\",'Caseload Reporting'!O213)","v":""},{"$f":"IF('Caseload Reporting'!Q213 = \"\",\"\",'Caseload Reporting'!Q213)","v":""},{"$f":"IF('Caseload Reporting'!R213 = \"\",\"\",'Caseload Reporting'!R213)","v":""},{"$f":"IF('Caseload Reporting'!E213 = \"\",\"\",'Caseload Reporting'!E213)","v":""},{"$f":"IF('Caseload Reporting'!S213 = \"\",\"\",'Caseload Reporting'!S213)","v":""}]
[{"$f":"IF('Caseload Reporting'!A214 = \"\",\"\",'Caseload Reporting'!A214)","v":""},{"$f":"IF('Caseload Reporting'!B214 = \"\",\"\",'Caseload Reporting'!B214)","v":""},{"$f":"IF('Caseload Reporting'!C214 = \"\",\"\",'Caseload Reporting'!C214)","v":""},{"$f":"IF('Caseload Reporting'!D214 = \"\",\"\",'Caseload Reporting'!D214)","v":""},{"$f":"IF('Caseload Reporting'!G214 = \"\",\"\",'Caseload Reporting'!G214)","v":""},{"$f":"IF('Caseload Reporting'!H214 = \"\",\"\",'Caseload Reporting'!H214)","v":""},{"$f":"IF('Caseload Reporting'!I214 = \"\",\"\",'Caseload Reporting'!I214)","v":""},{"$f":"IF('Caseload Reporting'!J214 = \"\",\"\",'Caseload Reporting'!J214)","v":""},{"$f":"IF('Caseload Reporting'!K214 = \"\",\"\",'Caseload Reporting'!K214)","v":""},{"$f":"IF('Caseload Reporting'!L214 = \"\",\"\",'Caseload Reporting'!L214)","v":""},{"$f":"IF('Caseload Reporting'!M214 = \"\",\"\",'Caseload Reporting'!M214)","v":""},{"$f":"IF('Caseload Reporting'!N214 = \"\",\"\",'Caseload Reporting'!N214)","v":""},{"$f":"IF('Caseload Reporting'!P214 = \"\",\"\",'Caseload Reporting'!P214)","v":""},{"$f":"IF('Caseload Reporting'!O214 = \"\",\"\",'Caseload Reporting'!O214)","v":""},{"$f":"IF('Caseload Reporting'!Q214 = \"\",\"\",'Caseload Reporting'!Q214)","v":""},{"$f":"IF('Caseload Reporting'!R214 = \"\",\"\",'Caseload Reporting'!R214)","v":""},{"$f":"IF('Caseload Reporting'!E214 = \"\",\"\",'Caseload Reporting'!E214)","v":""},{"$f":"IF('Caseload Reporting'!S214 = \"\",\"\",'Caseload Reporting'!S214)","v":""}]
[{"$f":"IF('Caseload Reporting'!A215 = \"\",\"\",'Caseload Reporting'!A215)","v":""},{"$f":"IF('Caseload Reporting'!B215 = \"\",\"\",'Caseload Reporting'!B215)","v":""},{"$f":"IF('Caseload Reporting'!C215 = \"\",\"\",'Caseload Reporting'!C215)","v":""},{"$f":"IF('Caseload Reporting'!D215 = \"\",\"\",'Caseload Reporting'!D215)","v":""},{"$f":"IF('Caseload Reporting'!G215 = \"\",\"\",'Caseload Reporting'!G215)","v":""},{"$f":"IF('Caseload Reporting'!H215 = \"\",\"\",'Caseload Reporting'!H215)","v":""},{"$f":"IF('Caseload Reporting'!I215 = \"\",\"\",'Caseload Reporting'!I215)","v":""},{"$f":"IF('Caseload Reporting'!J215 = \"\",\"\",'Caseload Reporting'!J215)","v":""},{"$f":"IF('Caseload Reporting'!K215 = \"\",\"\",'Caseload Reporting'!K215)","v":""},{"$f":"IF('Caseload Reporting'!L215 = \"\",\"\",'Caseload Reporting'!L215)","v":""},{"$f":"IF('Caseload Reporting'!M215 = \"\",\"\",'Caseload Reporting'!M215)","v":""},{"$f":"IF('Caseload Reporting'!N215 = \"\",\"\",'Caseload Reporting'!N215)","v":""},{"$f":"IF('Caseload Reporting'!P215 = \"\",\"\",'Caseload Reporting'!P215)","v":""},{"$f":"IF('Caseload Reporting'!O215 = \"\",\"\",'Caseload Reporting'!O215)","v":""},{"$f":"IF('Caseload Reporting'!Q215 = \"\",\"\",'Caseload Reporting'!Q215)","v":""},{"$f":"IF('Caseload Reporting'!R215 = \"\",\"\",'Caseload Reporting'!R215)","v":""},{"$f":"IF('Caseload Reporting'!E215 = \"\",\"\",'Caseload Reporting'!E215)","v":""},{"$f":"IF('Caseload Reporting'!S215 = \"\",\"\",'Caseload Reporting'!S215)","v":""}]
[{"$f":"IF('Caseload Reporting'!A216 = \"\",\"\",'Caseload Reporting'!A216)","v":""},{"$f":"IF('Caseload Reporting'!B216 = \"\",\"\",'Caseload Reporting'!B216)","v":""},{"$f":"IF('Caseload Reporting'!C216 = \"\",\"\",'Caseload Reporting'!C216)","v":""},{"$f":"IF('Caseload Reporting'!D216 = \"\",\"\",'Caseload Reporting'!D216)","v":""},{"$f":"IF('Caseload Reporting'!G216 = \"\",\"\",'Caseload Reporting'!G216)","v":""},{"$f":"IF('Caseload Reporting'!H216 = \"\",\"\",'Caseload Reporting'!H216)","v":""},{"$f":"IF('Caseload Reporting'!I216 = \"\",\"\",'Caseload Reporting'!I216)","v":""},{"$f":"IF('Caseload Reporting'!J216 = \"\",\"\",'Caseload Reporting'!J216)","v":""},{"$f":"IF('Caseload Reporting'!K216 = \"\",\"\",'Caseload Reporting'!K216)","v":""},{"$f":"IF('Caseload Reporting'!L216 = \"\",\"\",'Caseload Reporting'!L216)","v":""},{"$f":"IF('Caseload Reporting'!M216 = \"\",\"\",'Caseload Reporting'!M216)","v":""},{"$f":"IF('Caseload Reporting'!N216 = \"\",\"\",'Caseload Reporting'!N216)","v":""},{"$f":"IF('Caseload Reporting'!P216 = \"\",\"\",'Caseload Reporting'!P216)","v":""},{"$f":"IF('Caseload Reporting'!O216 = \"\",\"\",'Caseload Reporting'!O216)","v":""},{"$f":"IF('Caseload Reporting'!Q216 = \"\",\"\",'Caseload Reporting'!Q216)","v":""},{"$f":"IF('Caseload Reporting'!R216 = \"\",\"\",'Caseload Reporting'!R216)","v":""},{"$f":"IF('Caseload Reporting'!E216 = \"\",\"\",'Caseload Reporting'!E216)","v":""},{"$f":"IF('Caseload Reporting'!S216 = \"\",\"\",'Caseload Reporting'!S216)","v":""}]
[{"$f":"IF('Caseload Reporting'!A217 = \"\",\"\",'Caseload Reporting'!A217)","v":""},{"$f":"IF('Caseload Reporting'!B217 = \"\",\"\",'Caseload Reporting'!B217)","v":""},{"$f":"IF('Caseload Reporting'!C217 = \"\",\"\",'Caseload Reporting'!C217)","v":""},{"$f":"IF('Caseload Reporting'!D217 = \"\",\"\",'Caseload Reporting'!D217)","v":""},{"$f":"IF('Caseload Reporting'!G217 = \"\",\"\",'Caseload Reporting'!G217)","v":""},{"$f":"IF('Caseload Reporting'!H217 = \"\",\"\",'Caseload Reporting'!H217)","v":""},{"$f":"IF('Caseload Reporting'!I217 = \"\",\"\",'Caseload Reporting'!I217)","v":""},{"$f":"IF('Caseload Reporting'!J217 = \"\",\"\",'Caseload Reporting'!J217)","v":""},{"$f":"IF('Caseload Reporting'!K217 = \"\",\"\",'Caseload Reporting'!K217)","v":""},{"$f":"IF('Caseload Reporting'!L217 = \"\",\"\",'Caseload Reporting'!L217)","v":""},{"$f":"IF('Caseload Reporting'!M217 = \"\",\"\",'Caseload Reporting'!M217)","v":""},{"$f":"IF('Caseload Reporting'!N217 = \"\",\"\",'Caseload Reporting'!N217)","v":""},{"$f":"IF('Caseload Reporting'!P217 = \"\",\"\",'Caseload Reporting'!P217)","v":""},{"$f":"IF('Caseload Reporting'!O217 = \"\",\"\",'Caseload Reporting'!O217)","v":""},{"$f":"IF('Caseload Reporting'!Q217 = \"\",\"\",'Caseload Reporting'!Q217)","v":""},{"$f":"IF('Caseload Reporting'!R217 = \"\",\"\",'Caseload Reporting'!R217)","v":""},{"$f":"IF('Caseload Reporting'!E217 = \"\",\"\",'Caseload Reporting'!E217)","v":""},{"$f":"IF('Caseload Reporting'!S217 = \"\",\"\",'Caseload Reporting'!S217)","v":""}]
[{"$f":"IF('Caseload Reporting'!A218 = \"\",\"\",'Caseload Reporting'!A218)","v":""},{"$f":"IF('Caseload Reporting'!B218 = \"\",\"\",'Caseload Reporting'!B218)","v":""},{"$f":"IF('Caseload Reporting'!C218 = \"\",\"\",'Caseload Reporting'!C218)","v":""},{"$f":"IF('Caseload Reporting'!D218 = \"\",\"\",'Caseload Reporting'!D218)","v":""},{"$f":"IF('Caseload Reporting'!G218 = \"\",\"\",'Caseload Reporting'!G218)","v":""},{"$f":"IF('Caseload Reporting'!H218 = \"\",\"\",'Caseload Reporting'!H218)","v":""},{"$f":"IF('Caseload Reporting'!I218 = \"\",\"\",'Caseload Reporting'!I218)","v":""},{"$f":"IF('Caseload Reporting'!J218 = \"\",\"\",'Caseload Reporting'!J218)","v":""},{"$f":"IF('Caseload Reporting'!K218 = \"\",\"\",'Caseload Reporting'!K218)","v":""},{"$f":"IF('Caseload Reporting'!L218 = \"\",\"\",'Caseload Reporting'!L218)","v":""},{"$f":"IF('Caseload Reporting'!M218 = \"\",\"\",'Caseload Reporting'!M218)","v":""},{"$f":"IF('Caseload Reporting'!N218 = \"\",\"\",'Caseload Reporting'!N218)","v":""},{"$f":"IF('Caseload Reporting'!P218 = \"\",\"\",'Caseload Reporting'!P218)","v":""},{"$f":"IF('Caseload Reporting'!O218 = \"\",\"\",'Caseload Reporting'!O218)","v":""},{"$f":"IF('Caseload Reporting'!Q218 = \"\",\"\",'Caseload Reporting'!Q218)","v":""},{"$f":"IF('Caseload Reporting'!R218 = \"\",\"\",'Caseload Reporting'!R218)","v":""},{"$f":"IF('Caseload Reporting'!E218 = \"\",\"\",'Caseload Reporting'!E218)","v":""},{"$f":"IF('Caseload Reporting'!S218 = \"\",\"\",'Caseload Reporting'!S218)","v":""}]
[{"$f":"IF('Caseload Reporting'!A219 = \"\",\"\",'Caseload Reporting'!A219)","v":""},{"$f":"IF('Caseload Reporting'!B219 = \"\",\"\",'Caseload Reporting'!B219)","v":""},{"$f":"IF('Caseload Reporting'!C219 = \"\",\"\",'Caseload Reporting'!C219)","v":""},{"$f":"IF('Caseload Reporting'!D219 = \"\",\"\",'Caseload Reporting'!D219)","v":""},{"$f":"IF('Caseload Reporting'!G219 = \"\",\"\",'Caseload Reporting'!G219)","v":""},{"$f":"IF('Caseload Reporting'!H219 = \"\",\"\",'Caseload Reporting'!H219)","v":""},{"$f":"IF('Caseload Reporting'!I219 = \"\",\"\",'Caseload Reporting'!I219)","v":""},{"$f":"IF('Caseload Reporting'!J219 = \"\",\"\",'Caseload Reporting'!J219)","v":""},{"$f":"IF('Caseload Reporting'!K219 = \"\",\"\",'Caseload Reporting'!K219)","v":""},{"$f":"IF('Caseload Reporting'!L219 = \"\",\"\",'Caseload Reporting'!L219)","v":""},{"$f":"IF('Caseload Reporting'!M219 = \"\",\"\",'Caseload Reporting'!M219)","v":""},{"$f":"IF('Caseload Reporting'!N219 = \"\",\"\",'Caseload Reporting'!N219)","v":""},{"$f":"IF('Caseload Reporting'!P219 = \"\",\"\",'Caseload Reporting'!P219)","v":""},{"$f":"IF('Caseload Reporting'!O219 = \"\",\"\",'Caseload Reporting'!O219)","v":""},{"$f":"IF('Caseload Reporting'!Q219 = \"\",\"\",'Caseload Reporting'!Q219)","v":""},{"$f":"IF('Caseload Reporting'!R219 = \"\",\"\",'Caseload Reporting'!R219)","v":""},{"$f":"IF('Caseload Reporting'!E219 = \"\",\"\",'Caseload Reporting'!E219)","v":""},{"$f":"IF('Caseload Reporting'!S219 = \"\",\"\",'Caseload Reporting'!S219)","v":""}]
[{"$f":"IF('Caseload Reporting'!A220 = \"\",\"\",'Caseload Reporting'!A220)","v":""},{"$f":"IF('Caseload Reporting'!B220 = \"\",\"\",'Caseload Reporting'!B220)","v":""},{"$f":"IF('Caseload Reporting'!C220 = \"\",\"\",'Caseload Reporting'!C220)","v":""},{"$f":"IF('Caseload Reporting'!D220 = \"\",\"\",'Caseload Reporting'!D220)","v":""},{"$f":"IF('Caseload Reporting'!G220 = \"\",\"\",'Caseload Reporting'!G220)","v":""},{"$f":"IF('Caseload Reporting'!H220 = \"\",\"\",'Caseload Reporting'!H220)","v":""},{"$f":"IF('Caseload Reporting'!I220 = \"\",\"\",'Caseload Reporting'!I220)","v":""},{"$f":"IF('Caseload Reporting'!J220 = \"\",\"\",'Caseload Reporting'!J220)","v":""},{"$f":"IF('Caseload Reporting'!K220 = \"\",\"\",'Caseload Reporting'!K220)","v":""},{"$f":"IF('Caseload Reporting'!L220 = \"\",\"\",'Caseload Reporting'!L220)","v":""},{"$f":"IF('Caseload Reporting'!M220 = \"\",\"\",'Caseload Reporting'!M220)","v":""},{"$f":"IF('Caseload Reporting'!N220 = \"\",\"\",'Caseload Reporting'!N220)","v":""},{"$f":"IF('Caseload Reporting'!P220 = \"\",\"\",'Caseload Reporting'!P220)","v":""},{"$f":"IF('Caseload Reporting'!O220 = \"\",\"\",'Caseload Reporting'!O220)","v":""},{"$f":"IF('Caseload Reporting'!Q220 = \"\",\"\",'Caseload Reporting'!Q220)","v":""},{"$f":"IF('Caseload Reporting'!R220 = \"\",\"\",'Caseload Reporting'!R220)","v":""},{"$f":"IF('Caseload Reporting'!E220 = \"\",\"\",'Caseload Reporting'!E220)","v":""},{"$f":"IF('Caseload Reporting'!S220 = \"\",\"\",'Caseload Reporting'!S220)","v":""}]
[{"$f":"IF('Caseload Reporting'!A221 = \"\",\"\",'Caseload Reporting'!A221)","v":""},{"$f":"IF('Caseload Reporting'!B221 = \"\",\"\",'Caseload Reporting'!B221)","v":""},{"$f":"IF('Caseload Reporting'!C221 = \"\",\"\",'Caseload Reporting'!C221)","v":""},{"$f":"IF('Caseload Reporting'!D221 = \"\",\"\",'Caseload Reporting'!D221)","v":""},{"$f":"IF('Caseload Reporting'!G221 = \"\",\"\",'Caseload Reporting'!G221)","v":""},{"$f":"IF('Caseload Reporting'!H221 = \"\",\"\",'Caseload Reporting'!H221)","v":""},{"$f":"IF('Caseload Reporting'!I221 = \"\",\"\",'Caseload Reporting'!I221)","v":""},{"$f":"IF('Caseload Reporting'!J221 = \"\",\"\",'Caseload Reporting'!J221)","v":""},{"$f":"IF('Caseload Reporting'!K221 = \"\",\"\",'Caseload Reporting'!K221)","v":""},{"$f":"IF('Caseload Reporting'!L221 = \"\",\"\",'Caseload Reporting'!L221)","v":""},{"$f":"IF('Caseload Reporting'!M221 = \"\",\"\",'Caseload Reporting'!M221)","v":""},{"$f":"IF('Caseload Reporting'!N221 = \"\",\"\",'Caseload Reporting'!N221)","v":""},{"$f":"IF('Caseload Reporting'!P221 = \"\",\"\",'Caseload Reporting'!P221)","v":""},{"$f":"IF('Caseload Reporting'!O221 = \"\",\"\",'Caseload Reporting'!O221)","v":""},{"$f":"IF('Caseload Reporting'!Q221 = \"\",\"\",'Caseload Reporting'!Q221)","v":""},{"$f":"IF('Caseload Reporting'!R221 = \"\",\"\",'Caseload Reporting'!R221)","v":""},{"$f":"IF('Caseload Reporting'!E221 = \"\",\"\",'Caseload Reporting'!E221)","v":""},{"$f":"IF('Caseload Reporting'!S221 = \"\",\"\",'Caseload Reporting'!S221)","v":""}]
[{"$f":"IF('Caseload Reporting'!A222 = \"\",\"\",'Caseload Reporting'!A222)","v":""},{"$f":"IF('Caseload Reporting'!B222 = \"\",\"\",'Caseload Reporting'!B222)","v":""},{"$f":"IF('Caseload Reporting'!C222 = \"\",\"\",'Caseload Reporting'!C222)","v":""},{"$f":"IF('Caseload Reporting'!D222 = \"\",\"\",'Caseload Reporting'!D222)","v":""},{"$f":"IF('Caseload Reporting'!G222 = \"\",\"\",'Caseload Reporting'!G222)","v":""},{"$f":"IF('Caseload Reporting'!H222 = \"\",\"\",'Caseload Reporting'!H222)","v":""},{"$f":"IF('Caseload Reporting'!I222 = \"\",\"\",'Caseload Reporting'!I222)","v":""},{"$f":"IF('Caseload Reporting'!J222 = \"\",\"\",'Caseload Reporting'!J222)","v":""},{"$f":"IF('Caseload Reporting'!K222 = \"\",\"\",'Caseload Reporting'!K222)","v":""},{"$f":"IF('Caseload Reporting'!L222 = \"\",\"\",'Caseload Reporting'!L222)","v":""},{"$f":"IF('Caseload Reporting'!M222 = \"\",\"\",'Caseload Reporting'!M222)","v":""},{"$f":"IF('Caseload Reporting'!N222 = \"\",\"\",'Caseload Reporting'!N222)","v":""},{"$f":"IF('Caseload Reporting'!P222 = \"\",\"\",'Caseload Reporting'!P222)","v":""},{"$f":"IF('Caseload Reporting'!O222 = \"\",\"\",'Caseload Reporting'!O222)","v":""},{"$f":"IF('Caseload Reporting'!Q222 = \"\",\"\",'Caseload Reporting'!Q222)","v":""},{"$f":"IF('Caseload Reporting'!R222 = \"\",\"\",'Caseload Reporting'!R222)","v":""},{"$f":"IF('Caseload Reporting'!E222 = \"\",\"\",'Caseload Reporting'!E222)","v":""},{"$f":"IF('Caseload Reporting'!S222 = \"\",\"\",'Caseload Reporting'!S222)","v":""}]
[{"$f":"IF('Caseload Reporting'!A223 = \"\",\"\",'Caseload Reporting'!A223)","v":""},{"$f":"IF('Caseload Reporting'!B223 = \"\",\"\",'Caseload Reporting'!B223)","v":""},{"$f":"IF('Caseload Reporting'!C223 = \"\",\"\",'Caseload Reporting'!C223)","v":""},{"$f":"IF('Caseload Reporting'!D223 = \"\",\"\",'Caseload Reporting'!D223)","v":""},{"$f":"IF('Caseload Reporting'!G223 = \"\",\"\",'Caseload Reporting'!G223)","v":""},{"$f":"IF('Caseload Reporting'!H223 = \"\",\"\",'Caseload Reporting'!H223)","v":""},{"$f":"IF('Caseload Reporting'!I223 = \"\",\"\",'Caseload Reporting'!I223)","v":""},{"$f":"IF('Caseload Reporting'!J223 = \"\",\"\",'Caseload Reporting'!J223)","v":""},{"$f":"IF('Caseload Reporting'!K223 = \"\",\"\",'Caseload Reporting'!K223)","v":""},{"$f":"IF('Caseload Reporting'!L223 = \"\",\"\",'Caseload Reporting'!L223)","v":""},{"$f":"IF('Caseload Reporting'!M223 = \"\",\"\",'Caseload Reporting'!M223)","v":""},{"$f":"IF('Caseload Reporting'!N223 = \"\",\"\",'Caseload Reporting'!N223)","v":""},{"$f":"IF('Caseload Reporting'!P223 = \"\",\"\",'Caseload Reporting'!P223)","v":""},{"$f":"IF('Caseload Reporting'!O223 = \"\",\"\",'Caseload Reporting'!O223)","v":""},{"$f":"IF('Caseload Reporting'!Q223 = \"\",\"\",'Caseload Reporting'!Q223)","v":""},{"$f":"IF('Caseload Reporting'!R223 = \"\",\"\",'Caseload Reporting'!R223)","v":""},{"$f":"IF('Caseload Reporting'!E223 = \"\",\"\",'Caseload Reporting'!E223)","v":""},{"$f":"IF('Caseload Reporting'!S223 = \"\",\"\",'Caseload Reporting'!S223)","v":""}]
[{"$f":"IF('Caseload Reporting'!A224 = \"\",\"\",'Caseload Reporting'!A224)","v":""},{"$f":"IF('Caseload Reporting'!B224 = \"\",\"\",'Caseload Reporting'!B224)","v":""},{"$f":"IF('Caseload Reporting'!C224 = \"\",\"\",'Caseload Reporting'!C224)","v":""},{"$f":"IF('Caseload Reporting'!D224 = \"\",\"\",'Caseload Reporting'!D224)","v":""},{"$f":"IF('Caseload Reporting'!G224 = \"\",\"\",'Caseload Reporting'!G224)","v":""},{"$f":"IF('Caseload Reporting'!H224 = \"\",\"\",'Caseload Reporting'!H224)","v":""},{"$f":"IF('Caseload Reporting'!I224 = \"\",\"\",'Caseload Reporting'!I224)","v":""},{"$f":"IF('Caseload Reporting'!J224 = \"\",\"\",'Caseload Reporting'!J224)","v":""},{"$f":"IF('Caseload Reporting'!K224 = \"\",\"\",'Caseload Reporting'!K224)","v":""},{"$f":"IF('Caseload Reporting'!L224 = \"\",\"\",'Caseload Reporting'!L224)","v":""},{"$f":"IF('Caseload Reporting'!M224 = \"\",\"\",'Caseload Reporting'!M224)","v":""},{"$f":"IF('Caseload Reporting'!N224 = \"\",\"\",'Caseload Reporting'!N224)","v":""},{"$f":"IF('Caseload Reporting'!P224 = \"\",\"\",'Caseload Reporting'!P224)","v":""},{"$f":"IF('Caseload Reporting'!O224 = \"\",\"\",'Caseload Reporting'!O224)","v":""},{"$f":"IF('Caseload Reporting'!Q224 = \"\",\"\",'Caseload Reporting'!Q224)","v":""},{"$f":"IF('Caseload Reporting'!R224 = \"\",\"\",'Caseload Reporting'!R224)","v":""},{"$f":"IF('Caseload Reporting'!E224 = \"\",\"\",'Caseload Reporting'!E224)","v":""},{"$f":"IF('Caseload Reporting'!S224 = \"\",\"\",'Caseload Reporting'!S224)","v":""}]
[{"$f":"IF('Caseload Reporting'!A225 = \"\",\"\",'Caseload Reporting'!A225)","v":""},{"$f":"IF('Caseload Reporting'!B225 = \"\",\"\",'Caseload Reporting'!B225)","v":""},{"$f":"IF('Caseload Reporting'!C225 = \"\",\"\",'Caseload Reporting'!C225)","v":""},{"$f":"IF('Caseload Reporting'!D225 = \"\",\"\",'Caseload Reporting'!D225)","v":""},{"$f":"IF('Caseload Reporting'!G225 = \"\",\"\",'Caseload Reporting'!G225)","v":""},{"$f":"IF('Caseload Reporting'!H225 = \"\",\"\",'Caseload Reporting'!H225)","v":""},{"$f":"IF('Caseload Reporting'!I225 = \"\",\"\",'Caseload Reporting'!I225)","v":""},{"$f":"IF('Caseload Reporting'!J225 = \"\",\"\",'Caseload Reporting'!J225)","v":""},{"$f":"IF('Caseload Reporting'!K225 = \"\",\"\",'Caseload Reporting'!K225)","v":""},{"$f":"IF('Caseload Reporting'!L225 = \"\",\"\",'Caseload Reporting'!L225)","v":""},{"$f":"IF('Caseload Reporting'!M225 = \"\",\"\",'Caseload Reporting'!M225)","v":""},{"$f":"IF('Caseload Reporting'!N225 = \"\",\"\",'Caseload Reporting'!N225)","v":""},{"$f":"IF('Caseload Reporting'!P225 = \"\",\"\",'Caseload Reporting'!P225)","v":""},{"$f":"IF('Caseload Reporting'!O225 = \"\",\"\",'Caseload Reporting'!O225)","v":""},{"$f":"IF('Caseload Reporting'!Q225 = \"\",\"\",'Caseload Reporting'!Q225)","v":""},{"$f":"IF('Caseload Reporting'!R225 = \"\",\"\",'Caseload Reporting'!R225)","v":""},{"$f":"IF('Caseload Reporting'!E225 = \"\",\"\",'Caseload Reporting'!E225)","v":""},{"$f":"IF('Caseload Reporting'!S225 = \"\",\"\",'Caseload Reporting'!S225)","v":""}]
[{"$f":"IF('Caseload Reporting'!A226 = \"\",\"\",'Caseload Reporting'!A226)","v":""},{"$f":"IF('Caseload Reporting'!B226 = \"\",\"\",'Caseload Reporting'!B226)","v":""},{"$f":"IF('Caseload Reporting'!C226 = \"\",\"\",'Caseload Reporting'!C226)","v":""},{"$f":"IF('Caseload Reporting'!D226 = \"\",\"\",'Caseload Reporting'!D226)","v":""},{"$f":"IF('Caseload Reporting'!G226 = \"\",\"\",'Caseload Reporting'!G226)","v":""},{"$f":"IF('Caseload Reporting'!H226 = \"\",\"\",'Caseload Reporting'!H226)","v":""},{"$f":"IF('Caseload Reporting'!I226 = \"\",\"\",'Caseload Reporting'!I226)","v":""},{"$f":"IF('Caseload Reporting'!J226 = \"\",\"\",'Caseload Reporting'!J226)","v":""},{"$f":"IF('Caseload Reporting'!K226 = \"\",\"\",'Caseload Reporting'!K226)","v":""},{"$f":"IF('Caseload Reporting'!L226 = \"\",\"\",'Caseload Reporting'!L226)","v":""},{"$f":"IF('Caseload Reporting'!M226 = \"\",\"\",'Caseload Reporting'!M226)","v":""},{"$f":"IF('Caseload Reporting'!N226 = \"\",\"\",'Caseload Reporting'!N226)","v":""},{"$f":"IF('Caseload Reporting'!P226 = \"\",\"\",'Caseload Reporting'!P226)","v":""},{"$f":"IF('Caseload Reporting'!O226 = \"\",\"\",'Caseload Reporting'!O226)","v":""},{"$f":"IF('Caseload Reporting'!Q226 = \"\",\"\",'Caseload Reporting'!Q226)","v":""},{"$f":"IF('Caseload Reporting'!R226 = \"\",\"\",'Caseload Reporting'!R226)","v":""},{"$f":"IF('Caseload Reporting'!E226 = \"\",\"\",'Caseload Reporting'!E226)","v":""},{"$f":"IF('Caseload Reporting'!S226 = \"\",\"\",'Caseload Reporting'!S226)","v":""}]
[{"$f":"IF('Caseload Reporting'!A227 = \"\",\"\",'Caseload Reporting'!A227)","v":""},{"$f":"IF('Caseload Reporting'!B227 = \"\",\"\",'Caseload Reporting'!B227)","v":""},{"$f":"IF('Caseload Reporting'!C227 = \"\",\"\",'Caseload Reporting'!C227)","v":""},{"$f":"IF('Caseload Reporting'!D227 = \"\",\"\",'Caseload Reporting'!D227)","v":""},{"$f":"IF('Caseload Reporting'!G227 = \"\",\"\",'Caseload Reporting'!G227)","v":""},{"$f":"IF('Caseload Reporting'!H227 = \"\",\"\",'Caseload Reporting'!H227)","v":""},{"$f":"IF('Caseload Reporting'!I227 = \"\",\"\",'Caseload Reporting'!I227)","v":""},{"$f":"IF('Caseload Reporting'!J227 = \"\",\"\",'Caseload Reporting'!J227)","v":""},{"$f":"IF('Caseload Reporting'!K227 = \"\",\"\",'Caseload Reporting'!K227)","v":""},{"$f":"IF('Caseload Reporting'!L227 = \"\",\"\",'Caseload Reporting'!L227)","v":""},{"$f":"IF('Caseload Reporting'!M227 = \"\",\"\",'Caseload Reporting'!M227)","v":""},{"$f":"IF('Caseload Reporting'!N227 = \"\",\"\",'Caseload Reporting'!N227)","v":""},{"$f":"IF('Caseload Reporting'!P227 = \"\",\"\",'Caseload Reporting'!P227)","v":""},{"$f":"IF('Caseload Reporting'!O227 = \"\",\"\",'Caseload Reporting'!O227)","v":""},{"$f":"IF('Caseload Reporting'!Q227 = \"\",\"\",'Caseload Reporting'!Q227)","v":""},{"$f":"IF('Caseload Reporting'!R227 = \"\",\"\",'Caseload Reporting'!R227)","v":""},{"$f":"IF('Caseload Reporting'!E227 = \"\",\"\",'Caseload Reporting'!E227)","v":""},{"$f":"IF('Caseload Reporting'!S227 = \"\",\"\",'Caseload Reporting'!S227)","v":""}]
[{"$f":"IF('Caseload Reporting'!A228 = \"\",\"\",'Caseload Reporting'!A228)","v":""},{"$f":"IF('Caseload Reporting'!B228 = \"\",\"\",'Caseload Reporting'!B228)","v":""},{"$f":"IF('Caseload Reporting'!C228 = \"\",\"\",'Caseload Reporting'!C228)","v":""},{"$f":"IF('Caseload Reporting'!D228 = \"\",\"\",'Caseload Reporting'!D228)","v":""},{"$f":"IF('Caseload Reporting'!G228 = \"\",\"\",'Caseload Reporting'!G228)","v":""},{"$f":"IF('Caseload Reporting'!H228 = \"\",\"\",'Caseload Reporting'!H228)","v":""},{"$f":"IF('Caseload Reporting'!I228 = \"\",\"\",'Caseload Reporting'!I228)","v":""},{"$f":"IF('Caseload Reporting'!J228 = \"\",\"\",'Caseload Reporting'!J228)","v":""},{"$f":"IF('Caseload Reporting'!K228 = \"\",\"\",'Caseload Reporting'!K228)","v":""},{"$f":"IF('Caseload Reporting'!L228 = \"\",\"\",'Caseload Reporting'!L228)","v":""},{"$f":"IF('Caseload Reporting'!M228 = \"\",\"\",'Caseload Reporting'!M228)","v":""},{"$f":"IF('Caseload Reporting'!N228 = \"\",\"\",'Caseload Reporting'!N228)","v":""},{"$f":"IF('Caseload Reporting'!P228 = \"\",\"\",'Caseload Reporting'!P228)","v":""},{"$f":"IF('Caseload Reporting'!O228 = \"\",\"\",'Caseload Reporting'!O228)","v":""},{"$f":"IF('Caseload Reporting'!Q228 = \"\",\"\",'Caseload Reporting'!Q228)","v":""},{"$f":"IF('Caseload Reporting'!R228 = \"\",\"\",'Caseload Reporting'!R228)","v":""},{"$f":"IF('Caseload Reporting'!E228 = \"\",\"\",'Caseload Reporting'!E228)","v":""},{"$f":"IF('Caseload Reporting'!S228 = \"\",\"\",'Caseload Reporting'!S228)","v":""}]
[{"$f":"IF('Caseload Reporting'!A229 = \"\",\"\",'Caseload Reporting'!A229)","v":""},{"$f":"IF('Caseload Reporting'!B229 = \"\",\"\",'Caseload Reporting'!B229)","v":""},{"$f":"IF('Caseload Reporting'!C229 = \"\",\"\",'Caseload Reporting'!C229)","v":""},{"$f":"IF('Caseload Reporting'!D229 = \"\",\"\",'Caseload Reporting'!D229)","v":""},{"$f":"IF('Caseload Reporting'!G229 = \"\",\"\",'Caseload Reporting'!G229)","v":""},{"$f":"IF('Caseload Reporting'!H229 = \"\",\"\",'Caseload Reporting'!H229)","v":""},{"$f":"IF('Caseload Reporting'!I229 = \"\",\"\",'Caseload Reporting'!I229)","v":""},{"$f":"IF('Caseload Reporting'!J229 = \"\",\"\",'Caseload Reporting'!J229)","v":""},{"$f":"IF('Caseload Reporting'!K229 = \"\",\"\",'Caseload Reporting'!K229)","v":""},{"$f":"IF('Caseload Reporting'!L229 = \"\",\"\",'Caseload Reporting'!L229)","v":""},{"$f":"IF('Caseload Reporting'!M229 = \"\",\"\",'Caseload Reporting'!M229)","v":""},{"$f":"IF('Caseload Reporting'!N229 = \"\",\"\",'Caseload Reporting'!N229)","v":""},{"$f":"IF('Caseload Reporting'!P229 = \"\",\"\",'Caseload Reporting'!P229)","v":""},{"$f":"IF('Caseload Reporting'!O229 = \"\",\"\",'Caseload Reporting'!O229)","v":""},{"$f":"IF('Caseload Reporting'!Q229 = \"\",\"\",'Caseload Reporting'!Q229)","v":""},{"$f":"IF('Caseload Reporting'!R229 = \"\",\"\",'Caseload Reporting'!R229)","v":""},{"$f":"IF('Caseload Reporting'!E229 = \"\",\"\",'Caseload Reporting'!E229)","v":""},{"$f":"IF('Caseload Reporting'!S229 = \"\",\"\",'Caseload Reporting'!S229)","v":""}]
[{"$f":"IF('Caseload Reporting'!A230 = \"\",\"\",'Caseload Reporting'!A230)","v":""},{"$f":"IF('Caseload Reporting'!B230 = \"\",\"\",'Caseload Reporting'!B230)","v":""},{"$f":"IF('Caseload Reporting'!C230 = \"\",\"\",'Caseload Reporting'!C230)","v":""},{"$f":"IF('Caseload Reporting'!D230 = \"\",\"\",'Caseload Reporting'!D230)","v":""},{"$f":"IF('Caseload Reporting'!G230 = \"\",\"\",'Caseload Reporting'!G230)","v":""},{"$f":"IF('Caseload Reporting'!H230 = \"\",\"\",'Caseload Reporting'!H230)","v":""},{"$f":"IF('Caseload Reporting'!I230 = \"\",\"\",'Caseload Reporting'!I230)","v":""},{"$f":"IF('Caseload Reporting'!J230 = \"\",\"\",'Caseload Reporting'!J230)","v":""},{"$f":"IF('Caseload Reporting'!K230 = \"\",\"\",'Caseload Reporting'!K230)","v":""},{"$f":"IF('Caseload Reporting'!L230 = \"\",\"\",'Caseload Reporting'!L230)","v":""},{"$f":"IF('Caseload Reporting'!M230 = \"\",\"\",'Caseload Reporting'!M230)","v":""},{"$f":"IF('Caseload Reporting'!N230 = \"\",\"\",'Caseload Reporting'!N230)","v":""},{"$f":"IF('Caseload Reporting'!P230 = \"\",\"\",'Caseload Reporting'!P230)","v":""},{"$f":"IF('Caseload Reporting'!O230 = \"\",\"\",'Caseload Reporting'!O230)","v":""},{"$f":"IF('Caseload Reporting'!Q230 = \"\",\"\",'Caseload Reporting'!Q230)","v":""},{"$f":"IF('Caseload Reporting'!R230 = \"\",\"\",'Caseload Reporting'!R230)","v":""},{"$f":"IF('Caseload Reporting'!E230 = \"\",\"\",'Caseload Reporting'!E230)","v":""},{"$f":"IF('Caseload Reporting'!S230 = \"\",\"\",'Caseload Reporting'!S230)","v":""}]
[{"$f":"IF('Caseload Reporting'!A231 = \"\",\"\",'Caseload Reporting'!A231)","v":""},{"$f":"IF('Caseload Reporting'!B231 = \"\",\"\",'Caseload Reporting'!B231)","v":""},{"$f":"IF('Caseload Reporting'!C231 = \"\",\"\",'Caseload Reporting'!C231)","v":""},{"$f":"IF('Caseload Reporting'!D231 = \"\",\"\",'Caseload Reporting'!D231)","v":""},{"$f":"IF('Caseload Reporting'!G231 = \"\",\"\",'Caseload Reporting'!G231)","v":""},{"$f":"IF('Caseload Reporting'!H231 = \"\",\"\",'Caseload Reporting'!H231)","v":""},{"$f":"IF('Caseload Reporting'!I231 = \"\",\"\",'Caseload Reporting'!I231)","v":""},{"$f":"IF('Caseload Reporting'!J231 = \"\",\"\",'Caseload Reporting'!J231)","v":""},{"$f":"IF('Caseload Reporting'!K231 = \"\",\"\",'Caseload Reporting'!K231)","v":""},{"$f":"IF('Caseload Reporting'!L231 = \"\",\"\",'Caseload Reporting'!L231)","v":""},{"$f":"IF('Caseload Reporting'!M231 = \"\",\"\",'Caseload Reporting'!M231)","v":""},{"$f":"IF('Caseload Reporting'!N231 = \"\",\"\",'Caseload Reporting'!N231)","v":""},{"$f":"IF('Caseload Reporting'!P231 = \"\",\"\",'Caseload Reporting'!P231)","v":""},{"$f":"IF('Caseload Reporting'!O231 = \"\",\"\",'Caseload Reporting'!O231)","v":""},{"$f":"IF('Caseload Reporting'!Q231 = \"\",\"\",'Caseload Reporting'!Q231)","v":""},{"$f":"IF('Caseload Reporting'!R231 = \"\",\"\",'Caseload Reporting'!R231)","v":""},{"$f":"IF('Caseload Reporting'!E231 = \"\",\"\",'Caseload Reporting'!E231)","v":""},{"$f":"IF('Caseload Reporting'!S231 = \"\",\"\",'Caseload Reporting'!S231)","v":""}]
[{"$f":"IF('Caseload Reporting'!A232 = \"\",\"\",'Caseload Reporting'!A232)","v":""},{"$f":"IF('Caseload Reporting'!B232 = \"\",\"\",'Caseload Reporting'!B232)","v":""},{"$f":"IF('Caseload Reporting'!C232 = \"\",\"\",'Caseload Reporting'!C232)","v":""},{"$f":"IF('Caseload Reporting'!D232 = \"\",\"\",'Caseload Reporting'!D232)","v":""},{"$f":"IF('Caseload Reporting'!G232 = \"\",\"\",'Caseload Reporting'!G232)","v":""},{"$f":"IF('Caseload Reporting'!H232 = \"\",\"\",'Caseload Reporting'!H232)","v":""},{"$f":"IF('Caseload Reporting'!I232 = \"\",\"\",'Caseload Reporting'!I232)","v":""},{"$f":"IF('Caseload Reporting'!J232 = \"\",\"\",'Caseload Reporting'!J232)","v":""},{"$f":"IF('Caseload Reporting'!K232 = \"\",\"\",'Caseload Reporting'!K232)","v":""},{"$f":"IF('Caseload Reporting'!L232 = \"\",\"\",'Caseload Reporting'!L232)","v":""},{"$f":"IF('Caseload Reporting'!M232 = \"\",\"\",'Caseload Reporting'!M232)","v":""},{"$f":"IF('Caseload Reporting'!N232 = \"\",\"\",'Caseload Reporting'!N232)","v":""},{"$f":"IF('Caseload Reporting'!P232 = \"\",\"\",'Caseload Reporting'!P232)","v":""},{"$f":"IF('Caseload Reporting'!O232 = \"\",\"\",'Caseload Reporting'!O232)","v":""},{"$f":"IF('Caseload Reporting'!Q232 = \"\",\"\",'Caseload Reporting'!Q232)","v":""},{"$f":"IF('Caseload Reporting'!R232 = \"\",\"\",'Caseload Reporting'!R232)","v":""},{"$f":"IF('Caseload Reporting'!E232 = \"\",\"\",'Caseload Reporting'!E232)","v":""},{"$f":"IF('Caseload Reporting'!S232 = \"\",\"\",'Caseload Reporting'!S232)","v":""}]
[{"$f":"IF('Caseload Reporting'!A233 = \"\",\"\",'Caseload Reporting'!A233)","v":""},{"$f":"IF('Caseload Reporting'!B233 = \"\",\"\",'Caseload Reporting'!B233)","v":""},{"$f":"IF('Caseload Reporting'!C233 = \"\",\"\",'Caseload Reporting'!C233)","v":""},{"$f":"IF('Caseload Reporting'!D233 = \"\",\"\",'Caseload Reporting'!D233)","v":""},{"$f":"IF('Caseload Reporting'!G233 = \"\",\"\",'Caseload Reporting'!G233)","v":""},{"$f":"IF('Caseload Reporting'!H233 = \"\",\"\",'Caseload Reporting'!H233)","v":""},{"$f":"IF('Caseload Reporting'!I233 = \"\",\"\",'Caseload Reporting'!I233)","v":""},{"$f":"IF('Caseload Reporting'!J233 = \"\",\"\",'Caseload Reporting'!J233)","v":""},{"$f":"IF('Caseload Reporting'!K233 = \"\",\"\",'Caseload Reporting'!K233)","v":""},{"$f":"IF('Caseload Reporting'!L233 = \"\",\"\",'Caseload Reporting'!L233)","v":""},{"$f":"IF('Caseload Reporting'!M233 = \"\",\"\",'Caseload Reporting'!M233)","v":""},{"$f":"IF('Caseload Reporting'!N233 = \"\",\"\",'Caseload Reporting'!N233)","v":""},{"$f":"IF('Caseload Reporting'!P233 = \"\",\"\",'Caseload Reporting'!P233)","v":""},{"$f":"IF('Caseload Reporting'!O233 = \"\",\"\",'Caseload Reporting'!O233)","v":""},{"$f":"IF('Caseload Reporting'!Q233 = \"\",\"\",'Caseload Reporting'!Q233)","v":""},{"$f":"IF('Caseload Reporting'!R233 = \"\",\"\",'Caseload Reporting'!R233)","v":""},{"$f":"IF('Caseload Reporting'!E233 = \"\",\"\",'Caseload Reporting'!E233)","v":""},{"$f":"IF('Caseload Reporting'!S233 = \"\",\"\",'Caseload Reporting'!S233)","v":""}]
[{"$f":"IF('Caseload Reporting'!A234 = \"\",\"\",'Caseload Reporting'!A234)","v":""},{"$f":"IF('Caseload Reporting'!B234 = \"\",\"\",'Caseload Reporting'!B234)","v":""},{"$f":"IF('Caseload Reporting'!C234 = \"\",\"\",'Caseload Reporting'!C234)","v":""},{"$f":"IF('Caseload Reporting'!D234 = \"\",\"\",'Caseload Reporting'!D234)","v":""},{"$f":"IF('Caseload Reporting'!G234 = \"\",\"\",'Caseload Reporting'!G234)","v":""},{"$f":"IF('Caseload Reporting'!H234 = \"\",\"\",'Caseload Reporting'!H234)","v":""},{"$f":"IF('Caseload Reporting'!I234 = \"\",\"\",'Caseload Reporting'!I234)","v":""},{"$f":"IF('Caseload Reporting'!J234 = \"\",\"\",'Caseload Reporting'!J234)","v":""},{"$f":"IF('Caseload Reporting'!K234 = \"\",\"\",'Caseload Reporting'!K234)","v":""},{"$f":"IF('Caseload Reporting'!L234 = \"\",\"\",'Caseload Reporting'!L234)","v":""},{"$f":"IF('Caseload Reporting'!M234 = \"\",\"\",'Caseload Reporting'!M234)","v":""},{"$f":"IF('Caseload Reporting'!N234 = \"\",\"\",'Caseload Reporting'!N234)","v":""},{"$f":"IF('Caseload Reporting'!P234 = \"\",\"\",'Caseload Reporting'!P234)","v":""},{"$f":"IF('Caseload Reporting'!O234 = \"\",\"\",'Caseload Reporting'!O234)","v":""},{"$f":"IF('Caseload Reporting'!Q234 = \"\",\"\",'Caseload Reporting'!Q234)","v":""},{"$f":"IF('Caseload Reporting'!R234 = \"\",\"\",'Caseload Reporting'!R234)","v":""},{"$f":"IF('Caseload Reporting'!E234 = \"\",\"\",'Caseload Reporting'!E234)","v":""},{"$f":"IF('Caseload Reporting'!S234 = \"\",\"\",'Caseload Reporting'!S234)","v":""}]
[{"$f":"IF('Caseload Reporting'!A235 = \"\",\"\",'Caseload Reporting'!A235)","v":""},{"$f":"IF('Caseload Reporting'!B235 = \"\",\"\",'Caseload Reporting'!B235)","v":""},{"$f":"IF('Caseload Reporting'!C235 = \"\",\"\",'Caseload Reporting'!C235)","v":""},{"$f":"IF('Caseload Reporting'!D235 = \"\",\"\",'Caseload Reporting'!D235)","v":""},{"$f":"IF('Caseload Reporting'!G235 = \"\",\"\",'Caseload Reporting'!G235)","v":""},{"$f":"IF('Caseload Reporting'!H235 = \"\",\"\",'Caseload Reporting'!H235)","v":""},{"$f":"IF('Caseload Reporting'!I235 = \"\",\"\",'Caseload Reporting'!I235)","v":""},{"$f":"IF('Caseload Reporting'!J235 = \"\",\"\",'Caseload Reporting'!J235)","v":""},{"$f":"IF('Caseload Reporting'!K235 = \"\",\"\",'Caseload Reporting'!K235)","v":""},{"$f":"IF('Caseload Reporting'!L235 = \"\",\"\",'Caseload Reporting'!L235)","v":""},{"$f":"IF('Caseload Reporting'!M235 = \"\",\"\",'Caseload Reporting'!M235)","v":""},{"$f":"IF('Caseload Reporting'!N235 = \"\",\"\",'Caseload Reporting'!N235)","v":""},{"$f":"IF('Caseload Reporting'!P235 = \"\",\"\",'Caseload Reporting'!P235)","v":""},{"$f":"IF('Caseload Reporting'!O235 = \"\",\"\",'Caseload Reporting'!O235)","v":""},{"$f":"IF('Caseload Reporting'!Q235 = \"\",\"\",'Caseload Reporting'!Q235)","v":""},{"$f":"IF('Caseload Reporting'!R235 = \"\",\"\",'Caseload Reporting'!R235)","v":""},{"$f":"IF('Caseload Reporting'!E235 = \"\",\"\",'Caseload Reporting'!E235)","v":""},{"$f":"IF('Caseload Reporting'!S235 = \"\",\"\",'Caseload Reporting'!S235)","v":""}]
[{"$f":"IF('Caseload Reporting'!A236 = \"\",\"\",'Caseload Reporting'!A236)","v":""},{"$f":"IF('Caseload Reporting'!B236 = \"\",\"\",'Caseload Reporting'!B236)","v":""},{"$f":"IF('Caseload Reporting'!C236 = \"\",\"\",'Caseload Reporting'!C236)","v":""},{"$f":"IF('Caseload Reporting'!D236 = \"\",\"\",'Caseload Reporting'!D236)","v":""},{"$f":"IF('Caseload Reporting'!G236 = \"\",\"\",'Caseload Reporting'!G236)","v":""},{"$f":"IF('Caseload Reporting'!H236 = \"\",\"\",'Caseload Reporting'!H236)","v":""},{"$f":"IF('Caseload Reporting'!I236 = \"\",\"\",'Caseload Reporting'!I236)","v":""},{"$f":"IF('Caseload Reporting'!J236 = \"\",\"\",'Caseload Reporting'!J236)","v":""},{"$f":"IF('Caseload Reporting'!K236 = \"\",\"\",'Caseload Reporting'!K236)","v":""},{"$f":"IF('Caseload Reporting'!L236 = \"\",\"\",'Caseload Reporting'!L236)","v":""},{"$f":"IF('Caseload Reporting'!M236 = \"\",\"\",'Caseload Reporting'!M236)","v":""},{"$f":"IF('Caseload Reporting'!N236 = \"\",\"\",'Caseload Reporting'!N236)","v":""},{"$f":"IF('Caseload Reporting'!P236 = \"\",\"\",'Caseload Reporting'!P236)","v":""},{"$f":"IF('Caseload Reporting'!O236 = \"\",\"\",'Caseload Reporting'!O236)","v":""},{"$f":"IF('Caseload Reporting'!Q236 = \"\",\"\",'Caseload Reporting'!Q236)","v":""},{"$f":"IF('Caseload Reporting'!R236 = \"\",\"\",'Caseload Reporting'!R236)","v":""},{"$f":"IF('Caseload Reporting'!E236 = \"\",\"\",'Caseload Reporting'!E236)","v":""},{"$f":"IF('Caseload Reporting'!S236 = \"\",\"\",'Caseload Reporting'!S236)","v":""}]
[{"$f":"IF('Caseload Reporting'!A237 = \"\",\"\",'Caseload Reporting'!A237)","v":""},{"$f":"IF('Caseload Reporting'!B237 = \"\",\"\",'Caseload Reporting'!B237)","v":""},{"$f":"IF('Caseload Reporting'!C237 = \"\",\"\",'Caseload Reporting'!C237)","v":""},{"$f":"IF('Caseload Reporting'!D237 = \"\",\"\",'Caseload Reporting'!D237)","v":""},{"$f":"IF('Caseload Reporting'!G237 = \"\",\"\",'Caseload Reporting'!G237)","v":""},{"$f":"IF('Caseload Reporting'!H237 = \"\",\"\",'Caseload Reporting'!H237)","v":""},{"$f":"IF('Caseload Reporting'!I237 = \"\",\"\",'Caseload Reporting'!I237)","v":""},{"$f":"IF('Caseload Reporting'!J237 = \"\",\"\",'Caseload Reporting'!J237)","v":""},{"$f":"IF('Caseload Reporting'!K237 = \"\",\"\",'Caseload Reporting'!K237)","v":""},{"$f":"IF('Caseload Reporting'!L237 = \"\",\"\",'Caseload Reporting'!L237)","v":""},{"$f":"IF('Caseload Reporting'!M237 = \"\",\"\",'Caseload Reporting'!M237)","v":""},{"$f":"IF('Caseload Reporting'!N237 = \"\",\"\",'Caseload Reporting'!N237)","v":""},{"$f":"IF('Caseload Reporting'!P237 = \"\",\"\",'Caseload Reporting'!P237)","v":""},{"$f":"IF('Caseload Reporting'!O237 = \"\",\"\",'Caseload Reporting'!O237)","v":""},{"$f":"IF('Caseload Reporting'!Q237 = \"\",\"\",'Caseload Reporting'!Q237)","v":""},{"$f":"IF('Caseload Reporting'!R237 = \"\",\"\",'Caseload Reporting'!R237)","v":""},{"$f":"IF('Caseload Reporting'!E237 = \"\",\"\",'Caseload Reporting'!E237)","v":""},{"$f":"IF('Caseload Reporting'!S237 = \"\",\"\",'Caseload Reporting'!S237)","v":""}]
[{"$f":"IF('Caseload Reporting'!A238 = \"\",\"\",'Caseload Reporting'!A238)","v":""},{"$f":"IF('Caseload Reporting'!B238 = \"\",\"\",'Caseload Reporting'!B238)","v":""},{"$f":"IF('Caseload Reporting'!C238 = \"\",\"\",'Caseload Reporting'!C238)","v":""},{"$f":"IF('Caseload Reporting'!D238 = \"\",\"\",'Caseload Reporting'!D238)","v":""},{"$f":"IF('Caseload Reporting'!G238 = \"\",\"\",'Caseload Reporting'!G238)","v":""},{"$f":"IF('Caseload Reporting'!H238 = \"\",\"\",'Caseload Reporting'!H238)","v":""},{"$f":"IF('Caseload Reporting'!I238 = \"\",\"\",'Caseload Reporting'!I238)","v":""},{"$f":"IF('Caseload Reporting'!J238 = \"\",\"\",'Caseload Reporting'!J238)","v":""},{"$f":"IF('Caseload Reporting'!K238 = \"\",\"\",'Caseload Reporting'!K238)","v":""},{"$f":"IF('Caseload Reporting'!L238 = \"\",\"\",'Caseload Reporting'!L238)","v":""},{"$f":"IF('Caseload Reporting'!M238 = \"\",\"\",'Caseload Reporting'!M238)","v":""},{"$f":"IF('Caseload Reporting'!N238 = \"\",\"\",'Caseload Reporting'!N238)","v":""},{"$f":"IF('Caseload Reporting'!P238 = \"\",\"\",'Caseload Reporting'!P238)","v":""},{"$f":"IF('Caseload Reporting'!O238 = \"\",\"\",'Caseload Reporting'!O238)","v":""},{"$f":"IF('Caseload Reporting'!Q238 = \"\",\"\",'Caseload Reporting'!Q238)","v":""},{"$f":"IF('Caseload Reporting'!R238 = \"\",\"\",'Caseload Reporting'!R238)","v":""},{"$f":"IF('Caseload Reporting'!E238 = \"\",\"\",'Caseload Reporting'!E238)","v":""},{"$f":"IF('Caseload Reporting'!S238 = \"\",\"\",'Caseload Reporting'!S238)","v":""}]
[{"$f":"IF('Caseload Reporting'!A239 = \"\",\"\",'Caseload Reporting'!A239)","v":""},{"$f":"IF('Caseload Reporting'!B239 = \"\",\"\",'Caseload Reporting'!B239)","v":""},{"$f":"IF('Caseload Reporting'!C239 = \"\",\"\",'Caseload Reporting'!C239)","v":""},{"$f":"IF('Caseload Reporting'!D239 = \"\",\"\",'Caseload Reporting'!D239)","v":""},{"$f":"IF('Caseload Reporting'!G239 = \"\",\"\",'Caseload Reporting'!G239)","v":""},{"$f":"IF('Caseload Reporting'!H239 = \"\",\"\",'Caseload Reporting'!H239)","v":""},{"$f":"IF('Caseload Reporting'!I239 = \"\",\"\",'Caseload Reporting'!I239)","v":""},{"$f":"IF('Caseload Reporting'!J239 = \"\",\"\",'Caseload Reporting'!J239)","v":""},{"$f":"IF('Caseload Reporting'!K239 = \"\",\"\",'Caseload Reporting'!K239)","v":""},{"$f":"IF('Caseload Reporting'!L239 = \"\",\"\",'Caseload Reporting'!L239)","v":""},{"$f":"IF('Caseload Reporting'!M239 = \"\",\"\",'Caseload Reporting'!M239)","v":""},{"$f":"IF('Caseload Reporting'!N239 = \"\",\"\",'Caseload Reporting'!N239)","v":""},{"$f":"IF('Caseload Reporting'!P239 = \"\",\"\",'Caseload Reporting'!P239)","v":""},{"$f":"IF('Caseload Reporting'!O239 = \"\",\"\",'Caseload Reporting'!O239)","v":""},{"$f":"IF('Caseload Reporting'!Q239 = \"\",\"\",'Caseload Reporting'!Q239)","v":""},{"$f":"IF('Caseload Reporting'!R239 = \"\",\"\",'Caseload Reporting'!R239)","v":""},{"$f":"IF('Caseload Reporting'!E239 = \"\",\"\",'Caseload Reporting'!E239)","v":""},{"$f":"IF('Caseload Reporting'!S239 = \"\",\"\",'Caseload Reporting'!S239)","v":""}]
[{"$f":"IF('Caseload Reporting'!A240 = \"\",\"\",'Caseload Reporting'!A240)","v":""},{"$f":"IF('Caseload Reporting'!B240 = \"\",\"\",'Caseload Reporting'!B240)","v":""},{"$f":"IF('Caseload Reporting'!C240 = \"\",\"\",'Caseload Reporting'!C240)","v":""},{"$f":"IF('Caseload Reporting'!D240 = \"\",\"\",'Caseload Reporting'!D240)","v":""},{"$f":"IF('Caseload Reporting'!G240 = \"\",\"\",'Caseload Reporting'!G240)","v":""},{"$f":"IF('Caseload Reporting'!H240 = \"\",\"\",'Caseload Reporting'!H240)","v":""},{"$f":"IF('Caseload Reporting'!I240 = \"\",\"\",'Caseload Reporting'!I240)","v":""},{"$f":"IF('Caseload Reporting'!J240 = \"\",\"\",'Caseload Reporting'!J240)","v":""},{"$f":"IF('Caseload Reporting'!K240 = \"\",\"\",'Caseload Reporting'!K240)","v":""},{"$f":"IF('Caseload Reporting'!L240 = \"\",\"\",'Caseload Reporting'!L240)","v":""},{"$f":"IF('Caseload Reporting'!M240 = \"\",\"\",'Caseload Reporting'!M240)","v":""},{"$f":"IF('Caseload Reporting'!N240 = \"\",\"\",'Caseload Reporting'!N240)","v":""},{"$f":"IF('Caseload Reporting'!P240 = \"\",\"\",'Caseload Reporting'!P240)","v":""},{"$f":"IF('Caseload Reporting'!O240 = \"\",\"\",'Caseload Reporting'!O240)","v":""},{"$f":"IF('Caseload Reporting'!Q240 = \"\",\"\",'Caseload Reporting'!Q240)","v":""},{"$f":"IF('Caseload Reporting'!R240 = \"\",\"\",'Caseload Reporting'!R240)","v":""},{"$f":"IF('Caseload Reporting'!E240 = \"\",\"\",'Caseload Reporting'!E240)","v":""},{"$f":"IF('Caseload Reporting'!S240 = \"\",\"\",'Caseload Reporting'!S240)","v":""}]
[{"$f":"IF('Caseload Reporting'!A241 = \"\",\"\",'Caseload Reporting'!A241)","v":""},{"$f":"IF('Caseload Reporting'!B241 = \"\",\"\",'Caseload Reporting'!B241)","v":""},{"$f":"IF('Caseload Reporting'!C241 = \"\",\"\",'Caseload Reporting'!C241)","v":""},{"$f":"IF('Caseload Reporting'!D241 = \"\",\"\",'Caseload Reporting'!D241)","v":""},{"$f":"IF('Caseload Reporting'!G241 = \"\",\"\",'Caseload Reporting'!G241)","v":""},{"$f":"IF('Caseload Reporting'!H241 = \"\",\"\",'Caseload Reporting'!H241)","v":""},{"$f":"IF('Caseload Reporting'!I241 = \"\",\"\",'Caseload Reporting'!I241)","v":""},{"$f":"IF('Caseload Reporting'!J241 = \"\",\"\",'Caseload Reporting'!J241)","v":""},{"$f":"IF('Caseload Reporting'!K241 = \"\",\"\",'Caseload Reporting'!K241)","v":""},{"$f":"IF('Caseload Reporting'!L241 = \"\",\"\",'Caseload Reporting'!L241)","v":""},{"$f":"IF('Caseload Reporting'!M241 = \"\",\"\",'Caseload Reporting'!M241)","v":""},{"$f":"IF('Caseload Reporting'!N241 = \"\",\"\",'Caseload Reporting'!N241)","v":""},{"$f":"IF('Caseload Reporting'!P241 = \"\",\"\",'Caseload Reporting'!P241)","v":""},{"$f":"IF('Caseload Reporting'!O241 = \"\",\"\",'Caseload Reporting'!O241)","v":""},{"$f":"IF('Caseload Reporting'!Q241 = \"\",\"\",'Caseload Reporting'!Q241)","v":""},{"$f":"IF('Caseload Reporting'!R241 = \"\",\"\",'Caseload Reporting'!R241)","v":""},{"$f":"IF('Caseload Reporting'!E241 = \"\",\"\",'Caseload Reporting'!E241)","v":""},{"$f":"IF('Caseload Reporting'!S241 = \"\",\"\",'Caseload Reporting'!S241)","v":""}]
[{"$f":"IF('Caseload Reporting'!A242 = \"\",\"\",'Caseload Reporting'!A242)","v":""},{"$f":"IF('Caseload Reporting'!B242 = \"\",\"\",'Caseload Reporting'!B242)","v":""},{"$f":"IF('Caseload Reporting'!C242 = \"\",\"\",'Caseload Reporting'!C242)","v":""},{"$f":"IF('Caseload Reporting'!D242 = \"\",\"\",'Caseload Reporting'!D242)","v":""},{"$f":"IF('Caseload Reporting'!G242 = \"\",\"\",'Caseload Reporting'!G242)","v":""},{"$f":"IF('Caseload Reporting'!H242 = \"\",\"\",'Caseload Reporting'!H242)","v":""},{"$f":"IF('Caseload Reporting'!I242 = \"\",\"\",'Caseload Reporting'!I242)","v":""},{"$f":"IF('Caseload Reporting'!J242 = \"\",\"\",'Caseload Reporting'!J242)","v":""},{"$f":"IF('Caseload Reporting'!K242 = \"\",\"\",'Caseload Reporting'!K242)","v":""},{"$f":"IF('Caseload Reporting'!L242 = \"\",\"\",'Caseload Reporting'!L242)","v":""},{"$f":"IF('Caseload Reporting'!M242 = \"\",\"\",'Caseload Reporting'!M242)","v":""},{"$f":"IF('Caseload Reporting'!N242 = \"\",\"\",'Caseload Reporting'!N242)","v":""},{"$f":"IF('Caseload Reporting'!P242 = \"\",\"\",'Caseload Reporting'!P242)","v":""},{"$f":"IF('Caseload Reporting'!O242 = \"\",\"\",'Caseload Reporting'!O242)","v":""},{"$f":"IF('Caseload Reporting'!Q242 = \"\",\"\",'Caseload Reporting'!Q242)","v":""},{"$f":"IF('Caseload Reporting'!R242 = \"\",\"\",'Caseload Reporting'!R242)","v":""},{"$f":"IF('Caseload Reporting'!E242 = \"\",\"\",'Caseload Reporting'!E242)","v":""},{"$f":"IF('Caseload Reporting'!S242 = \"\",\"\",'Caseload Reporting'!S242)","v":""}]
[{"$f":"IF('Caseload Reporting'!A243 = \"\",\"\",'Caseload Reporting'!A243)","v":""},{"$f":"IF('Caseload Reporting'!B243 = \"\",\"\",'Caseload Reporting'!B243)","v":""},{"$f":"IF('Caseload Reporting'!C243 = \"\",\"\",'Caseload Reporting'!C243)","v":""},{"$f":"IF('Caseload Reporting'!D243 = \"\",\"\",'Caseload Reporting'!D243)","v":""},{"$f":"IF('Caseload Reporting'!G243 = \"\",\"\",'Caseload Reporting'!G243)","v":""},{"$f":"IF('Caseload Reporting'!H243 = \"\",\"\",'Caseload Reporting'!H243)","v":""},{"$f":"IF('Caseload Reporting'!I243 = \"\",\"\",'Caseload Reporting'!I243)","v":""},{"$f":"IF('Caseload Reporting'!J243 = \"\",\"\",'Caseload Reporting'!J243)","v":""},{"$f":"IF('Caseload Reporting'!K243 = \"\",\"\",'Caseload Reporting'!K243)","v":""},{"$f":"IF('Caseload Reporting'!L243 = \"\",\"\",'Caseload Reporting'!L243)","v":""},{"$f":"IF('Caseload Reporting'!M243 = \"\",\"\",'Caseload Reporting'!M243)","v":""},{"$f":"IF('Caseload Reporting'!N243 = \"\",\"\",'Caseload Reporting'!N243)","v":""},{"$f":"IF('Caseload Reporting'!P243 = \"\",\"\",'Caseload Reporting'!P243)","v":""},{"$f":"IF('Caseload Reporting'!O243 = \"\",\"\",'Caseload Reporting'!O243)","v":""},{"$f":"IF('Caseload Reporting'!Q243 = \"\",\"\",'Caseload Reporting'!Q243)","v":""},{"$f":"IF('Caseload Reporting'!R243 = \"\",\"\",'Caseload Reporting'!R243)","v":""},{"$f":"IF('Caseload Reporting'!E243 = \"\",\"\",'Caseload Reporting'!E243)","v":""},{"$f":"IF('Caseload Reporting'!S243 = \"\",\"\",'Caseload Reporting'!S243)","v":""}]
[{"$f":"IF('Caseload Reporting'!A244 = \"\",\"\",'Caseload Reporting'!A244)","v":""},{"$f":"IF('Caseload Reporting'!B244 = \"\",\"\",'Caseload Reporting'!B244)","v":""},{"$f":"IF('Caseload Reporting'!C244 = \"\",\"\",'Caseload Reporting'!C244)","v":""},{"$f":"IF('Caseload Reporting'!D244 = \"\",\"\",'Caseload Reporting'!D244)","v":""},{"$f":"IF('Caseload Reporting'!G244 = \"\",\"\",'Caseload Reporting'!G244)","v":""},{"$f":"IF('Caseload Reporting'!H244 = \"\",\"\",'Caseload Reporting'!H244)","v":""},{"$f":"IF('Caseload Reporting'!I244 = \"\",\"\",'Caseload Reporting'!I244)","v":""},{"$f":"IF('Caseload Reporting'!J244 = \"\",\"\",'Caseload Reporting'!J244)","v":""},{"$f":"IF('Caseload Reporting'!K244 = \"\",\"\",'Caseload Reporting'!K244)","v":""},{"$f":"IF('Caseload Reporting'!L244 = \"\",\"\",'Caseload Reporting'!L244)","v":""},{"$f":"IF('Caseload Reporting'!M244 = \"\",\"\",'Caseload Reporting'!M244)","v":""},{"$f":"IF('Caseload Reporting'!N244 = \"\",\"\",'Caseload Reporting'!N244)","v":""},{"$f":"IF('Caseload Reporting'!P244 = \"\",\"\",'Caseload Reporting'!P244)","v":""},{"$f":"IF('Caseload Reporting'!O244 = \"\",\"\",'Caseload Reporting'!O244)","v":""},{"$f":"IF('Caseload Reporting'!Q244 = \"\",\"\",'Caseload Reporting'!Q244)","v":""},{"$f":"IF('Caseload Reporting'!R244 = \"\",\"\",'Caseload Reporting'!R244)","v":""},{"$f":"IF('Caseload Reporting'!E244 = \"\",\"\",'Caseload Reporting'!E244)","v":""},{"$f":"IF('Caseload Reporting'!S244 = \"\",\"\",'Caseload Reporting'!S244)","v":""}]
[{"$f":"IF('Caseload Reporting'!A245 = \"\",\"\",'Caseload Reporting'!A245)","v":""},{"$f":"IF('Caseload Reporting'!B245 = \"\",\"\",'Caseload Reporting'!B245)","v":""},{"$f":"IF('Caseload Reporting'!C245 = \"\",\"\",'Caseload Reporting'!C245)","v":""},{"$f":"IF('Caseload Reporting'!D245 = \"\",\"\",'Caseload Reporting'!D245)","v":""},{"$f":"IF('Caseload Reporting'!G245 = \"\",\"\",'Caseload Reporting'!G245)","v":""},{"$f":"IF('Caseload Reporting'!H245 = \"\",\"\",'Caseload Reporting'!H245)","v":""},{"$f":"IF('Caseload Reporting'!I245 = \"\",\"\",'Caseload Reporting'!I245)","v":""},{"$f":"IF('Caseload Reporting'!J245 = \"\",\"\",'Caseload Reporting'!J245)","v":""},{"$f":"IF('Caseload Reporting'!K245 = \"\",\"\",'Caseload Reporting'!K245)","v":""},{"$f":"IF('Caseload Reporting'!L245 = \"\",\"\",'Caseload Reporting'!L245)","v":""},{"$f":"IF('Caseload Reporting'!M245 = \"\",\"\",'Caseload Reporting'!M245)","v":""},{"$f":"IF('Caseload Reporting'!N245 = \"\",\"\",'Caseload Reporting'!N245)","v":""},{"$f":"IF('Caseload Reporting'!P245 = \"\",\"\",'Caseload Reporting'!P245)","v":""},{"$f":"IF('Caseload Reporting'!O245 = \"\",\"\",'Caseload Reporting'!O245)","v":""},{"$f":"IF('Caseload Reporting'!Q245 = \"\",\"\",'Caseload Reporting'!Q245)","v":""},{"$f":"IF('Caseload Reporting'!R245 = \"\",\"\",'Caseload Reporting'!R245)","v":""},{"$f":"IF('Caseload Reporting'!E245 = \"\",\"\",'Caseload Reporting'!E245)","v":""},{"$f":"IF('Caseload Reporting'!S245 = \"\",\"\",'Caseload Reporting'!S245)","v":""}]
[{"$f":"IF('Caseload Reporting'!A246 = \"\",\"\",'Caseload Reporting'!A246)","v":""},{"$f":"IF('Caseload Reporting'!B246 = \"\",\"\",'Caseload Reporting'!B246)","v":""},{"$f":"IF('Caseload Reporting'!C246 = \"\",\"\",'Caseload Reporting'!C246)","v":""},{"$f":"IF('Caseload Reporting'!D246 = \"\",\"\",'Caseload Reporting'!D246)","v":""},{"$f":"IF('Caseload Reporting'!G246 = \"\",\"\",'Caseload Reporting'!G246)","v":""},{"$f":"IF('Caseload Reporting'!H246 = \"\",\"\",'Caseload Reporting'!H246)","v":""},{"$f":"IF('Caseload Reporting'!I246 = \"\",\"\",'Caseload Reporting'!I246)","v":""},{"$f":"IF('Caseload Reporting'!J246 = \"\",\"\",'Caseload Reporting'!J246)","v":""},{"$f":"IF('Caseload Reporting'!K246 = \"\",\"\",'Caseload Reporting'!K246)","v":""},{"$f":"IF('Caseload Reporting'!L246 = \"\",\"\",'Caseload Reporting'!L246)","v":""},{"$f":"IF('Caseload Reporting'!M246 = \"\",\"\",'Caseload Reporting'!M246)","v":""},{"$f":"IF('Caseload Reporting'!N246 = \"\",\"\",'Caseload Reporting'!N246)","v":""},{"$f":"IF('Caseload Reporting'!P246 = \"\",\"\",'Caseload Reporting'!P246)","v":""},{"$f":"IF('Caseload Reporting'!O246 = \"\",\"\",'Caseload Reporting'!O246)","v":""},{"$f":"IF('Caseload Reporting'!Q246 = \"\",\"\",'Caseload Reporting'!Q246)","v":""},{"$f":"IF('Caseload Reporting'!R246 = \"\",\"\",'Caseload Reporting'!R246)","v":""},{"$f":"IF('Caseload Reporting'!E246 = \"\",\"\",'Caseload Reporting'!E246)","v":""},{"$f":"IF('Caseload Reporting'!S246 = \"\",\"\",'Caseload Reporting'!S246)","v":""}]
[{"$f":"IF('Caseload Reporting'!A247 = \"\",\"\",'Caseload Reporting'!A247)","v":""},{"$f":"IF('Caseload Reporting'!B247 = \"\",\"\",'Caseload Reporting'!B247)","v":""},{"$f":"IF('Caseload Reporting'!C247 = \"\",\"\",'Caseload Reporting'!C247)","v":""},{"$f":"IF('Caseload Reporting'!D247 = \"\",\"\",'Caseload Reporting'!D247)","v":""},{"$f":"IF('Caseload Reporting'!G247 = \"\",\"\",'Caseload Reporting'!G247)","v":""},{"$f":"IF('Caseload Reporting'!H247 = \"\",\"\",'Caseload Reporting'!H247)","v":""},{"$f":"IF('Caseload Reporting'!I247 = \"\",\"\",'Caseload Reporting'!I247)","v":""},{"$f":"IF('Caseload Reporting'!J247 = \"\",\"\",'Caseload Reporting'!J247)","v":""},{"$f":"IF('Caseload Reporting'!K247 = \"\",\"\",'Caseload Reporting'!K247)","v":""},{"$f":"IF('Caseload Reporting'!L247 = \"\",\"\",'Caseload Reporting'!L247)","v":""},{"$f":"IF('Caseload Reporting'!M247 = \"\",\"\",'Caseload Reporting'!M247)","v":""},{"$f":"IF('Caseload Reporting'!N247 = \"\",\"\",'Caseload Reporting'!N247)","v":""},{"$f":"IF('Caseload Reporting'!P247 = \"\",\"\",'Caseload Reporting'!P247)","v":""},{"$f":"IF('Caseload Reporting'!O247 = \"\",\"\",'Caseload Reporting'!O247)","v":""},{"$f":"IF('Caseload Reporting'!Q247 = \"\",\"\",'Caseload Reporting'!Q247)","v":""},{"$f":"IF('Caseload Reporting'!R247 = \"\",\"\",'Caseload Reporting'!R247)","v":""},{"$f":"IF('Caseload Reporting'!E247 = \"\",\"\",'Caseload Reporting'!E247)","v":""},{"$f":"IF('Caseload Reporting'!S247 = \"\",\"\",'Caseload Reporting'!S247)","v":""}]
[{"$f":"IF('Caseload Reporting'!A248 = \"\",\"\",'Caseload Reporting'!A248)","v":""},{"$f":"IF('Caseload Reporting'!B248 = \"\",\"\",'Caseload Reporting'!B248)","v":""},{"$f":"IF('Caseload Reporting'!C248 = \"\",\"\",'Caseload Reporting'!C248)","v":""},{"$f":"IF('Caseload Reporting'!D248 = \"\",\"\",'Caseload Reporting'!D248)","v":""},{"$f":"IF('Caseload Reporting'!G248 = \"\",\"\",'Caseload Reporting'!G248)","v":""},{"$f":"IF('Caseload Reporting'!H248 = \"\",\"\",'Caseload Reporting'!H248)","v":""},{"$f":"IF('Caseload Reporting'!I248 = \"\",\"\",'Caseload Reporting'!I248)","v":""},{"$f":"IF('Caseload Reporting'!J248 = \"\",\"\",'Caseload Reporting'!J248)","v":""},{"$f":"IF('Caseload Reporting'!K248 = \"\",\"\",'Caseload Reporting'!K248)","v":""},{"$f":"IF('Caseload Reporting'!L248 = \"\",\"\",'Caseload Reporting'!L248)","v":""},{"$f":"IF('Caseload Reporting'!M248 = \"\",\"\",'Caseload Reporting'!M248)","v":""},{"$f":"IF('Caseload Reporting'!N248 = \"\",\"\",'Caseload Reporting'!N248)","v":""},{"$f":"IF('Caseload Reporting'!P248 = \"\",\"\",'Caseload Reporting'!P248)","v":""},{"$f":"IF('Caseload Reporting'!O248 = \"\",\"\",'Caseload Reporting'!O248)","v":""},{"$f":"IF('Caseload Reporting'!Q248 = \"\",\"\",'Caseload Reporting'!Q248)","v":""},{"$f":"IF('Caseload Reporting'!R248 = \"\",\"\",'Caseload Reporting'!R248)","v":""},{"$f":"IF('Caseload Reporting'!E248 = \"\",\"\",'Caseload Reporting'!E248)","v":""},{"$f":"IF('Caseload Reporting'!S248 = \"\",\"\",'Caseload Reporting'!S248)","v":""}]
[{"$f":"IF('Caseload Reporting'!A249 = \"\",\"\",'Caseload Reporting'!A249)","v":""},{"$f":"IF('Caseload Reporting'!B249 = \"\",\"\",'Caseload Reporting'!B249)","v":""},{"$f":"IF('Caseload Reporting'!C249 = \"\",\"\",'Caseload Reporting'!C249)","v":""},{"$f":"IF('Caseload Reporting'!D249 = \"\",\"\",'Caseload Reporting'!D249)","v":""},{"$f":"IF('Caseload Reporting'!G249 = \"\",\"\",'Caseload Reporting'!G249)","v":""},{"$f":"IF('Caseload Reporting'!H249 = \"\",\"\",'Caseload Reporting'!H249)","v":""},{"$f":"IF('Caseload Reporting'!I249 = \"\",\"\",'Caseload Reporting'!I249)","v":""},{"$f":"IF('Caseload Reporting'!J249 = \"\",\"\",'Caseload Reporting'!J249)","v":""},{"$f":"IF('Caseload Reporting'!K249 = \"\",\"\",'Caseload Reporting'!K249)","v":""},{"$f":"IF('Caseload Reporting'!L249 = \"\",\"\",'Caseload Reporting'!L249)","v":""},{"$f":"IF('Caseload Reporting'!M249 = \"\",\"\",'Caseload Reporting'!M249)","v":""},{"$f":"IF('Caseload Reporting'!N249 = \"\",\"\",'Caseload Reporting'!N249)","v":""},{"$f":"IF('Caseload Reporting'!P249 = \"\",\"\",'Caseload Reporting'!P249)","v":""},{"$f":"IF('Caseload Reporting'!O249 = \"\",\"\",'Caseload Reporting'!O249)","v":""},{"$f":"IF('Caseload Reporting'!Q249 = \"\",\"\",'Caseload Reporting'!Q249)","v":""},{"$f":"IF('Caseload Reporting'!R249 = \"\",\"\",'Caseload Reporting'!R249)","v":""},{"$f":"IF('Caseload Reporting'!E249 = \"\",\"\",'Caseload Reporting'!E249)","v":""},{"$f":"IF('Caseload Reporting'!S249 = \"\",\"\",'Caseload Reporting'!S249)","v":""}]
[{"$f":"IF('Caseload Reporting'!A250 = \"\",\"\",'Caseload Reporting'!A250)","v":""},{"$f":"IF('Caseload Reporting'!B250 = \"\",\"\",'Caseload Reporting'!B250)","v":""},{"$f":"IF('Caseload Reporting'!C250 = \"\",\"\",'Caseload Reporting'!C250)","v":""},{"$f":"IF('Caseload Reporting'!D250 = \"\",\"\",'Caseload Reporting'!D250)","v":""},{"$f":"IF('Caseload Reporting'!G250 = \"\",\"\",'Caseload Reporting'!G250)","v":""},{"$f":"IF('Caseload Reporting'!H250 = \"\",\"\",'Caseload Reporting'!H250)","v":""},{"$f":"IF('Caseload Reporting'!I250 = \"\",\"\",'Caseload Reporting'!I250)","v":""},{"$f":"IF('Caseload Reporting'!J250 = \"\",\"\",'Caseload Reporting'!J250)","v":""},{"$f":"IF('Caseload Reporting'!K250 = \"\",\"\",'Caseload Reporting'!K250)","v":""},{"$f":"IF('Caseload Reporting'!L250 = \"\",\"\",'Caseload Reporting'!L250)","v":""},{"$f":"IF('Caseload Reporting'!M250 = \"\",\"\",'Caseload Reporting'!M250)","v":""},{"$f":"IF('Caseload Reporting'!N250 = \"\",\"\",'Caseload Reporting'!N250)","v":""},{"$f":"IF('Caseload Reporting'!P250 = \"\",\"\",'Caseload Reporting'!P250)","v":""},{"$f":"IF('Caseload Reporting'!O250 = \"\",\"\",'Caseload Reporting'!O250)","v":""},{"$f":"IF('Caseload Reporting'!Q250 = \"\",\"\",'Caseload Reporting'!Q250)","v":""},{"$f":"IF('Caseload Reporting'!R250 = \"\",\"\",'Caseload Reporting'!R250)","v":""},{"$f":"IF('Caseload Reporting'!E250 = \"\",\"\",'Caseload Reporting'!E250)","v":""},{"$f":"IF('Caseload Reporting'!S250 = \"\",\"\",'Caseload Reporting'!S250)","v":""}]
[{"$f":"IF('Caseload Reporting'!A251 = \"\",\"\",'Caseload Reporting'!A251)","v":""},{"$f":"IF('Caseload Reporting'!B251 = \"\",\"\",'Caseload Reporting'!B251)","v":""},{"$f":"IF('Caseload Reporting'!C251 = \"\",\"\",'Caseload Reporting'!C251)","v":""},{"$f":"IF('Caseload Reporting'!D251 = \"\",\"\",'Caseload Reporting'!D251)","v":""},{"$f":"IF('Caseload Reporting'!G251 = \"\",\"\",'Caseload Reporting'!G251)","v":""},{"$f":"IF('Caseload Reporting'!H251 = \"\",\"\",'Caseload Reporting'!H251)","v":""},{"$f":"IF('Caseload Reporting'!I251 = \"\",\"\",'Caseload Reporting'!I251)","v":""},{"$f":"IF('Caseload Reporting'!J251 = \"\",\"\",'Caseload Reporting'!J251)","v":""},{"$f":"IF('Caseload Reporting'!K251 = \"\",\"\",'Caseload Reporting'!K251)","v":""},{"$f":"IF('Caseload Reporting'!L251 = \"\",\"\",'Caseload Reporting'!L251)","v":""},{"$f":"IF('Caseload Reporting'!M251 = \"\",\"\",'Caseload Reporting'!M251)","v":""},{"$f":"IF('Caseload Reporting'!N251 = \"\",\"\",'Caseload Reporting'!N251)","v":""},{"$f":"IF('Caseload Reporting'!P251 = \"\",\"\",'Caseload Reporting'!P251)","v":""},{"$f":"IF('Caseload Reporting'!O251 = \"\",\"\",'Caseload Reporting'!O251)","v":""},{"$f":"IF('Caseload Reporting'!Q251 = \"\",\"\",'Caseload Reporting'!Q251)","v":""},{"$f":"IF('Caseload Reporting'!R251 = \"\",\"\",'Caseload Reporting'!R251)","v":""},{"$f":"IF('Caseload Reporting'!E251 = \"\",\"\",'Caseload Reporting'!E251)","v":""},{"$f":"IF('Caseload Reporting'!S251 = \"\",\"\",'Caseload Reporting'!S251)","v":""}]
[{"$f":"IF('Caseload Reporting'!A252 = \"\",\"\",'Caseload Reporting'!A252)","v":""},{"$f":"IF('Caseload Reporting'!B252 = \"\",\"\",'Caseload Reporting'!B252)","v":""},{"$f":"IF('Caseload Reporting'!C252 = \"\",\"\",'Caseload Reporting'!C252)","v":""},{"$f":"IF('Caseload Reporting'!D252 = \"\",\"\",'Caseload Reporting'!D252)","v":""},{"$f":"IF('Caseload Reporting'!G252 = \"\",\"\",'Caseload Reporting'!G252)","v":""},{"$f":"IF('Caseload Reporting'!H252 = \"\",\"\",'Caseload Reporting'!H252)","v":""},{"$f":"IF('Caseload Reporting'!I252 = \"\",\"\",'Caseload Reporting'!I252)","v":""},{"$f":"IF('Caseload Reporting'!J252 = \"\",\"\",'Caseload Reporting'!J252)","v":""},{"$f":"IF('Caseload Reporting'!K252 = \"\",\"\",'Caseload Reporting'!K252)","v":""},{"$f":"IF('Caseload Reporting'!L252 = \"\",\"\",'Caseload Reporting'!L252)","v":""},{"$f":"IF('Caseload Reporting'!M252 = \"\",\"\",'Caseload Reporting'!M252)","v":""},{"$f":"IF('Caseload Reporting'!N252 = \"\",\"\",'Caseload Reporting'!N252)","v":""},{"$f":"IF('Caseload Reporting'!P252 = \"\",\"\",'Caseload Reporting'!P252)","v":""},{"$f":"IF('Caseload Reporting'!O252 = \"\",\"\",'Caseload Reporting'!O252)","v":""},{"$f":"IF('Caseload Reporting'!Q252 = \"\",\"\",'Caseload Reporting'!Q252)","v":""},{"$f":"IF('Caseload Reporting'!R252 = \"\",\"\",'Caseload Reporting'!R252)","v":""},{"$f":"IF('Caseload Reporting'!E252 = \"\",\"\",'Caseload Reporting'!E252)","v":""},{"$f":"IF('Caseload Reporting'!S252 = \"\",\"\",'Caseload Reporting'!S252)","v":""}]
[{"$f":"IF('Caseload Reporting'!A253 = \"\",\"\",'Caseload Reporting'!A253)","v":""},{"$f":"IF('Caseload Reporting'!B253 = \"\",\"\",'Caseload Reporting'!B253)","v":""},{"$f":"IF('Caseload Reporting'!C253 = \"\",\"\",'Caseload Reporting'!C253)","v":""},{"$f":"IF('Caseload Reporting'!D253 = \"\",\"\",'Caseload Reporting'!D253)","v":""},{"$f":"IF('Caseload Reporting'!G253 = \"\",\"\",'Caseload Reporting'!G253)","v":""},{"$f":"IF('Caseload Reporting'!H253 = \"\",\"\",'Caseload Reporting'!H253)","v":""},{"$f":"IF('Caseload Reporting'!I253 = \"\",\"\",'Caseload Reporting'!I253)","v":""},{"$f":"IF('Caseload Reporting'!J253 = \"\",\"\",'Caseload Reporting'!J253)","v":""},{"$f":"IF('Caseload Reporting'!K253 = \"\",\"\",'Caseload Reporting'!K253)","v":""},{"$f":"IF('Caseload Reporting'!L253 = \"\",\"\",'Caseload Reporting'!L253)","v":""},{"$f":"IF('Caseload Reporting'!M253 = \"\",\"\",'Caseload Reporting'!M253)","v":""},{"$f":"IF('Caseload Reporting'!N253 = \"\",\"\",'Caseload Reporting'!N253)","v":""},{"$f":"IF('Caseload Reporting'!P253 = \"\",\"\",'Caseload Reporting'!P253)","v":""},{"$f":"IF('Caseload Reporting'!O253 = \"\",\"\",'Caseload Reporting'!O253)","v":""},{"$f":"IF('Caseload Reporting'!Q253 = \"\",\"\",'Caseload Reporting'!Q253)","v":""},{"$f":"IF('Caseload Reporting'!R253 = \"\",\"\",'Caseload Reporting'!R253)","v":""},{"$f":"IF('Caseload Reporting'!E253 = \"\",\"\",'Caseload Reporting'!E253)","v":""},{"$f":"IF('Caseload Reporting'!S253 = \"\",\"\",'Caseload Reporting'!S253)","v":""}]
[{"$f":"IF('Caseload Reporting'!A254 = \"\",\"\",'Caseload Reporting'!A254)","v":""},{"$f":"IF('Caseload Reporting'!B254 = \"\",\"\",'Caseload Reporting'!B254)","v":""},{"$f":"IF('Caseload Reporting'!C254 = \"\",\"\",'Caseload Reporting'!C254)","v":""},{"$f":"IF('Caseload Reporting'!D254 = \"\",\"\",'Caseload Reporting'!D254)","v":""},{"$f":"IF('Caseload Reporting'!G254 = \"\",\"\",'Caseload Reporting'!G254)","v":""},{"$f":"IF('Caseload Reporting'!H254 = \"\",\"\",'Caseload Reporting'!H254)","v":""},{"$f":"IF('Caseload Reporting'!I254 = \"\",\"\",'Caseload Reporting'!I254)","v":""},{"$f":"IF('Caseload Reporting'!J254 = \"\",\"\",'Caseload Reporting'!J254)","v":""},{"$f":"IF('Caseload Reporting'!K254 = \"\",\"\",'Caseload Reporting'!K254)","v":""},{"$f":"IF('Caseload Reporting'!L254 = \"\",\"\",'Caseload Reporting'!L254)","v":""},{"$f":"IF('Caseload Reporting'!M254 = \"\",\"\",'Caseload Reporting'!M254)","v":""},{"$f":"IF('Caseload Reporting'!N254 = \"\",\"\",'Caseload Reporting'!N254)","v":""},{"$f":"IF('Caseload Reporting'!P254 = \"\",\"\",'Caseload Reporting'!P254)","v":""},{"$f":"IF('Caseload Reporting'!O254 = \"\",\"\",'Caseload Reporting'!O254)","v":""},{"$f":"IF('Caseload Reporting'!Q254 = \"\",\"\",'Caseload Reporting'!Q254)","v":""},{"$f":"IF('Caseload Reporting'!R254 = \"\",\"\",'Caseload Reporting'!R254)","v":""},{"$f":"IF('Caseload Reporting'!E254 = \"\",\"\",'Caseload Reporting'!E254)","v":""},{"$f":"IF('Caseload Reporting'!S254 = \"\",\"\",'Caseload Reporting'!S254)","v":""}]
[{"$f":"IF('Caseload Reporting'!A255 = \"\",\"\",'Caseload Reporting'!A255)","v":""},{"$f":"IF('Caseload Reporting'!B255 = \"\",\"\",'Caseload Reporting'!B255)","v":""},{"$f":"IF('Caseload Reporting'!C255 = \"\",\"\",'Caseload Reporting'!C255)","v":""},{"$f":"IF('Caseload Reporting'!D255 = \"\",\"\",'Caseload Reporting'!D255)","v":""},{"$f":"IF('Caseload Reporting'!G255 = \"\",\"\",'Caseload Reporting'!G255)","v":""},{"$f":"IF('Caseload Reporting'!H255 = \"\",\"\",'Caseload Reporting'!H255)","v":""},{"$f":"IF('Caseload Reporting'!I255 = \"\",\"\",'Caseload Reporting'!I255)","v":""},{"$f":"IF('Caseload Reporting'!J255 = \"\",\"\",'Caseload Reporting'!J255)","v":""},{"$f":"IF('Caseload Reporting'!K255 = \"\",\"\",'Caseload Reporting'!K255)","v":""},{"$f":"IF('Caseload Reporting'!L255 = \"\",\"\",'Caseload Reporting'!L255)","v":""},{"$f":"IF('Caseload Reporting'!M255 = \"\",\"\",'Caseload Reporting'!M255)","v":""},{"$f":"IF('Caseload Reporting'!N255 = \"\",\"\",'Caseload Reporting'!N255)","v":""},{"$f":"IF('Caseload Reporting'!P255 = \"\",\"\",'Caseload Reporting'!P255)","v":""},{"$f":"IF('Caseload Reporting'!O255 = \"\",\"\",'Caseload Reporting'!O255)","v":""},{"$f":"IF('Caseload Reporting'!Q255 = \"\",\"\",'Caseload Reporting'!Q255)","v":""},{"$f":"IF('Caseload Reporting'!R255 = \"\",\"\",'Caseload Reporting'!R255)","v":""},{"$f":"IF('Caseload Reporting'!E255 = \"\",\"\",'Caseload Reporting'!E255)","v":""},{"$f":"IF('Caseload Reporting'!S255 = \"\",\"\",'Caseload Reporting'!S255)","v":""}]
[{"$f":"IF('Caseload Reporting'!A256 = \"\",\"\",'Caseload Reporting'!A256)","v":""},{"$f":"IF('Caseload Reporting'!B256 = \"\",\"\",'Caseload Reporting'!B256)","v":""},{"$f":"IF('Caseload Reporting'!C256 = \"\",\"\",'Caseload Reporting'!C256)","v":""},{"$f":"IF('Caseload Reporting'!D256 = \"\",\"\",'Caseload Reporting'!D256)","v":""},{"$f":"IF('Caseload Reporting'!G256 = \"\",\"\",'Caseload Reporting'!G256)","v":""},{"$f":"IF('Caseload Reporting'!H256 = \"\",\"\",'Caseload Reporting'!H256)","v":""},{"$f":"IF('Caseload Reporting'!I256 = \"\",\"\",'Caseload Reporting'!I256)","v":""},{"$f":"IF('Caseload Reporting'!J256 = \"\",\"\",'Caseload Reporting'!J256)","v":""},{"$f":"IF('Caseload Reporting'!K256 = \"\",\"\",'Caseload Reporting'!K256)","v":""},{"$f":"IF('Caseload Reporting'!L256 = \"\",\"\",'Caseload Reporting'!L256)","v":""},{"$f":"IF('Caseload Reporting'!M256 = \"\",\"\",'Caseload Reporting'!M256)","v":""},{"$f":"IF('Caseload Reporting'!N256 = \"\",\"\",'Caseload Reporting'!N256)","v":""},{"$f":"IF('Caseload Reporting'!P256 = \"\",\"\",'Caseload Reporting'!P256)","v":""},{"$f":"IF('Caseload Reporting'!O256 = \"\",\"\",'Caseload Reporting'!O256)","v":""},{"$f":"IF('Caseload Reporting'!Q256 = \"\",\"\",'Caseload Reporting'!Q256)","v":""},{"$f":"IF('Caseload Reporting'!R256 = \"\",\"\",'Caseload Reporting'!R256)","v":""},{"$f":"IF('Caseload Reporting'!E256 = \"\",\"\",'Caseload Reporting'!E256)","v":""},{"$f":"IF('Caseload Reporting'!S256 = \"\",\"\",'Caseload Reporting'!S256)","v":""}]
[{"$f":"IF('Caseload Reporting'!A257 = \"\",\"\",'Caseload Reporting'!A257)","v":""},{"$f":"IF('Caseload Reporting'!B257 = \"\",\"\",'Caseload Reporting'!B257)","v":""},{"$f":"IF('Caseload Reporting'!C257 = \"\",\"\",'Caseload Reporting'!C257)","v":""},{"$f":"IF('Caseload Reporting'!D257 = \"\",\"\",'Caseload Reporting'!D257)","v":""},{"$f":"IF('Caseload Reporting'!G257 = \"\",\"\",'Caseload Reporting'!G257)","v":""},{"$f":"IF('Caseload Reporting'!H257 = \"\",\"\",'Caseload Reporting'!H257)","v":""},{"$f":"IF('Caseload Reporting'!I257 = \"\",\"\",'Caseload Reporting'!I257)","v":""},{"$f":"IF('Caseload Reporting'!J257 = \"\",\"\",'Caseload Reporting'!J257)","v":""},{"$f":"IF('Caseload Reporting'!K257 = \"\",\"\",'Caseload Reporting'!K257)","v":""},{"$f":"IF('Caseload Reporting'!L257 = \"\",\"\",'Caseload Reporting'!L257)","v":""},{"$f":"IF('Caseload Reporting'!M257 = \"\",\"\",'Caseload Reporting'!M257)","v":""},{"$f":"IF('Caseload Reporting'!N257 = \"\",\"\",'Caseload Reporting'!N257)","v":""},{"$f":"IF('Caseload Reporting'!P257 = \"\",\"\",'Caseload Reporting'!P257)","v":""},{"$f":"IF('Caseload Reporting'!O257 = \"\",\"\",'Caseload Reporting'!O257)","v":""},{"$f":"IF('Caseload Reporting'!Q257 = \"\",\"\",'Caseload Reporting'!Q257)","v":""},{"$f":"IF('Caseload Reporting'!R257 = \"\",\"\",'Caseload Reporting'!R257)","v":""},{"$f":"IF('Caseload Reporting'!E257 = \"\",\"\",'Caseload Reporting'!E257)","v":""},{"$f":"IF('Caseload Reporting'!S257 = \"\",\"\",'Caseload Reporting'!S257)","v":""}]
[{"$f":"IF('Caseload Reporting'!A258 = \"\",\"\",'Caseload Reporting'!A258)","v":""},{"$f":"IF('Caseload Reporting'!B258 = \"\",\"\",'Caseload Reporting'!B258)","v":""},{"$f":"IF('Caseload Reporting'!C258 = \"\",\"\",'Caseload Reporting'!C258)","v":""},{"$f":"IF('Caseload Reporting'!D258 = \"\",\"\",'Caseload Reporting'!D258)","v":""},{"$f":"IF('Caseload Reporting'!G258 = \"\",\"\",'Caseload Reporting'!G258)","v":""},{"$f":"IF('Caseload Reporting'!H258 = \"\",\"\",'Caseload Reporting'!H258)","v":""},{"$f":"IF('Caseload Reporting'!I258 = \"\",\"\",'Caseload Reporting'!I258)","v":""},{"$f":"IF('Caseload Reporting'!J258 = \"\",\"\",'Caseload Reporting'!J258)","v":""},{"$f":"IF('Caseload Reporting'!K258 = \"\",\"\",'Caseload Reporting'!K258)","v":""},{"$f":"IF('Caseload Reporting'!L258 = \"\",\"\",'Caseload Reporting'!L258)","v":""},{"$f":"IF('Caseload Reporting'!M258 = \"\",\"\",'Caseload Reporting'!M258)","v":""},{"$f":"IF('Caseload Reporting'!N258 = \"\",\"\",'Caseload Reporting'!N258)","v":""},{"$f":"IF('Caseload Reporting'!P258 = \"\",\"\",'Caseload Reporting'!P258)","v":""},{"$f":"IF('Caseload Reporting'!O258 = \"\",\"\",'Caseload Reporting'!O258)","v":""},{"$f":"IF('Caseload Reporting'!Q258 = \"\",\"\",'Caseload Reporting'!Q258)","v":""},{"$f":"IF('Caseload Reporting'!R258 = \"\",\"\",'Caseload Reporting'!R258)","v":""},{"$f":"IF('Caseload Reporting'!E258 = \"\",\"\",'Caseload Reporting'!E258)","v":""},{"$f":"IF('Caseload Reporting'!S258 = \"\",\"\",'Caseload Reporting'!S258)","v":""}]
[{"$f":"IF('Caseload Reporting'!A259 = \"\",\"\",'Caseload Reporting'!A259)","v":""},{"$f":"IF('Caseload Reporting'!B259 = \"\",\"\",'Caseload Reporting'!B259)","v":""},{"$f":"IF('Caseload Reporting'!C259 = \"\",\"\",'Caseload Reporting'!C259)","v":""},{"$f":"IF('Caseload Reporting'!D259 = \"\",\"\",'Caseload Reporting'!D259)","v":""},{"$f":"IF('Caseload Reporting'!G259 = \"\",\"\",'Caseload Reporting'!G259)","v":""},{"$f":"IF('Caseload Reporting'!H259 = \"\",\"\",'Caseload Reporting'!H259)","v":""},{"$f":"IF('Caseload Reporting'!I259 = \"\",\"\",'Caseload Reporting'!I259)","v":""},{"$f":"IF('Caseload Reporting'!J259 = \"\",\"\",'Caseload Reporting'!J259)","v":""},{"$f":"IF('Caseload Reporting'!K259 = \"\",\"\",'Caseload Reporting'!K259)","v":""},{"$f":"IF('Caseload Reporting'!L259 = \"\",\"\",'Caseload Reporting'!L259)","v":""},{"$f":"IF('Caseload Reporting'!M259 = \"\",\"\",'Caseload Reporting'!M259)","v":""},{"$f":"IF('Caseload Reporting'!N259 = \"\",\"\",'Caseload Reporting'!N259)","v":""},{"$f":"IF('Caseload Reporting'!P259 = \"\",\"\",'Caseload Reporting'!P259)","v":""},{"$f":"IF('Caseload Reporting'!O259 = \"\",\"\",'Caseload Reporting'!O259)","v":""},{"$f":"IF('Caseload Reporting'!Q259 = \"\",\"\",'Caseload Reporting'!Q259)","v":""},{"$f":"IF('Caseload Reporting'!R259 = \"\",\"\",'Caseload Reporting'!R259)","v":""},{"$f":"IF('Caseload Reporting'!E259 = \"\",\"\",'Caseload Reporting'!E259)","v":""},{"$f":"IF('Caseload Reporting'!S259 = \"\",\"\",'Caseload Reporting'!S259)","v":""}]
[{"$f":"IF('Caseload Reporting'!A260 = \"\",\"\",'Caseload Reporting'!A260)","v":""},{"$f":"IF('Caseload Reporting'!B260 = \"\",\"\",'Caseload Reporting'!B260)","v":""},{"$f":"IF('Caseload Reporting'!C260 = \"\",\"\",'Caseload Reporting'!C260)","v":""},{"$f":"IF('Caseload Reporting'!D260 = \"\",\"\",'Caseload Reporting'!D260)","v":""},{"$f":"IF('Caseload Reporting'!G260 = \"\",\"\",'Caseload Reporting'!G260)","v":""},{"$f":"IF('Caseload Reporting'!H260 = \"\",\"\",'Caseload Reporting'!H260)","v":""},{"$f":"IF('Caseload Reporting'!I260 = \"\",\"\",'Caseload Reporting'!I260)","v":""},{"$f":"IF('Caseload Reporting'!J260 = \"\",\"\",'Caseload Reporting'!J260)","v":""},{"$f":"IF('Caseload Reporting'!K260 = \"\",\"\",'Caseload Reporting'!K260)","v":""},{"$f":"IF('Caseload Reporting'!L260 = \"\",\"\",'Caseload Reporting'!L260)","v":""},{"$f":"IF('Caseload Reporting'!M260 = \"\",\"\",'Caseload Reporting'!M260)","v":""},{"$f":"IF('Caseload Reporting'!N260 = \"\",\"\",'Caseload Reporting'!N260)","v":""},{"$f":"IF('Caseload Reporting'!P260 = \"\",\"\",'Caseload Reporting'!P260)","v":""},{"$f":"IF('Caseload Reporting'!O260 = \"\",\"\",'Caseload Reporting'!O260)","v":""},{"$f":"IF('Caseload Reporting'!Q260 = \"\",\"\",'Caseload Reporting'!Q260)","v":""},{"$f":"IF('Caseload Reporting'!R260 = \"\",\"\",'Caseload Reporting'!R260)","v":""},{"$f":"IF('Caseload Reporting'!E260 = \"\",\"\",'Caseload Reporting'!E260)","v":""},{"$f":"IF('Caseload Reporting'!S260 = \"\",\"\",'Caseload Reporting'!S260)","v":""}]
[{"$f":"IF('Caseload Reporting'!A261 = \"\",\"\",'Caseload Reporting'!A261)","v":""},{"$f":"IF('Caseload Reporting'!B261 = \"\",\"\",'Caseload Reporting'!B261)","v":""},{"$f":"IF('Caseload Reporting'!C261 = \"\",\"\",'Caseload Reporting'!C261)","v":""},{"$f":"IF('Caseload Reporting'!D261 = \"\",\"\",'Caseload Reporting'!D261)","v":""},{"$f":"IF('Caseload Reporting'!G261 = \"\",\"\",'Caseload Reporting'!G261)","v":""},{"$f":"IF('Caseload Reporting'!H261 = \"\",\"\",'Caseload Reporting'!H261)","v":""},{"$f":"IF('Caseload Reporting'!I261 = \"\",\"\",'Caseload Reporting'!I261)","v":""},{"$f":"IF('Caseload Reporting'!J261 = \"\",\"\",'Caseload Reporting'!J261)","v":""},{"$f":"IF('Caseload Reporting'!K261 = \"\",\"\",'Caseload Reporting'!K261)","v":""},{"$f":"IF('Caseload Reporting'!L261 = \"\",\"\",'Caseload Reporting'!L261)","v":""},{"$f":"IF('Caseload Reporting'!M261 = \"\",\"\",'Caseload Reporting'!M261)","v":""},{"$f":"IF('Caseload Reporting'!N261 = \"\",\"\",'Caseload Reporting'!N261)","v":""},{"$f":"IF('Caseload Reporting'!P261 = \"\",\"\",'Caseload Reporting'!P261)","v":""},{"$f":"IF('Caseload Reporting'!O261 = \"\",\"\",'Caseload Reporting'!O261)","v":""},{"$f":"IF('Caseload Reporting'!Q261 = \"\",\"\",'Caseload Reporting'!Q261)","v":""},{"$f":"IF('Caseload Reporting'!R261 = \"\",\"\",'Caseload Reporting'!R261)","v":""},{"$f":"IF('Caseload Reporting'!E261 = \"\",\"\",'Caseload Reporting'!E261)","v":""},{"$f":"IF('Caseload Reporting'!S261 = \"\",\"\",'Caseload Reporting'!S261)","v":""}]
[{"$f":"IF('Caseload Reporting'!A262 = \"\",\"\",'Caseload Reporting'!A262)","v":""},{"$f":"IF('Caseload Reporting'!B262 = \"\",\"\",'Caseload Reporting'!B262)","v":""},{"$f":"IF('Caseload Reporting'!C262 = \"\",\"\",'Caseload Reporting'!C262)","v":""},{"$f":"IF('Caseload Reporting'!D262 = \"\",\"\",'Caseload Reporting'!D262)","v":""},{"$f":"IF('Caseload Reporting'!G262 = \"\",\"\",'Caseload Reporting'!G262)","v":""},{"$f":"IF('Caseload Reporting'!H262 = \"\",\"\",'Caseload Reporting'!H262)","v":""},{"$f":"IF('Caseload Reporting'!I262 = \"\",\"\",'Caseload Reporting'!I262)","v":""},{"$f":"IF('Caseload Reporting'!J262 = \"\",\"\",'Caseload Reporting'!J262)","v":""},{"$f":"IF('Caseload Reporting'!K262 = \"\",\"\",'Caseload Reporting'!K262)","v":""},{"$f":"IF('Caseload Reporting'!L262 = \"\",\"\",'Caseload Reporting'!L262)","v":""},{"$f":"IF('Caseload Reporting'!M262 = \"\",\"\",'Caseload Reporting'!M262)","v":""},{"$f":"IF('Caseload Reporting'!N262 = \"\",\"\",'Caseload Reporting'!N262)","v":""},{"$f":"IF('Caseload Reporting'!P262 = \"\",\"\",'Caseload Reporting'!P262)","v":""},{"$f":"IF('Caseload Reporting'!O262 = \"\",\"\",'Caseload Reporting'!O262)","v":""},{"$f":"IF('Caseload Reporting'!Q262 = \"\",\"\",'Caseload Reporting'!Q262)","v":""},{"$f":"IF('Caseload Reporting'!R262 = \"\",\"\",'Caseload Reporting'!R262)","v":""},{"$f":"IF('Caseload Reporting'!E262 = \"\",\"\",'Caseload Reporting'!E262)","v":""},{"$f":"IF('Caseload Reporting'!S262 = \"\",\"\",'Caseload Reporting'!S262)","v":""}]
[{"$f":"IF('Caseload Reporting'!A263 = \"\",\"\",'Caseload Reporting'!A263)","v":""},{"$f":"IF('Caseload Reporting'!B263 = \"\",\"\",'Caseload Reporting'!B263)","v":""},{"$f":"IF('Caseload Reporting'!C263 = \"\",\"\",'Caseload Reporting'!C263)","v":""},{"$f":"IF('Caseload Reporting'!D263 = \"\",\"\",'Caseload Reporting'!D263)","v":""},{"$f":"IF('Caseload Reporting'!G263 = \"\",\"\",'Caseload Reporting'!G263)","v":""},{"$f":"IF('Caseload Reporting'!H263 = \"\",\"\",'Caseload Reporting'!H263)","v":""},{"$f":"IF('Caseload Reporting'!I263 = \"\",\"\",'Caseload Reporting'!I263)","v":""},{"$f":"IF('Caseload Reporting'!J263 = \"\",\"\",'Caseload Reporting'!J263)","v":""},{"$f":"IF('Caseload Reporting'!K263 = \"\",\"\",'Caseload Reporting'!K263)","v":""},{"$f":"IF('Caseload Reporting'!L263 = \"\",\"\",'Caseload Reporting'!L263)","v":""},{"$f":"IF('Caseload Reporting'!M263 = \"\",\"\",'Caseload Reporting'!M263)","v":""},{"$f":"IF('Caseload Reporting'!N263 = \"\",\"\",'Caseload Reporting'!N263)","v":""},{"$f":"IF('Caseload Reporting'!P263 = \"\",\"\",'Caseload Reporting'!P263)","v":""},{"$f":"IF('Caseload Reporting'!O263 = \"\",\"\",'Caseload Reporting'!O263)","v":""},{"$f":"IF('Caseload Reporting'!Q263 = \"\",\"\",'Caseload Reporting'!Q263)","v":""},{"$f":"IF('Caseload Reporting'!R263 = \"\",\"\",'Caseload Reporting'!R263)","v":""},{"$f":"IF('Caseload Reporting'!E263 = \"\",\"\",'Caseload Reporting'!E263)","v":""},{"$f":"IF('Caseload Reporting'!S263 = \"\",\"\",'Caseload Reporting'!S263)","v":""}]
[{"$f":"IF('Caseload Reporting'!A264 = \"\",\"\",'Caseload Reporting'!A264)","v":""},{"$f":"IF('Caseload Reporting'!B264 = \"\",\"\",'Caseload Reporting'!B264)","v":""},{"$f":"IF('Caseload Reporting'!C264 = \"\",\"\",'Caseload Reporting'!C264)","v":""},{"$f":"IF('Caseload Reporting'!D264 = \"\",\"\",'Caseload Reporting'!D264)","v":""},{"$f":"IF('Caseload Reporting'!G264 = \"\",\"\",'Caseload Reporting'!G264)","v":""},{"$f":"IF('Caseload Reporting'!H264 = \"\",\"\",'Caseload Reporting'!H264)","v":""},{"$f":"IF('Caseload Reporting'!I264 = \"\",\"\",'Caseload Reporting'!I264)","v":""},{"$f":"IF('Caseload Reporting'!J264 = \"\",\"\",'Caseload Reporting'!J264)","v":""},{"$f":"IF('Caseload Reporting'!K264 = \"\",\"\",'Caseload Reporting'!K264)","v":""},{"$f":"IF('Caseload Reporting'!L264 = \"\",\"\",'Caseload Reporting'!L264)","v":""},{"$f":"IF('Caseload Reporting'!M264 = \"\",\"\",'Caseload Reporting'!M264)","v":""},{"$f":"IF('Caseload Reporting'!N264 = \"\",\"\",'Caseload Reporting'!N264)","v":""},{"$f":"IF('Caseload Reporting'!P264 = \"\",\"\",'Caseload Reporting'!P264)","v":""},{"$f":"IF('Caseload Reporting'!O264 = \"\",\"\",'Caseload Reporting'!O264)","v":""},{"$f":"IF('Caseload Reporting'!Q264 = \"\",\"\",'Caseload Reporting'!Q264)","v":""},{"$f":"IF('Caseload Reporting'!R264 = \"\",\"\",'Caseload Reporting'!R264)","v":""},{"$f":"IF('Caseload Reporting'!E264 = \"\",\"\",'Caseload Reporting'!E264)","v":""},{"$f":"IF('Caseload Reporting'!S264 = \"\",\"\",'Caseload Reporting'!S264)","v":""}]
[{"$f":"IF('Caseload Reporting'!A265 = \"\",\"\",'Caseload Reporting'!A265)","v":""},{"$f":"IF('Caseload Reporting'!B265 = \"\",\"\",'Caseload Reporting'!B265)","v":""},{"$f":"IF('Caseload Reporting'!C265 = \"\",\"\",'Caseload Reporting'!C265)","v":""},{"$f":"IF('Caseload Reporting'!D265 = \"\",\"\",'Caseload Reporting'!D265)","v":""},{"$f":"IF('Caseload Reporting'!G265 = \"\",\"\",'Caseload Reporting'!G265)","v":""},{"$f":"IF('Caseload Reporting'!H265 = \"\",\"\",'Caseload Reporting'!H265)","v":""},{"$f":"IF('Caseload Reporting'!I265 = \"\",\"\",'Caseload Reporting'!I265)","v":""},{"$f":"IF('Caseload Reporting'!J265 = \"\",\"\",'Caseload Reporting'!J265)","v":""},{"$f":"IF('Caseload Reporting'!K265 = \"\",\"\",'Caseload Reporting'!K265)","v":""},{"$f":"IF('Caseload Reporting'!L265 = \"\",\"\",'Caseload Reporting'!L265)","v":""},{"$f":"IF('Caseload Reporting'!M265 = \"\",\"\",'Caseload Reporting'!M265)","v":""},{"$f":"IF('Caseload Reporting'!N265 = \"\",\"\",'Caseload Reporting'!N265)","v":""},{"$f":"IF('Caseload Reporting'!P265 = \"\",\"\",'Caseload Reporting'!P265)","v":""},{"$f":"IF('Caseload Reporting'!O265 = \"\",\"\",'Caseload Reporting'!O265)","v":""},{"$f":"IF('Caseload Reporting'!Q265 = \"\",\"\",'Caseload Reporting'!Q265)","v":""},{"$f":"IF('Caseload Reporting'!R265 = \"\",\"\",'Caseload Reporting'!R265)","v":""},{"$f":"IF('Caseload Reporting'!E265 = \"\",\"\",'Caseload Reporting'!E265)","v":""},{"$f":"IF('Caseload Reporting'!S265 = \"\",\"\",'Caseload Reporting'!S265)","v":""}]
[{"$f":"IF('Caseload Reporting'!A266 = \"\",\"\",'Caseload Reporting'!A266)","v":""},{"$f":"IF('Caseload Reporting'!B266 = \"\",\"\",'Caseload Reporting'!B266)","v":""},{"$f":"IF('Caseload Reporting'!C266 = \"\",\"\",'Caseload Reporting'!C266)","v":""},{"$f":"IF('Caseload Reporting'!D266 = \"\",\"\",'Caseload Reporting'!D266)","v":""},{"$f":"IF('Caseload Reporting'!G266 = \"\",\"\",'Caseload Reporting'!G266)","v":""},{"$f":"IF('Caseload Reporting'!H266 = \"\",\"\",'Caseload Reporting'!H266)","v":""},{"$f":"IF('Caseload Reporting'!I266 = \"\",\"\",'Caseload Reporting'!I266)","v":""},{"$f":"IF('Caseload Reporting'!J266 = \"\",\"\",'Caseload Reporting'!J266)","v":""},{"$f":"IF('Caseload Reporting'!K266 = \"\",\"\",'Caseload Reporting'!K266)","v":""},{"$f":"IF('Caseload Reporting'!L266 = \"\",\"\",'Caseload Reporting'!L266)","v":""},{"$f":"IF('Caseload Reporting'!M266 = \"\",\"\",'Caseload Reporting'!M266)","v":""},{"$f":"IF('Caseload Reporting'!N266 = \"\",\"\",'Caseload Reporting'!N266)","v":""},{"$f":"IF('Caseload Reporting'!P266 = \"\",\"\",'Caseload Reporting'!P266)","v":""},{"$f":"IF('Caseload Reporting'!O266 = \"\",\"\",'Caseload Reporting'!O266)","v":""},{"$f":"IF('Caseload Reporting'!Q266 = \"\",\"\",'Caseload Reporting'!Q266)","v":""},{"$f":"IF('Caseload Reporting'!R266 = \"\",\"\",'Caseload Reporting'!R266)","v":""},{"$f":"IF('Caseload Reporting'!E266 = \"\",\"\",'Caseload Reporting'!E266)","v":""},{"$f":"IF('Caseload Reporting'!S266 = \"\",\"\",'Caseload Reporting'!S266)","v":""}]
[{"$f":"IF('Caseload Reporting'!A267 = \"\",\"\",'Caseload Reporting'!A267)","v":""},{"$f":"IF('Caseload Reporting'!B267 = \"\",\"\",'Caseload Reporting'!B267)","v":""},{"$f":"IF('Caseload Reporting'!C267 = \"\",\"\",'Caseload Reporting'!C267)","v":""},{"$f":"IF('Caseload Reporting'!D267 = \"\",\"\",'Caseload Reporting'!D267)","v":""},{"$f":"IF('Caseload Reporting'!G267 = \"\",\"\",'Caseload Reporting'!G267)","v":""},{"$f":"IF('Caseload Reporting'!H267 = \"\",\"\",'Caseload Reporting'!H267)","v":""},{"$f":"IF('Caseload Reporting'!I267 = \"\",\"\",'Caseload Reporting'!I267)","v":""},{"$f":"IF('Caseload Reporting'!J267 = \"\",\"\",'Caseload Reporting'!J267)","v":""},{"$f":"IF('Caseload Reporting'!K267 = \"\",\"\",'Caseload Reporting'!K267)","v":""},{"$f":"IF('Caseload Reporting'!L267 = \"\",\"\",'Caseload Reporting'!L267)","v":""},{"$f":"IF('Caseload Reporting'!M267 = \"\",\"\",'Caseload Reporting'!M267)","v":""},{"$f":"IF('Caseload Reporting'!N267 = \"\",\"\",'Caseload Reporting'!N267)","v":""},{"$f":"IF('Caseload Reporting'!P267 = \"\",\"\",'Caseload Reporting'!P267)","v":""},{"$f":"IF('Caseload Reporting'!O267 = \"\",\"\",'Caseload Reporting'!O267)","v":""},{"$f":"IF('Caseload Reporting'!Q267 = \"\",\"\",'Caseload Reporting'!Q267)","v":""},{"$f":"IF('Caseload Reporting'!R267 = \"\",\"\",'Caseload Reporting'!R267)","v":""},{"$f":"IF('Caseload Reporting'!E267 = \"\",\"\",'Caseload Reporting'!E267)","v":""},{"$f":"IF('Caseload Reporting'!S267 = \"\",\"\",'Caseload Reporting'!S267)","v":""}]
[{"$f":"IF('Caseload Reporting'!A268 = \"\",\"\",'Caseload Reporting'!A268)","v":""},{"$f":"IF('Caseload Reporting'!B268 = \"\",\"\",'Caseload Reporting'!B268)","v":""},{"$f":"IF('Caseload Reporting'!C268 = \"\",\"\",'Caseload Reporting'!C268)","v":""},{"$f":"IF('Caseload Reporting'!D268 = \"\",\"\",'Caseload Reporting'!D268)","v":""},{"$f":"IF('Caseload Reporting'!G268 = \"\",\"\",'Caseload Reporting'!G268)","v":""},{"$f":"IF('Caseload Reporting'!H268 = \"\",\"\",'Caseload Reporting'!H268)","v":""},{"$f":"IF('Caseload Reporting'!I268 = \"\",\"\",'Caseload Reporting'!I268)","v":""},{"$f":"IF('Caseload Reporting'!J268 = \"\",\"\",'Caseload Reporting'!J268)","v":""},{"$f":"IF('Caseload Reporting'!K268 = \"\",\"\",'Caseload Reporting'!K268)","v":""},{"$f":"IF('Caseload Reporting'!L268 = \"\",\"\",'Caseload Reporting'!L268)","v":""},{"$f":"IF('Caseload Reporting'!M268 = \"\",\"\",'Caseload Reporting'!M268)","v":""},{"$f":"IF('Caseload Reporting'!N268 = \"\",\"\",'Caseload Reporting'!N268)","v":""},{"$f":"IF('Caseload Reporting'!P268 = \"\",\"\",'Caseload Reporting'!P268)","v":""},{"$f":"IF('Caseload Reporting'!O268 = \"\",\"\",'Caseload Reporting'!O268)","v":""},{"$f":"IF('Caseload Reporting'!Q268 = \"\",\"\",'Caseload Reporting'!Q268)","v":""},{"$f":"IF('Caseload Reporting'!R268 = \"\",\"\",'Caseload Reporting'!R268)","v":""},{"$f":"IF('Caseload Reporting'!E268 = \"\",\"\",'Caseload Reporting'!E268)","v":""},{"$f":"IF('Caseload Reporting'!S268 = \"\",\"\",'Caseload Reporting'!S268)","v":""}]
[{"$f":"IF('Caseload Reporting'!A269 = \"\",\"\",'Caseload Reporting'!A269)","v":""},{"$f":"IF('Caseload Reporting'!B269 = \"\",\"\",'Caseload Reporting'!B269)","v":""},{"$f":"IF('Caseload Reporting'!C269 = \"\",\"\",'Caseload Reporting'!C269)","v":""},{"$f":"IF('Caseload Reporting'!D269 = \"\",\"\",'Caseload Reporting'!D269)","v":""},{"$f":"IF('Caseload Reporting'!G269 = \"\",\"\",'Caseload Reporting'!G269)","v":""},{"$f":"IF('Caseload Reporting'!H269 = \"\",\"\",'Caseload Reporting'!H269)","v":""},{"$f":"IF('Caseload Reporting'!I269 = \"\",\"\",'Caseload Reporting'!I269)","v":""},{"$f":"IF('Caseload Reporting'!J269 = \"\",\"\",'Caseload Reporting'!J269)","v":""},{"$f":"IF('Caseload Reporting'!K269 = \"\",\"\",'Caseload Reporting'!K269)","v":""},{"$f":"IF('Caseload Reporting'!L269 = \"\",\"\",'Caseload Reporting'!L269)","v":""},{"$f":"IF('Caseload Reporting'!M269 = \"\",\"\",'Caseload Reporting'!M269)","v":""},{"$f":"IF('Caseload Reporting'!N269 = \"\",\"\",'Caseload Reporting'!N269)","v":""},{"$f":"IF('Caseload Reporting'!P269 = \"\",\"\",'Caseload Reporting'!P269)","v":""},{"$f":"IF('Caseload Reporting'!O269 = \"\",\"\",'Caseload Reporting'!O269)","v":""},{"$f":"IF('Caseload Reporting'!Q269 = \"\",\"\",'Caseload Reporting'!Q269)","v":""},{"$f":"IF('Caseload Reporting'!R269 = \"\",\"\",'Caseload Reporting'!R269)","v":""},{"$f":"IF('Caseload Reporting'!E269 = \"\",\"\",'Caseload Reporting'!E269)","v":""},{"$f":"IF('Caseload Reporting'!S269 = \"\",\"\",'Caseload Reporting'!S269)","v":""}]
[{"$f":"IF('Caseload Reporting'!A270 = \"\",\"\",'Caseload Reporting'!A270)","v":""},{"$f":"IF('Caseload Reporting'!B270 = \"\",\"\",'Caseload Reporting'!B270)","v":""},{"$f":"IF('Caseload Reporting'!C270 = \"\",\"\",'Caseload Reporting'!C270)","v":""},{"$f":"IF('Caseload Reporting'!D270 = \"\",\"\",'Caseload Reporting'!D270)","v":""},{"$f":"IF('Caseload Reporting'!G270 = \"\",\"\",'Caseload Reporting'!G270)","v":""},{"$f":"IF('Caseload Reporting'!H270 = \"\",\"\",'Caseload Reporting'!H270)","v":""},{"$f":"IF('Caseload Reporting'!I270 = \"\",\"\",'Caseload Reporting'!I270)","v":""},{"$f":"IF('Caseload Reporting'!J270 = \"\",\"\",'Caseload Reporting'!J270)","v":""},{"$f":"IF('Caseload Reporting'!K270 = \"\",\"\",'Caseload Reporting'!K270)","v":""},{"$f":"IF('Caseload Reporting'!L270 = \"\",\"\",'Caseload Reporting'!L270)","v":""},{"$f":"IF('Caseload Reporting'!M270 = \"\",\"\",'Caseload Reporting'!M270)","v":""},{"$f":"IF('Caseload Reporting'!N270 = \"\",\"\",'Caseload Reporting'!N270)","v":""},{"$f":"IF('Caseload Reporting'!P270 = \"\",\"\",'Caseload Reporting'!P270)","v":""},{"$f":"IF('Caseload Reporting'!O270 = \"\",\"\",'Caseload Reporting'!O270)","v":""},{"$f":"IF('Caseload Reporting'!Q270 = \"\",\"\",'Caseload Reporting'!Q270)","v":""},{"$f":"IF('Caseload Reporting'!R270 = \"\",\"\",'Caseload Reporting'!R270)","v":""},{"$f":"IF('Caseload Reporting'!E270 = \"\",\"\",'Caseload Reporting'!E270)","v":""},{"$f":"IF('Caseload Reporting'!S270 = \"\",\"\",'Caseload Reporting'!S270)","v":""}]
[{"$f":"IF('Caseload Reporting'!A271 = \"\",\"\",'Caseload Reporting'!A271)","v":""},{"$f":"IF('Caseload Reporting'!B271 = \"\",\"\",'Caseload Reporting'!B271)","v":""},{"$f":"IF('Caseload Reporting'!C271 = \"\",\"\",'Caseload Reporting'!C271)","v":""},{"$f":"IF('Caseload Reporting'!D271 = \"\",\"\",'Caseload Reporting'!D271)","v":""},{"$f":"IF('Caseload Reporting'!G271 = \"\",\"\",'Caseload Reporting'!G271)","v":""},{"$f":"IF('Caseload Reporting'!H271 = \"\",\"\",'Caseload Reporting'!H271)","v":""},{"$f":"IF('Caseload Reporting'!I271 = \"\",\"\",'Caseload Reporting'!I271)","v":""},{"$f":"IF('Caseload Reporting'!J271 = \"\",\"\",'Caseload Reporting'!J271)","v":""},{"$f":"IF('Caseload Reporting'!K271 = \"\",\"\",'Caseload Reporting'!K271)","v":""},{"$f":"IF('Caseload Reporting'!L271 = \"\",\"\",'Caseload Reporting'!L271)","v":""},{"$f":"IF('Caseload Reporting'!M271 = \"\",\"\",'Caseload Reporting'!M271)","v":""},{"$f":"IF('Caseload Reporting'!N271 = \"\",\"\",'Caseload Reporting'!N271)","v":""},{"$f":"IF('Caseload Reporting'!P271 = \"\",\"\",'Caseload Reporting'!P271)","v":""},{"$f":"IF('Caseload Reporting'!O271 = \"\",\"\",'Caseload Reporting'!O271)","v":""},{"$f":"IF('Caseload Reporting'!Q271 = \"\",\"\",'Caseload Reporting'!Q271)","v":""},{"$f":"IF('Caseload Reporting'!R271 = \"\",\"\",'Caseload Reporting'!R271)","v":""},{"$f":"IF('Caseload Reporting'!E271 = \"\",\"\",'Caseload Reporting'!E271)","v":""},{"$f":"IF('Caseload Reporting'!S271 = \"\",\"\",'Caseload Reporting'!S271)","v":""}]
[{"$f":"IF('Caseload Reporting'!A272 = \"\",\"\",'Caseload Reporting'!A272)","v":""},{"$f":"IF('Caseload Reporting'!B272 = \"\",\"\",'Caseload Reporting'!B272)","v":""},{"$f":"IF('Caseload Reporting'!C272 = \"\",\"\",'Caseload Reporting'!C272)","v":""},{"$f":"IF('Caseload Reporting'!D272 = \"\",\"\",'Caseload Reporting'!D272)","v":""},{"$f":"IF('Caseload Reporting'!G272 = \"\",\"\",'Caseload Reporting'!G272)","v":""},{"$f":"IF('Caseload Reporting'!H272 = \"\",\"\",'Caseload Reporting'!H272)","v":""},{"$f":"IF('Caseload Reporting'!I272 = \"\",\"\",'Caseload Reporting'!I272)","v":""},{"$f":"IF('Caseload Reporting'!J272 = \"\",\"\",'Caseload Reporting'!J272)","v":""},{"$f":"IF('Caseload Reporting'!K272 = \"\",\"\",'Caseload Reporting'!K272)","v":""},{"$f":"IF('Caseload Reporting'!L272 = \"\",\"\",'Caseload Reporting'!L272)","v":""},{"$f":"IF('Caseload Reporting'!M272 = \"\",\"\",'Caseload Reporting'!M272)","v":""},{"$f":"IF('Caseload Reporting'!N272 = \"\",\"\",'Caseload Reporting'!N272)","v":""},{"$f":"IF('Caseload Reporting'!P272 = \"\",\"\",'Caseload Reporting'!P272)","v":""},{"$f":"IF('Caseload Reporting'!O272 = \"\",\"\",'Caseload Reporting'!O272)","v":""},{"$f":"IF('Caseload Reporting'!Q272 = \"\",\"\",'Caseload Reporting'!Q272)","v":""},{"$f":"IF('Caseload Reporting'!R272 = \"\",\"\",'Caseload Reporting'!R272)","v":""},{"$f":"IF('Caseload Reporting'!E272 = \"\",\"\",'Caseload Reporting'!E272)","v":""},{"$f":"IF('Caseload Reporting'!S272 = \"\",\"\",'Caseload Reporting'!S272)","v":""}]
[{"$f":"IF('Caseload Reporting'!A273 = \"\",\"\",'Caseload Reporting'!A273)","v":""},{"$f":"IF('Caseload Reporting'!B273 = \"\",\"\",'Caseload Reporting'!B273)","v":""},{"$f":"IF('Caseload Reporting'!C273 = \"\",\"\",'Caseload Reporting'!C273)","v":""},{"$f":"IF('Caseload Reporting'!D273 = \"\",\"\",'Caseload Reporting'!D273)","v":""},{"$f":"IF('Caseload Reporting'!G273 = \"\",\"\",'Caseload Reporting'!G273)","v":""},{"$f":"IF('Caseload Reporting'!H273 = \"\",\"\",'Caseload Reporting'!H273)","v":""},{"$f":"IF('Caseload Reporting'!I273 = \"\",\"\",'Caseload Reporting'!I273)","v":""},{"$f":"IF('Caseload Reporting'!J273 = \"\",\"\",'Caseload Reporting'!J273)","v":""},{"$f":"IF('Caseload Reporting'!K273 = \"\",\"\",'Caseload Reporting'!K273)","v":""},{"$f":"IF('Caseload Reporting'!L273 = \"\",\"\",'Caseload Reporting'!L273)","v":""},{"$f":"IF('Caseload Reporting'!M273 = \"\",\"\",'Caseload Reporting'!M273)","v":""},{"$f":"IF('Caseload Reporting'!N273 = \"\",\"\",'Caseload Reporting'!N273)","v":""},{"$f":"IF('Caseload Reporting'!P273 = \"\",\"\",'Caseload Reporting'!P273)","v":""},{"$f":"IF('Caseload Reporting'!O273 = \"\",\"\",'Caseload Reporting'!O273)","v":""},{"$f":"IF('Caseload Reporting'!Q273 = \"\",\"\",'Caseload Reporting'!Q273)","v":""},{"$f":"IF('Caseload Reporting'!R273 = \"\",\"\",'Caseload Reporting'!R273)","v":""},{"$f":"IF('Caseload Reporting'!E273 = \"\",\"\",'Caseload Reporting'!E273)","v":""},{"$f":"IF('Caseload Reporting'!S273 = \"\",\"\",'Caseload Reporting'!S273)","v":""}]
[{"$f":"IF('Caseload Reporting'!A274 = \"\",\"\",'Caseload Reporting'!A274)","v":""},{"$f":"IF('Caseload Reporting'!B274 = \"\",\"\",'Caseload Reporting'!B274)","v":""},{"$f":"IF('Caseload Reporting'!C274 = \"\",\"\",'Caseload Reporting'!C274)","v":""},{"$f":"IF('Caseload Reporting'!D274 = \"\",\"\",'Caseload Reporting'!D274)","v":""},{"$f":"IF('Caseload Reporting'!G274 = \"\",\"\",'Caseload Reporting'!G274)","v":""},{"$f":"IF('Caseload Reporting'!H274 = \"\",\"\",'Caseload Reporting'!H274)","v":""},{"$f":"IF('Caseload Reporting'!I274 = \"\",\"\",'Caseload Reporting'!I274)","v":""},{"$f":"IF('Caseload Reporting'!J274 = \"\",\"\",'Caseload Reporting'!J274)","v":""},{"$f":"IF('Caseload Reporting'!K274 = \"\",\"\",'Caseload Reporting'!K274)","v":""},{"$f":"IF('Caseload Reporting'!L274 = \"\",\"\",'Caseload Reporting'!L274)","v":""},{"$f":"IF('Caseload Reporting'!M274 = \"\",\"\",'Caseload Reporting'!M274)","v":""},{"$f":"IF('Caseload Reporting'!N274 = \"\",\"\",'Caseload Reporting'!N274)","v":""},{"$f":"IF('Caseload Reporting'!P274 = \"\",\"\",'Caseload Reporting'!P274)","v":""},{"$f":"IF('Caseload Reporting'!O274 = \"\",\"\",'Caseload Reporting'!O274)","v":""},{"$f":"IF('Caseload Reporting'!Q274 = \"\",\"\",'Caseload Reporting'!Q274)","v":""},{"$f":"IF('Caseload Reporting'!R274 = \"\",\"\",'Caseload Reporting'!R274)","v":""},{"$f":"IF('Caseload Reporting'!E274 = \"\",\"\",'Caseload Reporting'!E274)","v":""},{"$f":"IF('Caseload Reporting'!S274 = \"\",\"\",'Caseload Reporting'!S274)","v":""}]
[{"$f":"IF('Caseload Reporting'!A275 = \"\",\"\",'Caseload Reporting'!A275)","v":""},{"$f":"IF('Caseload Reporting'!B275 = \"\",\"\",'Caseload Reporting'!B275)","v":""},{"$f":"IF('Caseload Reporting'!C275 = \"\",\"\",'Caseload Reporting'!C275)","v":""},{"$f":"IF('Caseload Reporting'!D275 = \"\",\"\",'Caseload Reporting'!D275)","v":""},{"$f":"IF('Caseload Reporting'!G275 = \"\",\"\",'Caseload Reporting'!G275)","v":""},{"$f":"IF('Caseload Reporting'!H275 = \"\",\"\",'Caseload Reporting'!H275)","v":""},{"$f":"IF('Caseload Reporting'!I275 = \"\",\"\",'Caseload Reporting'!I275)","v":""},{"$f":"IF('Caseload Reporting'!J275 = \"\",\"\",'Caseload Reporting'!J275)","v":""},{"$f":"IF('Caseload Reporting'!K275 = \"\",\"\",'Caseload Reporting'!K275)","v":""},{"$f":"IF('Caseload Reporting'!L275 = \"\",\"\",'Caseload Reporting'!L275)","v":""},{"$f":"IF('Caseload Reporting'!M275 = \"\",\"\",'Caseload Reporting'!M275)","v":""},{"$f":"IF('Caseload Reporting'!N275 = \"\",\"\",'Caseload Reporting'!N275)","v":""},{"$f":"IF('Caseload Reporting'!P275 = \"\",\"\",'Caseload Reporting'!P275)","v":""},{"$f":"IF('Caseload Reporting'!O275 = \"\",\"\",'Caseload Reporting'!O275)","v":""},{"$f":"IF('Caseload Reporting'!Q275 = \"\",\"\",'Caseload Reporting'!Q275)","v":""},{"$f":"IF('Caseload Reporting'!R275 = \"\",\"\",'Caseload Reporting'!R275)","v":""},{"$f":"IF('Caseload Reporting'!E275 = \"\",\"\",'Caseload Reporting'!E275)","v":""},{"$f":"IF('Caseload Reporting'!S275 = \"\",\"\",'Caseload Reporting'!S275)","v":""}]
[{"$f":"IF('Caseload Reporting'!A276 = \"\",\"\",'Caseload Reporting'!A276)","v":""},{"$f":"IF('Caseload Reporting'!B276 = \"\",\"\",'Caseload Reporting'!B276)","v":""},{"$f":"IF('Caseload Reporting'!C276 = \"\",\"\",'Caseload Reporting'!C276)","v":""},{"$f":"IF('Caseload Reporting'!D276 = \"\",\"\",'Caseload Reporting'!D276)","v":""},{"$f":"IF('Caseload Reporting'!G276 = \"\",\"\",'Caseload Reporting'!G276)","v":""},{"$f":"IF('Caseload Reporting'!H276 = \"\",\"\",'Caseload Reporting'!H276)","v":""},{"$f":"IF('Caseload Reporting'!I276 = \"\",\"\",'Caseload Reporting'!I276)","v":""},{"$f":"IF('Caseload Reporting'!J276 = \"\",\"\",'Caseload Reporting'!J276)","v":""},{"$f":"IF('Caseload Reporting'!K276 = \"\",\"\",'Caseload Reporting'!K276)","v":""},{"$f":"IF('Caseload Reporting'!L276 = \"\",\"\",'Caseload Reporting'!L276)","v":""},{"$f":"IF('Caseload Reporting'!M276 = \"\",\"\",'Caseload Reporting'!M276)","v":""},{"$f":"IF('Caseload Reporting'!N276 = \"\",\"\",'Caseload Reporting'!N276)","v":""},{"$f":"IF('Caseload Reporting'!P276 = \"\",\"\",'Caseload Reporting'!P276)","v":""},{"$f":"IF('Caseload Reporting'!O276 = \"\",\"\",'Caseload Reporting'!O276)","v":""},{"$f":"IF('Caseload Reporting'!Q276 = \"\",\"\",'Caseload Reporting'!Q276)","v":""},{"$f":"IF('Caseload Reporting'!R276 = \"\",\"\",'Caseload Reporting'!R276)","v":""},{"$f":"IF('Caseload Reporting'!E276 = \"\",\"\",'Caseload Reporting'!E276)","v":""},{"$f":"IF('Caseload Reporting'!S276 = \"\",\"\",'Caseload Reporting'!S276)","v":""}]
[{"$f":"IF('Caseload Reporting'!A277 = \"\",\"\",'Caseload Reporting'!A277)","v":""},{"$f":"IF('Caseload Reporting'!B277 = \"\",\"\",'Caseload Reporting'!B277)","v":""},{"$f":"IF('Caseload Reporting'!C277 = \"\",\"\",'Caseload Reporting'!C277)","v":""},{"$f":"IF('Caseload Reporting'!D277 = \"\",\"\",'Caseload Reporting'!D277)","v":""},{"$f":"IF('Caseload Reporting'!G277 = \"\",\"\",'Caseload Reporting'!G277)","v":""},{"$f":"IF('Caseload Reporting'!H277 = \"\",\"\",'Caseload Reporting'!H277)","v":""},{"$f":"IF('Caseload Reporting'!I277 = \"\",\"\",'Caseload Reporting'!I277)","v":""},{"$f":"IF('Caseload Reporting'!J277 = \"\",\"\",'Caseload Reporting'!J277)","v":""},{"$f":"IF('Caseload Reporting'!K277 = \"\",\"\",'Caseload Reporting'!K277)","v":""},{"$f":"IF('Caseload Reporting'!L277 = \"\",\"\",'Caseload Reporting'!L277)","v":""},{"$f":"IF('Caseload Reporting'!M277 = \"\",\"\",'Caseload Reporting'!M277)","v":""},{"$f":"IF('Caseload Reporting'!N277 = \"\",\"\",'Caseload Reporting'!N277)","v":""},{"$f":"IF('Caseload Reporting'!P277 = \"\",\"\",'Caseload Reporting'!P277)","v":""},{"$f":"IF('Caseload Reporting'!O277 = \"\",\"\",'Caseload Reporting'!O277)","v":""},{"$f":"IF('Caseload Reporting'!Q277 = \"\",\"\",'Caseload Reporting'!Q277)","v":""},{"$f":"IF('Caseload Reporting'!R277 = \"\",\"\",'Caseload Reporting'!R277)","v":""},{"$f":"IF('Caseload Reporting'!E277 = \"\",\"\",'Caseload Reporting'!E277)","v":""},{"$f":"IF('Caseload Reporting'!S277 = \"\",\"\",'Caseload Reporting'!S277)","v":""}]
[{"$f":"IF('Caseload Reporting'!A278 = \"\",\"\",'Caseload Reporting'!A278)","v":""},{"$f":"IF('Caseload Reporting'!B278 = \"\",\"\",'Caseload Reporting'!B278)","v":""},{"$f":"IF('Caseload Reporting'!C278 = \"\",\"\",'Caseload Reporting'!C278)","v":""},{"$f":"IF('Caseload Reporting'!D278 = \"\",\"\",'Caseload Reporting'!D278)","v":""},{"$f":"IF('Caseload Reporting'!G278 = \"\",\"\",'Caseload Reporting'!G278)","v":""},{"$f":"IF('Caseload Reporting'!H278 = \"\",\"\",'Caseload Reporting'!H278)","v":""},{"$f":"IF('Caseload Reporting'!I278 = \"\",\"\",'Caseload Reporting'!I278)","v":""},{"$f":"IF('Caseload Reporting'!J278 = \"\",\"\",'Caseload Reporting'!J278)","v":""},{"$f":"IF('Caseload Reporting'!K278 = \"\",\"\",'Caseload Reporting'!K278)","v":""},{"$f":"IF('Caseload Reporting'!L278 = \"\",\"\",'Caseload Reporting'!L278)","v":""},{"$f":"IF('Caseload Reporting'!M278 = \"\",\"\",'Caseload Reporting'!M278)","v":""},{"$f":"IF('Caseload Reporting'!N278 = \"\",\"\",'Caseload Reporting'!N278)","v":""},{"$f":"IF('Caseload Reporting'!P278 = \"\",\"\",'Caseload Reporting'!P278)","v":""},{"$f":"IF('Caseload Reporting'!O278 = \"\",\"\",'Caseload Reporting'!O278)","v":""},{"$f":"IF('Caseload Reporting'!Q278 = \"\",\"\",'Caseload Reporting'!Q278)","v":""},{"$f":"IF('Caseload Reporting'!R278 = \"\",\"\",'Caseload Reporting'!R278)","v":""},{"$f":"IF('Caseload Reporting'!E278 = \"\",\"\",'Caseload Reporting'!E278)","v":""},{"$f":"IF('Caseload Reporting'!S278 = \"\",\"\",'Caseload Reporting'!S278)","v":""}]
[{"$f":"IF('Caseload Reporting'!A279 = \"\",\"\",'Caseload Reporting'!A279)","v":""},{"$f":"IF('Caseload Reporting'!B279 = \"\",\"\",'Caseload Reporting'!B279)","v":""},{"$f":"IF('Caseload Reporting'!C279 = \"\",\"\",'Caseload Reporting'!C279)","v":""},{"$f":"IF('Caseload Reporting'!D279 = \"\",\"\",'Caseload Reporting'!D279)","v":""},{"$f":"IF('Caseload Reporting'!G279 = \"\",\"\",'Caseload Reporting'!G279)","v":""},{"$f":"IF('Caseload Reporting'!H279 = \"\",\"\",'Caseload Reporting'!H279)","v":""},{"$f":"IF('Caseload Reporting'!I279 = \"\",\"\",'Caseload Reporting'!I279)","v":""},{"$f":"IF('Caseload Reporting'!J279 = \"\",\"\",'Caseload Reporting'!J279)","v":""},{"$f":"IF('Caseload Reporting'!K279 = \"\",\"\",'Caseload Reporting'!K279)","v":""},{"$f":"IF('Caseload Reporting'!L279 = \"\",\"\",'Caseload Reporting'!L279)","v":""},{"$f":"IF('Caseload Reporting'!M279 = \"\",\"\",'Caseload Reporting'!M279)","v":""},{"$f":"IF('Caseload Reporting'!N279 = \"\",\"\",'Caseload Reporting'!N279)","v":""},{"$f":"IF('Caseload Reporting'!P279 = \"\",\"\",'Caseload Reporting'!P279)","v":""},{"$f":"IF('Caseload Reporting'!O279 = \"\",\"\",'Caseload Reporting'!O279)","v":""},{"$f":"IF('Caseload Reporting'!Q279 = \"\",\"\",'Caseload Reporting'!Q279)","v":""},{"$f":"IF('Caseload Reporting'!R279 = \"\",\"\",'Caseload Reporting'!R279)","v":""},{"$f":"IF('Caseload Reporting'!E279 = \"\",\"\",'Caseload Reporting'!E279)","v":""},{"$f":"IF('Caseload Reporting'!S279 = \"\",\"\",'Caseload Reporting'!S279)","v":""}]
[{"$f":"IF('Caseload Reporting'!A280 = \"\",\"\",'Caseload Reporting'!A280)","v":""},{"$f":"IF('Caseload Reporting'!B280 = \"\",\"\",'Caseload Reporting'!B280)","v":""},{"$f":"IF('Caseload Reporting'!C280 = \"\",\"\",'Caseload Reporting'!C280)","v":""},{"$f":"IF('Caseload Reporting'!D280 = \"\",\"\",'Caseload Reporting'!D280)","v":""},{"$f":"IF('Caseload Reporting'!G280 = \"\",\"\",'Caseload Reporting'!G280)","v":""},{"$f":"IF('Caseload Reporting'!H280 = \"\",\"\",'Caseload Reporting'!H280)","v":""},{"$f":"IF('Caseload Reporting'!I280 = \"\",\"\",'Caseload Reporting'!I280)","v":""},{"$f":"IF('Caseload Reporting'!J280 = \"\",\"\",'Caseload Reporting'!J280)","v":""},{"$f":"IF('Caseload Reporting'!K280 = \"\",\"\",'Caseload Reporting'!K280)","v":""},{"$f":"IF('Caseload Reporting'!L280 = \"\",\"\",'Caseload Reporting'!L280)","v":""},{"$f":"IF('Caseload Reporting'!M280 = \"\",\"\",'Caseload Reporting'!M280)","v":""},{"$f":"IF('Caseload Reporting'!N280 = \"\",\"\",'Caseload Reporting'!N280)","v":""},{"$f":"IF('Caseload Reporting'!P280 = \"\",\"\",'Caseload Reporting'!P280)","v":""},{"$f":"IF('Caseload Reporting'!O280 = \"\",\"\",'Caseload Reporting'!O280)","v":""},{"$f":"IF('Caseload Reporting'!Q280 = \"\",\"\",'Caseload Reporting'!Q280)","v":""},{"$f":"IF('Caseload Reporting'!R280 = \"\",\"\",'Caseload Reporting'!R280)","v":""},{"$f":"IF('Caseload Reporting'!E280 = \"\",\"\",'Caseload Reporting'!E280)","v":""},{"$f":"IF('Caseload Reporting'!S280 = \"\",\"\",'Caseload Reporting'!S280)","v":""}]
[{"$f":"IF('Caseload Reporting'!A281 = \"\",\"\",'Caseload Reporting'!A281)","v":""},{"$f":"IF('Caseload Reporting'!B281 = \"\",\"\",'Caseload Reporting'!B281)","v":""},{"$f":"IF('Caseload Reporting'!C281 = \"\",\"\",'Caseload Reporting'!C281)","v":""},{"$f":"IF('Caseload Reporting'!D281 = \"\",\"\",'Caseload Reporting'!D281)","v":""},{"$f":"IF('Caseload Reporting'!G281 = \"\",\"\",'Caseload Reporting'!G281)","v":""},{"$f":"IF('Caseload Reporting'!H281 = \"\",\"\",'Caseload Reporting'!H281)","v":""},{"$f":"IF('Caseload Reporting'!I281 = \"\",\"\",'Caseload Reporting'!I281)","v":""},{"$f":"IF('Caseload Reporting'!J281 = \"\",\"\",'Caseload Reporting'!J281)","v":""},{"$f":"IF('Caseload Reporting'!K281 = \"\",\"\",'Caseload Reporting'!K281)","v":""},{"$f":"IF('Caseload Reporting'!L281 = \"\",\"\",'Caseload Reporting'!L281)","v":""},{"$f":"IF('Caseload Reporting'!M281 = \"\",\"\",'Caseload Reporting'!M281)","v":""},{"$f":"IF('Caseload Reporting'!N281 = \"\",\"\",'Caseload Reporting'!N281)","v":""},{"$f":"IF('Caseload Reporting'!P281 = \"\",\"\",'Caseload Reporting'!P281)","v":""},{"$f":"IF('Caseload Reporting'!O281 = \"\",\"\",'Caseload Reporting'!O281)","v":""},{"$f":"IF('Caseload Reporting'!Q281 = \"\",\"\",'Caseload Reporting'!Q281)","v":""},{"$f":"IF('Caseload Reporting'!R281 = \"\",\"\",'Caseload Reporting'!R281)","v":""},{"$f":"IF('Caseload Reporting'!E281 = \"\",\"\",'Caseload Reporting'!E281)","v":""},{"$f":"IF('Caseload Reporting'!S281 = \"\",\"\",'Caseload Reporting'!S281)","v":""}]
[{"$f":"IF('Caseload Reporting'!A282 = \"\",\"\",'Caseload Reporting'!A282)","v":""},{"$f":"IF('Caseload Reporting'!B282 = \"\",\"\",'Caseload Reporting'!B282)","v":""},{"$f":"IF('Caseload Reporting'!C282 = \"\",\"\",'Caseload Reporting'!C282)","v":""},{"$f":"IF('Caseload Reporting'!D282 = \"\",\"\",'Caseload Reporting'!D282)","v":""},{"$f":"IF('Caseload Reporting'!G282 = \"\",\"\",'Caseload Reporting'!G282)","v":""},{"$f":"IF('Caseload Reporting'!H282 = \"\",\"\",'Caseload Reporting'!H282)","v":""},{"$f":"IF('Caseload Reporting'!I282 = \"\",\"\",'Caseload Reporting'!I282)","v":""},{"$f":"IF('Caseload Reporting'!J282 = \"\",\"\",'Caseload Reporting'!J282)","v":""},{"$f":"IF('Caseload Reporting'!K282 = \"\",\"\",'Caseload Reporting'!K282)","v":""},{"$f":"IF('Caseload Reporting'!L282 = \"\",\"\",'Caseload Reporting'!L282)","v":""},{"$f":"IF('Caseload Reporting'!M282 = \"\",\"\",'Caseload Reporting'!M282)","v":""},{"$f":"IF('Caseload Reporting'!N282 = \"\",\"\",'Caseload Reporting'!N282)","v":""},{"$f":"IF('Caseload Reporting'!P282 = \"\",\"\",'Caseload Reporting'!P282)","v":""},{"$f":"IF('Caseload Reporting'!O282 = \"\",\"\",'Caseload Reporting'!O282)","v":""},{"$f":"IF('Caseload Reporting'!Q282 = \"\",\"\",'Caseload Reporting'!Q282)","v":""},{"$f":"IF('Caseload Reporting'!R282 = \"\",\"\",'Caseload Reporting'!R282)","v":""},{"$f":"IF('Caseload Reporting'!E282 = \"\",\"\",'Caseload Reporting'!E282)","v":""},{"$f":"IF('Caseload Reporting'!S282 = \"\",\"\",'Caseload Reporting'!S282)","v":""}]
[{"$f":"IF('Caseload Reporting'!A283 = \"\",\"\",'Caseload Reporting'!A283)","v":""},{"$f":"IF('Caseload Reporting'!B283 = \"\",\"\",'Caseload Reporting'!B283)","v":""},{"$f":"IF('Caseload Reporting'!C283 = \"\",\"\",'Caseload Reporting'!C283)","v":""},{"$f":"IF('Caseload Reporting'!D283 = \"\",\"\",'Caseload Reporting'!D283)","v":""},{"$f":"IF('Caseload Reporting'!G283 = \"\",\"\",'Caseload Reporting'!G283)","v":""},{"$f":"IF('Caseload Reporting'!H283 = \"\",\"\",'Caseload Reporting'!H283)","v":""},{"$f":"IF('Caseload Reporting'!I283 = \"\",\"\",'Caseload Reporting'!I283)","v":""},{"$f":"IF('Caseload Reporting'!J283 = \"\",\"\",'Caseload Reporting'!J283)","v":""},{"$f":"IF('Caseload Reporting'!K283 = \"\",\"\",'Caseload Reporting'!K283)","v":""},{"$f":"IF('Caseload Reporting'!L283 = \"\",\"\",'Caseload Reporting'!L283)","v":""},{"$f":"IF('Caseload Reporting'!M283 = \"\",\"\",'Caseload Reporting'!M283)","v":""},{"$f":"IF('Caseload Reporting'!N283 = \"\",\"\",'Caseload Reporting'!N283)","v":""},{"$f":"IF('Caseload Reporting'!P283 = \"\",\"\",'Caseload Reporting'!P283)","v":""},{"$f":"IF('Caseload Reporting'!O283 = \"\",\"\",'Caseload Reporting'!O283)","v":""},{"$f":"IF('Caseload Reporting'!Q283 = \"\",\"\",'Caseload Reporting'!Q283)","v":""},{"$f":"IF('Caseload Reporting'!R283 = \"\",\"\",'Caseload Reporting'!R283)","v":""},{"$f":"IF('Caseload Reporting'!E283 = \"\",\"\",'Caseload Reporting'!E283)","v":""},{"$f":"IF('Caseload Reporting'!S283 = \"\",\"\",'Caseload Reporting'!S283)","v":""}]
[{"$f":"IF('Caseload Reporting'!A284 = \"\",\"\",'Caseload Reporting'!A284)","v":""},{"$f":"IF('Caseload Reporting'!B284 = \"\",\"\",'Caseload Reporting'!B284)","v":""},{"$f":"IF('Caseload Reporting'!C284 = \"\",\"\",'Caseload Reporting'!C284)","v":""},{"$f":"IF('Caseload Reporting'!D284 = \"\",\"\",'Caseload Reporting'!D284)","v":""},{"$f":"IF('Caseload Reporting'!G284 = \"\",\"\",'Caseload Reporting'!G284)","v":""},{"$f":"IF('Caseload Reporting'!H284 = \"\",\"\",'Caseload Reporting'!H284)","v":""},{"$f":"IF('Caseload Reporting'!I284 = \"\",\"\",'Caseload Reporting'!I284)","v":""},{"$f":"IF('Caseload Reporting'!J284 = \"\",\"\",'Caseload Reporting'!J284)","v":""},{"$f":"IF('Caseload Reporting'!K284 = \"\",\"\",'Caseload Reporting'!K284)","v":""},{"$f":"IF('Caseload Reporting'!L284 = \"\",\"\",'Caseload Reporting'!L284)","v":""},{"$f":"IF('Caseload Reporting'!M284 = \"\",\"\",'Caseload Reporting'!M284)","v":""},{"$f":"IF('Caseload Reporting'!N284 = \"\",\"\",'Caseload Reporting'!N284)","v":""},{"$f":"IF('Caseload Reporting'!P284 = \"\",\"\",'Caseload Reporting'!P284)","v":""},{"$f":"IF('Caseload Reporting'!O284 = \"\",\"\",'Caseload Reporting'!O284)","v":""},{"$f":"IF('Caseload Reporting'!Q284 = \"\",\"\",'Caseload Reporting'!Q284)","v":""},{"$f":"IF('Caseload Reporting'!R284 = \"\",\"\",'Caseload Reporting'!R284)","v":""},{"$f":"IF('Caseload Reporting'!E284 = \"\",\"\",'Caseload Reporting'!E284)","v":""},{"$f":"IF('Caseload Reporting'!S284 = \"\",\"\",'Caseload Reporting'!S284)","v":""}]
[{"$f":"IF('Caseload Reporting'!A285 = \"\",\"\",'Caseload Reporting'!A285)","v":""},{"$f":"IF('Caseload Reporting'!B285 = \"\",\"\",'Caseload Reporting'!B285)","v":""},{"$f":"IF('Caseload Reporting'!C285 = \"\",\"\",'Caseload Reporting'!C285)","v":""},{"$f":"IF('Caseload Reporting'!D285 = \"\",\"\",'Caseload Reporting'!D285)","v":""},{"$f":"IF('Caseload Reporting'!G285 = \"\",\"\",'Caseload Reporting'!G285)","v":""},{"$f":"IF('Caseload Reporting'!H285 = \"\",\"\",'Caseload Reporting'!H285)","v":""},{"$f":"IF('Caseload Reporting'!I285 = \"\",\"\",'Caseload Reporting'!I285)","v":""},{"$f":"IF('Caseload Reporting'!J285 = \"\",\"\",'Caseload Reporting'!J285)","v":""},{"$f":"IF('Caseload Reporting'!K285 = \"\",\"\",'Caseload Reporting'!K285)","v":""},{"$f":"IF('Caseload Reporting'!L285 = \"\",\"\",'Caseload Reporting'!L285)","v":""},{"$f":"IF('Caseload Reporting'!M285 = \"\",\"\",'Caseload Reporting'!M285)","v":""},{"$f":"IF('Caseload Reporting'!N285 = \"\",\"\",'Caseload Reporting'!N285)","v":""},{"$f":"IF('Caseload Reporting'!P285 = \"\",\"\",'Caseload Reporting'!P285)","v":""},{"$f":"IF('Caseload Reporting'!O285 = \"\",\"\",'Caseload Reporting'!O285)","v":""},{"$f":"IF('Caseload Reporting'!Q285 = \"\",\"\",'Caseload Reporting'!Q285)","v":""},{"$f":"IF('Caseload Reporting'!R285 = \"\",\"\",'Caseload Reporting'!R285)","v":""},{"$f":"IF('Caseload Reporting'!E285 = \"\",\"\",'Caseload Reporting'!E285)","v":""},{"$f":"IF('Caseload Reporting'!S285 = \"\",\"\",'Caseload Reporting'!S285)","v":""}]
[{"$f":"IF('Caseload Reporting'!A286 = \"\",\"\",'Caseload Reporting'!A286)","v":""},{"$f":"IF('Caseload Reporting'!B286 = \"\",\"\",'Caseload Reporting'!B286)","v":""},{"$f":"IF('Caseload Reporting'!C286 = \"\",\"\",'Caseload Reporting'!C286)","v":""},{"$f":"IF('Caseload Reporting'!D286 = \"\",\"\",'Caseload Reporting'!D286)","v":""},{"$f":"IF('Caseload Reporting'!G286 = \"\",\"\",'Caseload Reporting'!G286)","v":""},{"$f":"IF('Caseload Reporting'!H286 = \"\",\"\",'Caseload Reporting'!H286)","v":""},{"$f":"IF('Caseload Reporting'!I286 = \"\",\"\",'Caseload Reporting'!I286)","v":""},{"$f":"IF('Caseload Reporting'!J286 = \"\",\"\",'Caseload Reporting'!J286)","v":""},{"$f":"IF('Caseload Reporting'!K286 = \"\",\"\",'Caseload Reporting'!K286)","v":""},{"$f":"IF('Caseload Reporting'!L286 = \"\",\"\",'Caseload Reporting'!L286)","v":""},{"$f":"IF('Caseload Reporting'!M286 = \"\",\"\",'Caseload Reporting'!M286)","v":""},{"$f":"IF('Caseload Reporting'!N286 = \"\",\"\",'Caseload Reporting'!N286)","v":""},{"$f":"IF('Caseload Reporting'!P286 = \"\",\"\",'Caseload Reporting'!P286)","v":""},{"$f":"IF('Caseload Reporting'!O286 = \"\",\"\",'Caseload Reporting'!O286)","v":""},{"$f":"IF('Caseload Reporting'!Q286 = \"\",\"\",'Caseload Reporting'!Q286)","v":""},{"$f":"IF('Caseload Reporting'!R286 = \"\",\"\",'Caseload Reporting'!R286)","v":""},{"$f":"IF('Caseload Reporting'!E286 = \"\",\"\",'Caseload Reporting'!E286)","v":""},{"$f":"IF('Caseload Reporting'!S286 = \"\",\"\",'Caseload Reporting'!S286)","v":""}]
[{"$f":"IF('Caseload Reporting'!A287 = \"\",\"\",'Caseload Reporting'!A287)","v":""},{"$f":"IF('Caseload Reporting'!B287 = \"\",\"\",'Caseload Reporting'!B287)","v":""},{"$f":"IF('Caseload Reporting'!C287 = \"\",\"\",'Caseload Reporting'!C287)","v":""},{"$f":"IF('Caseload Reporting'!D287 = \"\",\"\",'Caseload Reporting'!D287)","v":""},{"$f":"IF('Caseload Reporting'!G287 = \"\",\"\",'Caseload Reporting'!G287)","v":""},{"$f":"IF('Caseload Reporting'!H287 = \"\",\"\",'Caseload Reporting'!H287)","v":""},{"$f":"IF('Caseload Reporting'!I287 = \"\",\"\",'Caseload Reporting'!I287)","v":""},{"$f":"IF('Caseload Reporting'!J287 = \"\",\"\",'Caseload Reporting'!J287)","v":""},{"$f":"IF('Caseload Reporting'!K287 = \"\",\"\",'Caseload Reporting'!K287)","v":""},{"$f":"IF('Caseload Reporting'!L287 = \"\",\"\",'Caseload Reporting'!L287)","v":""},{"$f":"IF('Caseload Reporting'!M287 = \"\",\"\",'Caseload Reporting'!M287)","v":""},{"$f":"IF('Caseload Reporting'!N287 = \"\",\"\",'Caseload Reporting'!N287)","v":""},{"$f":"IF('Caseload Reporting'!P287 = \"\",\"\",'Caseload Reporting'!P287)","v":""},{"$f":"IF('Caseload Reporting'!O287 = \"\",\"\",'Caseload Reporting'!O287)","v":""},{"$f":"IF('Caseload Reporting'!Q287 = \"\",\"\",'Caseload Reporting'!Q287)","v":""},{"$f":"IF('Caseload Reporting'!R287 = \"\",\"\",'Caseload Reporting'!R287)","v":""},{"$f":"IF('Caseload Reporting'!E287 = \"\",\"\",'Caseload Reporting'!E287)","v":""},{"$f":"IF('Caseload Reporting'!S287 = \"\",\"\",'Caseload Reporting'!S287)","v":""}]
[{"$f":"IF('Caseload Reporting'!A288 = \"\",\"\",'Caseload Reporting'!A288)","v":""},{"$f":"IF('Caseload Reporting'!B288 = \"\",\"\",'Caseload Reporting'!B288)","v":""},{"$f":"IF('Caseload Reporting'!C288 = \"\",\"\",'Caseload Reporting'!C288)","v":""},{"$f":"IF('Caseload Reporting'!D288 = \"\",\"\",'Caseload Reporting'!D288)","v":""},{"$f":"IF('Caseload Reporting'!G288 = \"\",\"\",'Caseload Reporting'!G288)","v":""},{"$f":"IF('Caseload Reporting'!H288 = \"\",\"\",'Caseload Reporting'!H288)","v":""},{"$f":"IF('Caseload Reporting'!I288 = \"\",\"\",'Caseload Reporting'!I288)","v":""},{"$f":"IF('Caseload Reporting'!J288 = \"\",\"\",'Caseload Reporting'!J288)","v":""},{"$f":"IF('Caseload Reporting'!K288 = \"\",\"\",'Caseload Reporting'!K288)","v":""},{"$f":"IF('Caseload Reporting'!L288 = \"\",\"\",'Caseload Reporting'!L288)","v":""},{"$f":"IF('Caseload Reporting'!M288 = \"\",\"\",'Caseload Reporting'!M288)","v":""},{"$f":"IF('Caseload Reporting'!N288 = \"\",\"\",'Caseload Reporting'!N288)","v":""},{"$f":"IF('Caseload Reporting'!P288 = \"\",\"\",'Caseload Reporting'!P288)","v":""},{"$f":"IF('Caseload Reporting'!O288 = \"\",\"\",'Caseload Reporting'!O288)","v":""},{"$f":"IF('Caseload Reporting'!Q288 = \"\",\"\",'Caseload Reporting'!Q288)","v":""},{"$f":"IF('Caseload Reporting'!R288 = \"\",\"\",'Caseload Reporting'!R288)","v":""},{"$f":"IF('Caseload Reporting'!E288 = \"\",\"\",'Caseload Reporting'!E288)","v":""},{"$f":"IF('Caseload Reporting'!S288 = \"\",\"\",'Caseload Reporting'!S288)","v":""}]
[{"$f":"IF('Caseload Reporting'!A289 = \"\",\"\",'Caseload Reporting'!A289)","v":""},{"$f":"IF('Caseload Reporting'!B289 = \"\",\"\",'Caseload Reporting'!B289)","v":""},{"$f":"IF('Caseload Reporting'!C289 = \"\",\"\",'Caseload Reporting'!C289)","v":""},{"$f":"IF('Caseload Reporting'!D289 = \"\",\"\",'Caseload Reporting'!D289)","v":""},{"$f":"IF('Caseload Reporting'!G289 = \"\",\"\",'Caseload Reporting'!G289)","v":""},{"$f":"IF('Caseload Reporting'!H289 = \"\",\"\",'Caseload Reporting'!H289)","v":""},{"$f":"IF('Caseload Reporting'!I289 = \"\",\"\",'Caseload Reporting'!I289)","v":""},{"$f":"IF('Caseload Reporting'!J289 = \"\",\"\",'Caseload Reporting'!J289)","v":""},{"$f":"IF('Caseload Reporting'!K289 = \"\",\"\",'Caseload Reporting'!K289)","v":""},{"$f":"IF('Caseload Reporting'!L289 = \"\",\"\",'Caseload Reporting'!L289)","v":""},{"$f":"IF('Caseload Reporting'!M289 = \"\",\"\",'Caseload Reporting'!M289)","v":""},{"$f":"IF('Caseload Reporting'!N289 = \"\",\"\",'Caseload Reporting'!N289)","v":""},{"$f":"IF('Caseload Reporting'!P289 = \"\",\"\",'Caseload Reporting'!P289)","v":""},{"$f":"IF('Caseload Reporting'!O289 = \"\",\"\",'Caseload Reporting'!O289)","v":""},{"$f":"IF('Caseload Reporting'!Q289 = \"\",\"\",'Caseload Reporting'!Q289)","v":""},{"$f":"IF('Caseload Reporting'!R289 = \"\",\"\",'Caseload Reporting'!R289)","v":""},{"$f":"IF('Caseload Reporting'!E289 = \"\",\"\",'Caseload Reporting'!E289)","v":""},{"$f":"IF('Caseload Reporting'!S289 = \"\",\"\",'Caseload Reporting'!S289)","v":""}]
[{"$f":"IF('Caseload Reporting'!A290 = \"\",\"\",'Caseload Reporting'!A290)","v":""},{"$f":"IF('Caseload Reporting'!B290 = \"\",\"\",'Caseload Reporting'!B290)","v":""},{"$f":"IF('Caseload Reporting'!C290 = \"\",\"\",'Caseload Reporting'!C290)","v":""},{"$f":"IF('Caseload Reporting'!D290 = \"\",\"\",'Caseload Reporting'!D290)","v":""},{"$f":"IF('Caseload Reporting'!G290 = \"\",\"\",'Caseload Reporting'!G290)","v":""},{"$f":"IF('Caseload Reporting'!H290 = \"\",\"\",'Caseload Reporting'!H290)","v":""},{"$f":"IF('Caseload Reporting'!I290 = \"\",\"\",'Caseload Reporting'!I290)","v":""},{"$f":"IF('Caseload Reporting'!J290 = \"\",\"\",'Caseload Reporting'!J290)","v":""},{"$f":"IF('Caseload Reporting'!K290 = \"\",\"\",'Caseload Reporting'!K290)","v":""},{"$f":"IF('Caseload Reporting'!L290 = \"\",\"\",'Caseload Reporting'!L290)","v":""},{"$f":"IF('Caseload Reporting'!M290 = \"\",\"\",'Caseload Reporting'!M290)","v":""},{"$f":"IF('Caseload Reporting'!N290 = \"\",\"\",'Caseload Reporting'!N290)","v":""},{"$f":"IF('Caseload Reporting'!P290 = \"\",\"\",'Caseload Reporting'!P290)","v":""},{"$f":"IF('Caseload Reporting'!O290 = \"\",\"\",'Caseload Reporting'!O290)","v":""},{"$f":"IF('Caseload Reporting'!Q290 = \"\",\"\",'Caseload Reporting'!Q290)","v":""},{"$f":"IF('Caseload Reporting'!R290 = \"\",\"\",'Caseload Reporting'!R290)","v":""},{"$f":"IF('Caseload Reporting'!E290 = \"\",\"\",'Caseload Reporting'!E290)","v":""},{"$f":"IF('Caseload Reporting'!S290 = \"\",\"\",'Caseload Reporting'!S290)","v":""}]
[{"$f":"IF('Caseload Reporting'!A291 = \"\",\"\",'Caseload Reporting'!A291)","v":""},{"$f":"IF('Caseload Reporting'!B291 = \"\",\"\",'Caseload Reporting'!B291)","v":""},{"$f":"IF('Caseload Reporting'!C291 = \"\",\"\",'Caseload Reporting'!C291)","v":""},{"$f":"IF('Caseload Reporting'!D291 = \"\",\"\",'Caseload Reporting'!D291)","v":""},{"$f":"IF('Caseload Reporting'!G291 = \"\",\"\",'Caseload Reporting'!G291)","v":""},{"$f":"IF('Caseload Reporting'!H291 = \"\",\"\",'Caseload Reporting'!H291)","v":""},{"$f":"IF('Caseload Reporting'!I291 = \"\",\"\",'Caseload Reporting'!I291)","v":""},{"$f":"IF('Caseload Reporting'!J291 = \"\",\"\",'Caseload Reporting'!J291)","v":""},{"$f":"IF('Caseload Reporting'!K291 = \"\",\"\",'Caseload Reporting'!K291)","v":""},{"$f":"IF('Caseload Reporting'!L291 = \"\",\"\",'Caseload Reporting'!L291)","v":""},{"$f":"IF('Caseload Reporting'!M291 = \"\",\"\",'Caseload Reporting'!M291)","v":""},{"$f":"IF('Caseload Reporting'!N291 = \"\",\"\",'Caseload Reporting'!N291)","v":""},{"$f":"IF('Caseload Reporting'!P291 = \"\",\"\",'Caseload Reporting'!P291)","v":""},{"$f":"IF('Caseload Reporting'!O291 = \"\",\"\",'Caseload Reporting'!O291)","v":""},{"$f":"IF('Caseload Reporting'!Q291 = \"\",\"\",'Caseload Reporting'!Q291)","v":""},{"$f":"IF('Caseload Reporting'!R291 = \"\",\"\",'Caseload Reporting'!R291)","v":""},{"$f":"IF('Caseload Reporting'!E291 = \"\",\"\",'Caseload Reporting'!E291)","v":""},{"$f":"IF('Caseload Reporting'!S291 = \"\",\"\",'Caseload Reporting'!S291)","v":""}]
[{"$f":"IF('Caseload Reporting'!A292 = \"\",\"\",'Caseload Reporting'!A292)","v":""},{"$f":"IF('Caseload Reporting'!B292 = \"\",\"\",'Caseload Reporting'!B292)","v":""},{"$f":"IF('Caseload Reporting'!C292 = \"\",\"\",'Caseload Reporting'!C292)","v":""},{"$f":"IF('Caseload Reporting'!D292 = \"\",\"\",'Caseload Reporting'!D292)","v":""},{"$f":"IF('Caseload Reporting'!G292 = \"\",\"\",'Caseload Reporting'!G292)","v":""},{"$f":"IF('Caseload Reporting'!H292 = \"\",\"\",'Caseload Reporting'!H292)","v":""},{"$f":"IF('Caseload Reporting'!I292 = \"\",\"\",'Caseload Reporting'!I292)","v":""},{"$f":"IF('Caseload Reporting'!J292 = \"\",\"\",'Caseload Reporting'!J292)","v":""},{"$f":"IF('Caseload Reporting'!K292 = \"\",\"\",'Caseload Reporting'!K292)","v":""},{"$f":"IF('Caseload Reporting'!L292 = \"\",\"\",'Caseload Reporting'!L292)","v":""},{"$f":"IF('Caseload Reporting'!M292 = \"\",\"\",'Caseload Reporting'!M292)","v":""},{"$f":"IF('Caseload Reporting'!N292 = \"\",\"\",'Caseload Reporting'!N292)","v":""},{"$f":"IF('Caseload Reporting'!P292 = \"\",\"\",'Caseload Reporting'!P292)","v":""},{"$f":"IF('Caseload Reporting'!O292 = \"\",\"\",'Caseload Reporting'!O292)","v":""},{"$f":"IF('Caseload Reporting'!Q292 = \"\",\"\",'Caseload Reporting'!Q292)","v":""},{"$f":"IF('Caseload Reporting'!R292 = \"\",\"\",'Caseload Reporting'!R292)","v":""},{"$f":"IF('Caseload Reporting'!E292 = \"\",\"\",'Caseload Reporting'!E292)","v":""},{"$f":"IF('Caseload Reporting'!S292 = \"\",\"\",'Caseload Reporting'!S292)","v":""}]
[{"$f":"IF('Caseload Reporting'!A293 = \"\",\"\",'Caseload Reporting'!A293)","v":""},{"$f":"IF('Caseload Reporting'!B293 = \"\",\"\",'Caseload Reporting'!B293)","v":""},{"$f":"IF('Caseload Reporting'!C293 = \"\",\"\",'Caseload Reporting'!C293)","v":""},{"$f":"IF('Caseload Reporting'!D293 = \"\",\"\",'Caseload Reporting'!D293)","v":""},{"$f":"IF('Caseload Reporting'!G293 = \"\",\"\",'Caseload Reporting'!G293)","v":""},{"$f":"IF('Caseload Reporting'!H293 = \"\",\"\",'Caseload Reporting'!H293)","v":""},{"$f":"IF('Caseload Reporting'!I293 = \"\",\"\",'Caseload Reporting'!I293)","v":""},{"$f":"IF('Caseload Reporting'!J293 = \"\",\"\",'Caseload Reporting'!J293)","v":""},{"$f":"IF('Caseload Reporting'!K293 = \"\",\"\",'Caseload Reporting'!K293)","v":""},{"$f":"IF('Caseload Reporting'!L293 = \"\",\"\",'Caseload Reporting'!L293)","v":""},{"$f":"IF('Caseload Reporting'!M293 = \"\",\"\",'Caseload Reporting'!M293)","v":""},{"$f":"IF('Caseload Reporting'!N293 = \"\",\"\",'Caseload Reporting'!N293)","v":""},{"$f":"IF('Caseload Reporting'!P293 = \"\",\"\",'Caseload Reporting'!P293)","v":""},{"$f":"IF('Caseload Reporting'!O293 = \"\",\"\",'Caseload Reporting'!O293)","v":""},{"$f":"IF('Caseload Reporting'!Q293 = \"\",\"\",'Caseload Reporting'!Q293)","v":""},{"$f":"IF('Caseload Reporting'!R293 = \"\",\"\",'Caseload Reporting'!R293)","v":""},{"$f":"IF('Caseload Reporting'!E293 = \"\",\"\",'Caseload Reporting'!E293)","v":""},{"$f":"IF('Caseload Reporting'!S293 = \"\",\"\",'Caseload Reporting'!S293)","v":""}]
[{"$f":"IF('Caseload Reporting'!A294 = \"\",\"\",'Caseload Reporting'!A294)","v":""},{"$f":"IF('Caseload Reporting'!B294 = \"\",\"\",'Caseload Reporting'!B294)","v":""},{"$f":"IF('Caseload Reporting'!C294 = \"\",\"\",'Caseload Reporting'!C294)","v":""},{"$f":"IF('Caseload Reporting'!D294 = \"\",\"\",'Caseload Reporting'!D294)","v":""},{"$f":"IF('Caseload Reporting'!G294 = \"\",\"\",'Caseload Reporting'!G294)","v":""},{"$f":"IF('Caseload Reporting'!H294 = \"\",\"\",'Caseload Reporting'!H294)","v":""},{"$f":"IF('Caseload Reporting'!I294 = \"\",\"\",'Caseload Reporting'!I294)","v":""},{"$f":"IF('Caseload Reporting'!J294 = \"\",\"\",'Caseload Reporting'!J294)","v":""},{"$f":"IF('Caseload Reporting'!K294 = \"\",\"\",'Caseload Reporting'!K294)","v":""},{"$f":"IF('Caseload Reporting'!L294 = \"\",\"\",'Caseload Reporting'!L294)","v":""},{"$f":"IF('Caseload Reporting'!M294 = \"\",\"\",'Caseload Reporting'!M294)","v":""},{"$f":"IF('Caseload Reporting'!N294 = \"\",\"\",'Caseload Reporting'!N294)","v":""},{"$f":"IF('Caseload Reporting'!P294 = \"\",\"\",'Caseload Reporting'!P294)","v":""},{"$f":"IF('Caseload Reporting'!O294 = \"\",\"\",'Caseload Reporting'!O294)","v":""},{"$f":"IF('Caseload Reporting'!Q294 = \"\",\"\",'Caseload Reporting'!Q294)","v":""},{"$f":"IF('Caseload Reporting'!R294 = \"\",\"\",'Caseload Reporting'!R294)","v":""},{"$f":"IF('Caseload Reporting'!E294 = \"\",\"\",'Caseload Reporting'!E294)","v":""},{"$f":"IF('Caseload Reporting'!S294 = \"\",\"\",'Caseload Reporting'!S294)","v":""}]
[{"$f":"IF('Caseload Reporting'!A295 = \"\",\"\",'Caseload Reporting'!A295)","v":""},{"$f":"IF('Caseload Reporting'!B295 = \"\",\"\",'Caseload Reporting'!B295)","v":""},{"$f":"IF('Caseload Reporting'!C295 = \"\",\"\",'Caseload Reporting'!C295)","v":""},{"$f":"IF('Caseload Reporting'!D295 = \"\",\"\",'Caseload Reporting'!D295)","v":""},{"$f":"IF('Caseload Reporting'!G295 = \"\",\"\",'Caseload Reporting'!G295)","v":""},{"$f":"IF('Caseload Reporting'!H295 = \"\",\"\",'Caseload Reporting'!H295)","v":""},{"$f":"IF('Caseload Reporting'!I295 = \"\",\"\",'Caseload Reporting'!I295)","v":""},{"$f":"IF('Caseload Reporting'!J295 = \"\",\"\",'Caseload Reporting'!J295)","v":""},{"$f":"IF('Caseload Reporting'!K295 = \"\",\"\",'Caseload Reporting'!K295)","v":""},{"$f":"IF('Caseload Reporting'!L295 = \"\",\"\",'Caseload Reporting'!L295)","v":""},{"$f":"IF('Caseload Reporting'!M295 = \"\",\"\",'Caseload Reporting'!M295)","v":""},{"$f":"IF('Caseload Reporting'!N295 = \"\",\"\",'Caseload Reporting'!N295)","v":""},{"$f":"IF('Caseload Reporting'!P295 = \"\",\"\",'Caseload Reporting'!P295)","v":""},{"$f":"IF('Caseload Reporting'!O295 = \"\",\"\",'Caseload Reporting'!O295)","v":""},{"$f":"IF('Caseload Reporting'!Q295 = \"\",\"\",'Caseload Reporting'!Q295)","v":""},{"$f":"IF('Caseload Reporting'!R295 = \"\",\"\",'Caseload Reporting'!R295)","v":""},{"$f":"IF('Caseload Reporting'!E295 = \"\",\"\",'Caseload Reporting'!E295)","v":""},{"$f":"IF('Caseload Reporting'!S295 = \"\",\"\",'Caseload Reporting'!S295)","v":""}]
[{"$f":"IF('Caseload Reporting'!A296 = \"\",\"\",'Caseload Reporting'!A296)","v":""},{"$f":"IF('Caseload Reporting'!B296 = \"\",\"\",'Caseload Reporting'!B296)","v":""},{"$f":"IF('Caseload Reporting'!C296 = \"\",\"\",'Caseload Reporting'!C296)","v":""},{"$f":"IF('Caseload Reporting'!D296 = \"\",\"\",'Caseload Reporting'!D296)","v":""},{"$f":"IF('Caseload Reporting'!G296 = \"\",\"\",'Caseload Reporting'!G296)","v":""},{"$f":"IF('Caseload Reporting'!H296 = \"\",\"\",'Caseload Reporting'!H296)","v":""},{"$f":"IF('Caseload Reporting'!I296 = \"\",\"\",'Caseload Reporting'!I296)","v":""},{"$f":"IF('Caseload Reporting'!J296 = \"\",\"\",'Caseload Reporting'!J296)","v":""},{"$f":"IF('Caseload Reporting'!K296 = \"\",\"\",'Caseload Reporting'!K296)","v":""},{"$f":"IF('Caseload Reporting'!L296 = \"\",\"\",'Caseload Reporting'!L296)","v":""},{"$f":"IF('Caseload Reporting'!M296 = \"\",\"\",'Caseload Reporting'!M296)","v":""},{"$f":"IF('Caseload Reporting'!N296 = \"\",\"\",'Caseload Reporting'!N296)","v":""},{"$f":"IF('Caseload Reporting'!P296 = \"\",\"\",'Caseload Reporting'!P296)","v":""},{"$f":"IF('Caseload Reporting'!O296 = \"\",\"\",'Caseload Reporting'!O296)","v":""},{"$f":"IF('Caseload Reporting'!Q296 = \"\",\"\",'Caseload Reporting'!Q296)","v":""},{"$f":"IF('Caseload Reporting'!R296 = \"\",\"\",'Caseload Reporting'!R296)","v":""},{"$f":"IF('Caseload Reporting'!E296 = \"\",\"\",'Caseload Reporting'!E296)","v":""},{"$f":"IF('Caseload Reporting'!S296 = \"\",\"\",'Caseload Reporting'!S296)","v":""}]
[{"$f":"IF('Caseload Reporting'!A297 = \"\",\"\",'Caseload Reporting'!A297)","v":""},{"$f":"IF('Caseload Reporting'!B297 = \"\",\"\",'Caseload Reporting'!B297)","v":""},{"$f":"IF('Caseload Reporting'!C297 = \"\",\"\",'Caseload Reporting'!C297)","v":""},{"$f":"IF('Caseload Reporting'!D297 = \"\",\"\",'Caseload Reporting'!D297)","v":""},{"$f":"IF('Caseload Reporting'!G297 = \"\",\"\",'Caseload Reporting'!G297)","v":""},{"$f":"IF('Caseload Reporting'!H297 = \"\",\"\",'Caseload Reporting'!H297)","v":""},{"$f":"IF('Caseload Reporting'!I297 = \"\",\"\",'Caseload Reporting'!I297)","v":""},{"$f":"IF('Caseload Reporting'!J297 = \"\",\"\",'Caseload Reporting'!J297)","v":""},{"$f":"IF('Caseload Reporting'!K297 = \"\",\"\",'Caseload Reporting'!K297)","v":""},{"$f":"IF('Caseload Reporting'!L297 = \"\",\"\",'Caseload Reporting'!L297)","v":""},{"$f":"IF('Caseload Reporting'!M297 = \"\",\"\",'Caseload Reporting'!M297)","v":""},{"$f":"IF('Caseload Reporting'!N297 = \"\",\"\",'Caseload Reporting'!N297)","v":""},{"$f":"IF('Caseload Reporting'!P297 = \"\",\"\",'Caseload Reporting'!P297)","v":""},{"$f":"IF('Caseload Reporting'!O297 = \"\",\"\",'Caseload Reporting'!O297)","v":""},{"$f":"IF('Caseload Reporting'!Q297 = \"\",\"\",'Caseload Reporting'!Q297)","v":""},{"$f":"IF('Caseload Reporting'!R297 = \"\",\"\",'Caseload Reporting'!R297)","v":""},{"$f":"IF('Caseload Reporting'!E297 = \"\",\"\",'Caseload Reporting'!E297)","v":""},{"$f":"IF('Caseload Reporting'!S297 = \"\",\"\",'Caseload Reporting'!S297)","v":""}]
[{"$f":"IF('Caseload Reporting'!A298 = \"\",\"\",'Caseload Reporting'!A298)","v":""},{"$f":"IF('Caseload Reporting'!B298 = \"\",\"\",'Caseload Reporting'!B298)","v":""},{"$f":"IF('Caseload Reporting'!C298 = \"\",\"\",'Caseload Reporting'!C298)","v":""},{"$f":"IF('Caseload Reporting'!D298 = \"\",\"\",'Caseload Reporting'!D298)","v":""},{"$f":"IF('Caseload Reporting'!G298 = \"\",\"\",'Caseload Reporting'!G298)","v":""},{"$f":"IF('Caseload Reporting'!H298 = \"\",\"\",'Caseload Reporting'!H298)","v":""},{"$f":"IF('Caseload Reporting'!I298 = \"\",\"\",'Caseload Reporting'!I298)","v":""},{"$f":"IF('Caseload Reporting'!J298 = \"\",\"\",'Caseload Reporting'!J298)","v":""},{"$f":"IF('Caseload Reporting'!K298 = \"\",\"\",'Caseload Reporting'!K298)","v":""},{"$f":"IF('Caseload Reporting'!L298 = \"\",\"\",'Caseload Reporting'!L298)","v":""},{"$f":"IF('Caseload Reporting'!M298 = \"\",\"\",'Caseload Reporting'!M298)","v":""},{"$f":"IF('Caseload Reporting'!N298 = \"\",\"\",'Caseload Reporting'!N298)","v":""},{"$f":"IF('Caseload Reporting'!P298 = \"\",\"\",'Caseload Reporting'!P298)","v":""},{"$f":"IF('Caseload Reporting'!O298 = \"\",\"\",'Caseload Reporting'!O298)","v":""},{"$f":"IF('Caseload Reporting'!Q298 = \"\",\"\",'Caseload Reporting'!Q298)","v":""},{"$f":"IF('Caseload Reporting'!R298 = \"\",\"\",'Caseload Reporting'!R298)","v":""},{"$f":"IF('Caseload Reporting'!E298 = \"\",\"\",'Caseload Reporting'!E298)","v":""},{"$f":"IF('Caseload Reporting'!S298 = \"\",\"\",'Caseload Reporting'!S298)","v":""}]
[{"$f":"IF('Caseload Reporting'!A299 = \"\",\"\",'Caseload Reporting'!A299)","v":""},{"$f":"IF('Caseload Reporting'!B299 = \"\",\"\",'Caseload Reporting'!B299)","v":""},{"$f":"IF('Caseload Reporting'!C299 = \"\",\"\",'Caseload Reporting'!C299)","v":""},{"$f":"IF('Caseload Reporting'!D299 = \"\",\"\",'Caseload Reporting'!D299)","v":""},{"$f":"IF('Caseload Reporting'!G299 = \"\",\"\",'Caseload Reporting'!G299)","v":""},{"$f":"IF('Caseload Reporting'!H299 = \"\",\"\",'Caseload Reporting'!H299)","v":""},{"$f":"IF('Caseload Reporting'!I299 = \"\",\"\",'Caseload Reporting'!I299)","v":""},{"$f":"IF('Caseload Reporting'!J299 = \"\",\"\",'Caseload Reporting'!J299)","v":""},{"$f":"IF('Caseload Reporting'!K299 = \"\",\"\",'Caseload Reporting'!K299)","v":""},{"$f":"IF('Caseload Reporting'!L299 = \"\",\"\",'Caseload Reporting'!L299)","v":""},{"$f":"IF('Caseload Reporting'!M299 = \"\",\"\",'Caseload Reporting'!M299)","v":""},{"$f":"IF('Caseload Reporting'!N299 = \"\",\"\",'Caseload Reporting'!N299)","v":""},{"$f":"IF('Caseload Reporting'!P299 = \"\",\"\",'Caseload Reporting'!P299)","v":""},{"$f":"IF('Caseload Reporting'!O299 = \"\",\"\",'Caseload Reporting'!O299)","v":""},{"$f":"IF('Caseload Reporting'!Q299 = \"\",\"\",'Caseload Reporting'!Q299)","v":""},{"$f":"IF('Caseload Reporting'!R299 = \"\",\"\",'Caseload Reporting'!R299)","v":""},{"$f":"IF('Caseload Reporting'!E299 = \"\",\"\",'Caseload Reporting'!E299)","v":""},{"$f":"IF('Caseload Reporting'!S299 = \"\",\"\",'Caseload Reporting'!S299)","v":""}]
[{"$f":"IF('Caseload Reporting'!A300 = \"\",\"\",'Caseload Reporting'!A300)","v":""},{"$f":"IF('Caseload Reporting'!B300 = \"\",\"\",'Caseload Reporting'!B300)","v":""},{"$f":"IF('Caseload Reporting'!C300 = \"\",\"\",'Caseload Reporting'!C300)","v":""},{"$f":"IF('Caseload Reporting'!D300 = \"\",\"\",'Caseload Reporting'!D300)","v":""},{"$f":"IF('Caseload Reporting'!G300 = \"\",\"\",'Caseload Reporting'!G300)","v":""},{"$f":"IF('Caseload Reporting'!H300 = \"\",\"\",'Caseload Reporting'!H300)","v":""},{"$f":"IF('Caseload Reporting'!I300 = \"\",\"\",'Caseload Reporting'!I300)","v":""},{"$f":"IF('Caseload Reporting'!J300 = \"\",\"\",'Caseload Reporting'!J300)","v":""},{"$f":"IF('Caseload Reporting'!K300 = \"\",\"\",'Caseload Reporting'!K300)","v":""},{"$f":"IF('Caseload Reporting'!L300 = \"\",\"\",'Caseload Reporting'!L300)","v":""},{"$f":"IF('Caseload Reporting'!M300 = \"\",\"\",'Caseload Reporting'!M300)","v":""},{"$f":"IF('Caseload Reporting'!N300 = \"\",\"\",'Caseload Reporting'!N300)","v":""},{"$f":"IF('Caseload Reporting'!P300 = \"\",\"\",'Caseload Reporting'!P300)","v":""},{"$f":"IF('Caseload Reporting'!O300 = \"\",\"\",'Caseload Reporting'!O300)","v":""},{"$f":"IF('Caseload Reporting'!Q300 = \"\",\"\",'Caseload Reporting'!Q300)","v":""},{"$f":"IF('Caseload Reporting'!R300 = \"\",\"\",'Caseload Reporting'!R300)","v":""},{"$f":"IF('Caseload Reporting'!E300 = \"\",\"\",'Caseload Reporting'!E300)","v":""},{"$f":"IF('Caseload Reporting'!S300 = \"\",\"\",'Caseload Reporting'!S300)","v":""}]
[{"$f":"IF('Caseload Reporting'!A301 = \"\",\"\",'Caseload Reporting'!A301)","v":""},{"$f":"IF('Caseload Reporting'!B301 = \"\",\"\",'Caseload Reporting'!B301)","v":""},{"$f":"IF('Caseload Reporting'!C301 = \"\",\"\",'Caseload Reporting'!C301)","v":""},{"$f":"IF('Caseload Reporting'!D301 = \"\",\"\",'Caseload Reporting'!D301)","v":""},{"$f":"IF('Caseload Reporting'!G301 = \"\",\"\",'Caseload Reporting'!G301)","v":""},{"$f":"IF('Caseload Reporting'!H301 = \"\",\"\",'Caseload Reporting'!H301)","v":""},{"$f":"IF('Caseload Reporting'!I301 = \"\",\"\",'Caseload Reporting'!I301)","v":""},{"$f":"IF('Caseload Reporting'!J301 = \"\",\"\",'Caseload Reporting'!J301)","v":""},{"$f":"IF('Caseload Reporting'!K301 = \"\",\"\",'Caseload Reporting'!K301)","v":""},{"$f":"IF('Caseload Reporting'!L301 = \"\",\"\",'Caseload Reporting'!L301)","v":""},{"$f":"IF('Caseload Reporting'!M301 = \"\",\"\",'Caseload Reporting'!M301)","v":""},{"$f":"IF('Caseload Reporting'!N301 = \"\",\"\",'Caseload Reporting'!N301)","v":""},{"$f":"IF('Caseload Reporting'!P301 = \"\",\"\",'Caseload Reporting'!P301)","v":""},{"$f":"IF('Caseload Reporting'!O301 = \"\",\"\",'Caseload Reporting'!O301)","v":""},{"$f":"IF('Caseload Reporting'!Q301 = \"\",\"\",'Caseload Reporting'!Q301)","v":""},{"$f":"IF('Caseload Reporting'!R301 = \"\",\"\",'Caseload Reporting'!R301)","v":""},{"$f":"IF('Caseload Reporting'!E301 = \"\",\"\",'Caseload Reporting'!E301)","v":""},{"$f":"IF('Caseload Reporting'!S301 = \"\",\"\",'Caseload Reporting'!S301)","v":""}]
[{"$f":"IF('Caseload Reporting'!A302 = \"\",\"\",'Caseload Reporting'!A302)","v":""},{"$f":"IF('Caseload Reporting'!B302 = \"\",\"\",'Caseload Reporting'!B302)","v":""},{"$f":"IF('Caseload Reporting'!C302 = \"\",\"\",'Caseload Reporting'!C302)","v":""},{"$f":"IF('Caseload Reporting'!D302 = \"\",\"\",'Caseload Reporting'!D302)","v":""},{"$f":"IF('Caseload Reporting'!G302 = \"\",\"\",'Caseload Reporting'!G302)","v":""},{"$f":"IF('Caseload Reporting'!H302 = \"\",\"\",'Caseload Reporting'!H302)","v":""},{"$f":"IF('Caseload Reporting'!I302 = \"\",\"\",'Caseload Reporting'!I302)","v":""},{"$f":"IF('Caseload Reporting'!J302 = \"\",\"\",'Caseload Reporting'!J302)","v":""},{"$f":"IF('Caseload Reporting'!K302 = \"\",\"\",'Caseload Reporting'!K302)","v":""},{"$f":"IF('Caseload Reporting'!L302 = \"\",\"\",'Caseload Reporting'!L302)","v":""},{"$f":"IF('Caseload Reporting'!M302 = \"\",\"\",'Caseload Reporting'!M302)","v":""},{"$f":"IF('Caseload Reporting'!N302 = \"\",\"\",'Caseload Reporting'!N302)","v":""},{"$f":"IF('Caseload Reporting'!P302 = \"\",\"\",'Caseload Reporting'!P302)","v":""},{"$f":"IF('Caseload Reporting'!O302 = \"\",\"\",'Caseload Reporting'!O302)","v":""},{"$f":"IF('Caseload Reporting'!Q302 = \"\",\"\",'Caseload Reporting'!Q302)","v":""},{"$f":"IF('Caseload Reporting'!R302 = \"\",\"\",'Caseload Reporting'!R302)","v":""},{"$f":"IF('Caseload Reporting'!E302 = \"\",\"\",'Caseload Reporting'!E302)","v":""},{"$f":"IF('Caseload Reporting'!S302 = \"\",\"\",'Caseload Reporting'!S302)","v":""}]
[{"$f":"IF('Caseload Reporting'!A303 = \"\",\"\",'Caseload Reporting'!A303)","v":""},{"$f":"IF('Caseload Reporting'!B303 = \"\",\"\",'Caseload Reporting'!B303)","v":""},{"$f":"IF('Caseload Reporting'!C303 = \"\",\"\",'Caseload Reporting'!C303)","v":""},{"$f":"IF('Caseload Reporting'!D303 = \"\",\"\",'Caseload Reporting'!D303)","v":""},{"$f":"IF('Caseload Reporting'!G303 = \"\",\"\",'Caseload Reporting'!G303)","v":""},{"$f":"IF('Caseload Reporting'!H303 = \"\",\"\",'Caseload Reporting'!H303)","v":""},{"$f":"IF('Caseload Reporting'!I303 = \"\",\"\",'Caseload Reporting'!I303)","v":""},{"$f":"IF('Caseload Reporting'!J303 = \"\",\"\",'Caseload Reporting'!J303)","v":""},{"$f":"IF('Caseload Reporting'!K303 = \"\",\"\",'Caseload Reporting'!K303)","v":""},{"$f":"IF('Caseload Reporting'!L303 = \"\",\"\",'Caseload Reporting'!L303)","v":""},{"$f":"IF('Caseload Reporting'!M303 = \"\",\"\",'Caseload Reporting'!M303)","v":""},{"$f":"IF('Caseload Reporting'!N303 = \"\",\"\",'Caseload Reporting'!N303)","v":""},{"$f":"IF('Caseload Reporting'!P303 = \"\",\"\",'Caseload Reporting'!P303)","v":""},{"$f":"IF('Caseload Reporting'!O303 = \"\",\"\",'Caseload Reporting'!O303)","v":""},{"$f":"IF('Caseload Reporting'!Q303 = \"\",\"\",'Caseload Reporting'!Q303)","v":""},{"$f":"IF('Caseload Reporting'!R303 = \"\",\"\",'Caseload Reporting'!R303)","v":""},{"$f":"IF('Caseload Reporting'!E303 = \"\",\"\",'Caseload Reporting'!E303)","v":""},{"$f":"IF('Caseload Reporting'!S303 = \"\",\"\",'Caseload Reporting'!S303)","v":""}]
[{"$f":"IF('Caseload Reporting'!A304 = \"\",\"\",'Caseload Reporting'!A304)","v":""},{"$f":"IF('Caseload Reporting'!B304 = \"\",\"\",'Caseload Reporting'!B304)","v":""},{"$f":"IF('Caseload Reporting'!C304 = \"\",\"\",'Caseload Reporting'!C304)","v":""},{"$f":"IF('Caseload Reporting'!D304 = \"\",\"\",'Caseload Reporting'!D304)","v":""},{"$f":"IF('Caseload Reporting'!G304 = \"\",\"\",'Caseload Reporting'!G304)","v":""},{"$f":"IF('Caseload Reporting'!H304 = \"\",\"\",'Caseload Reporting'!H304)","v":""},{"$f":"IF('Caseload Reporting'!I304 = \"\",\"\",'Caseload Reporting'!I304)","v":""},{"$f":"IF('Caseload Reporting'!J304 = \"\",\"\",'Caseload Reporting'!J304)","v":""},{"$f":"IF('Caseload Reporting'!K304 = \"\",\"\",'Caseload Reporting'!K304)","v":""},{"$f":"IF('Caseload Reporting'!L304 = \"\",\"\",'Caseload Reporting'!L304)","v":""},{"$f":"IF('Caseload Reporting'!M304 = \"\",\"\",'Caseload Reporting'!M304)","v":""},{"$f":"IF('Caseload Reporting'!N304 = \"\",\"\",'Caseload Reporting'!N304)","v":""},{"$f":"IF('Caseload Reporting'!P304 = \"\",\"\",'Caseload Reporting'!P304)","v":""},{"$f":"IF('Caseload Reporting'!O304 = \"\",\"\",'Caseload Reporting'!O304)","v":""},{"$f":"IF('Caseload Reporting'!Q304 = \"\",\"\",'Caseload Reporting'!Q304)","v":""},{"$f":"IF('Caseload Reporting'!R304 = \"\",\"\",'Caseload Reporting'!R304)","v":""},{"$f":"IF('Caseload Reporting'!E304 = \"\",\"\",'Caseload Reporting'!E304)","v":""},{"$f":"IF('Caseload Reporting'!S304 = \"\",\"\",'Caseload Reporting'!S304)","v":""}]
[{"$f":"IF('Caseload Reporting'!A305 = \"\",\"\",'Caseload Reporting'!A305)","v":""},{"$f":"IF('Caseload Reporting'!B305 = \"\",\"\",'Caseload Reporting'!B305)","v":""},{"$f":"IF('Caseload Reporting'!C305 = \"\",\"\",'Caseload Reporting'!C305)","v":""},{"$f":"IF('Caseload Reporting'!D305 = \"\",\"\",'Caseload Reporting'!D305)","v":""},{"$f":"IF('Caseload Reporting'!G305 = \"\",\"\",'Caseload Reporting'!G305)","v":""},{"$f":"IF('Caseload Reporting'!H305 = \"\",\"\",'Caseload Reporting'!H305)","v":""},{"$f":"IF('Caseload Reporting'!I305 = \"\",\"\",'Caseload Reporting'!I305)","v":""},{"$f":"IF('Caseload Reporting'!J305 = \"\",\"\",'Caseload Reporting'!J305)","v":""},{"$f":"IF('Caseload Reporting'!K305 = \"\",\"\",'Caseload Reporting'!K305)","v":""},{"$f":"IF('Caseload Reporting'!L305 = \"\",\"\",'Caseload Reporting'!L305)","v":""},{"$f":"IF('Caseload Reporting'!M305 = \"\",\"\",'Caseload Reporting'!M305)","v":""},{"$f":"IF('Caseload Reporting'!N305 = \"\",\"\",'Caseload Reporting'!N305)","v":""},{"$f":"IF('Caseload Reporting'!P305 = \"\",\"\",'Caseload Reporting'!P305)","v":""},{"$f":"IF('Caseload Reporting'!O305 = \"\",\"\",'Caseload Reporting'!O305)","v":""},{"$f":"IF('Caseload Reporting'!Q305 = \"\",\"\",'Caseload Reporting'!Q305)","v":""},{"$f":"IF('Caseload Reporting'!R305 = \"\",\"\",'Caseload Reporting'!R305)","v":""},{"$f":"IF('Caseload Reporting'!E305 = \"\",\"\",'Caseload Reporting'!E305)","v":""},{"$f":"IF('Caseload Reporting'!S305 = \"\",\"\",'Caseload Reporting'!S305)","v":""}]
[{"$f":"IF('Caseload Reporting'!A306 = \"\",\"\",'Caseload Reporting'!A306)","v":""},{"$f":"IF('Caseload Reporting'!B306 = \"\",\"\",'Caseload Reporting'!B306)","v":""},{"$f":"IF('Caseload Reporting'!C306 = \"\",\"\",'Caseload Reporting'!C306)","v":""},{"$f":"IF('Caseload Reporting'!D306 = \"\",\"\",'Caseload Reporting'!D306)","v":""},{"$f":"IF('Caseload Reporting'!G306 = \"\",\"\",'Caseload Reporting'!G306)","v":""},{"$f":"IF('Caseload Reporting'!H306 = \"\",\"\",'Caseload Reporting'!H306)","v":""},{"$f":"IF('Caseload Reporting'!I306 = \"\",\"\",'Caseload Reporting'!I306)","v":""},{"$f":"IF('Caseload Reporting'!J306 = \"\",\"\",'Caseload Reporting'!J306)","v":""},{"$f":"IF('Caseload Reporting'!K306 = \"\",\"\",'Caseload Reporting'!K306)","v":""},{"$f":"IF('Caseload Reporting'!L306 = \"\",\"\",'Caseload Reporting'!L306)","v":""},{"$f":"IF('Caseload Reporting'!M306 = \"\",\"\",'Caseload Reporting'!M306)","v":""},{"$f":"IF('Caseload Reporting'!N306 = \"\",\"\",'Caseload Reporting'!N306)","v":""},{"$f":"IF('Caseload Reporting'!P306 = \"\",\"\",'Caseload Reporting'!P306)","v":""},{"$f":"IF('Caseload Reporting'!O306 = \"\",\"\",'Caseload Reporting'!O306)","v":""},{"$f":"IF('Caseload Reporting'!Q306 = \"\",\"\",'Caseload Reporting'!Q306)","v":""},{"$f":"IF('Caseload Reporting'!R306 = \"\",\"\",'Caseload Reporting'!R306)","v":""},{"$f":"IF('Caseload Reporting'!E306 = \"\",\"\",'Caseload Reporting'!E306)","v":""},{"$f":"IF('Caseload Reporting'!S306 = \"\",\"\",'Caseload Reporting'!S306)","v":""}]
[{"$f":"IF('Caseload Reporting'!A307 = \"\",\"\",'Caseload Reporting'!A307)","v":""},{"$f":"IF('Caseload Reporting'!B307 = \"\",\"\",'Caseload Reporting'!B307)","v":""},{"$f":"IF('Caseload Reporting'!C307 = \"\",\"\",'Caseload Reporting'!C307)","v":""},{"$f":"IF('Caseload Reporting'!D307 = \"\",\"\",'Caseload Reporting'!D307)","v":""},{"$f":"IF('Caseload Reporting'!G307 = \"\",\"\",'Caseload Reporting'!G307)","v":""},{"$f":"IF('Caseload Reporting'!H307 = \"\",\"\",'Caseload Reporting'!H307)","v":""},{"$f":"IF('Caseload Reporting'!I307 = \"\",\"\",'Caseload Reporting'!I307)","v":""},{"$f":"IF('Caseload Reporting'!J307 = \"\",\"\",'Caseload Reporting'!J307)","v":""},{"$f":"IF('Caseload Reporting'!K307 = \"\",\"\",'Caseload Reporting'!K307)","v":""},{"$f":"IF('Caseload Reporting'!L307 = \"\",\"\",'Caseload Reporting'!L307)","v":""},{"$f":"IF('Caseload Reporting'!M307 = \"\",\"\",'Caseload Reporting'!M307)","v":""},{"$f":"IF('Caseload Reporting'!N307 = \"\",\"\",'Caseload Reporting'!N307)","v":""},{"$f":"IF('Caseload Reporting'!P307 = \"\",\"\",'Caseload Reporting'!P307)","v":""},{"$f":"IF('Caseload Reporting'!O307 = \"\",\"\",'Caseload Reporting'!O307)","v":""},{"$f":"IF('Caseload Reporting'!Q307 = \"\",\"\",'Caseload Reporting'!Q307)","v":""},{"$f":"IF('Caseload Reporting'!R307 = \"\",\"\",'Caseload Reporting'!R307)","v":""},{"$f":"IF('Caseload Reporting'!E307 = \"\",\"\",'Caseload Reporting'!E307)","v":""},{"$f":"IF('Caseload Reporting'!S307 = \"\",\"\",'Caseload Reporting'!S307)","v":""}]
[{"$f":"IF('Caseload Reporting'!A308 = \"\",\"\",'Caseload Reporting'!A308)","v":""},{"$f":"IF('Caseload Reporting'!B308 = \"\",\"\",'Caseload Reporting'!B308)","v":""},{"$f":"IF('Caseload Reporting'!C308 = \"\",\"\",'Caseload Reporting'!C308)","v":""},{"$f":"IF('Caseload Reporting'!D308 = \"\",\"\",'Caseload Reporting'!D308)","v":""},{"$f":"IF('Caseload Reporting'!G308 = \"\",\"\",'Caseload Reporting'!G308)","v":""},{"$f":"IF('Caseload Reporting'!H308 = \"\",\"\",'Caseload Reporting'!H308)","v":""},{"$f":"IF('Caseload Reporting'!I308 = \"\",\"\",'Caseload Reporting'!I308)","v":""},{"$f":"IF('Caseload Reporting'!J308 = \"\",\"\",'Caseload Reporting'!J308)","v":""},{"$f":"IF('Caseload Reporting'!K308 = \"\",\"\",'Caseload Reporting'!K308)","v":""},{"$f":"IF('Caseload Reporting'!L308 = \"\",\"\",'Caseload Reporting'!L308)","v":""},{"$f":"IF('Caseload Reporting'!M308 = \"\",\"\",'Caseload Reporting'!M308)","v":""},{"$f":"IF('Caseload Reporting'!N308 = \"\",\"\",'Caseload Reporting'!N308)","v":""},{"$f":"IF('Caseload Reporting'!P308 = \"\",\"\",'Caseload Reporting'!P308)","v":""},{"$f":"IF('Caseload Reporting'!O308 = \"\",\"\",'Caseload Reporting'!O308)","v":""},{"$f":"IF('Caseload Reporting'!Q308 = \"\",\"\",'Caseload Reporting'!Q308)","v":""},{"$f":"IF('Caseload Reporting'!R308 = \"\",\"\",'Caseload Reporting'!R308)","v":""},{"$f":"IF('Caseload Reporting'!E308 = \"\",\"\",'Caseload Reporting'!E308)","v":""},{"$f":"IF('Caseload Reporting'!S308 = \"\",\"\",'Caseload Reporting'!S308)","v":""}]
[{"$f":"IF('Caseload Reporting'!A309 = \"\",\"\",'Caseload Reporting'!A309)","v":""},{"$f":"IF('Caseload Reporting'!B309 = \"\",\"\",'Caseload Reporting'!B309)","v":""},{"$f":"IF('Caseload Reporting'!C309 = \"\",\"\",'Caseload Reporting'!C309)","v":""},{"$f":"IF('Caseload Reporting'!D309 = \"\",\"\",'Caseload Reporting'!D309)","v":""},{"$f":"IF('Caseload Reporting'!G309 = \"\",\"\",'Caseload Reporting'!G309)","v":""},{"$f":"IF('Caseload Reporting'!H309 = \"\",\"\",'Caseload Reporting'!H309)","v":""},{"$f":"IF('Caseload Reporting'!I309 = \"\",\"\",'Caseload Reporting'!I309)","v":""},{"$f":"IF('Caseload Reporting'!J309 = \"\",\"\",'Caseload Reporting'!J309)","v":""},{"$f":"IF('Caseload Reporting'!K309 = \"\",\"\",'Caseload Reporting'!K309)","v":""},{"$f":"IF('Caseload Reporting'!L309 = \"\",\"\",'Caseload Reporting'!L309)","v":""},{"$f":"IF('Caseload Reporting'!M309 = \"\",\"\",'Caseload Reporting'!M309)","v":""},{"$f":"IF('Caseload Reporting'!N309 = \"\",\"\",'Caseload Reporting'!N309)","v":""},{"$f":"IF('Caseload Reporting'!P309 = \"\",\"\",'Caseload Reporting'!P309)","v":""},{"$f":"IF('Caseload Reporting'!O309 = \"\",\"\",'Caseload Reporting'!O309)","v":""},{"$f":"IF('Caseload Reporting'!Q309 = \"\",\"\",'Caseload Reporting'!Q309)","v":""},{"$f":"IF('Caseload Reporting'!R309 = \"\",\"\",'Caseload Reporting'!R309)","v":""},{"$f":"IF('Caseload Reporting'!E309 = \"\",\"\",'Caseload Reporting'!E309)","v":""},{"$f":"IF('Caseload Reporting'!S309 = \"\",\"\",'Caseload Reporting'!S309)","v":""}]
[{"$f":"IF('Caseload Reporting'!A310 = \"\",\"\",'Caseload Reporting'!A310)","v":""},{"$f":"IF('Caseload Reporting'!B310 = \"\",\"\",'Caseload Reporting'!B310)","v":""},{"$f":"IF('Caseload Reporting'!C310 = \"\",\"\",'Caseload Reporting'!C310)","v":""},{"$f":"IF('Caseload Reporting'!D310 = \"\",\"\",'Caseload Reporting'!D310)","v":""},{"$f":"IF('Caseload Reporting'!G310 = \"\",\"\",'Caseload Reporting'!G310)","v":""},{"$f":"IF('Caseload Reporting'!H310 = \"\",\"\",'Caseload Reporting'!H310)","v":""},{"$f":"IF('Caseload Reporting'!I310 = \"\",\"\",'Caseload Reporting'!I310)","v":""},{"$f":"IF('Caseload Reporting'!J310 = \"\",\"\",'Caseload Reporting'!J310)","v":""},{"$f":"IF('Caseload Reporting'!K310 = \"\",\"\",'Caseload Reporting'!K310)","v":""},{"$f":"IF('Caseload Reporting'!L310 = \"\",\"\",'Caseload Reporting'!L310)","v":""},{"$f":"IF('Caseload Reporting'!M310 = \"\",\"\",'Caseload Reporting'!M310)","v":""},{"$f":"IF('Caseload Reporting'!N310 = \"\",\"\",'Caseload Reporting'!N310)","v":""},{"$f":"IF('Caseload Reporting'!P310 = \"\",\"\",'Caseload Reporting'!P310)","v":""},{"$f":"IF('Caseload Reporting'!O310 = \"\",\"\",'Caseload Reporting'!O310)","v":""},{"$f":"IF('Caseload Reporting'!Q310 = \"\",\"\",'Caseload Reporting'!Q310)","v":""},{"$f":"IF('Caseload Reporting'!R310 = \"\",\"\",'Caseload Reporting'!R310)","v":""},{"$f":"IF('Caseload Reporting'!E310 = \"\",\"\",'Caseload Reporting'!E310)","v":""},{"$f":"IF('Caseload Reporting'!S310 = \"\",\"\",'Caseload Reporting'!S310)","v":""}]
[{"$f":"IF('Caseload Reporting'!A311 = \"\",\"\",'Caseload Reporting'!A311)","v":""},{"$f":"IF('Caseload Reporting'!B311 = \"\",\"\",'Caseload Reporting'!B311)","v":""},{"$f":"IF('Caseload Reporting'!C311 = \"\",\"\",'Caseload Reporting'!C311)","v":""},{"$f":"IF('Caseload Reporting'!D311 = \"\",\"\",'Caseload Reporting'!D311)","v":""},{"$f":"IF('Caseload Reporting'!G311 = \"\",\"\",'Caseload Reporting'!G311)","v":""},{"$f":"IF('Caseload Reporting'!H311 = \"\",\"\",'Caseload Reporting'!H311)","v":""},{"$f":"IF('Caseload Reporting'!I311 = \"\",\"\",'Caseload Reporting'!I311)","v":""},{"$f":"IF('Caseload Reporting'!J311 = \"\",\"\",'Caseload Reporting'!J311)","v":""},{"$f":"IF('Caseload Reporting'!K311 = \"\",\"\",'Caseload Reporting'!K311)","v":""},{"$f":"IF('Caseload Reporting'!L311 = \"\",\"\",'Caseload Reporting'!L311)","v":""},{"$f":"IF('Caseload Reporting'!M311 = \"\",\"\",'Caseload Reporting'!M311)","v":""},{"$f":"IF('Caseload Reporting'!N311 = \"\",\"\",'Caseload Reporting'!N311)","v":""},{"$f":"IF('Caseload Reporting'!P311 = \"\",\"\",'Caseload Reporting'!P311)","v":""},{"$f":"IF('Caseload Reporting'!O311 = \"\",\"\",'Caseload Reporting'!O311)","v":""},{"$f":"IF('Caseload Reporting'!Q311 = \"\",\"\",'Caseload Reporting'!Q311)","v":""},{"$f":"IF('Caseload Reporting'!R311 = \"\",\"\",'Caseload Reporting'!R311)","v":""},{"$f":"IF('Caseload Reporting'!E311 = \"\",\"\",'Caseload Reporting'!E311)","v":""},{"$f":"IF('Caseload Reporting'!S311 = \"\",\"\",'Caseload Reporting'!S311)","v":""}]
[{"$f":"IF('Caseload Reporting'!A312 = \"\",\"\",'Caseload Reporting'!A312)","v":""},{"$f":"IF('Caseload Reporting'!B312 = \"\",\"\",'Caseload Reporting'!B312)","v":""},{"$f":"IF('Caseload Reporting'!C312 = \"\",\"\",'Caseload Reporting'!C312)","v":""},{"$f":"IF('Caseload Reporting'!D312 = \"\",\"\",'Caseload Reporting'!D312)","v":""},{"$f":"IF('Caseload Reporting'!G312 = \"\",\"\",'Caseload Reporting'!G312)","v":""},{"$f":"IF('Caseload Reporting'!H312 = \"\",\"\",'Caseload Reporting'!H312)","v":""},{"$f":"IF('Caseload Reporting'!I312 = \"\",\"\",'Caseload Reporting'!I312)","v":""},{"$f":"IF('Caseload Reporting'!J312 = \"\",\"\",'Caseload Reporting'!J312)","v":""},{"$f":"IF('Caseload Reporting'!K312 = \"\",\"\",'Caseload Reporting'!K312)","v":""},{"$f":"IF('Caseload Reporting'!L312 = \"\",\"\",'Caseload Reporting'!L312)","v":""},{"$f":"IF('Caseload Reporting'!M312 = \"\",\"\",'Caseload Reporting'!M312)","v":""},{"$f":"IF('Caseload Reporting'!N312 = \"\",\"\",'Caseload Reporting'!N312)","v":""},{"$f":"IF('Caseload Reporting'!P312 = \"\",\"\",'Caseload Reporting'!P312)","v":""},{"$f":"IF('Caseload Reporting'!O312 = \"\",\"\",'Caseload Reporting'!O312)","v":""},{"$f":"IF('Caseload Reporting'!Q312 = \"\",\"\",'Caseload Reporting'!Q312)","v":""},{"$f":"IF('Caseload Reporting'!R312 = \"\",\"\",'Caseload Reporting'!R312)","v":""},{"$f":"IF('Caseload Reporting'!E312 = \"\",\"\",'Caseload Reporting'!E312)","v":""},{"$f":"IF('Caseload Reporting'!S312 = \"\",\"\",'Caseload Reporting'!S312)","v":""}]
[{"$f":"IF('Caseload Reporting'!A313 = \"\",\"\",'Caseload Reporting'!A313)","v":""},{"$f":"IF('Caseload Reporting'!B313 = \"\",\"\",'Caseload Reporting'!B313)","v":""},{"$f":"IF('Caseload Reporting'!C313 = \"\",\"\",'Caseload Reporting'!C313)","v":""},{"$f":"IF('Caseload Reporting'!D313 = \"\",\"\",'Caseload Reporting'!D313)","v":""},{"$f":"IF('Caseload Reporting'!G313 = \"\",\"\",'Caseload Reporting'!G313)","v":""},{"$f":"IF('Caseload Reporting'!H313 = \"\",\"\",'Caseload Reporting'!H313)","v":""},{"$f":"IF('Caseload Reporting'!I313 = \"\",\"\",'Caseload Reporting'!I313)","v":""},{"$f":"IF('Caseload Reporting'!J313 = \"\",\"\",'Caseload Reporting'!J313)","v":""},{"$f":"IF('Caseload Reporting'!K313 = \"\",\"\",'Caseload Reporting'!K313)","v":""},{"$f":"IF('Caseload Reporting'!L313 = \"\",\"\",'Caseload Reporting'!L313)","v":""},{"$f":"IF('Caseload Reporting'!M313 = \"\",\"\",'Caseload Reporting'!M313)","v":""},{"$f":"IF('Caseload Reporting'!N313 = \"\",\"\",'Caseload Reporting'!N313)","v":""},{"$f":"IF('Caseload Reporting'!P313 = \"\",\"\",'Caseload Reporting'!P313)","v":""},{"$f":"IF('Caseload Reporting'!O313 = \"\",\"\",'Caseload Reporting'!O313)","v":""},{"$f":"IF('Caseload Reporting'!Q313 = \"\",\"\",'Caseload Reporting'!Q313)","v":""},{"$f":"IF('Caseload Reporting'!R313 = \"\",\"\",'Caseload Reporting'!R313)","v":""},{"$f":"IF('Caseload Reporting'!E313 = \"\",\"\",'Caseload Reporting'!E313)","v":""},{"$f":"IF('Caseload Reporting'!S313 = \"\",\"\",'Caseload Reporting'!S313)","v":""}]
[{"$f":"IF('Caseload Reporting'!A314 = \"\",\"\",'Caseload Reporting'!A314)","v":""},{"$f":"IF('Caseload Reporting'!B314 = \"\",\"\",'Caseload Reporting'!B314)","v":""},{"$f":"IF('Caseload Reporting'!C314 = \"\",\"\",'Caseload Reporting'!C314)","v":""},{"$f":"IF('Caseload Reporting'!D314 = \"\",\"\",'Caseload Reporting'!D314)","v":""},{"$f":"IF('Caseload Reporting'!G314 = \"\",\"\",'Caseload Reporting'!G314)","v":""},{"$f":"IF('Caseload Reporting'!H314 = \"\",\"\",'Caseload Reporting'!H314)","v":""},{"$f":"IF('Caseload Reporting'!I314 = \"\",\"\",'Caseload Reporting'!I314)","v":""},{"$f":"IF('Caseload Reporting'!J314 = \"\",\"\",'Caseload Reporting'!J314)","v":""},{"$f":"IF('Caseload Reporting'!K314 = \"\",\"\",'Caseload Reporting'!K314)","v":""},{"$f":"IF('Caseload Reporting'!L314 = \"\",\"\",'Caseload Reporting'!L314)","v":""},{"$f":"IF('Caseload Reporting'!M314 = \"\",\"\",'Caseload Reporting'!M314)","v":""},{"$f":"IF('Caseload Reporting'!N314 = \"\",\"\",'Caseload Reporting'!N314)","v":""},{"$f":"IF('Caseload Reporting'!P314 = \"\",\"\",'Caseload Reporting'!P314)","v":""},{"$f":"IF('Caseload Reporting'!O314 = \"\",\"\",'Caseload Reporting'!O314)","v":""},{"$f":"IF('Caseload Reporting'!Q314 = \"\",\"\",'Caseload Reporting'!Q314)","v":""},{"$f":"IF('Caseload Reporting'!R314 = \"\",\"\",'Caseload Reporting'!R314)","v":""},{"$f":"IF('Caseload Reporting'!E314 = \"\",\"\",'Caseload Reporting'!E314)","v":""},{"$f":"IF('Caseload Reporting'!S314 = \"\",\"\",'Caseload Reporting'!S314)","v":""}]
[{"$f":"IF('Caseload Reporting'!A315 = \"\",\"\",'Caseload Reporting'!A315)","v":""},{"$f":"IF('Caseload Reporting'!B315 = \"\",\"\",'Caseload Reporting'!B315)","v":""},{"$f":"IF('Caseload Reporting'!C315 = \"\",\"\",'Caseload Reporting'!C315)","v":""},{"$f":"IF('Caseload Reporting'!D315 = \"\",\"\",'Caseload Reporting'!D315)","v":""},{"$f":"IF('Caseload Reporting'!G315 = \"\",\"\",'Caseload Reporting'!G315)","v":""},{"$f":"IF('Caseload Reporting'!H315 = \"\",\"\",'Caseload Reporting'!H315)","v":""},{"$f":"IF('Caseload Reporting'!I315 = \"\",\"\",'Caseload Reporting'!I315)","v":""},{"$f":"IF('Caseload Reporting'!J315 = \"\",\"\",'Caseload Reporting'!J315)","v":""},{"$f":"IF('Caseload Reporting'!K315 = \"\",\"\",'Caseload Reporting'!K315)","v":""},{"$f":"IF('Caseload Reporting'!L315 = \"\",\"\",'Caseload Reporting'!L315)","v":""},{"$f":"IF('Caseload Reporting'!M315 = \"\",\"\",'Caseload Reporting'!M315)","v":""},{"$f":"IF('Caseload Reporting'!N315 = \"\",\"\",'Caseload Reporting'!N315)","v":""},{"$f":"IF('Caseload Reporting'!P315 = \"\",\"\",'Caseload Reporting'!P315)","v":""},{"$f":"IF('Caseload Reporting'!O315 = \"\",\"\",'Caseload Reporting'!O315)","v":""},{"$f":"IF('Caseload Reporting'!Q315 = \"\",\"\",'Caseload Reporting'!Q315)","v":""},{"$f":"IF('Caseload Reporting'!R315 = \"\",\"\",'Caseload Reporting'!R315)","v":""},{"$f":"IF('Caseload Reporting'!E315 = \"\",\"\",'Caseload Reporting'!E315)","v":""},{"$f":"IF('Caseload Reporting'!S315 = \"\",\"\",'Caseload Reporting'!S315)","v":""}]
[{"$f":"IF('Caseload Reporting'!A316 = \"\",\"\",'Caseload Reporting'!A316)","v":""},{"$f":"IF('Caseload Reporting'!B316 = \"\",\"\",'Caseload Reporting'!B316)","v":""},{"$f":"IF('Caseload Reporting'!C316 = \"\",\"\",'Caseload Reporting'!C316)","v":""},{"$f":"IF('Caseload Reporting'!D316 = \"\",\"\",'Caseload Reporting'!D316)","v":""},{"$f":"IF('Caseload Reporting'!G316 = \"\",\"\",'Caseload Reporting'!G316)","v":""},{"$f":"IF('Caseload Reporting'!H316 = \"\",\"\",'Caseload Reporting'!H316)","v":""},{"$f":"IF('Caseload Reporting'!I316 = \"\",\"\",'Caseload Reporting'!I316)","v":""},{"$f":"IF('Caseload Reporting'!J316 = \"\",\"\",'Caseload Reporting'!J316)","v":""},{"$f":"IF('Caseload Reporting'!K316 = \"\",\"\",'Caseload Reporting'!K316)","v":""},{"$f":"IF('Caseload Reporting'!L316 = \"\",\"\",'Caseload Reporting'!L316)","v":""},{"$f":"IF('Caseload Reporting'!M316 = \"\",\"\",'Caseload Reporting'!M316)","v":""},{"$f":"IF('Caseload Reporting'!N316 = \"\",\"\",'Caseload Reporting'!N316)","v":""},{"$f":"IF('Caseload Reporting'!P316 = \"\",\"\",'Caseload Reporting'!P316)","v":""},{"$f":"IF('Caseload Reporting'!O316 = \"\",\"\",'Caseload Reporting'!O316)","v":""},{"$f":"IF('Caseload Reporting'!Q316 = \"\",\"\",'Caseload Reporting'!Q316)","v":""},{"$f":"IF('Caseload Reporting'!R316 = \"\",\"\",'Caseload Reporting'!R316)","v":""},{"$f":"IF('Caseload Reporting'!E316 = \"\",\"\",'Caseload Reporting'!E316)","v":""},{"$f":"IF('Caseload Reporting'!S316 = \"\",\"\",'Caseload Reporting'!S316)","v":""}]
[{"$f":"IF('Caseload Reporting'!A317 = \"\",\"\",'Caseload Reporting'!A317)","v":""},{"$f":"IF('Caseload Reporting'!B317 = \"\",\"\",'Caseload Reporting'!B317)","v":""},{"$f":"IF('Caseload Reporting'!C317 = \"\",\"\",'Caseload Reporting'!C317)","v":""},{"$f":"IF('Caseload Reporting'!D317 = \"\",\"\",'Caseload Reporting'!D317)","v":""},{"$f":"IF('Caseload Reporting'!G317 = \"\",\"\",'Caseload Reporting'!G317)","v":""},{"$f":"IF('Caseload Reporting'!H317 = \"\",\"\",'Caseload Reporting'!H317)","v":""},{"$f":"IF('Caseload Reporting'!I317 = \"\",\"\",'Caseload Reporting'!I317)","v":""},{"$f":"IF('Caseload Reporting'!J317 = \"\",\"\",'Caseload Reporting'!J317)","v":""},{"$f":"IF('Caseload Reporting'!K317 = \"\",\"\",'Caseload Reporting'!K317)","v":""},{"$f":"IF('Caseload Reporting'!L317 = \"\",\"\",'Caseload Reporting'!L317)","v":""},{"$f":"IF('Caseload Reporting'!M317 = \"\",\"\",'Caseload Reporting'!M317)","v":""},{"$f":"IF('Caseload Reporting'!N317 = \"\",\"\",'Caseload Reporting'!N317)","v":""},{"$f":"IF('Caseload Reporting'!P317 = \"\",\"\",'Caseload Reporting'!P317)","v":""},{"$f":"IF('Caseload Reporting'!O317 = \"\",\"\",'Caseload Reporting'!O317)","v":""},{"$f":"IF('Caseload Reporting'!Q317 = \"\",\"\",'Caseload Reporting'!Q317)","v":""},{"$f":"IF('Caseload Reporting'!R317 = \"\",\"\",'Caseload Reporting'!R317)","v":""},{"$f":"IF('Caseload Reporting'!E317 = \"\",\"\",'Caseload Reporting'!E317)","v":""},{"$f":"IF('Caseload Reporting'!S317 = \"\",\"\",'Caseload Reporting'!S317)","v":""}]
[{"$f":"IF('Caseload Reporting'!A318 = \"\",\"\",'Caseload Reporting'!A318)","v":""},{"$f":"IF('Caseload Reporting'!B318 = \"\",\"\",'Caseload Reporting'!B318)","v":""},{"$f":"IF('Caseload Reporting'!C318 = \"\",\"\",'Caseload Reporting'!C318)","v":""},{"$f":"IF('Caseload Reporting'!D318 = \"\",\"\",'Caseload Reporting'!D318)","v":""},{"$f":"IF('Caseload Reporting'!G318 = \"\",\"\",'Caseload Reporting'!G318)","v":""},{"$f":"IF('Caseload Reporting'!H318 = \"\",\"\",'Caseload Reporting'!H318)","v":""},{"$f":"IF('Caseload Reporting'!I318 = \"\",\"\",'Caseload Reporting'!I318)","v":""},{"$f":"IF('Caseload Reporting'!J318 = \"\",\"\",'Caseload Reporting'!J318)","v":""},{"$f":"IF('Caseload Reporting'!K318 = \"\",\"\",'Caseload Reporting'!K318)","v":""},{"$f":"IF('Caseload Reporting'!L318 = \"\",\"\",'Caseload Reporting'!L318)","v":""},{"$f":"IF('Caseload Reporting'!M318 = \"\",\"\",'Caseload Reporting'!M318)","v":""},{"$f":"IF('Caseload Reporting'!N318 = \"\",\"\",'Caseload Reporting'!N318)","v":""},{"$f":"IF('Caseload Reporting'!P318 = \"\",\"\",'Caseload Reporting'!P318)","v":""},{"$f":"IF('Caseload Reporting'!O318 = \"\",\"\",'Caseload Reporting'!O318)","v":""},{"$f":"IF('Caseload Reporting'!Q318 = \"\",\"\",'Caseload Reporting'!Q318)","v":""},{"$f":"IF('Caseload Reporting'!R318 = \"\",\"\",'Caseload Reporting'!R318)","v":""},{"$f":"IF('Caseload Reporting'!E318 = \"\",\"\",'Caseload Reporting'!E318)","v":""},{"$f":"IF('Caseload Reporting'!S318 = \"\",\"\",'Caseload Reporting'!S318)","v":""}]
[{"$f":"IF('Caseload Reporting'!A319 = \"\",\"\",'Caseload Reporting'!A319)","v":""},{"$f":"IF('Caseload Reporting'!B319 = \"\",\"\",'Caseload Reporting'!B319)","v":""},{"$f":"IF('Caseload Reporting'!C319 = \"\",\"\",'Caseload Reporting'!C319)","v":""},{"$f":"IF('Caseload Reporting'!D319 = \"\",\"\",'Caseload Reporting'!D319)","v":""},{"$f":"IF('Caseload Reporting'!G319 = \"\",\"\",'Caseload Reporting'!G319)","v":""},{"$f":"IF('Caseload Reporting'!H319 = \"\",\"\",'Caseload Reporting'!H319)","v":""},{"$f":"IF('Caseload Reporting'!I319 = \"\",\"\",'Caseload Reporting'!I319)","v":""},{"$f":"IF('Caseload Reporting'!J319 = \"\",\"\",'Caseload Reporting'!J319)","v":""},{"$f":"IF('Caseload Reporting'!K319 = \"\",\"\",'Caseload Reporting'!K319)","v":""},{"$f":"IF('Caseload Reporting'!L319 = \"\",\"\",'Caseload Reporting'!L319)","v":""},{"$f":"IF('Caseload Reporting'!M319 = \"\",\"\",'Caseload Reporting'!M319)","v":""},{"$f":"IF('Caseload Reporting'!N319 = \"\",\"\",'Caseload Reporting'!N319)","v":""},{"$f":"IF('Caseload Reporting'!P319 = \"\",\"\",'Caseload Reporting'!P319)","v":""},{"$f":"IF('Caseload Reporting'!O319 = \"\",\"\",'Caseload Reporting'!O319)","v":""},{"$f":"IF('Caseload Reporting'!Q319 = \"\",\"\",'Caseload Reporting'!Q319)","v":""},{"$f":"IF('Caseload Reporting'!R319 = \"\",\"\",'Caseload Reporting'!R319)","v":""},{"$f":"IF('Caseload Reporting'!E319 = \"\",\"\",'Caseload Reporting'!E319)","v":""},{"$f":"IF('Caseload Reporting'!S319 = \"\",\"\",'Caseload Reporting'!S319)","v":""}]
[{"$f":"IF('Caseload Reporting'!A320 = \"\",\"\",'Caseload Reporting'!A320)","v":""},{"$f":"IF('Caseload Reporting'!B320 = \"\",\"\",'Caseload Reporting'!B320)","v":""},{"$f":"IF('Caseload Reporting'!C320 = \"\",\"\",'Caseload Reporting'!C320)","v":""},{"$f":"IF('Caseload Reporting'!D320 = \"\",\"\",'Caseload Reporting'!D320)","v":""},{"$f":"IF('Caseload Reporting'!G320 = \"\",\"\",'Caseload Reporting'!G320)","v":""},{"$f":"IF('Caseload Reporting'!H320 = \"\",\"\",'Caseload Reporting'!H320)","v":""},{"$f":"IF('Caseload Reporting'!I320 = \"\",\"\",'Caseload Reporting'!I320)","v":""},{"$f":"IF('Caseload Reporting'!J320 = \"\",\"\",'Caseload Reporting'!J320)","v":""},{"$f":"IF('Caseload Reporting'!K320 = \"\",\"\",'Caseload Reporting'!K320)","v":""},{"$f":"IF('Caseload Reporting'!L320 = \"\",\"\",'Caseload Reporting'!L320)","v":""},{"$f":"IF('Caseload Reporting'!M320 = \"\",\"\",'Caseload Reporting'!M320)","v":""},{"$f":"IF('Caseload Reporting'!N320 = \"\",\"\",'Caseload Reporting'!N320)","v":""},{"$f":"IF('Caseload Reporting'!P320 = \"\",\"\",'Caseload Reporting'!P320)","v":""},{"$f":"IF('Caseload Reporting'!O320 = \"\",\"\",'Caseload Reporting'!O320)","v":""},{"$f":"IF('Caseload Reporting'!Q320 = \"\",\"\",'Caseload Reporting'!Q320)","v":""},{"$f":"IF('Caseload Reporting'!R320 = \"\",\"\",'Caseload Reporting'!R320)","v":""},{"$f":"IF('Caseload Reporting'!E320 = \"\",\"\",'Caseload Reporting'!E320)","v":""},{"$f":"IF('Caseload Reporting'!S320 = \"\",\"\",'Caseload Reporting'!S320)","v":""}]
[{"$f":"IF('Caseload Reporting'!A321 = \"\",\"\",'Caseload Reporting'!A321)","v":""},{"$f":"IF('Caseload Reporting'!B321 = \"\",\"\",'Caseload Reporting'!B321)","v":""},{"$f":"IF('Caseload Reporting'!C321 = \"\",\"\",'Caseload Reporting'!C321)","v":""},{"$f":"IF('Caseload Reporting'!D321 = \"\",\"\",'Caseload Reporting'!D321)","v":""},{"$f":"IF('Caseload Reporting'!G321 = \"\",\"\",'Caseload Reporting'!G321)","v":""},{"$f":"IF('Caseload Reporting'!H321 = \"\",\"\",'Caseload Reporting'!H321)","v":""},{"$f":"IF('Caseload Reporting'!I321 = \"\",\"\",'Caseload Reporting'!I321)","v":""},{"$f":"IF('Caseload Reporting'!J321 = \"\",\"\",'Caseload Reporting'!J321)","v":""},{"$f":"IF('Caseload Reporting'!K321 = \"\",\"\",'Caseload Reporting'!K321)","v":""},{"$f":"IF('Caseload Reporting'!L321 = \"\",\"\",'Caseload Reporting'!L321)","v":""},{"$f":"IF('Caseload Reporting'!M321 = \"\",\"\",'Caseload Reporting'!M321)","v":""},{"$f":"IF('Caseload Reporting'!N321 = \"\",\"\",'Caseload Reporting'!N321)","v":""},{"$f":"IF('Caseload Reporting'!P321 = \"\",\"\",'Caseload Reporting'!P321)","v":""},{"$f":"IF('Caseload Reporting'!O321 = \"\",\"\",'Caseload Reporting'!O321)","v":""},{"$f":"IF('Caseload Reporting'!Q321 = \"\",\"\",'Caseload Reporting'!Q321)","v":""},{"$f":"IF('Caseload Reporting'!R321 = \"\",\"\",'Caseload Reporting'!R321)","v":""},{"$f":"IF('Caseload Reporting'!E321 = \"\",\"\",'Caseload Reporting'!E321)","v":""},{"$f":"IF('Caseload Reporting'!S321 = \"\",\"\",'Caseload Reporting'!S321)","v":""}]
[{"$f":"IF('Caseload Reporting'!A322 = \"\",\"\",'Caseload Reporting'!A322)","v":""},{"$f":"IF('Caseload Reporting'!B322 = \"\",\"\",'Caseload Reporting'!B322)","v":""},{"$f":"IF('Caseload Reporting'!C322 = \"\",\"\",'Caseload Reporting'!C322)","v":""},{"$f":"IF('Caseload Reporting'!D322 = \"\",\"\",'Caseload Reporting'!D322)","v":""},{"$f":"IF('Caseload Reporting'!G322 = \"\",\"\",'Caseload Reporting'!G322)","v":""},{"$f":"IF('Caseload Reporting'!H322 = \"\",\"\",'Caseload Reporting'!H322)","v":""},{"$f":"IF('Caseload Reporting'!I322 = \"\",\"\",'Caseload Reporting'!I322)","v":""},{"$f":"IF('Caseload Reporting'!J322 = \"\",\"\",'Caseload Reporting'!J322)","v":""},{"$f":"IF('Caseload Reporting'!K322 = \"\",\"\",'Caseload Reporting'!K322)","v":""},{"$f":"IF('Caseload Reporting'!L322 = \"\",\"\",'Caseload Reporting'!L322)","v":""},{"$f":"IF('Caseload Reporting'!M322 = \"\",\"\",'Caseload Reporting'!M322)","v":""},{"$f":"IF('Caseload Reporting'!N322 = \"\",\"\",'Caseload Reporting'!N322)","v":""},{"$f":"IF('Caseload Reporting'!P322 = \"\",\"\",'Caseload Reporting'!P322)","v":""},{"$f":"IF('Caseload Reporting'!O322 = \"\",\"\",'Caseload Reporting'!O322)","v":""},{"$f":"IF('Caseload Reporting'!Q322 = \"\",\"\",'Caseload Reporting'!Q322)","v":""},{"$f":"IF('Caseload Reporting'!R322 = \"\",\"\",'Caseload Reporting'!R322)","v":""},{"$f":"IF('Caseload Reporting'!E322 = \"\",\"\",'Caseload Reporting'!E322)","v":""},{"$f":"IF('Caseload Reporting'!S322 = \"\",\"\",'Caseload Reporting'!S322)","v":""}]
[{"$f":"IF('Caseload Reporting'!A323 = \"\",\"\",'Caseload Reporting'!A323)","v":""},{"$f":"IF('Caseload Reporting'!B323 = \"\",\"\",'Caseload Reporting'!B323)","v":""},{"$f":"IF('Caseload Reporting'!C323 = \"\",\"\",'Caseload Reporting'!C323)","v":""},{"$f":"IF('Caseload Reporting'!D323 = \"\",\"\",'Caseload Reporting'!D323)","v":""},{"$f":"IF('Caseload Reporting'!G323 = \"\",\"\",'Caseload Reporting'!G323)","v":""},{"$f":"IF('Caseload Reporting'!H323 = \"\",\"\",'Caseload Reporting'!H323)","v":""},{"$f":"IF('Caseload Reporting'!I323 = \"\",\"\",'Caseload Reporting'!I323)","v":""},{"$f":"IF('Caseload Reporting'!J323 = \"\",\"\",'Caseload Reporting'!J323)","v":""},{"$f":"IF('Caseload Reporting'!K323 = \"\",\"\",'Caseload Reporting'!K323)","v":""},{"$f":"IF('Caseload Reporting'!L323 = \"\",\"\",'Caseload Reporting'!L323)","v":""},{"$f":"IF('Caseload Reporting'!M323 = \"\",\"\",'Caseload Reporting'!M323)","v":""},{"$f":"IF('Caseload Reporting'!N323 = \"\",\"\",'Caseload Reporting'!N323)","v":""},{"$f":"IF('Caseload Reporting'!P323 = \"\",\"\",'Caseload Reporting'!P323)","v":""},{"$f":"IF('Caseload Reporting'!O323 = \"\",\"\",'Caseload Reporting'!O323)","v":""},{"$f":"IF('Caseload Reporting'!Q323 = \"\",\"\",'Caseload Reporting'!Q323)","v":""},{"$f":"IF('Caseload Reporting'!R323 = \"\",\"\",'Caseload Reporting'!R323)","v":""},{"$f":"IF('Caseload Reporting'!E323 = \"\",\"\",'Caseload Reporting'!E323)","v":""},{"$f":"IF('Caseload Reporting'!S323 = \"\",\"\",'Caseload Reporting'!S323)","v":""}]
[{"$f":"IF('Caseload Reporting'!A324 = \"\",\"\",'Caseload Reporting'!A324)","v":""},{"$f":"IF('Caseload Reporting'!B324 = \"\",\"\",'Caseload Reporting'!B324)","v":""},{"$f":"IF('Caseload Reporting'!C324 = \"\",\"\",'Caseload Reporting'!C324)","v":""},{"$f":"IF('Caseload Reporting'!D324 = \"\",\"\",'Caseload Reporting'!D324)","v":""},{"$f":"IF('Caseload Reporting'!G324 = \"\",\"\",'Caseload Reporting'!G324)","v":""},{"$f":"IF('Caseload Reporting'!H324 = \"\",\"\",'Caseload Reporting'!H324)","v":""},{"$f":"IF('Caseload Reporting'!I324 = \"\",\"\",'Caseload Reporting'!I324)","v":""},{"$f":"IF('Caseload Reporting'!J324 = \"\",\"\",'Caseload Reporting'!J324)","v":""},{"$f":"IF('Caseload Reporting'!K324 = \"\",\"\",'Caseload Reporting'!K324)","v":""},{"$f":"IF('Caseload Reporting'!L324 = \"\",\"\",'Caseload Reporting'!L324)","v":""},{"$f":"IF('Caseload Reporting'!M324 = \"\",\"\",'Caseload Reporting'!M324)","v":""},{"$f":"IF('Caseload Reporting'!N324 = \"\",\"\",'Caseload Reporting'!N324)","v":""},{"$f":"IF('Caseload Reporting'!P324 = \"\",\"\",'Caseload Reporting'!P324)","v":""},{"$f":"IF('Caseload Reporting'!O324 = \"\",\"\",'Caseload Reporting'!O324)","v":""},{"$f":"IF('Caseload Reporting'!Q324 = \"\",\"\",'Caseload Reporting'!Q324)","v":""},{"$f":"IF('Caseload Reporting'!R324 = \"\",\"\",'Caseload Reporting'!R324)","v":""},{"$f":"IF('Caseload Reporting'!E324 = \"\",\"\",'Caseload Reporting'!E324)","v":""},{"$f":"IF('Caseload Reporting'!S324 = \"\",\"\",'Caseload Reporting'!S324)","v":""}]
[{"$f":"IF('Caseload Reporting'!A325 = \"\",\"\",'Caseload Reporting'!A325)","v":""},{"$f":"IF('Caseload Reporting'!B325 = \"\",\"\",'Caseload Reporting'!B325)","v":""},{"$f":"IF('Caseload Reporting'!C325 = \"\",\"\",'Caseload Reporting'!C325)","v":""},{"$f":"IF('Caseload Reporting'!D325 = \"\",\"\",'Caseload Reporting'!D325)","v":""},{"$f":"IF('Caseload Reporting'!G325 = \"\",\"\",'Caseload Reporting'!G325)","v":""},{"$f":"IF('Caseload Reporting'!H325 = \"\",\"\",'Caseload Reporting'!H325)","v":""},{"$f":"IF('Caseload Reporting'!I325 = \"\",\"\",'Caseload Reporting'!I325)","v":""},{"$f":"IF('Caseload Reporting'!J325 = \"\",\"\",'Caseload Reporting'!J325)","v":""},{"$f":"IF('Caseload Reporting'!K325 = \"\",\"\",'Caseload Reporting'!K325)","v":""},{"$f":"IF('Caseload Reporting'!L325 = \"\",\"\",'Caseload Reporting'!L325)","v":""},{"$f":"IF('Caseload Reporting'!M325 = \"\",\"\",'Caseload Reporting'!M325)","v":""},{"$f":"IF('Caseload Reporting'!N325 = \"\",\"\",'Caseload Reporting'!N325)","v":""},{"$f":"IF('Caseload Reporting'!P325 = \"\",\"\",'Caseload Reporting'!P325)","v":""},{"$f":"IF('Caseload Reporting'!O325 = \"\",\"\",'Caseload Reporting'!O325)","v":""},{"$f":"IF('Caseload Reporting'!Q325 = \"\",\"\",'Caseload Reporting'!Q325)","v":""},{"$f":"IF('Caseload Reporting'!R325 = \"\",\"\",'Caseload Reporting'!R325)","v":""},{"$f":"IF('Caseload Reporting'!E325 = \"\",\"\",'Caseload Reporting'!E325)","v":""},{"$f":"IF('Caseload Reporting'!S325 = \"\",\"\",'Caseload Reporting'!S325)","v":""}]
[{"$f":"IF('Caseload Reporting'!A326 = \"\",\"\",'Caseload Reporting'!A326)","v":""},{"$f":"IF('Caseload Reporting'!B326 = \"\",\"\",'Caseload Reporting'!B326)","v":""},{"$f":"IF('Caseload Reporting'!C326 = \"\",\"\",'Caseload Reporting'!C326)","v":""},{"$f":"IF('Caseload Reporting'!D326 = \"\",\"\",'Caseload Reporting'!D326)","v":""},{"$f":"IF('Caseload Reporting'!G326 = \"\",\"\",'Caseload Reporting'!G326)","v":""},{"$f":"IF('Caseload Reporting'!H326 = \"\",\"\",'Caseload Reporting'!H326)","v":""},{"$f":"IF('Caseload Reporting'!I326 = \"\",\"\",'Caseload Reporting'!I326)","v":""},{"$f":"IF('Caseload Reporting'!J326 = \"\",\"\",'Caseload Reporting'!J326)","v":""},{"$f":"IF('Caseload Reporting'!K326 = \"\",\"\",'Caseload Reporting'!K326)","v":""},{"$f":"IF('Caseload Reporting'!L326 = \"\",\"\",'Caseload Reporting'!L326)","v":""},{"$f":"IF('Caseload Reporting'!M326 = \"\",\"\",'Caseload Reporting'!M326)","v":""},{"$f":"IF('Caseload Reporting'!N326 = \"\",\"\",'Caseload Reporting'!N326)","v":""},{"$f":"IF('Caseload Reporting'!P326 = \"\",\"\",'Caseload Reporting'!P326)","v":""},{"$f":"IF('Caseload Reporting'!O326 = \"\",\"\",'Caseload Reporting'!O326)","v":""},{"$f":"IF('Caseload Reporting'!Q326 = \"\",\"\",'Caseload Reporting'!Q326)","v":""},{"$f":"IF('Caseload Reporting'!R326 = \"\",\"\",'Caseload Reporting'!R326)","v":""},{"$f":"IF('Caseload Reporting'!E326 = \"\",\"\",'Caseload Reporting'!E326)","v":""},{"$f":"IF('Caseload Reporting'!S326 = \"\",\"\",'Caseload Reporting'!S326)","v":""}]
[{"$f":"IF('Caseload Reporting'!A327 = \"\",\"\",'Caseload Reporting'!A327)","v":""},{"$f":"IF('Caseload Reporting'!B327 = \"\",\"\",'Caseload Reporting'!B327)","v":""},{"$f":"IF('Caseload Reporting'!C327 = \"\",\"\",'Caseload Reporting'!C327)","v":""},{"$f":"IF('Caseload Reporting'!D327 = \"\",\"\",'Caseload Reporting'!D327)","v":""},{"$f":"IF('Caseload Reporting'!G327 = \"\",\"\",'Caseload Reporting'!G327)","v":""},{"$f":"IF('Caseload Reporting'!H327 = \"\",\"\",'Caseload Reporting'!H327)","v":""},{"$f":"IF('Caseload Reporting'!I327 = \"\",\"\",'Caseload Reporting'!I327)","v":""},{"$f":"IF('Caseload Reporting'!J327 = \"\",\"\",'Caseload Reporting'!J327)","v":""},{"$f":"IF('Caseload Reporting'!K327 = \"\",\"\",'Caseload Reporting'!K327)","v":""},{"$f":"IF('Caseload Reporting'!L327 = \"\",\"\",'Caseload Reporting'!L327)","v":""},{"$f":"IF('Caseload Reporting'!M327 = \"\",\"\",'Caseload Reporting'!M327)","v":""},{"$f":"IF('Caseload Reporting'!N327 = \"\",\"\",'Caseload Reporting'!N327)","v":""},{"$f":"IF('Caseload Reporting'!P327 = \"\",\"\",'Caseload Reporting'!P327)","v":""},{"$f":"IF('Caseload Reporting'!O327 = \"\",\"\",'Caseload Reporting'!O327)","v":""},{"$f":"IF('Caseload Reporting'!Q327 = \"\",\"\",'Caseload Reporting'!Q327)","v":""},{"$f":"IF('Caseload Reporting'!R327 = \"\",\"\",'Caseload Reporting'!R327)","v":""},{"$f":"IF('Caseload Reporting'!E327 = \"\",\"\",'Caseload Reporting'!E327)","v":""},{"$f":"IF('Caseload Reporting'!S327 = \"\",\"\",'Caseload Reporting'!S327)","v":""}]
[{"$f":"IF('Caseload Reporting'!A328 = \"\",\"\",'Caseload Reporting'!A328)","v":""},{"$f":"IF('Caseload Reporting'!B328 = \"\",\"\",'Caseload Reporting'!B328)","v":""},{"$f":"IF('Caseload Reporting'!C328 = \"\",\"\",'Caseload Reporting'!C328)","v":""},{"$f":"IF('Caseload Reporting'!D328 = \"\",\"\",'Caseload Reporting'!D328)","v":""},{"$f":"IF('Caseload Reporting'!G328 = \"\",\"\",'Caseload Reporting'!G328)","v":""},{"$f":"IF('Caseload Reporting'!H328 = \"\",\"\",'Caseload Reporting'!H328)","v":""},{"$f":"IF('Caseload Reporting'!I328 = \"\",\"\",'Caseload Reporting'!I328)","v":""},{"$f":"IF('Caseload Reporting'!J328 = \"\",\"\",'Caseload Reporting'!J328)","v":""},{"$f":"IF('Caseload Reporting'!K328 = \"\",\"\",'Caseload Reporting'!K328)","v":""},{"$f":"IF('Caseload Reporting'!L328 = \"\",\"\",'Caseload Reporting'!L328)","v":""},{"$f":"IF('Caseload Reporting'!M328 = \"\",\"\",'Caseload Reporting'!M328)","v":""},{"$f":"IF('Caseload Reporting'!N328 = \"\",\"\",'Caseload Reporting'!N328)","v":""},{"$f":"IF('Caseload Reporting'!P328 = \"\",\"\",'Caseload Reporting'!P328)","v":""},{"$f":"IF('Caseload Reporting'!O328 = \"\",\"\",'Caseload Reporting'!O328)","v":""},{"$f":"IF('Caseload Reporting'!Q328 = \"\",\"\",'Caseload Reporting'!Q328)","v":""},{"$f":"IF('Caseload Reporting'!R328 = \"\",\"\",'Caseload Reporting'!R328)","v":""},{"$f":"IF('Caseload Reporting'!E328 = \"\",\"\",'Caseload Reporting'!E328)","v":""},{"$f":"IF('Caseload Reporting'!S328 = \"\",\"\",'Caseload Reporting'!S328)","v":""}]
[{"$f":"IF('Caseload Reporting'!A329 = \"\",\"\",'Caseload Reporting'!A329)","v":""},{"$f":"IF('Caseload Reporting'!B329 = \"\",\"\",'Caseload Reporting'!B329)","v":""},{"$f":"IF('Caseload Reporting'!C329 = \"\",\"\",'Caseload Reporting'!C329)","v":""},{"$f":"IF('Caseload Reporting'!D329 = \"\",\"\",'Caseload Reporting'!D329)","v":""},{"$f":"IF('Caseload Reporting'!G329 = \"\",\"\",'Caseload Reporting'!G329)","v":""},{"$f":"IF('Caseload Reporting'!H329 = \"\",\"\",'Caseload Reporting'!H329)","v":""},{"$f":"IF('Caseload Reporting'!I329 = \"\",\"\",'Caseload Reporting'!I329)","v":""},{"$f":"IF('Caseload Reporting'!J329 = \"\",\"\",'Caseload Reporting'!J329)","v":""},{"$f":"IF('Caseload Reporting'!K329 = \"\",\"\",'Caseload Reporting'!K329)","v":""},{"$f":"IF('Caseload Reporting'!L329 = \"\",\"\",'Caseload Reporting'!L329)","v":""},{"$f":"IF('Caseload Reporting'!M329 = \"\",\"\",'Caseload Reporting'!M329)","v":""},{"$f":"IF('Caseload Reporting'!N329 = \"\",\"\",'Caseload Reporting'!N329)","v":""},{"$f":"IF('Caseload Reporting'!P329 = \"\",\"\",'Caseload Reporting'!P329)","v":""},{"$f":"IF('Caseload Reporting'!O329 = \"\",\"\",'Caseload Reporting'!O329)","v":""},{"$f":"IF('Caseload Reporting'!Q329 = \"\",\"\",'Caseload Reporting'!Q329)","v":""},{"$f":"IF('Caseload Reporting'!R329 = \"\",\"\",'Caseload Reporting'!R329)","v":""},{"$f":"IF('Caseload Reporting'!E329 = \"\",\"\",'Caseload Reporting'!E329)","v":""},{"$f":"IF('Caseload Reporting'!S329 = \"\",\"\",'Caseload Reporting'!S329)","v":""}]
[{"$f":"IF('Caseload Reporting'!A330 = \"\",\"\",'Caseload Reporting'!A330)","v":""},{"$f":"IF('Caseload Reporting'!B330 = \"\",\"\",'Caseload Reporting'!B330)","v":""},{"$f":"IF('Caseload Reporting'!C330 = \"\",\"\",'Caseload Reporting'!C330)","v":""},{"$f":"IF('Caseload Reporting'!D330 = \"\",\"\",'Caseload Reporting'!D330)","v":""},{"$f":"IF('Caseload Reporting'!G330 = \"\",\"\",'Caseload Reporting'!G330)","v":""},{"$f":"IF('Caseload Reporting'!H330 = \"\",\"\",'Caseload Reporting'!H330)","v":""},{"$f":"IF('Caseload Reporting'!I330 = \"\",\"\",'Caseload Reporting'!I330)","v":""},{"$f":"IF('Caseload Reporting'!J330 = \"\",\"\",'Caseload Reporting'!J330)","v":""},{"$f":"IF('Caseload Reporting'!K330 = \"\",\"\",'Caseload Reporting'!K330)","v":""},{"$f":"IF('Caseload Reporting'!L330 = \"\",\"\",'Caseload Reporting'!L330)","v":""},{"$f":"IF('Caseload Reporting'!M330 = \"\",\"\",'Caseload Reporting'!M330)","v":""},{"$f":"IF('Caseload Reporting'!N330 = \"\",\"\",'Caseload Reporting'!N330)","v":""},{"$f":"IF('Caseload Reporting'!P330 = \"\",\"\",'Caseload Reporting'!P330)","v":""},{"$f":"IF('Caseload Reporting'!O330 = \"\",\"\",'Caseload Reporting'!O330)","v":""},{"$f":"IF('Caseload Reporting'!Q330 = \"\",\"\",'Caseload Reporting'!Q330)","v":""},{"$f":"IF('Caseload Reporting'!R330 = \"\",\"\",'Caseload Reporting'!R330)","v":""},{"$f":"IF('Caseload Reporting'!E330 = \"\",\"\",'Caseload Reporting'!E330)","v":""},{"$f":"IF('Caseload Reporting'!S330 = \"\",\"\",'Caseload Reporting'!S330)","v":""}]
[{"$f":"IF('Caseload Reporting'!A331 = \"\",\"\",'Caseload Reporting'!A331)","v":""},{"$f":"IF('Caseload Reporting'!B331 = \"\",\"\",'Caseload Reporting'!B331)","v":""},{"$f":"IF('Caseload Reporting'!C331 = \"\",\"\",'Caseload Reporting'!C331)","v":""},{"$f":"IF('Caseload Reporting'!D331 = \"\",\"\",'Caseload Reporting'!D331)","v":""},{"$f":"IF('Caseload Reporting'!G331 = \"\",\"\",'Caseload Reporting'!G331)","v":""},{"$f":"IF('Caseload Reporting'!H331 = \"\",\"\",'Caseload Reporting'!H331)","v":""},{"$f":"IF('Caseload Reporting'!I331 = \"\",\"\",'Caseload Reporting'!I331)","v":""},{"$f":"IF('Caseload Reporting'!J331 = \"\",\"\",'Caseload Reporting'!J331)","v":""},{"$f":"IF('Caseload Reporting'!K331 = \"\",\"\",'Caseload Reporting'!K331)","v":""},{"$f":"IF('Caseload Reporting'!L331 = \"\",\"\",'Caseload Reporting'!L331)","v":""},{"$f":"IF('Caseload Reporting'!M331 = \"\",\"\",'Caseload Reporting'!M331)","v":""},{"$f":"IF('Caseload Reporting'!N331 = \"\",\"\",'Caseload Reporting'!N331)","v":""},{"$f":"IF('Caseload Reporting'!P331 = \"\",\"\",'Caseload Reporting'!P331)","v":""},{"$f":"IF('Caseload Reporting'!O331 = \"\",\"\",'Caseload Reporting'!O331)","v":""},{"$f":"IF('Caseload Reporting'!Q331 = \"\",\"\",'Caseload Reporting'!Q331)","v":""},{"$f":"IF('Caseload Reporting'!R331 = \"\",\"\",'Caseload Reporting'!R331)","v":""},{"$f":"IF('Caseload Reporting'!E331 = \"\",\"\",'Caseload Reporting'!E331)","v":""},{"$f":"IF('Caseload Reporting'!S331 = \"\",\"\",'Caseload Reporting'!S331)","v":""}]
[{"$f":"IF('Caseload Reporting'!A332 = \"\",\"\",'Caseload Reporting'!A332)","v":""},{"$f":"IF('Caseload Reporting'!B332 = \"\",\"\",'Caseload Reporting'!B332)","v":""},{"$f":"IF('Caseload Reporting'!C332 = \"\",\"\",'Caseload Reporting'!C332)","v":""},{"$f":"IF('Caseload Reporting'!D332 = \"\",\"\",'Caseload Reporting'!D332)","v":""},{"$f":"IF('Caseload Reporting'!G332 = \"\",\"\",'Caseload Reporting'!G332)","v":""},{"$f":"IF('Caseload Reporting'!H332 = \"\",\"\",'Caseload Reporting'!H332)","v":""},{"$f":"IF('Caseload Reporting'!I332 = \"\",\"\",'Caseload Reporting'!I332)","v":""},{"$f":"IF('Caseload Reporting'!J332 = \"\",\"\",'Caseload Reporting'!J332)","v":""},{"$f":"IF('Caseload Reporting'!K332 = \"\",\"\",'Caseload Reporting'!K332)","v":""},{"$f":"IF('Caseload Reporting'!L332 = \"\",\"\",'Caseload Reporting'!L332)","v":""},{"$f":"IF('Caseload Reporting'!M332 = \"\",\"\",'Caseload Reporting'!M332)","v":""},{"$f":"IF('Caseload Reporting'!N332 = \"\",\"\",'Caseload Reporting'!N332)","v":""},{"$f":"IF('Caseload Reporting'!P332 = \"\",\"\",'Caseload Reporting'!P332)","v":""},{"$f":"IF('Caseload Reporting'!O332 = \"\",\"\",'Caseload Reporting'!O332)","v":""},{"$f":"IF('Caseload Reporting'!Q332 = \"\",\"\",'Caseload Reporting'!Q332)","v":""},{"$f":"IF('Caseload Reporting'!R332 = \"\",\"\",'Caseload Reporting'!R332)","v":""},{"$f":"IF('Caseload Reporting'!E332 = \"\",\"\",'Caseload Reporting'!E332)","v":""},{"$f":"IF('Caseload Reporting'!S332 = \"\",\"\",'Caseload Reporting'!S332)","v":""}]
[{"$f":"IF('Caseload Reporting'!A333 = \"\",\"\",'Caseload Reporting'!A333)","v":""},{"$f":"IF('Caseload Reporting'!B333 = \"\",\"\",'Caseload Reporting'!B333)","v":""},{"$f":"IF('Caseload Reporting'!C333 = \"\",\"\",'Caseload Reporting'!C333)","v":""},{"$f":"IF('Caseload Reporting'!D333 = \"\",\"\",'Caseload Reporting'!D333)","v":""},{"$f":"IF('Caseload Reporting'!G333 = \"\",\"\",'Caseload Reporting'!G333)","v":""},{"$f":"IF('Caseload Reporting'!H333 = \"\",\"\",'Caseload Reporting'!H333)","v":""},{"$f":"IF('Caseload Reporting'!I333 = \"\",\"\",'Caseload Reporting'!I333)","v":""},{"$f":"IF('Caseload Reporting'!J333 = \"\",\"\",'Caseload Reporting'!J333)","v":""},{"$f":"IF('Caseload Reporting'!K333 = \"\",\"\",'Caseload Reporting'!K333)","v":""},{"$f":"IF('Caseload Reporting'!L333 = \"\",\"\",'Caseload Reporting'!L333)","v":""},{"$f":"IF('Caseload Reporting'!M333 = \"\",\"\",'Caseload Reporting'!M333)","v":""},{"$f":"IF('Caseload Reporting'!N333 = \"\",\"\",'Caseload Reporting'!N333)","v":""},{"$f":"IF('Caseload Reporting'!P333 = \"\",\"\",'Caseload Reporting'!P333)","v":""},{"$f":"IF('Caseload Reporting'!O333 = \"\",\"\",'Caseload Reporting'!O333)","v":""},{"$f":"IF('Caseload Reporting'!Q333 = \"\",\"\",'Caseload Reporting'!Q333)","v":""},{"$f":"IF('Caseload Reporting'!R333 = \"\",\"\",'Caseload Reporting'!R333)","v":""},{"$f":"IF('Caseload Reporting'!E333 = \"\",\"\",'Caseload Reporting'!E333)","v":""},{"$f":"IF('Caseload Reporting'!S333 = \"\",\"\",'Caseload Reporting'!S333)","v":""}]
[{"$f":"IF('Caseload Reporting'!A334 = \"\",\"\",'Caseload Reporting'!A334)","v":""},{"$f":"IF('Caseload Reporting'!B334 = \"\",\"\",'Caseload Reporting'!B334)","v":""},{"$f":"IF('Caseload Reporting'!C334 = \"\",\"\",'Caseload Reporting'!C334)","v":""},{"$f":"IF('Caseload Reporting'!D334 = \"\",\"\",'Caseload Reporting'!D334)","v":""},{"$f":"IF('Caseload Reporting'!G334 = \"\",\"\",'Caseload Reporting'!G334)","v":""},{"$f":"IF('Caseload Reporting'!H334 = \"\",\"\",'Caseload Reporting'!H334)","v":""},{"$f":"IF('Caseload Reporting'!I334 = \"\",\"\",'Caseload Reporting'!I334)","v":""},{"$f":"IF('Caseload Reporting'!J334 = \"\",\"\",'Caseload Reporting'!J334)","v":""},{"$f":"IF('Caseload Reporting'!K334 = \"\",\"\",'Caseload Reporting'!K334)","v":""},{"$f":"IF('Caseload Reporting'!L334 = \"\",\"\",'Caseload Reporting'!L334)","v":""},{"$f":"IF('Caseload Reporting'!M334 = \"\",\"\",'Caseload Reporting'!M334)","v":""},{"$f":"IF('Caseload Reporting'!N334 = \"\",\"\",'Caseload Reporting'!N334)","v":""},{"$f":"IF('Caseload Reporting'!P334 = \"\",\"\",'Caseload Reporting'!P334)","v":""},{"$f":"IF('Caseload Reporting'!O334 = \"\",\"\",'Caseload Reporting'!O334)","v":""},{"$f":"IF('Caseload Reporting'!Q334 = \"\",\"\",'Caseload Reporting'!Q334)","v":""},{"$f":"IF('Caseload Reporting'!R334 = \"\",\"\",'Caseload Reporting'!R334)","v":""},{"$f":"IF('Caseload Reporting'!E334 = \"\",\"\",'Caseload Reporting'!E334)","v":""},{"$f":"IF('Caseload Reporting'!S334 = \"\",\"\",'Caseload Reporting'!S334)","v":""}]
[{"$f":"IF('Caseload Reporting'!A335 = \"\",\"\",'Caseload Reporting'!A335)","v":""},{"$f":"IF('Caseload Reporting'!B335 = \"\",\"\",'Caseload Reporting'!B335)","v":""},{"$f":"IF('Caseload Reporting'!C335 = \"\",\"\",'Caseload Reporting'!C335)","v":""},{"$f":"IF('Caseload Reporting'!D335 = \"\",\"\",'Caseload Reporting'!D335)","v":""},{"$f":"IF('Caseload Reporting'!G335 = \"\",\"\",'Caseload Reporting'!G335)","v":""},{"$f":"IF('Caseload Reporting'!H335 = \"\",\"\",'Caseload Reporting'!H335)","v":""},{"$f":"IF('Caseload Reporting'!I335 = \"\",\"\",'Caseload Reporting'!I335)","v":""},{"$f":"IF('Caseload Reporting'!J335 = \"\",\"\",'Caseload Reporting'!J335)","v":""},{"$f":"IF('Caseload Reporting'!K335 = \"\",\"\",'Caseload Reporting'!K335)","v":""},{"$f":"IF('Caseload Reporting'!L335 = \"\",\"\",'Caseload Reporting'!L335)","v":""},{"$f":"IF('Caseload Reporting'!M335 = \"\",\"\",'Caseload Reporting'!M335)","v":""},{"$f":"IF('Caseload Reporting'!N335 = \"\",\"\",'Caseload Reporting'!N335)","v":""},{"$f":"IF('Caseload Reporting'!P335 = \"\",\"\",'Caseload Reporting'!P335)","v":""},{"$f":"IF('Caseload Reporting'!O335 = \"\",\"\",'Caseload Reporting'!O335)","v":""},{"$f":"IF('Caseload Reporting'!Q335 = \"\",\"\",'Caseload Reporting'!Q335)","v":""},{"$f":"IF('Caseload Reporting'!R335 = \"\",\"\",'Caseload Reporting'!R335)","v":""},{"$f":"IF('Caseload Reporting'!E335 = \"\",\"\",'Caseload Reporting'!E335)","v":""},{"$f":"IF('Caseload Reporting'!S335 = \"\",\"\",'Caseload Reporting'!S335)","v":""}]
[{"$f":"IF('Caseload Reporting'!A336 = \"\",\"\",'Caseload Reporting'!A336)","v":""},{"$f":"IF('Caseload Reporting'!B336 = \"\",\"\",'Caseload Reporting'!B336)","v":""},{"$f":"IF('Caseload Reporting'!C336 = \"\",\"\",'Caseload Reporting'!C336)","v":""},{"$f":"IF('Caseload Reporting'!D336 = \"\",\"\",'Caseload Reporting'!D336)","v":""},{"$f":"IF('Caseload Reporting'!G336 = \"\",\"\",'Caseload Reporting'!G336)","v":""},{"$f":"IF('Caseload Reporting'!H336 = \"\",\"\",'Caseload Reporting'!H336)","v":""},{"$f":"IF('Caseload Reporting'!I336 = \"\",\"\",'Caseload Reporting'!I336)","v":""},{"$f":"IF('Caseload Reporting'!J336 = \"\",\"\",'Caseload Reporting'!J336)","v":""},{"$f":"IF('Caseload Reporting'!K336 = \"\",\"\",'Caseload Reporting'!K336)","v":""},{"$f":"IF('Caseload Reporting'!L336 = \"\",\"\",'Caseload Reporting'!L336)","v":""},{"$f":"IF('Caseload Reporting'!M336 = \"\",\"\",'Caseload Reporting'!M336)","v":""},{"$f":"IF('Caseload Reporting'!N336 = \"\",\"\",'Caseload Reporting'!N336)","v":""},{"$f":"IF('Caseload Reporting'!P336 = \"\",\"\",'Caseload Reporting'!P336)","v":""},{"$f":"IF('Caseload Reporting'!O336 = \"\",\"\",'Caseload Reporting'!O336)","v":""},{"$f":"IF('Caseload Reporting'!Q336 = \"\",\"\",'Caseload Reporting'!Q336)","v":""},{"$f":"IF('Caseload Reporting'!R336 = \"\",\"\",'Caseload Reporting'!R336)","v":""},{"$f":"IF('Caseload Reporting'!E336 = \"\",\"\",'Caseload Reporting'!E336)","v":""},{"$f":"IF('Caseload Reporting'!S336 = \"\",\"\",'Caseload Reporting'!S336)","v":""}]
[{"$f":"IF('Caseload Reporting'!A337 = \"\",\"\",'Caseload Reporting'!A337)","v":""},{"$f":"IF('Caseload Reporting'!B337 = \"\",\"\",'Caseload Reporting'!B337)","v":""},{"$f":"IF('Caseload Reporting'!C337 = \"\",\"\",'Caseload Reporting'!C337)","v":""},{"$f":"IF('Caseload Reporting'!D337 = \"\",\"\",'Caseload Reporting'!D337)","v":""},{"$f":"IF('Caseload Reporting'!G337 = \"\",\"\",'Caseload Reporting'!G337)","v":""},{"$f":"IF('Caseload Reporting'!H337 = \"\",\"\",'Caseload Reporting'!H337)","v":""},{"$f":"IF('Caseload Reporting'!I337 = \"\",\"\",'Caseload Reporting'!I337)","v":""},{"$f":"IF('Caseload Reporting'!J337 = \"\",\"\",'Caseload Reporting'!J337)","v":""},{"$f":"IF('Caseload Reporting'!K337 = \"\",\"\",'Caseload Reporting'!K337)","v":""},{"$f":"IF('Caseload Reporting'!L337 = \"\",\"\",'Caseload Reporting'!L337)","v":""},{"$f":"IF('Caseload Reporting'!M337 = \"\",\"\",'Caseload Reporting'!M337)","v":""},{"$f":"IF('Caseload Reporting'!N337 = \"\",\"\",'Caseload Reporting'!N337)","v":""},{"$f":"IF('Caseload Reporting'!P337 = \"\",\"\",'Caseload Reporting'!P337)","v":""},{"$f":"IF('Caseload Reporting'!O337 = \"\",\"\",'Caseload Reporting'!O337)","v":""},{"$f":"IF('Caseload Reporting'!Q337 = \"\",\"\",'Caseload Reporting'!Q337)","v":""},{"$f":"IF('Caseload Reporting'!R337 = \"\",\"\",'Caseload Reporting'!R337)","v":""},{"$f":"IF('Caseload Reporting'!E337 = \"\",\"\",'Caseload Reporting'!E337)","v":""},{"$f":"IF('Caseload Reporting'!S337 = \"\",\"\",'Caseload Reporting'!S337)","v":""}]
[{"$f":"IF('Caseload Reporting'!A338 = \"\",\"\",'Caseload Reporting'!A338)","v":""},{"$f":"IF('Caseload Reporting'!B338 = \"\",\"\",'Caseload Reporting'!B338)","v":""},{"$f":"IF('Caseload Reporting'!C338 = \"\",\"\",'Caseload Reporting'!C338)","v":""},{"$f":"IF('Caseload Reporting'!D338 = \"\",\"\",'Caseload Reporting'!D338)","v":""},{"$f":"IF('Caseload Reporting'!G338 = \"\",\"\",'Caseload Reporting'!G338)","v":""},{"$f":"IF('Caseload Reporting'!H338 = \"\",\"\",'Caseload Reporting'!H338)","v":""},{"$f":"IF('Caseload Reporting'!I338 = \"\",\"\",'Caseload Reporting'!I338)","v":""},{"$f":"IF('Caseload Reporting'!J338 = \"\",\"\",'Caseload Reporting'!J338)","v":""},{"$f":"IF('Caseload Reporting'!K338 = \"\",\"\",'Caseload Reporting'!K338)","v":""},{"$f":"IF('Caseload Reporting'!L338 = \"\",\"\",'Caseload Reporting'!L338)","v":""},{"$f":"IF('Caseload Reporting'!M338 = \"\",\"\",'Caseload Reporting'!M338)","v":""},{"$f":"IF('Caseload Reporting'!N338 = \"\",\"\",'Caseload Reporting'!N338)","v":""},{"$f":"IF('Caseload Reporting'!P338 = \"\",\"\",'Caseload Reporting'!P338)","v":""},{"$f":"IF('Caseload Reporting'!O338 = \"\",\"\",'Caseload Reporting'!O338)","v":""},{"$f":"IF('Caseload Reporting'!Q338 = \"\",\"\",'Caseload Reporting'!Q338)","v":""},{"$f":"IF('Caseload Reporting'!R338 = \"\",\"\",'Caseload Reporting'!R338)","v":""},{"$f":"IF('Caseload Reporting'!E338 = \"\",\"\",'Caseload Reporting'!E338)","v":""},{"$f":"IF('Caseload Reporting'!S338 = \"\",\"\",'Caseload Reporting'!S338)","v":""}]
[{"$f":"IF('Caseload Reporting'!A339 = \"\",\"\",'Caseload Reporting'!A339)","v":""},{"$f":"IF('Caseload Reporting'!B339 = \"\",\"\",'Caseload Reporting'!B339)","v":""},{"$f":"IF('Caseload Reporting'!C339 = \"\",\"\",'Caseload Reporting'!C339)","v":""},{"$f":"IF('Caseload Reporting'!D339 = \"\",\"\",'Caseload Reporting'!D339)","v":""},{"$f":"IF('Caseload Reporting'!G339 = \"\",\"\",'Caseload Reporting'!G339)","v":""},{"$f":"IF('Caseload Reporting'!H339 = \"\",\"\",'Caseload Reporting'!H339)","v":""},{"$f":"IF('Caseload Reporting'!I339 = \"\",\"\",'Caseload Reporting'!I339)","v":""},{"$f":"IF('Caseload Reporting'!J339 = \"\",\"\",'Caseload Reporting'!J339)","v":""},{"$f":"IF('Caseload Reporting'!K339 = \"\",\"\",'Caseload Reporting'!K339)","v":""},{"$f":"IF('Caseload Reporting'!L339 = \"\",\"\",'Caseload Reporting'!L339)","v":""},{"$f":"IF('Caseload Reporting'!M339 = \"\",\"\",'Caseload Reporting'!M339)","v":""},{"$f":"IF('Caseload Reporting'!N339 = \"\",\"\",'Caseload Reporting'!N339)","v":""},{"$f":"IF('Caseload Reporting'!P339 = \"\",\"\",'Caseload Reporting'!P339)","v":""},{"$f":"IF('Caseload Reporting'!O339 = \"\",\"\",'Caseload Reporting'!O339)","v":""},{"$f":"IF('Caseload Reporting'!Q339 = \"\",\"\",'Caseload Reporting'!Q339)","v":""},{"$f":"IF('Caseload Reporting'!R339 = \"\",\"\",'Caseload Reporting'!R339)","v":""},{"$f":"IF('Caseload Reporting'!E339 = \"\",\"\",'Caseload Reporting'!E339)","v":""},{"$f":"IF('Caseload Reporting'!S339 = \"\",\"\",'Caseload Reporting'!S339)","v":""}]
[{"$f":"IF('Caseload Reporting'!A340 = \"\",\"\",'Caseload Reporting'!A340)","v":""},{"$f":"IF('Caseload Reporting'!B340 = \"\",\"\",'Caseload Reporting'!B340)","v":""},{"$f":"IF('Caseload Reporting'!C340 = \"\",\"\",'Caseload Reporting'!C340)","v":""},{"$f":"IF('Caseload Reporting'!D340 = \"\",\"\",'Caseload Reporting'!D340)","v":""},{"$f":"IF('Caseload Reporting'!G340 = \"\",\"\",'Caseload Reporting'!G340)","v":""},{"$f":"IF('Caseload Reporting'!H340 = \"\",\"\",'Caseload Reporting'!H340)","v":""},{"$f":"IF('Caseload Reporting'!I340 = \"\",\"\",'Caseload Reporting'!I340)","v":""},{"$f":"IF('Caseload Reporting'!J340 = \"\",\"\",'Caseload Reporting'!J340)","v":""},{"$f":"IF('Caseload Reporting'!K340 = \"\",\"\",'Caseload Reporting'!K340)","v":""},{"$f":"IF('Caseload Reporting'!L340 = \"\",\"\",'Caseload Reporting'!L340)","v":""},{"$f":"IF('Caseload Reporting'!M340 = \"\",\"\",'Caseload Reporting'!M340)","v":""},{"$f":"IF('Caseload Reporting'!N340 = \"\",\"\",'Caseload Reporting'!N340)","v":""},{"$f":"IF('Caseload Reporting'!P340 = \"\",\"\",'Caseload Reporting'!P340)","v":""},{"$f":"IF('Caseload Reporting'!O340 = \"\",\"\",'Caseload Reporting'!O340)","v":""},{"$f":"IF('Caseload Reporting'!Q340 = \"\",\"\",'Caseload Reporting'!Q340)","v":""},{"$f":"IF('Caseload Reporting'!R340 = \"\",\"\",'Caseload Reporting'!R340)","v":""},{"$f":"IF('Caseload Reporting'!E340 = \"\",\"\",'Caseload Reporting'!E340)","v":""},{"$f":"IF('Caseload Reporting'!S340 = \"\",\"\",'Caseload Reporting'!S340)","v":""}]
[{"$f":"IF('Caseload Reporting'!A341 = \"\",\"\",'Caseload Reporting'!A341)","v":""},{"$f":"IF('Caseload Reporting'!B341 = \"\",\"\",'Caseload Reporting'!B341)","v":""},{"$f":"IF('Caseload Reporting'!C341 = \"\",\"\",'Caseload Reporting'!C341)","v":""},{"$f":"IF('Caseload Reporting'!D341 = \"\",\"\",'Caseload Reporting'!D341)","v":""},{"$f":"IF('Caseload Reporting'!G341 = \"\",\"\",'Caseload Reporting'!G341)","v":""},{"$f":"IF('Caseload Reporting'!H341 = \"\",\"\",'Caseload Reporting'!H341)","v":""},{"$f":"IF('Caseload Reporting'!I341 = \"\",\"\",'Caseload Reporting'!I341)","v":""},{"$f":"IF('Caseload Reporting'!J341 = \"\",\"\",'Caseload Reporting'!J341)","v":""},{"$f":"IF('Caseload Reporting'!K341 = \"\",\"\",'Caseload Reporting'!K341)","v":""},{"$f":"IF('Caseload Reporting'!L341 = \"\",\"\",'Caseload Reporting'!L341)","v":""},{"$f":"IF('Caseload Reporting'!M341 = \"\",\"\",'Caseload Reporting'!M341)","v":""},{"$f":"IF('Caseload Reporting'!N341 = \"\",\"\",'Caseload Reporting'!N341)","v":""},{"$f":"IF('Caseload Reporting'!P341 = \"\",\"\",'Caseload Reporting'!P341)","v":""},{"$f":"IF('Caseload Reporting'!O341 = \"\",\"\",'Caseload Reporting'!O341)","v":""},{"$f":"IF('Caseload Reporting'!Q341 = \"\",\"\",'Caseload Reporting'!Q341)","v":""},{"$f":"IF('Caseload Reporting'!R341 = \"\",\"\",'Caseload Reporting'!R341)","v":""},{"$f":"IF('Caseload Reporting'!E341 = \"\",\"\",'Caseload Reporting'!E341)","v":""},{"$f":"IF('Caseload Reporting'!S341 = \"\",\"\",'Caseload Reporting'!S341)","v":""}]
[{"$f":"IF('Caseload Reporting'!A342 = \"\",\"\",'Caseload Reporting'!A342)","v":""},{"$f":"IF('Caseload Reporting'!B342 = \"\",\"\",'Caseload Reporting'!B342)","v":""},{"$f":"IF('Caseload Reporting'!C342 = \"\",\"\",'Caseload Reporting'!C342)","v":""},{"$f":"IF('Caseload Reporting'!D342 = \"\",\"\",'Caseload Reporting'!D342)","v":""},{"$f":"IF('Caseload Reporting'!G342 = \"\",\"\",'Caseload Reporting'!G342)","v":""},{"$f":"IF('Caseload Reporting'!H342 = \"\",\"\",'Caseload Reporting'!H342)","v":""},{"$f":"IF('Caseload Reporting'!I342 = \"\",\"\",'Caseload Reporting'!I342)","v":""},{"$f":"IF('Caseload Reporting'!J342 = \"\",\"\",'Caseload Reporting'!J342)","v":""},{"$f":"IF('Caseload Reporting'!K342 = \"\",\"\",'Caseload Reporting'!K342)","v":""},{"$f":"IF('Caseload Reporting'!L342 = \"\",\"\",'Caseload Reporting'!L342)","v":""},{"$f":"IF('Caseload Reporting'!M342 = \"\",\"\",'Caseload Reporting'!M342)","v":""},{"$f":"IF('Caseload Reporting'!N342 = \"\",\"\",'Caseload Reporting'!N342)","v":""},{"$f":"IF('Caseload Reporting'!P342 = \"\",\"\",'Caseload Reporting'!P342)","v":""},{"$f":"IF('Caseload Reporting'!O342 = \"\",\"\",'Caseload Reporting'!O342)","v":""},{"$f":"IF('Caseload Reporting'!Q342 = \"\",\"\",'Caseload Reporting'!Q342)","v":""},{"$f":"IF('Caseload Reporting'!R342 = \"\",\"\",'Caseload Reporting'!R342)","v":""},{"$f":"IF('Caseload Reporting'!E342 = \"\",\"\",'Caseload Reporting'!E342)","v":""},{"$f":"IF('Caseload Reporting'!S342 = \"\",\"\",'Caseload Reporting'!S342)","v":""}]
[{"$f":"IF('Caseload Reporting'!A343 = \"\",\"\",'Caseload Reporting'!A343)","v":""},{"$f":"IF('Caseload Reporting'!B343 = \"\",\"\",'Caseload Reporting'!B343)","v":""},{"$f":"IF('Caseload Reporting'!C343 = \"\",\"\",'Caseload Reporting'!C343)","v":""},{"$f":"IF('Caseload Reporting'!D343 = \"\",\"\",'Caseload Reporting'!D343)","v":""},{"$f":"IF('Caseload Reporting'!G343 = \"\",\"\",'Caseload Reporting'!G343)","v":""},{"$f":"IF('Caseload Reporting'!H343 = \"\",\"\",'Caseload Reporting'!H343)","v":""},{"$f":"IF('Caseload Reporting'!I343 = \"\",\"\",'Caseload Reporting'!I343)","v":""},{"$f":"IF('Caseload Reporting'!J343 = \"\",\"\",'Caseload Reporting'!J343)","v":""},{"$f":"IF('Caseload Reporting'!K343 = \"\",\"\",'Caseload Reporting'!K343)","v":""},{"$f":"IF('Caseload Reporting'!L343 = \"\",\"\",'Caseload Reporting'!L343)","v":""},{"$f":"IF('Caseload Reporting'!M343 = \"\",\"\",'Caseload Reporting'!M343)","v":""},{"$f":"IF('Caseload Reporting'!N343 = \"\",\"\",'Caseload Reporting'!N343)","v":""},{"$f":"IF('Caseload Reporting'!P343 = \"\",\"\",'Caseload Reporting'!P343)","v":""},{"$f":"IF('Caseload Reporting'!O343 = \"\",\"\",'Caseload Reporting'!O343)","v":""},{"$f":"IF('Caseload Reporting'!Q343 = \"\",\"\",'Caseload Reporting'!Q343)","v":""},{"$f":"IF('Caseload Reporting'!R343 = \"\",\"\",'Caseload Reporting'!R343)","v":""},{"$f":"IF('Caseload Reporting'!E343 = \"\",\"\",'Caseload Reporting'!E343)","v":""},{"$f":"IF('Caseload Reporting'!S343 = \"\",\"\",'Caseload Reporting'!S343)","v":""}]
[{"$f":"IF('Caseload Reporting'!A344 = \"\",\"\",'Caseload Reporting'!A344)","v":""},{"$f":"IF('Caseload Reporting'!B344 = \"\",\"\",'Caseload Reporting'!B344)","v":""},{"$f":"IF('Caseload Reporting'!C344 = \"\",\"\",'Caseload Reporting'!C344)","v":""},{"$f":"IF('Caseload Reporting'!D344 = \"\",\"\",'Caseload Reporting'!D344)","v":""},{"$f":"IF('Caseload Reporting'!G344 = \"\",\"\",'Caseload Reporting'!G344)","v":""},{"$f":"IF('Caseload Reporting'!H344 = \"\",\"\",'Caseload Reporting'!H344)","v":""},{"$f":"IF('Caseload Reporting'!I344 = \"\",\"\",'Caseload Reporting'!I344)","v":""},{"$f":"IF('Caseload Reporting'!J344 = \"\",\"\",'Caseload Reporting'!J344)","v":""},{"$f":"IF('Caseload Reporting'!K344 = \"\",\"\",'Caseload Reporting'!K344)","v":""},{"$f":"IF('Caseload Reporting'!L344 = \"\",\"\",'Caseload Reporting'!L344)","v":""},{"$f":"IF('Caseload Reporting'!M344 = \"\",\"\",'Caseload Reporting'!M344)","v":""},{"$f":"IF('Caseload Reporting'!N344 = \"\",\"\",'Caseload Reporting'!N344)","v":""},{"$f":"IF('Caseload Reporting'!P344 = \"\",\"\",'Caseload Reporting'!P344)","v":""},{"$f":"IF('Caseload Reporting'!O344 = \"\",\"\",'Caseload Reporting'!O344)","v":""},{"$f":"IF('Caseload Reporting'!Q344 = \"\",\"\",'Caseload Reporting'!Q344)","v":""},{"$f":"IF('Caseload Reporting'!R344 = \"\",\"\",'Caseload Reporting'!R344)","v":""},{"$f":"IF('Caseload Reporting'!E344 = \"\",\"\",'Caseload Reporting'!E344)","v":""},{"$f":"IF('Caseload Reporting'!S344 = \"\",\"\",'Caseload Reporting'!S344)","v":""}]
[{"$f":"IF('Caseload Reporting'!A345 = \"\",\"\",'Caseload Reporting'!A345)","v":""},{"$f":"IF('Caseload Reporting'!B345 = \"\",\"\",'Caseload Reporting'!B345)","v":""},{"$f":"IF('Caseload Reporting'!C345 = \"\",\"\",'Caseload Reporting'!C345)","v":""},{"$f":"IF('Caseload Reporting'!D345 = \"\",\"\",'Caseload Reporting'!D345)","v":""},{"$f":"IF('Caseload Reporting'!G345 = \"\",\"\",'Caseload Reporting'!G345)","v":""},{"$f":"IF('Caseload Reporting'!H345 = \"\",\"\",'Caseload Reporting'!H345)","v":""},{"$f":"IF('Caseload Reporting'!I345 = \"\",\"\",'Caseload Reporting'!I345)","v":""},{"$f":"IF('Caseload Reporting'!J345 = \"\",\"\",'Caseload Reporting'!J345)","v":""},{"$f":"IF('Caseload Reporting'!K345 = \"\",\"\",'Caseload Reporting'!K345)","v":""},{"$f":"IF('Caseload Reporting'!L345 = \"\",\"\",'Caseload Reporting'!L345)","v":""},{"$f":"IF('Caseload Reporting'!M345 = \"\",\"\",'Caseload Reporting'!M345)","v":""},{"$f":"IF('Caseload Reporting'!N345 = \"\",\"\",'Caseload Reporting'!N345)","v":""},{"$f":"IF('Caseload Reporting'!P345 = \"\",\"\",'Caseload Reporting'!P345)","v":""},{"$f":"IF('Caseload Reporting'!O345 = \"\",\"\",'Caseload Reporting'!O345)","v":""},{"$f":"IF('Caseload Reporting'!Q345 = \"\",\"\",'Caseload Reporting'!Q345)","v":""},{"$f":"IF('Caseload Reporting'!R345 = \"\",\"\",'Caseload Reporting'!R345)","v":""},{"$f":"IF('Caseload Reporting'!E345 = \"\",\"\",'Caseload Reporting'!E345)","v":""},{"$f":"IF('Caseload Reporting'!S345 = \"\",\"\",'Caseload Reporting'!S345)","v":""}]
[{"$f":"IF('Caseload Reporting'!A346 = \"\",\"\",'Caseload Reporting'!A346)","v":""},{"$f":"IF('Caseload Reporting'!B346 = \"\",\"\",'Caseload Reporting'!B346)","v":""},{"$f":"IF('Caseload Reporting'!C346 = \"\",\"\",'Caseload Reporting'!C346)","v":""},{"$f":"IF('Caseload Reporting'!D346 = \"\",\"\",'Caseload Reporting'!D346)","v":""},{"$f":"IF('Caseload Reporting'!G346 = \"\",\"\",'Caseload Reporting'!G346)","v":""},{"$f":"IF('Caseload Reporting'!H346 = \"\",\"\",'Caseload Reporting'!H346)","v":""},{"$f":"IF('Caseload Reporting'!I346 = \"\",\"\",'Caseload Reporting'!I346)","v":""},{"$f":"IF('Caseload Reporting'!J346 = \"\",\"\",'Caseload Reporting'!J346)","v":""},{"$f":"IF('Caseload Reporting'!K346 = \"\",\"\",'Caseload Reporting'!K346)","v":""},{"$f":"IF('Caseload Reporting'!L346 = \"\",\"\",'Caseload Reporting'!L346)","v":""},{"$f":"IF('Caseload Reporting'!M346 = \"\",\"\",'Caseload Reporting'!M346)","v":""},{"$f":"IF('Caseload Reporting'!N346 = \"\",\"\",'Caseload Reporting'!N346)","v":""},{"$f":"IF('Caseload Reporting'!P346 = \"\",\"\",'Caseload Reporting'!P346)","v":""},{"$f":"IF('Caseload Reporting'!O346 = \"\",\"\",'Caseload Reporting'!O346)","v":""},{"$f":"IF('Caseload Reporting'!Q346 = \"\",\"\",'Caseload Reporting'!Q346)","v":""},{"$f":"IF('Caseload Reporting'!R346 = \"\",\"\",'Caseload Reporting'!R346)","v":""},{"$f":"IF('Caseload Reporting'!E346 = \"\",\"\",'Caseload Reporting'!E346)","v":""},{"$f":"IF('Caseload Reporting'!S346 = \"\",\"\",'Caseload Reporting'!S346)","v":""}]
[{"$f":"IF('Caseload Reporting'!A347 = \"\",\"\",'Caseload Reporting'!A347)","v":""},{"$f":"IF('Caseload Reporting'!B347 = \"\",\"\",'Caseload Reporting'!B347)","v":""},{"$f":"IF('Caseload Reporting'!C347 = \"\",\"\",'Caseload Reporting'!C347)","v":""},{"$f":"IF('Caseload Reporting'!D347 = \"\",\"\",'Caseload Reporting'!D347)","v":""},{"$f":"IF('Caseload Reporting'!G347 = \"\",\"\",'Caseload Reporting'!G347)","v":""},{"$f":"IF('Caseload Reporting'!H347 = \"\",\"\",'Caseload Reporting'!H347)","v":""},{"$f":"IF('Caseload Reporting'!I347 = \"\",\"\",'Caseload Reporting'!I347)","v":""},{"$f":"IF('Caseload Reporting'!J347 = \"\",\"\",'Caseload Reporting'!J347)","v":""},{"$f":"IF('Caseload Reporting'!K347 = \"\",\"\",'Caseload Reporting'!K347)","v":""},{"$f":"IF('Caseload Reporting'!L347 = \"\",\"\",'Caseload Reporting'!L347)","v":""},{"$f":"IF('Caseload Reporting'!M347 = \"\",\"\",'Caseload Reporting'!M347)","v":""},{"$f":"IF('Caseload Reporting'!N347 = \"\",\"\",'Caseload Reporting'!N347)","v":""},{"$f":"IF('Caseload Reporting'!P347 = \"\",\"\",'Caseload Reporting'!P347)","v":""},{"$f":"IF('Caseload Reporting'!O347 = \"\",\"\",'Caseload Reporting'!O347)","v":""},{"$f":"IF('Caseload Reporting'!Q347 = \"\",\"\",'Caseload Reporting'!Q347)","v":""},{"$f":"IF('Caseload Reporting'!R347 = \"\",\"\",'Caseload Reporting'!R347)","v":""},{"$f":"IF('Caseload Reporting'!E347 = \"\",\"\",'Caseload Reporting'!E347)","v":""},{"$f":"IF('Caseload Reporting'!S347 = \"\",\"\",'Caseload Reporting'!S347)","v":""}]
[{"$f":"IF('Caseload Reporting'!A348 = \"\",\"\",'Caseload Reporting'!A348)","v":""},{"$f":"IF('Caseload Reporting'!B348 = \"\",\"\",'Caseload Reporting'!B348)","v":""},{"$f":"IF('Caseload Reporting'!C348 = \"\",\"\",'Caseload Reporting'!C348)","v":""},{"$f":"IF('Caseload Reporting'!D348 = \"\",\"\",'Caseload Reporting'!D348)","v":""},{"$f":"IF('Caseload Reporting'!G348 = \"\",\"\",'Caseload Reporting'!G348)","v":""},{"$f":"IF('Caseload Reporting'!H348 = \"\",\"\",'Caseload Reporting'!H348)","v":""},{"$f":"IF('Caseload Reporting'!I348 = \"\",\"\",'Caseload Reporting'!I348)","v":""},{"$f":"IF('Caseload Reporting'!J348 = \"\",\"\",'Caseload Reporting'!J348)","v":""},{"$f":"IF('Caseload Reporting'!K348 = \"\",\"\",'Caseload Reporting'!K348)","v":""},{"$f":"IF('Caseload Reporting'!L348 = \"\",\"\",'Caseload Reporting'!L348)","v":""},{"$f":"IF('Caseload Reporting'!M348 = \"\",\"\",'Caseload Reporting'!M348)","v":""},{"$f":"IF('Caseload Reporting'!N348 = \"\",\"\",'Caseload Reporting'!N348)","v":""},{"$f":"IF('Caseload Reporting'!P348 = \"\",\"\",'Caseload Reporting'!P348)","v":""},{"$f":"IF('Caseload Reporting'!O348 = \"\",\"\",'Caseload Reporting'!O348)","v":""},{"$f":"IF('Caseload Reporting'!Q348 = \"\",\"\",'Caseload Reporting'!Q348)","v":""},{"$f":"IF('Caseload Reporting'!R348 = \"\",\"\",'Caseload Reporting'!R348)","v":""},{"$f":"IF('Caseload Reporting'!E348 = \"\",\"\",'Caseload Reporting'!E348)","v":""},{"$f":"IF('Caseload Reporting'!S348 = \"\",\"\",'Caseload Reporting'!S348)","v":""}]
[{"$f":"IF('Caseload Reporting'!A349 = \"\",\"\",'Caseload Reporting'!A349)","v":""},{"$f":"IF('Caseload Reporting'!B349 = \"\",\"\",'Caseload Reporting'!B349)","v":""},{"$f":"IF('Caseload Reporting'!C349 = \"\",\"\",'Caseload Reporting'!C349)","v":""},{"$f":"IF('Caseload Reporting'!D349 = \"\",\"\",'Caseload Reporting'!D349)","v":""},{"$f":"IF('Caseload Reporting'!G349 = \"\",\"\",'Caseload Reporting'!G349)","v":""},{"$f":"IF('Caseload Reporting'!H349 = \"\",\"\",'Caseload Reporting'!H349)","v":""},{"$f":"IF('Caseload Reporting'!I349 = \"\",\"\",'Caseload Reporting'!I349)","v":""},{"$f":"IF('Caseload Reporting'!J349 = \"\",\"\",'Caseload Reporting'!J349)","v":""},{"$f":"IF('Caseload Reporting'!K349 = \"\",\"\",'Caseload Reporting'!K349)","v":""},{"$f":"IF('Caseload Reporting'!L349 = \"\",\"\",'Caseload Reporting'!L349)","v":""},{"$f":"IF('Caseload Reporting'!M349 = \"\",\"\",'Caseload Reporting'!M349)","v":""},{"$f":"IF('Caseload Reporting'!N349 = \"\",\"\",'Caseload Reporting'!N349)","v":""},{"$f":"IF('Caseload Reporting'!P349 = \"\",\"\",'Caseload Reporting'!P349)","v":""},{"$f":"IF('Caseload Reporting'!O349 = \"\",\"\",'Caseload Reporting'!O349)","v":""},{"$f":"IF('Caseload Reporting'!Q349 = \"\",\"\",'Caseload Reporting'!Q349)","v":""},{"$f":"IF('Caseload Reporting'!R349 = \"\",\"\",'Caseload Reporting'!R349)","v":""},{"$f":"IF('Caseload Reporting'!E349 = \"\",\"\",'Caseload Reporting'!E349)","v":""},{"$f":"IF('Caseload Reporting'!S349 = \"\",\"\",'Caseload Reporting'!S349)","v":""}]
[{"$f":"IF('Caseload Reporting'!A350 = \"\",\"\",'Caseload Reporting'!A350)","v":""},{"$f":"IF('Caseload Reporting'!B350 = \"\",\"\",'Caseload Reporting'!B350)","v":""},{"$f":"IF('Caseload Reporting'!C350 = \"\",\"\",'Caseload Reporting'!C350)","v":""},{"$f":"IF('Caseload Reporting'!D350 = \"\",\"\",'Caseload Reporting'!D350)","v":""},{"$f":"IF('Caseload Reporting'!G350 = \"\",\"\",'Caseload Reporting'!G350)","v":""},{"$f":"IF('Caseload Reporting'!H350 = \"\",\"\",'Caseload Reporting'!H350)","v":""},{"$f":"IF('Caseload Reporting'!I350 = \"\",\"\",'Caseload Reporting'!I350)","v":""},{"$f":"IF('Caseload Reporting'!J350 = \"\",\"\",'Caseload Reporting'!J350)","v":""},{"$f":"IF('Caseload Reporting'!K350 = \"\",\"\",'Caseload Reporting'!K350)","v":""},{"$f":"IF('Caseload Reporting'!L350 = \"\",\"\",'Caseload Reporting'!L350)","v":""},{"$f":"IF('Caseload Reporting'!M350 = \"\",\"\",'Caseload Reporting'!M350)","v":""},{"$f":"IF('Caseload Reporting'!N350 = \"\",\"\",'Caseload Reporting'!N350)","v":""},{"$f":"IF('Caseload Reporting'!P350 = \"\",\"\",'Caseload Reporting'!P350)","v":""},{"$f":"IF('Caseload Reporting'!O350 = \"\",\"\",'Caseload Reporting'!O350)","v":""},{"$f":"IF('Caseload Reporting'!Q350 = \"\",\"\",'Caseload Reporting'!Q350)","v":""},{"$f":"IF('Caseload Reporting'!R350 = \"\",\"\",'Caseload Reporting'!R350)","v":""},{"$f":"IF('Caseload Reporting'!E350 = \"\",\"\",'Caseload Reporting'!E350)","v":""},{"$f":"IF('Caseload Reporting'!S350 = \"\",\"\",'Caseload Reporting'!S350)","v":""}]
[{"$f":"IF('Caseload Reporting'!A351 = \"\",\"\",'Caseload Reporting'!A351)","v":""},{"$f":"IF('Caseload Reporting'!B351 = \"\",\"\",'Caseload Reporting'!B351)","v":""},{"$f":"IF('Caseload Reporting'!C351 = \"\",\"\",'Caseload Reporting'!C351)","v":""},{"$f":"IF('Caseload Reporting'!D351 = \"\",\"\",'Caseload Reporting'!D351)","v":""},{"$f":"IF('Caseload Reporting'!G351 = \"\",\"\",'Caseload Reporting'!G351)","v":""},{"$f":"IF('Caseload Reporting'!H351 = \"\",\"\",'Caseload Reporting'!H351)","v":""},{"$f":"IF('Caseload Reporting'!I351 = \"\",\"\",'Caseload Reporting'!I351)","v":""},{"$f":"IF('Caseload Reporting'!J351 = \"\",\"\",'Caseload Reporting'!J351)","v":""},{"$f":"IF('Caseload Reporting'!K351 = \"\",\"\",'Caseload Reporting'!K351)","v":""},{"$f":"IF('Caseload Reporting'!L351 = \"\",\"\",'Caseload Reporting'!L351)","v":""},{"$f":"IF('Caseload Reporting'!M351 = \"\",\"\",'Caseload Reporting'!M351)","v":""},{"$f":"IF('Caseload Reporting'!N351 = \"\",\"\",'Caseload Reporting'!N351)","v":""},{"$f":"IF('Caseload Reporting'!P351 = \"\",\"\",'Caseload Reporting'!P351)","v":""},{"$f":"IF('Caseload Reporting'!O351 = \"\",\"\",'Caseload Reporting'!O351)","v":""},{"$f":"IF('Caseload Reporting'!Q351 = \"\",\"\",'Caseload Reporting'!Q351)","v":""},{"$f":"IF('Caseload Reporting'!R351 = \"\",\"\",'Caseload Reporting'!R351)","v":""},{"$f":"IF('Caseload Reporting'!E351 = \"\",\"\",'Caseload Reporting'!E351)","v":""},{"$f":"IF('Caseload Reporting'!S351 = \"\",\"\",'Caseload Reporting'!S351)","v":""}]
[{"$f":"IF('Caseload Reporting'!A352 = \"\",\"\",'Caseload Reporting'!A352)","v":""},{"$f":"IF('Caseload Reporting'!B352 = \"\",\"\",'Caseload Reporting'!B352)","v":""},{"$f":"IF('Caseload Reporting'!C352 = \"\",\"\",'Caseload Reporting'!C352)","v":""},{"$f":"IF('Caseload Reporting'!D352 = \"\",\"\",'Caseload Reporting'!D352)","v":""},{"$f":"IF('Caseload Reporting'!G352 = \"\",\"\",'Caseload Reporting'!G352)","v":""},{"$f":"IF('Caseload Reporting'!H352 = \"\",\"\",'Caseload Reporting'!H352)","v":""},{"$f":"IF('Caseload Reporting'!I352 = \"\",\"\",'Caseload Reporting'!I352)","v":""},{"$f":"IF('Caseload Reporting'!J352 = \"\",\"\",'Caseload Reporting'!J352)","v":""},{"$f":"IF('Caseload Reporting'!K352 = \"\",\"\",'Caseload Reporting'!K352)","v":""},{"$f":"IF('Caseload Reporting'!L352 = \"\",\"\",'Caseload Reporting'!L352)","v":""},{"$f":"IF('Caseload Reporting'!M352 = \"\",\"\",'Caseload Reporting'!M352)","v":""},{"$f":"IF('Caseload Reporting'!N352 = \"\",\"\",'Caseload Reporting'!N352)","v":""},{"$f":"IF('Caseload Reporting'!P352 = \"\",\"\",'Caseload Reporting'!P352)","v":""},{"$f":"IF('Caseload Reporting'!O352 = \"\",\"\",'Caseload Reporting'!O352)","v":""},{"$f":"IF('Caseload Reporting'!Q352 = \"\",\"\",'Caseload Reporting'!Q352)","v":""},{"$f":"IF('Caseload Reporting'!R352 = \"\",\"\",'Caseload Reporting'!R352)","v":""},{"$f":"IF('Caseload Reporting'!E352 = \"\",\"\",'Caseload Reporting'!E352)","v":""},{"$f":"IF('Caseload Reporting'!S352 = \"\",\"\",'Caseload Reporting'!S352)","v":""}]
[{"$f":"IF('Caseload Reporting'!A353 = \"\",\"\",'Caseload Reporting'!A353)","v":""},{"$f":"IF('Caseload Reporting'!B353 = \"\",\"\",'Caseload Reporting'!B353)","v":""},{"$f":"IF('Caseload Reporting'!C353 = \"\",\"\",'Caseload Reporting'!C353)","v":""},{"$f":"IF('Caseload Reporting'!D353 = \"\",\"\",'Caseload Reporting'!D353)","v":""},{"$f":"IF('Caseload Reporting'!G353 = \"\",\"\",'Caseload Reporting'!G353)","v":""},{"$f":"IF('Caseload Reporting'!H353 = \"\",\"\",'Caseload Reporting'!H353)","v":""},{"$f":"IF('Caseload Reporting'!I353 = \"\",\"\",'Caseload Reporting'!I353)","v":""},{"$f":"IF('Caseload Reporting'!J353 = \"\",\"\",'Caseload Reporting'!J353)","v":""},{"$f":"IF('Caseload Reporting'!K353 = \"\",\"\",'Caseload Reporting'!K353)","v":""},{"$f":"IF('Caseload Reporting'!L353 = \"\",\"\",'Caseload Reporting'!L353)","v":""},{"$f":"IF('Caseload Reporting'!M353 = \"\",\"\",'Caseload Reporting'!M353)","v":""},{"$f":"IF('Caseload Reporting'!N353 = \"\",\"\",'Caseload Reporting'!N353)","v":""},{"$f":"IF('Caseload Reporting'!P353 = \"\",\"\",'Caseload Reporting'!P353)","v":""},{"$f":"IF('Caseload Reporting'!O353 = \"\",\"\",'Caseload Reporting'!O353)","v":""},{"$f":"IF('Caseload Reporting'!Q353 = \"\",\"\",'Caseload Reporting'!Q353)","v":""},{"$f":"IF('Caseload Reporting'!R353 = \"\",\"\",'Caseload Reporting'!R353)","v":""},{"$f":"IF('Caseload Reporting'!E353 = \"\",\"\",'Caseload Reporting'!E353)","v":""},{"$f":"IF('Caseload Reporting'!S353 = \"\",\"\",'Caseload Reporting'!S353)","v":""}]
[{"$f":"IF('Caseload Reporting'!A354 = \"\",\"\",'Caseload Reporting'!A354)","v":""},{"$f":"IF('Caseload Reporting'!B354 = \"\",\"\",'Caseload Reporting'!B354)","v":""},{"$f":"IF('Caseload Reporting'!C354 = \"\",\"\",'Caseload Reporting'!C354)","v":""},{"$f":"IF('Caseload Reporting'!D354 = \"\",\"\",'Caseload Reporting'!D354)","v":""},{"$f":"IF('Caseload Reporting'!G354 = \"\",\"\",'Caseload Reporting'!G354)","v":""},{"$f":"IF('Caseload Reporting'!H354 = \"\",\"\",'Caseload Reporting'!H354)","v":""},{"$f":"IF('Caseload Reporting'!I354 = \"\",\"\",'Caseload Reporting'!I354)","v":""},{"$f":"IF('Caseload Reporting'!J354 = \"\",\"\",'Caseload Reporting'!J354)","v":""},{"$f":"IF('Caseload Reporting'!K354 = \"\",\"\",'Caseload Reporting'!K354)","v":""},{"$f":"IF('Caseload Reporting'!L354 = \"\",\"\",'Caseload Reporting'!L354)","v":""},{"$f":"IF('Caseload Reporting'!M354 = \"\",\"\",'Caseload Reporting'!M354)","v":""},{"$f":"IF('Caseload Reporting'!N354 = \"\",\"\",'Caseload Reporting'!N354)","v":""},{"$f":"IF('Caseload Reporting'!P354 = \"\",\"\",'Caseload Reporting'!P354)","v":""},{"$f":"IF('Caseload Reporting'!O354 = \"\",\"\",'Caseload Reporting'!O354)","v":""},{"$f":"IF('Caseload Reporting'!Q354 = \"\",\"\",'Caseload Reporting'!Q354)","v":""},{"$f":"IF('Caseload Reporting'!R354 = \"\",\"\",'Caseload Reporting'!R354)","v":""},{"$f":"IF('Caseload Reporting'!E354 = \"\",\"\",'Caseload Reporting'!E354)","v":""},{"$f":"IF('Caseload Reporting'!S354 = \"\",\"\",'Caseload Reporting'!S354)","v":""}]
[{"$f":"IF('Caseload Reporting'!A355 = \"\",\"\",'Caseload Reporting'!A355)","v":""},{"$f":"IF('Caseload Reporting'!B355 = \"\",\"\",'Caseload Reporting'!B355)","v":""},{"$f":"IF('Caseload Reporting'!C355 = \"\",\"\",'Caseload Reporting'!C355)","v":""},{"$f":"IF('Caseload Reporting'!D355 = \"\",\"\",'Caseload Reporting'!D355)","v":""},{"$f":"IF('Caseload Reporting'!G355 = \"\",\"\",'Caseload Reporting'!G355)","v":""},{"$f":"IF('Caseload Reporting'!H355 = \"\",\"\",'Caseload Reporting'!H355)","v":""},{"$f":"IF('Caseload Reporting'!I355 = \"\",\"\",'Caseload Reporting'!I355)","v":""},{"$f":"IF('Caseload Reporting'!J355 = \"\",\"\",'Caseload Reporting'!J355)","v":""},{"$f":"IF('Caseload Reporting'!K355 = \"\",\"\",'Caseload Reporting'!K355)","v":""},{"$f":"IF('Caseload Reporting'!L355 = \"\",\"\",'Caseload Reporting'!L355)","v":""},{"$f":"IF('Caseload Reporting'!M355 = \"\",\"\",'Caseload Reporting'!M355)","v":""},{"$f":"IF('Caseload Reporting'!N355 = \"\",\"\",'Caseload Reporting'!N355)","v":""},{"$f":"IF('Caseload Reporting'!P355 = \"\",\"\",'Caseload Reporting'!P355)","v":""},{"$f":"IF('Caseload Reporting'!O355 = \"\",\"\",'Caseload Reporting'!O355)","v":""},{"$f":"IF('Caseload Reporting'!Q355 = \"\",\"\",'Caseload Reporting'!Q355)","v":""},{"$f":"IF('Caseload Reporting'!R355 = \"\",\"\",'Caseload Reporting'!R355)","v":""},{"$f":"IF('Caseload Reporting'!E355 = \"\",\"\",'Caseload Reporting'!E355)","v":""},{"$f":"IF('Caseload Reporting'!S355 = \"\",\"\",'Caseload Reporting'!S355)","v":""}]
[{"$f":"IF('Caseload Reporting'!A356 = \"\",\"\",'Caseload Reporting'!A356)","v":""},{"$f":"IF('Caseload Reporting'!B356 = \"\",\"\",'Caseload Reporting'!B356)","v":""},{"$f":"IF('Caseload Reporting'!C356 = \"\",\"\",'Caseload Reporting'!C356)","v":""},{"$f":"IF('Caseload Reporting'!D356 = \"\",\"\",'Caseload Reporting'!D356)","v":""},{"$f":"IF('Caseload Reporting'!G356 = \"\",\"\",'Caseload Reporting'!G356)","v":""},{"$f":"IF('Caseload Reporting'!H356 = \"\",\"\",'Caseload Reporting'!H356)","v":""},{"$f":"IF('Caseload Reporting'!I356 = \"\",\"\",'Caseload Reporting'!I356)","v":""},{"$f":"IF('Caseload Reporting'!J356 = \"\",\"\",'Caseload Reporting'!J356)","v":""},{"$f":"IF('Caseload Reporting'!K356 = \"\",\"\",'Caseload Reporting'!K356)","v":""},{"$f":"IF('Caseload Reporting'!L356 = \"\",\"\",'Caseload Reporting'!L356)","v":""},{"$f":"IF('Caseload Reporting'!M356 = \"\",\"\",'Caseload Reporting'!M356)","v":""},{"$f":"IF('Caseload Reporting'!N356 = \"\",\"\",'Caseload Reporting'!N356)","v":""},{"$f":"IF('Caseload Reporting'!P356 = \"\",\"\",'Caseload Reporting'!P356)","v":""},{"$f":"IF('Caseload Reporting'!O356 = \"\",\"\",'Caseload Reporting'!O356)","v":""},{"$f":"IF('Caseload Reporting'!Q356 = \"\",\"\",'Caseload Reporting'!Q356)","v":""},{"$f":"IF('Caseload Reporting'!R356 = \"\",\"\",'Caseload Reporting'!R356)","v":""},{"$f":"IF('Caseload Reporting'!E356 = \"\",\"\",'Caseload Reporting'!E356)","v":""},{"$f":"IF('Caseload Reporting'!S356 = \"\",\"\",'Caseload Reporting'!S356)","v":""}]
[{"$f":"IF('Caseload Reporting'!A357 = \"\",\"\",'Caseload Reporting'!A357)","v":""},{"$f":"IF('Caseload Reporting'!B357 = \"\",\"\",'Caseload Reporting'!B357)","v":""},{"$f":"IF('Caseload Reporting'!C357 = \"\",\"\",'Caseload Reporting'!C357)","v":""},{"$f":"IF('Caseload Reporting'!D357 = \"\",\"\",'Caseload Reporting'!D357)","v":""},{"$f":"IF('Caseload Reporting'!G357 = \"\",\"\",'Caseload Reporting'!G357)","v":""},{"$f":"IF('Caseload Reporting'!H357 = \"\",\"\",'Caseload Reporting'!H357)","v":""},{"$f":"IF('Caseload Reporting'!I357 = \"\",\"\",'Caseload Reporting'!I357)","v":""},{"$f":"IF('Caseload Reporting'!J357 = \"\",\"\",'Caseload Reporting'!J357)","v":""},{"$f":"IF('Caseload Reporting'!K357 = \"\",\"\",'Caseload Reporting'!K357)","v":""},{"$f":"IF('Caseload Reporting'!L357 = \"\",\"\",'Caseload Reporting'!L357)","v":""},{"$f":"IF('Caseload Reporting'!M357 = \"\",\"\",'Caseload Reporting'!M357)","v":""},{"$f":"IF('Caseload Reporting'!N357 = \"\",\"\",'Caseload Reporting'!N357)","v":""},{"$f":"IF('Caseload Reporting'!P357 = \"\",\"\",'Caseload Reporting'!P357)","v":""},{"$f":"IF('Caseload Reporting'!O357 = \"\",\"\",'Caseload Reporting'!O357)","v":""},{"$f":"IF('Caseload Reporting'!Q357 = \"\",\"\",'Caseload Reporting'!Q357)","v":""},{"$f":"IF('Caseload Reporting'!R357 = \"\",\"\",'Caseload Reporting'!R357)","v":""},{"$f":"IF('Caseload Reporting'!E357 = \"\",\"\",'Caseload Reporting'!E357)","v":""},{"$f":"IF('Caseload Reporting'!S357 = \"\",\"\",'Caseload Reporting'!S357)","v":""}]
[{"$f":"IF('Caseload Reporting'!A358 = \"\",\"\",'Caseload Reporting'!A358)","v":""},{"$f":"IF('Caseload Reporting'!B358 = \"\",\"\",'Caseload Reporting'!B358)","v":""},{"$f":"IF('Caseload Reporting'!C358 = \"\",\"\",'Caseload Reporting'!C358)","v":""},{"$f":"IF('Caseload Reporting'!D358 = \"\",\"\",'Caseload Reporting'!D358)","v":""},{"$f":"IF('Caseload Reporting'!G358 = \"\",\"\",'Caseload Reporting'!G358)","v":""},{"$f":"IF('Caseload Reporting'!H358 = \"\",\"\",'Caseload Reporting'!H358)","v":""},{"$f":"IF('Caseload Reporting'!I358 = \"\",\"\",'Caseload Reporting'!I358)","v":""},{"$f":"IF('Caseload Reporting'!J358 = \"\",\"\",'Caseload Reporting'!J358)","v":""},{"$f":"IF('Caseload Reporting'!K358 = \"\",\"\",'Caseload Reporting'!K358)","v":""},{"$f":"IF('Caseload Reporting'!L358 = \"\",\"\",'Caseload Reporting'!L358)","v":""},{"$f":"IF('Caseload Reporting'!M358 = \"\",\"\",'Caseload Reporting'!M358)","v":""},{"$f":"IF('Caseload Reporting'!N358 = \"\",\"\",'Caseload Reporting'!N358)","v":""},{"$f":"IF('Caseload Reporting'!P358 = \"\",\"\",'Caseload Reporting'!P358)","v":""},{"$f":"IF('Caseload Reporting'!O358 = \"\",\"\",'Caseload Reporting'!O358)","v":""},{"$f":"IF('Caseload Reporting'!Q358 = \"\",\"\",'Caseload Reporting'!Q358)","v":""},{"$f":"IF('Caseload Reporting'!R358 = \"\",\"\",'Caseload Reporting'!R358)","v":""},{"$f":"IF('Caseload Reporting'!E358 = \"\",\"\",'Caseload Reporting'!E358)","v":""},{"$f":"IF('Caseload Reporting'!S358 = \"\",\"\",'Caseload Reporting'!S358)","v":""}]
[{"$f":"IF('Caseload Reporting'!A359 = \"\",\"\",'Caseload Reporting'!A359)","v":""},{"$f":"IF('Caseload Reporting'!B359 = \"\",\"\",'Caseload Reporting'!B359)","v":""},{"$f":"IF('Caseload Reporting'!C359 = \"\",\"\",'Caseload Reporting'!C359)","v":""},{"$f":"IF('Caseload Reporting'!D359 = \"\",\"\",'Caseload Reporting'!D359)","v":""},{"$f":"IF('Caseload Reporting'!G359 = \"\",\"\",'Caseload Reporting'!G359)","v":""},{"$f":"IF('Caseload Reporting'!H359 = \"\",\"\",'Caseload Reporting'!H359)","v":""},{"$f":"IF('Caseload Reporting'!I359 = \"\",\"\",'Caseload Reporting'!I359)","v":""},{"$f":"IF('Caseload Reporting'!J359 = \"\",\"\",'Caseload Reporting'!J359)","v":""},{"$f":"IF('Caseload Reporting'!K359 = \"\",\"\",'Caseload Reporting'!K359)","v":""},{"$f":"IF('Caseload Reporting'!L359 = \"\",\"\",'Caseload Reporting'!L359)","v":""},{"$f":"IF('Caseload Reporting'!M359 = \"\",\"\",'Caseload Reporting'!M359)","v":""},{"$f":"IF('Caseload Reporting'!N359 = \"\",\"\",'Caseload Reporting'!N359)","v":""},{"$f":"IF('Caseload Reporting'!P359 = \"\",\"\",'Caseload Reporting'!P359)","v":""},{"$f":"IF('Caseload Reporting'!O359 = \"\",\"\",'Caseload Reporting'!O359)","v":""},{"$f":"IF('Caseload Reporting'!Q359 = \"\",\"\",'Caseload Reporting'!Q359)","v":""},{"$f":"IF('Caseload Reporting'!R359 = \"\",\"\",'Caseload Reporting'!R359)","v":""},{"$f":"IF('Caseload Reporting'!E359 = \"\",\"\",'Caseload Reporting'!E359)","v":""},{"$f":"IF('Caseload Reporting'!S359 = \"\",\"\",'Caseload Reporting'!S359)","v":""}]
[{"$f":"IF('Caseload Reporting'!A360 = \"\",\"\",'Caseload Reporting'!A360)","v":""},{"$f":"IF('Caseload Reporting'!B360 = \"\",\"\",'Caseload Reporting'!B360)","v":""},{"$f":"IF('Caseload Reporting'!C360 = \"\",\"\",'Caseload Reporting'!C360)","v":""},{"$f":"IF('Caseload Reporting'!D360 = \"\",\"\",'Caseload Reporting'!D360)","v":""},{"$f":"IF('Caseload Reporting'!G360 = \"\",\"\",'Caseload Reporting'!G360)","v":""},{"$f":"IF('Caseload Reporting'!H360 = \"\",\"\",'Caseload Reporting'!H360)","v":""},{"$f":"IF('Caseload Reporting'!I360 = \"\",\"\",'Caseload Reporting'!I360)","v":""},{"$f":"IF('Caseload Reporting'!J360 = \"\",\"\",'Caseload Reporting'!J360)","v":""},{"$f":"IF('Caseload Reporting'!K360 = \"\",\"\",'Caseload Reporting'!K360)","v":""},{"$f":"IF('Caseload Reporting'!L360 = \"\",\"\",'Caseload Reporting'!L360)","v":""},{"$f":"IF('Caseload Reporting'!M360 = \"\",\"\",'Caseload Reporting'!M360)","v":""},{"$f":"IF('Caseload Reporting'!N360 = \"\",\"\",'Caseload Reporting'!N360)","v":""},{"$f":"IF('Caseload Reporting'!P360 = \"\",\"\",'Caseload Reporting'!P360)","v":""},{"$f":"IF('Caseload Reporting'!O360 = \"\",\"\",'Caseload Reporting'!O360)","v":""},{"$f":"IF('Caseload Reporting'!Q360 = \"\",\"\",'Caseload Reporting'!Q360)","v":""},{"$f":"IF('Caseload Reporting'!R360 = \"\",\"\",'Caseload Reporting'!R360)","v":""},{"$f":"IF('Caseload Reporting'!E360 = \"\",\"\",'Caseload Reporting'!E360)","v":""},{"$f":"IF('Caseload Reporting'!S360 = \"\",\"\",'Caseload Reporting'!S360)","v":""}]
[{"$f":"IF('Caseload Reporting'!A361 = \"\",\"\",'Caseload Reporting'!A361)","v":""},{"$f":"IF('Caseload Reporting'!B361 = \"\",\"\",'Caseload Reporting'!B361)","v":""},{"$f":"IF('Caseload Reporting'!C361 = \"\",\"\",'Caseload Reporting'!C361)","v":""},{"$f":"IF('Caseload Reporting'!D361 = \"\",\"\",'Caseload Reporting'!D361)","v":""},{"$f":"IF('Caseload Reporting'!G361 = \"\",\"\",'Caseload Reporting'!G361)","v":""},{"$f":"IF('Caseload Reporting'!H361 = \"\",\"\",'Caseload Reporting'!H361)","v":""},{"$f":"IF('Caseload Reporting'!I361 = \"\",\"\",'Caseload Reporting'!I361)","v":""},{"$f":"IF('Caseload Reporting'!J361 = \"\",\"\",'Caseload Reporting'!J361)","v":""},{"$f":"IF('Caseload Reporting'!K361 = \"\",\"\",'Caseload Reporting'!K361)","v":""},{"$f":"IF('Caseload Reporting'!L361 = \"\",\"\",'Caseload Reporting'!L361)","v":""},{"$f":"IF('Caseload Reporting'!M361 = \"\",\"\",'Caseload Reporting'!M361)","v":""},{"$f":"IF('Caseload Reporting'!N361 = \"\",\"\",'Caseload Reporting'!N361)","v":""},{"$f":"IF('Caseload Reporting'!P361 = \"\",\"\",'Caseload Reporting'!P361)","v":""},{"$f":"IF('Caseload Reporting'!O361 = \"\",\"\",'Caseload Reporting'!O361)","v":""},{"$f":"IF('Caseload Reporting'!Q361 = \"\",\"\",'Caseload Reporting'!Q361)","v":""},{"$f":"IF('Caseload Reporting'!R361 = \"\",\"\",'Caseload Reporting'!R361)","v":""},{"$f":"IF('Caseload Reporting'!E361 = \"\",\"\",'Caseload Reporting'!E361)","v":""},{"$f":"IF('Caseload Reporting'!S361 = \"\",\"\",'Caseload Reporting'!S361)","v":""}]
[{"$f":"IF('Caseload Reporting'!A362 = \"\",\"\",'Caseload Reporting'!A362)","v":""},{"$f":"IF('Caseload Reporting'!B362 = \"\",\"\",'Caseload Reporting'!B362)","v":""},{"$f":"IF('Caseload Reporting'!C362 = \"\",\"\",'Caseload Reporting'!C362)","v":""},{"$f":"IF('Caseload Reporting'!D362 = \"\",\"\",'Caseload Reporting'!D362)","v":""},{"$f":"IF('Caseload Reporting'!G362 = \"\",\"\",'Caseload Reporting'!G362)","v":""},{"$f":"IF('Caseload Reporting'!H362 = \"\",\"\",'Caseload Reporting'!H362)","v":""},{"$f":"IF('Caseload Reporting'!I362 = \"\",\"\",'Caseload Reporting'!I362)","v":""},{"$f":"IF('Caseload Reporting'!J362 = \"\",\"\",'Caseload Reporting'!J362)","v":""},{"$f":"IF('Caseload Reporting'!K362 = \"\",\"\",'Caseload Reporting'!K362)","v":""},{"$f":"IF('Caseload Reporting'!L362 = \"\",\"\",'Caseload Reporting'!L362)","v":""},{"$f":"IF('Caseload Reporting'!M362 = \"\",\"\",'Caseload Reporting'!M362)","v":""},{"$f":"IF('Caseload Reporting'!N362 = \"\",\"\",'Caseload Reporting'!N362)","v":""},{"$f":"IF('Caseload Reporting'!P362 = \"\",\"\",'Caseload Reporting'!P362)","v":""},{"$f":"IF('Caseload Reporting'!O362 = \"\",\"\",'Caseload Reporting'!O362)","v":""},{"$f":"IF('Caseload Reporting'!Q362 = \"\",\"\",'Caseload Reporting'!Q362)","v":""},{"$f":"IF('Caseload Reporting'!R362 = \"\",\"\",'Caseload Reporting'!R362)","v":""},{"$f":"IF('Caseload Reporting'!E362 = \"\",\"\",'Caseload Reporting'!E362)","v":""},{"$f":"IF('Caseload Reporting'!S362 = \"\",\"\",'Caseload Reporting'!S362)","v":""}]
[{"$f":"IF('Caseload Reporting'!A363 = \"\",\"\",'Caseload Reporting'!A363)","v":""},{"$f":"IF('Caseload Reporting'!B363 = \"\",\"\",'Caseload Reporting'!B363)","v":""},{"$f":"IF('Caseload Reporting'!C363 = \"\",\"\",'Caseload Reporting'!C363)","v":""},{"$f":"IF('Caseload Reporting'!D363 = \"\",\"\",'Caseload Reporting'!D363)","v":""},{"$f":"IF('Caseload Reporting'!G363 = \"\",\"\",'Caseload Reporting'!G363)","v":""},{"$f":"IF('Caseload Reporting'!H363 = \"\",\"\",'Caseload Reporting'!H363)","v":""},{"$f":"IF('Caseload Reporting'!I363 = \"\",\"\",'Caseload Reporting'!I363)","v":""},{"$f":"IF('Caseload Reporting'!J363 = \"\",\"\",'Caseload Reporting'!J363)","v":""},{"$f":"IF('Caseload Reporting'!K363 = \"\",\"\",'Caseload Reporting'!K363)","v":""},{"$f":"IF('Caseload Reporting'!L363 = \"\",\"\",'Caseload Reporting'!L363)","v":""},{"$f":"IF('Caseload Reporting'!M363 = \"\",\"\",'Caseload Reporting'!M363)","v":""},{"$f":"IF('Caseload Reporting'!N363 = \"\",\"\",'Caseload Reporting'!N363)","v":""},{"$f":"IF('Caseload Reporting'!P363 = \"\",\"\",'Caseload Reporting'!P363)","v":""},{"$f":"IF('Caseload Reporting'!O363 = \"\",\"\",'Caseload Reporting'!O363)","v":""},{"$f":"IF('Caseload Reporting'!Q363 = \"\",\"\",'Caseload Reporting'!Q363)","v":""},{"$f":"IF('Caseload Reporting'!R363 = \"\",\"\",'Caseload Reporting'!R363)","v":""},{"$f":"IF('Caseload Reporting'!E363 = \"\",\"\",'Caseload Reporting'!E363)","v":""},{"$f":"IF('Caseload Reporting'!S363 = \"\",\"\",'Caseload Reporting'!S363)","v":""}]
[{"$f":"IF('Caseload Reporting'!A364 = \"\",\"\",'Caseload Reporting'!A364)","v":""},{"$f":"IF('Caseload Reporting'!B364 = \"\",\"\",'Caseload Reporting'!B364)","v":""},{"$f":"IF('Caseload Reporting'!C364 = \"\",\"\",'Caseload Reporting'!C364)","v":""},{"$f":"IF('Caseload Reporting'!D364 = \"\",\"\",'Caseload Reporting'!D364)","v":""},{"$f":"IF('Caseload Reporting'!G364 = \"\",\"\",'Caseload Reporting'!G364)","v":""},{"$f":"IF('Caseload Reporting'!H364 = \"\",\"\",'Caseload Reporting'!H364)","v":""},{"$f":"IF('Caseload Reporting'!I364 = \"\",\"\",'Caseload Reporting'!I364)","v":""},{"$f":"IF('Caseload Reporting'!J364 = \"\",\"\",'Caseload Reporting'!J364)","v":""},{"$f":"IF('Caseload Reporting'!K364 = \"\",\"\",'Caseload Reporting'!K364)","v":""},{"$f":"IF('Caseload Reporting'!L364 = \"\",\"\",'Caseload Reporting'!L364)","v":""},{"$f":"IF('Caseload Reporting'!M364 = \"\",\"\",'Caseload Reporting'!M364)","v":""},{"$f":"IF('Caseload Reporting'!N364 = \"\",\"\",'Caseload Reporting'!N364)","v":""},{"$f":"IF('Caseload Reporting'!P364 = \"\",\"\",'Caseload Reporting'!P364)","v":""},{"$f":"IF('Caseload Reporting'!O364 = \"\",\"\",'Caseload Reporting'!O364)","v":""},{"$f":"IF('Caseload Reporting'!Q364 = \"\",\"\",'Caseload Reporting'!Q364)","v":""},{"$f":"IF('Caseload Reporting'!R364 = \"\",\"\",'Caseload Reporting'!R364)","v":""},{"$f":"IF('Caseload Reporting'!E364 = \"\",\"\",'Caseload Reporting'!E364)","v":""},{"$f":"IF('Caseload Reporting'!S364 = \"\",\"\",'Caseload Reporting'!S364)","v":""}]
[{"$f":"IF('Caseload Reporting'!A365 = \"\",\"\",'Caseload Reporting'!A365)","v":""},{"$f":"IF('Caseload Reporting'!B365 = \"\",\"\",'Caseload Reporting'!B365)","v":""},{"$f":"IF('Caseload Reporting'!C365 = \"\",\"\",'Caseload Reporting'!C365)","v":""},{"$f":"IF('Caseload Reporting'!D365 = \"\",\"\",'Caseload Reporting'!D365)","v":""},{"$f":"IF('Caseload Reporting'!G365 = \"\",\"\",'Caseload Reporting'!G365)","v":""},{"$f":"IF('Caseload Reporting'!H365 = \"\",\"\",'Caseload Reporting'!H365)","v":""},{"$f":"IF('Caseload Reporting'!I365 = \"\",\"\",'Caseload Reporting'!I365)","v":""},{"$f":"IF('Caseload Reporting'!J365 = \"\",\"\",'Caseload Reporting'!J365)","v":""},{"$f":"IF('Caseload Reporting'!K365 = \"\",\"\",'Caseload Reporting'!K365)","v":""},{"$f":"IF('Caseload Reporting'!L365 = \"\",\"\",'Caseload Reporting'!L365)","v":""},{"$f":"IF('Caseload Reporting'!M365 = \"\",\"\",'Caseload Reporting'!M365)","v":""},{"$f":"IF('Caseload Reporting'!N365 = \"\",\"\",'Caseload Reporting'!N365)","v":""},{"$f":"IF('Caseload Reporting'!P365 = \"\",\"\",'Caseload Reporting'!P365)","v":""},{"$f":"IF('Caseload Reporting'!O365 = \"\",\"\",'Caseload Reporting'!O365)","v":""},{"$f":"IF('Caseload Reporting'!Q365 = \"\",\"\",'Caseload Reporting'!Q365)","v":""},{"$f":"IF('Caseload Reporting'!R365 = \"\",\"\",'Caseload Reporting'!R365)","v":""},{"$f":"IF('Caseload Reporting'!E365 = \"\",\"\",'Caseload Reporting'!E365)","v":""},{"$f":"IF('Caseload Reporting'!S365 = \"\",\"\",'Caseload Reporting'!S365)","v":""}]
[{"$f":"IF('Caseload Reporting'!A366 = \"\",\"\",'Caseload Reporting'!A366)","v":""},{"$f":"IF('Caseload Reporting'!B366 = \"\",\"\",'Caseload Reporting'!B366)","v":""},{"$f":"IF('Caseload Reporting'!C366 = \"\",\"\",'Caseload Reporting'!C366)","v":""},{"$f":"IF('Caseload Reporting'!D366 = \"\",\"\",'Caseload Reporting'!D366)","v":""},{"$f":"IF('Caseload Reporting'!G366 = \"\",\"\",'Caseload Reporting'!G366)","v":""},{"$f":"IF('Caseload Reporting'!H366 = \"\",\"\",'Caseload Reporting'!H366)","v":""},{"$f":"IF('Caseload Reporting'!I366 = \"\",\"\",'Caseload Reporting'!I366)","v":""},{"$f":"IF('Caseload Reporting'!J366 = \"\",\"\",'Caseload Reporting'!J366)","v":""},{"$f":"IF('Caseload Reporting'!K366 = \"\",\"\",'Caseload Reporting'!K366)","v":""},{"$f":"IF('Caseload Reporting'!L366 = \"\",\"\",'Caseload Reporting'!L366)","v":""},{"$f":"IF('Caseload Reporting'!M366 = \"\",\"\",'Caseload Reporting'!M366)","v":""},{"$f":"IF('Caseload Reporting'!N366 = \"\",\"\",'Caseload Reporting'!N366)","v":""},{"$f":"IF('Caseload Reporting'!P366 = \"\",\"\",'Caseload Reporting'!P366)","v":""},{"$f":"IF('Caseload Reporting'!O366 = \"\",\"\",'Caseload Reporting'!O366)","v":""},{"$f":"IF('Caseload Reporting'!Q366 = \"\",\"\",'Caseload Reporting'!Q366)","v":""},{"$f":"IF('Caseload Reporting'!R366 = \"\",\"\",'Caseload Reporting'!R366)","v":""},{"$f":"IF('Caseload Reporting'!E366 = \"\",\"\",'Caseload Reporting'!E366)","v":""},{"$f":"IF('Caseload Reporting'!S366 = \"\",\"\",'Caseload Reporting'!S366)","v":""}]
[{"$f":"IF('Caseload Reporting'!A367 = \"\",\"\",'Caseload Reporting'!A367)","v":""},{"$f":"IF('Caseload Reporting'!B367 = \"\",\"\",'Caseload Reporting'!B367)","v":""},{"$f":"IF('Caseload Reporting'!C367 = \"\",\"\",'Caseload Reporting'!C367)","v":""},{"$f":"IF('Caseload Reporting'!D367 = \"\",\"\",'Caseload Reporting'!D367)","v":""},{"$f":"IF('Caseload Reporting'!G367 = \"\",\"\",'Caseload Reporting'!G367)","v":""},{"$f":"IF('Caseload Reporting'!H367 = \"\",\"\",'Caseload Reporting'!H367)","v":""},{"$f":"IF('Caseload Reporting'!I367 = \"\",\"\",'Caseload Reporting'!I367)","v":""},{"$f":"IF('Caseload Reporting'!J367 = \"\",\"\",'Caseload Reporting'!J367)","v":""},{"$f":"IF('Caseload Reporting'!K367 = \"\",\"\",'Caseload Reporting'!K367)","v":""},{"$f":"IF('Caseload Reporting'!L367 = \"\",\"\",'Caseload Reporting'!L367)","v":""},{"$f":"IF('Caseload Reporting'!M367 = \"\",\"\",'Caseload Reporting'!M367)","v":""},{"$f":"IF('Caseload Reporting'!N367 = \"\",\"\",'Caseload Reporting'!N367)","v":""},{"$f":"IF('Caseload Reporting'!P367 = \"\",\"\",'Caseload Reporting'!P367)","v":""},{"$f":"IF('Caseload Reporting'!O367 = \"\",\"\",'Caseload Reporting'!O367)","v":""},{"$f":"IF('Caseload Reporting'!Q367 = \"\",\"\",'Caseload Reporting'!Q367)","v":""},{"$f":"IF('Caseload Reporting'!R367 = \"\",\"\",'Caseload Reporting'!R367)","v":""},{"$f":"IF('Caseload Reporting'!E367 = \"\",\"\",'Caseload Reporting'!E367)","v":""},{"$f":"IF('Caseload Reporting'!S367 = \"\",\"\",'Caseload Reporting'!S367)","v":""}]
[{"$f":"IF('Caseload Reporting'!A368 = \"\",\"\",'Caseload Reporting'!A368)","v":""},{"$f":"IF('Caseload Reporting'!B368 = \"\",\"\",'Caseload Reporting'!B368)","v":""},{"$f":"IF('Caseload Reporting'!C368 = \"\",\"\",'Caseload Reporting'!C368)","v":""},{"$f":"IF('Caseload Reporting'!D368 = \"\",\"\",'Caseload Reporting'!D368)","v":""},{"$f":"IF('Caseload Reporting'!G368 = \"\",\"\",'Caseload Reporting'!G368)","v":""},{"$f":"IF('Caseload Reporting'!H368 = \"\",\"\",'Caseload Reporting'!H368)","v":""},{"$f":"IF('Caseload Reporting'!I368 = \"\",\"\",'Caseload Reporting'!I368)","v":""},{"$f":"IF('Caseload Reporting'!J368 = \"\",\"\",'Caseload Reporting'!J368)","v":""},{"$f":"IF('Caseload Reporting'!K368 = \"\",\"\",'Caseload Reporting'!K368)","v":""},{"$f":"IF('Caseload Reporting'!L368 = \"\",\"\",'Caseload Reporting'!L368)","v":""},{"$f":"IF('Caseload Reporting'!M368 = \"\",\"\",'Caseload Reporting'!M368)","v":""},{"$f":"IF('Caseload Reporting'!N368 = \"\",\"\",'Caseload Reporting'!N368)","v":""},{"$f":"IF('Caseload Reporting'!P368 = \"\",\"\",'Caseload Reporting'!P368)","v":""},{"$f":"IF('Caseload Reporting'!O368 = \"\",\"\",'Caseload Reporting'!O368)","v":""},{"$f":"IF('Caseload Reporting'!Q368 = \"\",\"\",'Caseload Reporting'!Q368)","v":""},{"$f":"IF('Caseload Reporting'!R368 = \"\",\"\",'Caseload Reporting'!R368)","v":""},{"$f":"IF('Caseload Reporting'!E368 = \"\",\"\",'Caseload Reporting'!E368)","v":""},{"$f":"IF('Caseload Reporting'!S368 = \"\",\"\",'Caseload Reporting'!S368)","v":""}]
[{"$f":"IF('Caseload Reporting'!A369 = \"\",\"\",'Caseload Reporting'!A369)","v":""},{"$f":"IF('Caseload Reporting'!B369 = \"\",\"\",'Caseload Reporting'!B369)","v":""},{"$f":"IF('Caseload Reporting'!C369 = \"\",\"\",'Caseload Reporting'!C369)","v":""},{"$f":"IF('Caseload Reporting'!D369 = \"\",\"\",'Caseload Reporting'!D369)","v":""},{"$f":"IF('Caseload Reporting'!G369 = \"\",\"\",'Caseload Reporting'!G369)","v":""},{"$f":"IF('Caseload Reporting'!H369 = \"\",\"\",'Caseload Reporting'!H369)","v":""},{"$f":"IF('Caseload Reporting'!I369 = \"\",\"\",'Caseload Reporting'!I369)","v":""},{"$f":"IF('Caseload Reporting'!J369 = \"\",\"\",'Caseload Reporting'!J369)","v":""},{"$f":"IF('Caseload Reporting'!K369 = \"\",\"\",'Caseload Reporting'!K369)","v":""},{"$f":"IF('Caseload Reporting'!L369 = \"\",\"\",'Caseload Reporting'!L369)","v":""},{"$f":"IF('Caseload Reporting'!M369 = \"\",\"\",'Caseload Reporting'!M369)","v":""},{"$f":"IF('Caseload Reporting'!N369 = \"\",\"\",'Caseload Reporting'!N369)","v":""},{"$f":"IF('Caseload Reporting'!P369 = \"\",\"\",'Caseload Reporting'!P369)","v":""},{"$f":"IF('Caseload Reporting'!O369 = \"\",\"\",'Caseload Reporting'!O369)","v":""},{"$f":"IF('Caseload Reporting'!Q369 = \"\",\"\",'Caseload Reporting'!Q369)","v":""},{"$f":"IF('Caseload Reporting'!R369 = \"\",\"\",'Caseload Reporting'!R369)","v":""},{"$f":"IF('Caseload Reporting'!E369 = \"\",\"\",'Caseload Reporting'!E369)","v":""},{"$f":"IF('Caseload Reporting'!S369 = \"\",\"\",'Caseload Reporting'!S369)","v":""}]
[{"$f":"IF('Caseload Reporting'!A370 = \"\",\"\",'Caseload Reporting'!A370)","v":""},{"$f":"IF('Caseload Reporting'!B370 = \"\",\"\",'Caseload Reporting'!B370)","v":""},{"$f":"IF('Caseload Reporting'!C370 = \"\",\"\",'Caseload Reporting'!C370)","v":""},{"$f":"IF('Caseload Reporting'!D370 = \"\",\"\",'Caseload Reporting'!D370)","v":""},{"$f":"IF('Caseload Reporting'!G370 = \"\",\"\",'Caseload Reporting'!G370)","v":""},{"$f":"IF('Caseload Reporting'!H370 = \"\",\"\",'Caseload Reporting'!H370)","v":""},{"$f":"IF('Caseload Reporting'!I370 = \"\",\"\",'Caseload Reporting'!I370)","v":""},{"$f":"IF('Caseload Reporting'!J370 = \"\",\"\",'Caseload Reporting'!J370)","v":""},{"$f":"IF('Caseload Reporting'!K370 = \"\",\"\",'Caseload Reporting'!K370)","v":""},{"$f":"IF('Caseload Reporting'!L370 = \"\",\"\",'Caseload Reporting'!L370)","v":""},{"$f":"IF('Caseload Reporting'!M370 = \"\",\"\",'Caseload Reporting'!M370)","v":""},{"$f":"IF('Caseload Reporting'!N370 = \"\",\"\",'Caseload Reporting'!N370)","v":""},{"$f":"IF('Caseload Reporting'!P370 = \"\",\"\",'Caseload Reporting'!P370)","v":""},{"$f":"IF('Caseload Reporting'!O370 = \"\",\"\",'Caseload Reporting'!O370)","v":""},{"$f":"IF('Caseload Reporting'!Q370 = \"\",\"\",'Caseload Reporting'!Q370)","v":""},{"$f":"IF('Caseload Reporting'!R370 = \"\",\"\",'Caseload Reporting'!R370)","v":""},{"$f":"IF('Caseload Reporting'!E370 = \"\",\"\",'Caseload Reporting'!E370)","v":""},{"$f":"IF('Caseload Reporting'!S370 = \"\",\"\",'Caseload Reporting'!S370)","v":""}]
[{"$f":"IF('Caseload Reporting'!A371 = \"\",\"\",'Caseload Reporting'!A371)","v":""},{"$f":"IF('Caseload Reporting'!B371 = \"\",\"\",'Caseload Reporting'!B371)","v":""},{"$f":"IF('Caseload Reporting'!C371 = \"\",\"\",'Caseload Reporting'!C371)","v":""},{"$f":"IF('Caseload Reporting'!D371 = \"\",\"\",'Caseload Reporting'!D371)","v":""},{"$f":"IF('Caseload Reporting'!G371 = \"\",\"\",'Caseload Reporting'!G371)","v":""},{"$f":"IF('Caseload Reporting'!H371 = \"\",\"\",'Caseload Reporting'!H371)","v":""},{"$f":"IF('Caseload Reporting'!I371 = \"\",\"\",'Caseload Reporting'!I371)","v":""},{"$f":"IF('Caseload Reporting'!J371 = \"\",\"\",'Caseload Reporting'!J371)","v":""},{"$f":"IF('Caseload Reporting'!K371 = \"\",\"\",'Caseload Reporting'!K371)","v":""},{"$f":"IF('Caseload Reporting'!L371 = \"\",\"\",'Caseload Reporting'!L371)","v":""},{"$f":"IF('Caseload Reporting'!M371 = \"\",\"\",'Caseload Reporting'!M371)","v":""},{"$f":"IF('Caseload Reporting'!N371 = \"\",\"\",'Caseload Reporting'!N371)","v":""},{"$f":"IF('Caseload Reporting'!P371 = \"\",\"\",'Caseload Reporting'!P371)","v":""},{"$f":"IF('Caseload Reporting'!O371 = \"\",\"\",'Caseload Reporting'!O371)","v":""},{"$f":"IF('Caseload Reporting'!Q371 = \"\",\"\",'Caseload Reporting'!Q371)","v":""},{"$f":"IF('Caseload Reporting'!R371 = \"\",\"\",'Caseload Reporting'!R371)","v":""},{"$f":"IF('Caseload Reporting'!E371 = \"\",\"\",'Caseload Reporting'!E371)","v":""},{"$f":"IF('Caseload Reporting'!S371 = \"\",\"\",'Caseload Reporting'!S371)","v":""}]
[{"$f":"IF('Caseload Reporting'!A372 = \"\",\"\",'Caseload Reporting'!A372)","v":""},{"$f":"IF('Caseload Reporting'!B372 = \"\",\"\",'Caseload Reporting'!B372)","v":""},{"$f":"IF('Caseload Reporting'!C372 = \"\",\"\",'Caseload Reporting'!C372)","v":""},{"$f":"IF('Caseload Reporting'!D372 = \"\",\"\",'Caseload Reporting'!D372)","v":""},{"$f":"IF('Caseload Reporting'!G372 = \"\",\"\",'Caseload Reporting'!G372)","v":""},{"$f":"IF('Caseload Reporting'!H372 = \"\",\"\",'Caseload Reporting'!H372)","v":""},{"$f":"IF('Caseload Reporting'!I372 = \"\",\"\",'Caseload Reporting'!I372)","v":""},{"$f":"IF('Caseload Reporting'!J372 = \"\",\"\",'Caseload Reporting'!J372)","v":""},{"$f":"IF('Caseload Reporting'!K372 = \"\",\"\",'Caseload Reporting'!K372)","v":""},{"$f":"IF('Caseload Reporting'!L372 = \"\",\"\",'Caseload Reporting'!L372)","v":""},{"$f":"IF('Caseload Reporting'!M372 = \"\",\"\",'Caseload Reporting'!M372)","v":""},{"$f":"IF('Caseload Reporting'!N372 = \"\",\"\",'Caseload Reporting'!N372)","v":""},{"$f":"IF('Caseload Reporting'!P372 = \"\",\"\",'Caseload Reporting'!P372)","v":""},{"$f":"IF('Caseload Reporting'!O372 = \"\",\"\",'Caseload Reporting'!O372)","v":""},{"$f":"IF('Caseload Reporting'!Q372 = \"\",\"\",'Caseload Reporting'!Q372)","v":""},{"$f":"IF('Caseload Reporting'!R372 = \"\",\"\",'Caseload Reporting'!R372)","v":""},{"$f":"IF('Caseload Reporting'!E372 = \"\",\"\",'Caseload Reporting'!E372)","v":""},{"$f":"IF('Caseload Reporting'!S372 = \"\",\"\",'Caseload Reporting'!S372)","v":""}]
[{"$f":"IF('Caseload Reporting'!A373 = \"\",\"\",'Caseload Reporting'!A373)","v":""},{"$f":"IF('Caseload Reporting'!B373 = \"\",\"\",'Caseload Reporting'!B373)","v":""},{"$f":"IF('Caseload Reporting'!C373 = \"\",\"\",'Caseload Reporting'!C373)","v":""},{"$f":"IF('Caseload Reporting'!D373 = \"\",\"\",'Caseload Reporting'!D373)","v":""},{"$f":"IF('Caseload Reporting'!G373 = \"\",\"\",'Caseload Reporting'!G373)","v":""},{"$f":"IF('Caseload Reporting'!H373 = \"\",\"\",'Caseload Reporting'!H373)","v":""},{"$f":"IF('Caseload Reporting'!I373 = \"\",\"\",'Caseload Reporting'!I373)","v":""},{"$f":"IF('Caseload Reporting'!J373 = \"\",\"\",'Caseload Reporting'!J373)","v":""},{"$f":"IF('Caseload Reporting'!K373 = \"\",\"\",'Caseload Reporting'!K373)","v":""},{"$f":"IF('Caseload Reporting'!L373 = \"\",\"\",'Caseload Reporting'!L373)","v":""},{"$f":"IF('Caseload Reporting'!M373 = \"\",\"\",'Caseload Reporting'!M373)","v":""},{"$f":"IF('Caseload Reporting'!N373 = \"\",\"\",'Caseload Reporting'!N373)","v":""},{"$f":"IF('Caseload Reporting'!P373 = \"\",\"\",'Caseload Reporting'!P373)","v":""},{"$f":"IF('Caseload Reporting'!O373 = \"\",\"\",'Caseload Reporting'!O373)","v":""},{"$f":"IF('Caseload Reporting'!Q373 = \"\",\"\",'Caseload Reporting'!Q373)","v":""},{"$f":"IF('Caseload Reporting'!R373 = \"\",\"\",'Caseload Reporting'!R373)","v":""},{"$f":"IF('Caseload Reporting'!E373 = \"\",\"\",'Caseload Reporting'!E373)","v":""},{"$f":"IF('Caseload Reporting'!S373 = \"\",\"\",'Caseload Reporting'!S373)","v":""}]
[{"$f":"IF('Caseload Reporting'!A374 = \"\",\"\",'Caseload Reporting'!A374)","v":""},{"$f":"IF('Caseload Reporting'!B374 = \"\",\"\",'Caseload Reporting'!B374)","v":""},{"$f":"IF('Caseload Reporting'!C374 = \"\",\"\",'Caseload Reporting'!C374)","v":""},{"$f":"IF('Caseload Reporting'!D374 = \"\",\"\",'Caseload Reporting'!D374)","v":""},{"$f":"IF('Caseload Reporting'!G374 = \"\",\"\",'Caseload Reporting'!G374)","v":""},{"$f":"IF('Caseload Reporting'!H374 = \"\",\"\",'Caseload Reporting'!H374)","v":""},{"$f":"IF('Caseload Reporting'!I374 = \"\",\"\",'Caseload Reporting'!I374)","v":""},{"$f":"IF('Caseload Reporting'!J374 = \"\",\"\",'Caseload Reporting'!J374)","v":""},{"$f":"IF('Caseload Reporting'!K374 = \"\",\"\",'Caseload Reporting'!K374)","v":""},{"$f":"IF('Caseload Reporting'!L374 = \"\",\"\",'Caseload Reporting'!L374)","v":""},{"$f":"IF('Caseload Reporting'!M374 = \"\",\"\",'Caseload Reporting'!M374)","v":""},{"$f":"IF('Caseload Reporting'!N374 = \"\",\"\",'Caseload Reporting'!N374)","v":""},{"$f":"IF('Caseload Reporting'!P374 = \"\",\"\",'Caseload Reporting'!P374)","v":""},{"$f":"IF('Caseload Reporting'!O374 = \"\",\"\",'Caseload Reporting'!O374)","v":""},{"$f":"IF('Caseload Reporting'!Q374 = \"\",\"\",'Caseload Reporting'!Q374)","v":""},{"$f":"IF('Caseload Reporting'!R374 = \"\",\"\",'Caseload Reporting'!R374)","v":""},{"$f":"IF('Caseload Reporting'!E374 = \"\",\"\",'Caseload Reporting'!E374)","v":""},{"$f":"IF('Caseload Reporting'!S374 = \"\",\"\",'Caseload Reporting'!S374)","v":""}]
[{"$f":"IF('Caseload Reporting'!A375 = \"\",\"\",'Caseload Reporting'!A375)","v":""},{"$f":"IF('Caseload Reporting'!B375 = \"\",\"\",'Caseload Reporting'!B375)","v":""},{"$f":"IF('Caseload Reporting'!C375 = \"\",\"\",'Caseload Reporting'!C375)","v":""},{"$f":"IF('Caseload Reporting'!D375 = \"\",\"\",'Caseload Reporting'!D375)","v":""},{"$f":"IF('Caseload Reporting'!G375 = \"\",\"\",'Caseload Reporting'!G375)","v":""},{"$f":"IF('Caseload Reporting'!H375 = \"\",\"\",'Caseload Reporting'!H375)","v":""},{"$f":"IF('Caseload Reporting'!I375 = \"\",\"\",'Caseload Reporting'!I375)","v":""},{"$f":"IF('Caseload Reporting'!J375 = \"\",\"\",'Caseload Reporting'!J375)","v":""},{"$f":"IF('Caseload Reporting'!K375 = \"\",\"\",'Caseload Reporting'!K375)","v":""},{"$f":"IF('Caseload Reporting'!L375 = \"\",\"\",'Caseload Reporting'!L375)","v":""},{"$f":"IF('Caseload Reporting'!M375 = \"\",\"\",'Caseload Reporting'!M375)","v":""},{"$f":"IF('Caseload Reporting'!N375 = \"\",\"\",'Caseload Reporting'!N375)","v":""},{"$f":"IF('Caseload Reporting'!P375 = \"\",\"\",'Caseload Reporting'!P375)","v":""},{"$f":"IF('Caseload Reporting'!O375 = \"\",\"\",'Caseload Reporting'!O375)","v":""},{"$f":"IF('Caseload Reporting'!Q375 = \"\",\"\",'Caseload Reporting'!Q375)","v":""},{"$f":"IF('Caseload Reporting'!R375 = \"\",\"\",'Caseload Reporting'!R375)","v":""},{"$f":"IF('Caseload Reporting'!E375 = \"\",\"\",'Caseload Reporting'!E375)","v":""},{"$f":"IF('Caseload Reporting'!S375 = \"\",\"\",'Caseload Reporting'!S375)","v":""}]
[{"$f":"IF('Caseload Reporting'!A376 = \"\",\"\",'Caseload Reporting'!A376)","v":""},{"$f":"IF('Caseload Reporting'!B376 = \"\",\"\",'Caseload Reporting'!B376)","v":""},{"$f":"IF('Caseload Reporting'!C376 = \"\",\"\",'Caseload Reporting'!C376)","v":""},{"$f":"IF('Caseload Reporting'!D376 = \"\",\"\",'Caseload Reporting'!D376)","v":""},{"$f":"IF('Caseload Reporting'!G376 = \"\",\"\",'Caseload Reporting'!G376)","v":""},{"$f":"IF('Caseload Reporting'!H376 = \"\",\"\",'Caseload Reporting'!H376)","v":""},{"$f":"IF('Caseload Reporting'!I376 = \"\",\"\",'Caseload Reporting'!I376)","v":""},{"$f":"IF('Caseload Reporting'!J376 = \"\",\"\",'Caseload Reporting'!J376)","v":""},{"$f":"IF('Caseload Reporting'!K376 = \"\",\"\",'Caseload Reporting'!K376)","v":""},{"$f":"IF('Caseload Reporting'!L376 = \"\",\"\",'Caseload Reporting'!L376)","v":""},{"$f":"IF('Caseload Reporting'!M376 = \"\",\"\",'Caseload Reporting'!M376)","v":""},{"$f":"IF('Caseload Reporting'!N376 = \"\",\"\",'Caseload Reporting'!N376)","v":""},{"$f":"IF('Caseload Reporting'!P376 = \"\",\"\",'Caseload Reporting'!P376)","v":""},{"$f":"IF('Caseload Reporting'!O376 = \"\",\"\",'Caseload Reporting'!O376)","v":""},{"$f":"IF('Caseload Reporting'!Q376 = \"\",\"\",'Caseload Reporting'!Q376)","v":""},{"$f":"IF('Caseload Reporting'!R376 = \"\",\"\",'Caseload Reporting'!R376)","v":""},{"$f":"IF('Caseload Reporting'!E376 = \"\",\"\",'Caseload Reporting'!E376)","v":""},{"$f":"IF('Caseload Reporting'!S376 = \"\",\"\",'Caseload Reporting'!S376)","v":""}]
[{"$f":"IF('Caseload Reporting'!A377 = \"\",\"\",'Caseload Reporting'!A377)","v":""},{"$f":"IF('Caseload Reporting'!B377 = \"\",\"\",'Caseload Reporting'!B377)","v":""},{"$f":"IF('Caseload Reporting'!C377 = \"\",\"\",'Caseload Reporting'!C377)","v":""},{"$f":"IF('Caseload Reporting'!D377 = \"\",\"\",'Caseload Reporting'!D377)","v":""},{"$f":"IF('Caseload Reporting'!G377 = \"\",\"\",'Caseload Reporting'!G377)","v":""},{"$f":"IF('Caseload Reporting'!H377 = \"\",\"\",'Caseload Reporting'!H377)","v":""},{"$f":"IF('Caseload Reporting'!I377 = \"\",\"\",'Caseload Reporting'!I377)","v":""},{"$f":"IF('Caseload Reporting'!J377 = \"\",\"\",'Caseload Reporting'!J377)","v":""},{"$f":"IF('Caseload Reporting'!K377 = \"\",\"\",'Caseload Reporting'!K377)","v":""},{"$f":"IF('Caseload Reporting'!L377 = \"\",\"\",'Caseload Reporting'!L377)","v":""},{"$f":"IF('Caseload Reporting'!M377 = \"\",\"\",'Caseload Reporting'!M377)","v":""},{"$f":"IF('Caseload Reporting'!N377 = \"\",\"\",'Caseload Reporting'!N377)","v":""},{"$f":"IF('Caseload Reporting'!P377 = \"\",\"\",'Caseload Reporting'!P377)","v":""},{"$f":"IF('Caseload Reporting'!O377 = \"\",\"\",'Caseload Reporting'!O377)","v":""},{"$f":"IF('Caseload Reporting'!Q377 = \"\",\"\",'Caseload Reporting'!Q377)","v":""},{"$f":"IF('Caseload Reporting'!R377 = \"\",\"\",'Caseload Reporting'!R377)","v":""},{"$f":"IF('Caseload Reporting'!E377 = \"\",\"\",'Caseload Reporting'!E377)","v":""},{"$f":"IF('Caseload Reporting'!S377 = \"\",\"\",'Caseload Reporting'!S377)","v":""}]
[{"$f":"IF('Caseload Reporting'!A378 = \"\",\"\",'Caseload Reporting'!A378)","v":""},{"$f":"IF('Caseload Reporting'!B378 = \"\",\"\",'Caseload Reporting'!B378)","v":""},{"$f":"IF('Caseload Reporting'!C378 = \"\",\"\",'Caseload Reporting'!C378)","v":""},{"$f":"IF('Caseload Reporting'!D378 = \"\",\"\",'Caseload Reporting'!D378)","v":""},{"$f":"IF('Caseload Reporting'!G378 = \"\",\"\",'Caseload Reporting'!G378)","v":""},{"$f":"IF('Caseload Reporting'!H378 = \"\",\"\",'Caseload Reporting'!H378)","v":""},{"$f":"IF('Caseload Reporting'!I378 = \"\",\"\",'Caseload Reporting'!I378)","v":""},{"$f":"IF('Caseload Reporting'!J378 = \"\",\"\",'Caseload Reporting'!J378)","v":""},{"$f":"IF('Caseload Reporting'!K378 = \"\",\"\",'Caseload Reporting'!K378)","v":""},{"$f":"IF('Caseload Reporting'!L378 = \"\",\"\",'Caseload Reporting'!L378)","v":""},{"$f":"IF('Caseload Reporting'!M378 = \"\",\"\",'Caseload Reporting'!M378)","v":""},{"$f":"IF('Caseload Reporting'!N378 = \"\",\"\",'Caseload Reporting'!N378)","v":""},{"$f":"IF('Caseload Reporting'!P378 = \"\",\"\",'Caseload Reporting'!P378)","v":""},{"$f":"IF('Caseload Reporting'!O378 = \"\",\"\",'Caseload Reporting'!O378)","v":""},{"$f":"IF('Caseload Reporting'!Q378 = \"\",\"\",'Caseload Reporting'!Q378)","v":""},{"$f":"IF('Caseload Reporting'!R378 = \"\",\"\",'Caseload Reporting'!R378)","v":""},{"$f":"IF('Caseload Reporting'!E378 = \"\",\"\",'Caseload Reporting'!E378)","v":""},{"$f":"IF('Caseload Reporting'!S378 = \"\",\"\",'Caseload Reporting'!S378)","v":""}]
[{"$f":"IF('Caseload Reporting'!A379 = \"\",\"\",'Caseload Reporting'!A379)","v":""},{"$f":"IF('Caseload Reporting'!B379 = \"\",\"\",'Caseload Reporting'!B379)","v":""},{"$f":"IF('Caseload Reporting'!C379 = \"\",\"\",'Caseload Reporting'!C379)","v":""},{"$f":"IF('Caseload Reporting'!D379 = \"\",\"\",'Caseload Reporting'!D379)","v":""},{"$f":"IF('Caseload Reporting'!G379 = \"\",\"\",'Caseload Reporting'!G379)","v":""},{"$f":"IF('Caseload Reporting'!H379 = \"\",\"\",'Caseload Reporting'!H379)","v":""},{"$f":"IF('Caseload Reporting'!I379 = \"\",\"\",'Caseload Reporting'!I379)","v":""},{"$f":"IF('Caseload Reporting'!J379 = \"\",\"\",'Caseload Reporting'!J379)","v":""},{"$f":"IF('Caseload Reporting'!K379 = \"\",\"\",'Caseload Reporting'!K379)","v":""},{"$f":"IF('Caseload Reporting'!L379 = \"\",\"\",'Caseload Reporting'!L379)","v":""},{"$f":"IF('Caseload Reporting'!M379 = \"\",\"\",'Caseload Reporting'!M379)","v":""},{"$f":"IF('Caseload Reporting'!N379 = \"\",\"\",'Caseload Reporting'!N379)","v":""},{"$f":"IF('Caseload Reporting'!P379 = \"\",\"\",'Caseload Reporting'!P379)","v":""},{"$f":"IF('Caseload Reporting'!O379 = \"\",\"\",'Caseload Reporting'!O379)","v":""},{"$f":"IF('Caseload Reporting'!Q379 = \"\",\"\",'Caseload Reporting'!Q379)","v":""},{"$f":"IF('Caseload Reporting'!R379 = \"\",\"\",'Caseload Reporting'!R379)","v":""},{"$f":"IF('Caseload Reporting'!E379 = \"\",\"\",'Caseload Reporting'!E379)","v":""},{"$f":"IF('Caseload Reporting'!S379 = \"\",\"\",'Caseload Reporting'!S379)","v":""}]
[{"$f":"IF('Caseload Reporting'!A380 = \"\",\"\",'Caseload Reporting'!A380)","v":""},{"$f":"IF('Caseload Reporting'!B380 = \"\",\"\",'Caseload Reporting'!B380)","v":""},{"$f":"IF('Caseload Reporting'!C380 = \"\",\"\",'Caseload Reporting'!C380)","v":""},{"$f":"IF('Caseload Reporting'!D380 = \"\",\"\",'Caseload Reporting'!D380)","v":""},{"$f":"IF('Caseload Reporting'!G380 = \"\",\"\",'Caseload Reporting'!G380)","v":""},{"$f":"IF('Caseload Reporting'!H380 = \"\",\"\",'Caseload Reporting'!H380)","v":""},{"$f":"IF('Caseload Reporting'!I380 = \"\",\"\",'Caseload Reporting'!I380)","v":""},{"$f":"IF('Caseload Reporting'!J380 = \"\",\"\",'Caseload Reporting'!J380)","v":""},{"$f":"IF('Caseload Reporting'!K380 = \"\",\"\",'Caseload Reporting'!K380)","v":""},{"$f":"IF('Caseload Reporting'!L380 = \"\",\"\",'Caseload Reporting'!L380)","v":""},{"$f":"IF('Caseload Reporting'!M380 = \"\",\"\",'Caseload Reporting'!M380)","v":""},{"$f":"IF('Caseload Reporting'!N380 = \"\",\"\",'Caseload Reporting'!N380)","v":""},{"$f":"IF('Caseload Reporting'!P380 = \"\",\"\",'Caseload Reporting'!P380)","v":""},{"$f":"IF('Caseload Reporting'!O380 = \"\",\"\",'Caseload Reporting'!O380)","v":""},{"$f":"IF('Caseload Reporting'!Q380 = \"\",\"\",'Caseload Reporting'!Q380)","v":""},{"$f":"IF('Caseload Reporting'!R380 = \"\",\"\",'Caseload Reporting'!R380)","v":""},{"$f":"IF('Caseload Reporting'!E380 = \"\",\"\",'Caseload Reporting'!E380)","v":""},{"$f":"IF('Caseload Reporting'!S380 = \"\",\"\",'Caseload Reporting'!S380)","v":""}]
[{"$f":"IF('Caseload Reporting'!A381 = \"\",\"\",'Caseload Reporting'!A381)","v":""},{"$f":"IF('Caseload Reporting'!B381 = \"\",\"\",'Caseload Reporting'!B381)","v":""},{"$f":"IF('Caseload Reporting'!C381 = \"\",\"\",'Caseload Reporting'!C381)","v":""},{"$f":"IF('Caseload Reporting'!D381 = \"\",\"\",'Caseload Reporting'!D381)","v":""},{"$f":"IF('Caseload Reporting'!G381 = \"\",\"\",'Caseload Reporting'!G381)","v":""},{"$f":"IF('Caseload Reporting'!H381 = \"\",\"\",'Caseload Reporting'!H381)","v":""},{"$f":"IF('Caseload Reporting'!I381 = \"\",\"\",'Caseload Reporting'!I381)","v":""},{"$f":"IF('Caseload Reporting'!J381 = \"\",\"\",'Caseload Reporting'!J381)","v":""},{"$f":"IF('Caseload Reporting'!K381 = \"\",\"\",'Caseload Reporting'!K381)","v":""},{"$f":"IF('Caseload Reporting'!L381 = \"\",\"\",'Caseload Reporting'!L381)","v":""},{"$f":"IF('Caseload Reporting'!M381 = \"\",\"\",'Caseload Reporting'!M381)","v":""},{"$f":"IF('Caseload Reporting'!N381 = \"\",\"\",'Caseload Reporting'!N381)","v":""},{"$f":"IF('Caseload Reporting'!P381 = \"\",\"\",'Caseload Reporting'!P381)","v":""},{"$f":"IF('Caseload Reporting'!O381 = \"\",\"\",'Caseload Reporting'!O381)","v":""},{"$f":"IF('Caseload Reporting'!Q381 = \"\",\"\",'Caseload Reporting'!Q381)","v":""},{"$f":"IF('Caseload Reporting'!R381 = \"\",\"\",'Caseload Reporting'!R381)","v":""},{"$f":"IF('Caseload Reporting'!E381 = \"\",\"\",'Caseload Reporting'!E381)","v":""},{"$f":"IF('Caseload Reporting'!S381 = \"\",\"\",'Caseload Reporting'!S381)","v":""}]
[{"$f":"IF('Caseload Reporting'!A382 = \"\",\"\",'Caseload Reporting'!A382)","v":""},{"$f":"IF('Caseload Reporting'!B382 = \"\",\"\",'Caseload Reporting'!B382)","v":""},{"$f":"IF('Caseload Reporting'!C382 = \"\",\"\",'Caseload Reporting'!C382)","v":""},{"$f":"IF('Caseload Reporting'!D382 = \"\",\"\",'Caseload Reporting'!D382)","v":""},{"$f":"IF('Caseload Reporting'!G382 = \"\",\"\",'Caseload Reporting'!G382)","v":""},{"$f":"IF('Caseload Reporting'!H382 = \"\",\"\",'Caseload Reporting'!H382)","v":""},{"$f":"IF('Caseload Reporting'!I382 = \"\",\"\",'Caseload Reporting'!I382)","v":""},{"$f":"IF('Caseload Reporting'!J382 = \"\",\"\",'Caseload Reporting'!J382)","v":""},{"$f":"IF('Caseload Reporting'!K382 = \"\",\"\",'Caseload Reporting'!K382)","v":""},{"$f":"IF('Caseload Reporting'!L382 = \"\",\"\",'Caseload Reporting'!L382)","v":""},{"$f":"IF('Caseload Reporting'!M382 = \"\",\"\",'Caseload Reporting'!M382)","v":""},{"$f":"IF('Caseload Reporting'!N382 = \"\",\"\",'Caseload Reporting'!N382)","v":""},{"$f":"IF('Caseload Reporting'!P382 = \"\",\"\",'Caseload Reporting'!P382)","v":""},{"$f":"IF('Caseload Reporting'!O382 = \"\",\"\",'Caseload Reporting'!O382)","v":""},{"$f":"IF('Caseload Reporting'!Q382 = \"\",\"\",'Caseload Reporting'!Q382)","v":""},{"$f":"IF('Caseload Reporting'!R382 = \"\",\"\",'Caseload Reporting'!R382)","v":""},{"$f":"IF('Caseload Reporting'!E382 = \"\",\"\",'Caseload Reporting'!E382)","v":""},{"$f":"IF('Caseload Reporting'!S382 = \"\",\"\",'Caseload Reporting'!S382)","v":""}]
[{"$f":"IF('Caseload Reporting'!A383 = \"\",\"\",'Caseload Reporting'!A383)","v":""},{"$f":"IF('Caseload Reporting'!B383 = \"\",\"\",'Caseload Reporting'!B383)","v":""},{"$f":"IF('Caseload Reporting'!C383 = \"\",\"\",'Caseload Reporting'!C383)","v":""},{"$f":"IF('Caseload Reporting'!D383 = \"\",\"\",'Caseload Reporting'!D383)","v":""},{"$f":"IF('Caseload Reporting'!G383 = \"\",\"\",'Caseload Reporting'!G383)","v":""},{"$f":"IF('Caseload Reporting'!H383 = \"\",\"\",'Caseload Reporting'!H383)","v":""},{"$f":"IF('Caseload Reporting'!I383 = \"\",\"\",'Caseload Reporting'!I383)","v":""},{"$f":"IF('Caseload Reporting'!J383 = \"\",\"\",'Caseload Reporting'!J383)","v":""},{"$f":"IF('Caseload Reporting'!K383 = \"\",\"\",'Caseload Reporting'!K383)","v":""},{"$f":"IF('Caseload Reporting'!L383 = \"\",\"\",'Caseload Reporting'!L383)","v":""},{"$f":"IF('Caseload Reporting'!M383 = \"\",\"\",'Caseload Reporting'!M383)","v":""},{"$f":"IF('Caseload Reporting'!N383 = \"\",\"\",'Caseload Reporting'!N383)","v":""},{"$f":"IF('Caseload Reporting'!P383 = \"\",\"\",'Caseload Reporting'!P383)","v":""},{"$f":"IF('Caseload Reporting'!O383 = \"\",\"\",'Caseload Reporting'!O383)","v":""},{"$f":"IF('Caseload Reporting'!Q383 = \"\",\"\",'Caseload Reporting'!Q383)","v":""},{"$f":"IF('Caseload Reporting'!R383 = \"\",\"\",'Caseload Reporting'!R383)","v":""},{"$f":"IF('Caseload Reporting'!E383 = \"\",\"\",'Caseload Reporting'!E383)","v":""},{"$f":"IF('Caseload Reporting'!S383 = \"\",\"\",'Caseload Reporting'!S383)","v":""}]
[{"$f":"IF('Caseload Reporting'!A384 = \"\",\"\",'Caseload Reporting'!A384)","v":""},{"$f":"IF('Caseload Reporting'!B384 = \"\",\"\",'Caseload Reporting'!B384)","v":""},{"$f":"IF('Caseload Reporting'!C384 = \"\",\"\",'Caseload Reporting'!C384)","v":""},{"$f":"IF('Caseload Reporting'!D384 = \"\",\"\",'Caseload Reporting'!D384)","v":""},{"$f":"IF('Caseload Reporting'!G384 = \"\",\"\",'Caseload Reporting'!G384)","v":""},{"$f":"IF('Caseload Reporting'!H384 = \"\",\"\",'Caseload Reporting'!H384)","v":""},{"$f":"IF('Caseload Reporting'!I384 = \"\",\"\",'Caseload Reporting'!I384)","v":""},{"$f":"IF('Caseload Reporting'!J384 = \"\",\"\",'Caseload Reporting'!J384)","v":""},{"$f":"IF('Caseload Reporting'!K384 = \"\",\"\",'Caseload Reporting'!K384)","v":""},{"$f":"IF('Caseload Reporting'!L384 = \"\",\"\",'Caseload Reporting'!L384)","v":""},{"$f":"IF('Caseload Reporting'!M384 = \"\",\"\",'Caseload Reporting'!M384)","v":""},{"$f":"IF('Caseload Reporting'!N384 = \"\",\"\",'Caseload Reporting'!N384)","v":""},{"$f":"IF('Caseload Reporting'!P384 = \"\",\"\",'Caseload Reporting'!P384)","v":""},{"$f":"IF('Caseload Reporting'!O384 = \"\",\"\",'Caseload Reporting'!O384)","v":""},{"$f":"IF('Caseload Reporting'!Q384 = \"\",\"\",'Caseload Reporting'!Q384)","v":""},{"$f":"IF('Caseload Reporting'!R384 = \"\",\"\",'Caseload Reporting'!R384)","v":""},{"$f":"IF('Caseload Reporting'!E384 = \"\",\"\",'Caseload Reporting'!E384)","v":""},{"$f":"IF('Caseload Reporting'!S384 = \"\",\"\",'Caseload Reporting'!S384)","v":""}]
[{"$f":"IF('Caseload Reporting'!A385 = \"\",\"\",'Caseload Reporting'!A385)","v":""},{"$f":"IF('Caseload Reporting'!B385 = \"\",\"\",'Caseload Reporting'!B385)","v":""},{"$f":"IF('Caseload Reporting'!C385 = \"\",\"\",'Caseload Reporting'!C385)","v":""},{"$f":"IF('Caseload Reporting'!D385 = \"\",\"\",'Caseload Reporting'!D385)","v":""},{"$f":"IF('Caseload Reporting'!G385 = \"\",\"\",'Caseload Reporting'!G385)","v":""},{"$f":"IF('Caseload Reporting'!H385 = \"\",\"\",'Caseload Reporting'!H385)","v":""},{"$f":"IF('Caseload Reporting'!I385 = \"\",\"\",'Caseload Reporting'!I385)","v":""},{"$f":"IF('Caseload Reporting'!J385 = \"\",\"\",'Caseload Reporting'!J385)","v":""},{"$f":"IF('Caseload Reporting'!K385 = \"\",\"\",'Caseload Reporting'!K385)","v":""},{"$f":"IF('Caseload Reporting'!L385 = \"\",\"\",'Caseload Reporting'!L385)","v":""},{"$f":"IF('Caseload Reporting'!M385 = \"\",\"\",'Caseload Reporting'!M385)","v":""},{"$f":"IF('Caseload Reporting'!N385 = \"\",\"\",'Caseload Reporting'!N385)","v":""},{"$f":"IF('Caseload Reporting'!P385 = \"\",\"\",'Caseload Reporting'!P385)","v":""},{"$f":"IF('Caseload Reporting'!O385 = \"\",\"\",'Caseload Reporting'!O385)","v":""},{"$f":"IF('Caseload Reporting'!Q385 = \"\",\"\",'Caseload Reporting'!Q385)","v":""},{"$f":"IF('Caseload Reporting'!R385 = \"\",\"\",'Caseload Reporting'!R385)","v":""},{"$f":"IF('Caseload Reporting'!E385 = \"\",\"\",'Caseload Reporting'!E385)","v":""},{"$f":"IF('Caseload Reporting'!S385 = \"\",\"\",'Caseload Reporting'!S385)","v":""}]
[{"$f":"IF('Caseload Reporting'!A386 = \"\",\"\",'Caseload Reporting'!A386)","v":""},{"$f":"IF('Caseload Reporting'!B386 = \"\",\"\",'Caseload Reporting'!B386)","v":""},{"$f":"IF('Caseload Reporting'!C386 = \"\",\"\",'Caseload Reporting'!C386)","v":""},{"$f":"IF('Caseload Reporting'!D386 = \"\",\"\",'Caseload Reporting'!D386)","v":""},{"$f":"IF('Caseload Reporting'!G386 = \"\",\"\",'Caseload Reporting'!G386)","v":""},{"$f":"IF('Caseload Reporting'!H386 = \"\",\"\",'Caseload Reporting'!H386)","v":""},{"$f":"IF('Caseload Reporting'!I386 = \"\",\"\",'Caseload Reporting'!I386)","v":""},{"$f":"IF('Caseload Reporting'!J386 = \"\",\"\",'Caseload Reporting'!J386)","v":""},{"$f":"IF('Caseload Reporting'!K386 = \"\",\"\",'Caseload Reporting'!K386)","v":""},{"$f":"IF('Caseload Reporting'!L386 = \"\",\"\",'Caseload Reporting'!L386)","v":""},{"$f":"IF('Caseload Reporting'!M386 = \"\",\"\",'Caseload Reporting'!M386)","v":""},{"$f":"IF('Caseload Reporting'!N386 = \"\",\"\",'Caseload Reporting'!N386)","v":""},{"$f":"IF('Caseload Reporting'!P386 = \"\",\"\",'Caseload Reporting'!P386)","v":""},{"$f":"IF('Caseload Reporting'!O386 = \"\",\"\",'Caseload Reporting'!O386)","v":""},{"$f":"IF('Caseload Reporting'!Q386 = \"\",\"\",'Caseload Reporting'!Q386)","v":""},{"$f":"IF('Caseload Reporting'!R386 = \"\",\"\",'Caseload Reporting'!R386)","v":""},{"$f":"IF('Caseload Reporting'!E386 = \"\",\"\",'Caseload Reporting'!E386)","v":""},{"$f":"IF('Caseload Reporting'!S386 = \"\",\"\",'Caseload Reporting'!S386)","v":""}]
[{"$f":"IF('Caseload Reporting'!A387 = \"\",\"\",'Caseload Reporting'!A387)","v":""},{"$f":"IF('Caseload Reporting'!B387 = \"\",\"\",'Caseload Reporting'!B387)","v":""},{"$f":"IF('Caseload Reporting'!C387 = \"\",\"\",'Caseload Reporting'!C387)","v":""},{"$f":"IF('Caseload Reporting'!D387 = \"\",\"\",'Caseload Reporting'!D387)","v":""},{"$f":"IF('Caseload Reporting'!G387 = \"\",\"\",'Caseload Reporting'!G387)","v":""},{"$f":"IF('Caseload Reporting'!H387 = \"\",\"\",'Caseload Reporting'!H387)","v":""},{"$f":"IF('Caseload Reporting'!I387 = \"\",\"\",'Caseload Reporting'!I387)","v":""},{"$f":"IF('Caseload Reporting'!J387 = \"\",\"\",'Caseload Reporting'!J387)","v":""},{"$f":"IF('Caseload Reporting'!K387 = \"\",\"\",'Caseload Reporting'!K387)","v":""},{"$f":"IF('Caseload Reporting'!L387 = \"\",\"\",'Caseload Reporting'!L387)","v":""},{"$f":"IF('Caseload Reporting'!M387 = \"\",\"\",'Caseload Reporting'!M387)","v":""},{"$f":"IF('Caseload Reporting'!N387 = \"\",\"\",'Caseload Reporting'!N387)","v":""},{"$f":"IF('Caseload Reporting'!P387 = \"\",\"\",'Caseload Reporting'!P387)","v":""},{"$f":"IF('Caseload Reporting'!O387 = \"\",\"\",'Caseload Reporting'!O387)","v":""},{"$f":"IF('Caseload Reporting'!Q387 = \"\",\"\",'Caseload Reporting'!Q387)","v":""},{"$f":"IF('Caseload Reporting'!R387 = \"\",\"\",'Caseload Reporting'!R387)","v":""},{"$f":"IF('Caseload Reporting'!E387 = \"\",\"\",'Caseload Reporting'!E387)","v":""},{"$f":"IF('Caseload Reporting'!S387 = \"\",\"\",'Caseload Reporting'!S387)","v":""}]
[{"$f":"IF('Caseload Reporting'!A388 = \"\",\"\",'Caseload Reporting'!A388)","v":""},{"$f":"IF('Caseload Reporting'!B388 = \"\",\"\",'Caseload Reporting'!B388)","v":""},{"$f":"IF('Caseload Reporting'!C388 = \"\",\"\",'Caseload Reporting'!C388)","v":""},{"$f":"IF('Caseload Reporting'!D388 = \"\",\"\",'Caseload Reporting'!D388)","v":""},{"$f":"IF('Caseload Reporting'!G388 = \"\",\"\",'Caseload Reporting'!G388)","v":""},{"$f":"IF('Caseload Reporting'!H388 = \"\",\"\",'Caseload Reporting'!H388)","v":""},{"$f":"IF('Caseload Reporting'!I388 = \"\",\"\",'Caseload Reporting'!I388)","v":""},{"$f":"IF('Caseload Reporting'!J388 = \"\",\"\",'Caseload Reporting'!J388)","v":""},{"$f":"IF('Caseload Reporting'!K388 = \"\",\"\",'Caseload Reporting'!K388)","v":""},{"$f":"IF('Caseload Reporting'!L388 = \"\",\"\",'Caseload Reporting'!L388)","v":""},{"$f":"IF('Caseload Reporting'!M388 = \"\",\"\",'Caseload Reporting'!M388)","v":""},{"$f":"IF('Caseload Reporting'!N388 = \"\",\"\",'Caseload Reporting'!N388)","v":""},{"$f":"IF('Caseload Reporting'!P388 = \"\",\"\",'Caseload Reporting'!P388)","v":""},{"$f":"IF('Caseload Reporting'!O388 = \"\",\"\",'Caseload Reporting'!O388)","v":""},{"$f":"IF('Caseload Reporting'!Q388 = \"\",\"\",'Caseload Reporting'!Q388)","v":""},{"$f":"IF('Caseload Reporting'!R388 = \"\",\"\",'Caseload Reporting'!R388)","v":""},{"$f":"IF('Caseload Reporting'!E388 = \"\",\"\",'Caseload Reporting'!E388)","v":""},{"$f":"IF('Caseload Reporting'!S388 = \"\",\"\",'Caseload Reporting'!S388)","v":""}]
[{"$f":"IF('Caseload Reporting'!A389 = \"\",\"\",'Caseload Reporting'!A389)","v":""},{"$f":"IF('Caseload Reporting'!B389 = \"\",\"\",'Caseload Reporting'!B389)","v":""},{"$f":"IF('Caseload Reporting'!C389 = \"\",\"\",'Caseload Reporting'!C389)","v":""},{"$f":"IF('Caseload Reporting'!D389 = \"\",\"\",'Caseload Reporting'!D389)","v":""},{"$f":"IF('Caseload Reporting'!G389 = \"\",\"\",'Caseload Reporting'!G389)","v":""},{"$f":"IF('Caseload Reporting'!H389 = \"\",\"\",'Caseload Reporting'!H389)","v":""},{"$f":"IF('Caseload Reporting'!I389 = \"\",\"\",'Caseload Reporting'!I389)","v":""},{"$f":"IF('Caseload Reporting'!J389 = \"\",\"\",'Caseload Reporting'!J389)","v":""},{"$f":"IF('Caseload Reporting'!K389 = \"\",\"\",'Caseload Reporting'!K389)","v":""},{"$f":"IF('Caseload Reporting'!L389 = \"\",\"\",'Caseload Reporting'!L389)","v":""},{"$f":"IF('Caseload Reporting'!M389 = \"\",\"\",'Caseload Reporting'!M389)","v":""},{"$f":"IF('Caseload Reporting'!N389 = \"\",\"\",'Caseload Reporting'!N389)","v":""},{"$f":"IF('Caseload Reporting'!P389 = \"\",\"\",'Caseload Reporting'!P389)","v":""},{"$f":"IF('Caseload Reporting'!O389 = \"\",\"\",'Caseload Reporting'!O389)","v":""},{"$f":"IF('Caseload Reporting'!Q389 = \"\",\"\",'Caseload Reporting'!Q389)","v":""},{"$f":"IF('Caseload Reporting'!R389 = \"\",\"\",'Caseload Reporting'!R389)","v":""},{"$f":"IF('Caseload Reporting'!E389 = \"\",\"\",'Caseload Reporting'!E389)","v":""},{"$f":"IF('Caseload Reporting'!S389 = \"\",\"\",'Caseload Reporting'!S389)","v":""}]
[{"$f":"IF('Caseload Reporting'!A390 = \"\",\"\",'Caseload Reporting'!A390)","v":""},{"$f":"IF('Caseload Reporting'!B390 = \"\",\"\",'Caseload Reporting'!B390)","v":""},{"$f":"IF('Caseload Reporting'!C390 = \"\",\"\",'Caseload Reporting'!C390)","v":""},{"$f":"IF('Caseload Reporting'!D390 = \"\",\"\",'Caseload Reporting'!D390)","v":""},{"$f":"IF('Caseload Reporting'!G390 = \"\",\"\",'Caseload Reporting'!G390)","v":""},{"$f":"IF('Caseload Reporting'!H390 = \"\",\"\",'Caseload Reporting'!H390)","v":""},{"$f":"IF('Caseload Reporting'!I390 = \"\",\"\",'Caseload Reporting'!I390)","v":""},{"$f":"IF('Caseload Reporting'!J390 = \"\",\"\",'Caseload Reporting'!J390)","v":""},{"$f":"IF('Caseload Reporting'!K390 = \"\",\"\",'Caseload Reporting'!K390)","v":""},{"$f":"IF('Caseload Reporting'!L390 = \"\",\"\",'Caseload Reporting'!L390)","v":""},{"$f":"IF('Caseload Reporting'!M390 = \"\",\"\",'Caseload Reporting'!M390)","v":""},{"$f":"IF('Caseload Reporting'!N390 = \"\",\"\",'Caseload Reporting'!N390)","v":""},{"$f":"IF('Caseload Reporting'!P390 = \"\",\"\",'Caseload Reporting'!P390)","v":""},{"$f":"IF('Caseload Reporting'!O390 = \"\",\"\",'Caseload Reporting'!O390)","v":""},{"$f":"IF('Caseload Reporting'!Q390 = \"\",\"\",'Caseload Reporting'!Q390)","v":""},{"$f":"IF('Caseload Reporting'!R390 = \"\",\"\",'Caseload Reporting'!R390)","v":""},{"$f":"IF('Caseload Reporting'!E390 = \"\",\"\",'Caseload Reporting'!E390)","v":""},{"$f":"IF('Caseload Reporting'!S390 = \"\",\"\",'Caseload Reporting'!S390)","v":""}]
[{"$f":"IF('Caseload Reporting'!A391 = \"\",\"\",'Caseload Reporting'!A391)","v":""},{"$f":"IF('Caseload Reporting'!B391 = \"\",\"\",'Caseload Reporting'!B391)","v":""},{"$f":"IF('Caseload Reporting'!C391 = \"\",\"\",'Caseload Reporting'!C391)","v":""},{"$f":"IF('Caseload Reporting'!D391 = \"\",\"\",'Caseload Reporting'!D391)","v":""},{"$f":"IF('Caseload Reporting'!G391 = \"\",\"\",'Caseload Reporting'!G391)","v":""},{"$f":"IF('Caseload Reporting'!H391 = \"\",\"\",'Caseload Reporting'!H391)","v":""},{"$f":"IF('Caseload Reporting'!I391 = \"\",\"\",'Caseload Reporting'!I391)","v":""},{"$f":"IF('Caseload Reporting'!J391 = \"\",\"\",'Caseload Reporting'!J391)","v":""},{"$f":"IF('Caseload Reporting'!K391 = \"\",\"\",'Caseload Reporting'!K391)","v":""},{"$f":"IF('Caseload Reporting'!L391 = \"\",\"\",'Caseload Reporting'!L391)","v":""},{"$f":"IF('Caseload Reporting'!M391 = \"\",\"\",'Caseload Reporting'!M391)","v":""},{"$f":"IF('Caseload Reporting'!N391 = \"\",\"\",'Caseload Reporting'!N391)","v":""},{"$f":"IF('Caseload Reporting'!P391 = \"\",\"\",'Caseload Reporting'!P391)","v":""},{"$f":"IF('Caseload Reporting'!O391 = \"\",\"\",'Caseload Reporting'!O391)","v":""},{"$f":"IF('Caseload Reporting'!Q391 = \"\",\"\",'Caseload Reporting'!Q391)","v":""},{"$f":"IF('Caseload Reporting'!R391 = \"\",\"\",'Caseload Reporting'!R391)","v":""},{"$f":"IF('Caseload Reporting'!E391 = \"\",\"\",'Caseload Reporting'!E391)","v":""},{"$f":"IF('Caseload Reporting'!S391 = \"\",\"\",'Caseload Reporting'!S391)","v":""}]
[{"$f":"IF('Caseload Reporting'!A392 = \"\",\"\",'Caseload Reporting'!A392)","v":""},{"$f":"IF('Caseload Reporting'!B392 = \"\",\"\",'Caseload Reporting'!B392)","v":""},{"$f":"IF('Caseload Reporting'!C392 = \"\",\"\",'Caseload Reporting'!C392)","v":""},{"$f":"IF('Caseload Reporting'!D392 = \"\",\"\",'Caseload Reporting'!D392)","v":""},{"$f":"IF('Caseload Reporting'!G392 = \"\",\"\",'Caseload Reporting'!G392)","v":""},{"$f":"IF('Caseload Reporting'!H392 = \"\",\"\",'Caseload Reporting'!H392)","v":""},{"$f":"IF('Caseload Reporting'!I392 = \"\",\"\",'Caseload Reporting'!I392)","v":""},{"$f":"IF('Caseload Reporting'!J392 = \"\",\"\",'Caseload Reporting'!J392)","v":""},{"$f":"IF('Caseload Reporting'!K392 = \"\",\"\",'Caseload Reporting'!K392)","v":""},{"$f":"IF('Caseload Reporting'!L392 = \"\",\"\",'Caseload Reporting'!L392)","v":""},{"$f":"IF('Caseload Reporting'!M392 = \"\",\"\",'Caseload Reporting'!M392)","v":""},{"$f":"IF('Caseload Reporting'!N392 = \"\",\"\",'Caseload Reporting'!N392)","v":""},{"$f":"IF('Caseload Reporting'!P392 = \"\",\"\",'Caseload Reporting'!P392)","v":""},{"$f":"IF('Caseload Reporting'!O392 = \"\",\"\",'Caseload Reporting'!O392)","v":""},{"$f":"IF('Caseload Reporting'!Q392 = \"\",\"\",'Caseload Reporting'!Q392)","v":""},{"$f":"IF('Caseload Reporting'!R392 = \"\",\"\",'Caseload Reporting'!R392)","v":""},{"$f":"IF('Caseload Reporting'!E392 = \"\",\"\",'Caseload Reporting'!E392)","v":""},{"$f":"IF('Caseload Reporting'!S392 = \"\",\"\",'Caseload Reporting'!S392)","v":""}]
[{"$f":"IF('Caseload Reporting'!A393 = \"\",\"\",'Caseload Reporting'!A393)","v":""},{"$f":"IF('Caseload Reporting'!B393 = \"\",\"\",'Caseload Reporting'!B393)","v":""},{"$f":"IF('Caseload Reporting'!C393 = \"\",\"\",'Caseload Reporting'!C393)","v":""},{"$f":"IF('Caseload Reporting'!D393 = \"\",\"\",'Caseload Reporting'!D393)","v":""},{"$f":"IF('Caseload Reporting'!G393 = \"\",\"\",'Caseload Reporting'!G393)","v":""},{"$f":"IF('Caseload Reporting'!H393 = \"\",\"\",'Caseload Reporting'!H393)","v":""},{"$f":"IF('Caseload Reporting'!I393 = \"\",\"\",'Caseload Reporting'!I393)","v":""},{"$f":"IF('Caseload Reporting'!J393 = \"\",\"\",'Caseload Reporting'!J393)","v":""},{"$f":"IF('Caseload Reporting'!K393 = \"\",\"\",'Caseload Reporting'!K393)","v":""},{"$f":"IF('Caseload Reporting'!L393 = \"\",\"\",'Caseload Reporting'!L393)","v":""},{"$f":"IF('Caseload Reporting'!M393 = \"\",\"\",'Caseload Reporting'!M393)","v":""},{"$f":"IF('Caseload Reporting'!N393 = \"\",\"\",'Caseload Reporting'!N393)","v":""},{"$f":"IF('Caseload Reporting'!P393 = \"\",\"\",'Caseload Reporting'!P393)","v":""},{"$f":"IF('Caseload Reporting'!O393 = \"\",\"\",'Caseload Reporting'!O393)","v":""},{"$f":"IF('Caseload Reporting'!Q393 = \"\",\"\",'Caseload Reporting'!Q393)","v":""},{"$f":"IF('Caseload Reporting'!R393 = \"\",\"\",'Caseload Reporting'!R393)","v":""},{"$f":"IF('Caseload Reporting'!E393 = \"\",\"\",'Caseload Reporting'!E393)","v":""},{"$f":"IF('Caseload Reporting'!S393 = \"\",\"\",'Caseload Reporting'!S393)","v":""}]
[{"$f":"IF('Caseload Reporting'!A394 = \"\",\"\",'Caseload Reporting'!A394)","v":""},{"$f":"IF('Caseload Reporting'!B394 = \"\",\"\",'Caseload Reporting'!B394)","v":""},{"$f":"IF('Caseload Reporting'!C394 = \"\",\"\",'Caseload Reporting'!C394)","v":""},{"$f":"IF('Caseload Reporting'!D394 = \"\",\"\",'Caseload Reporting'!D394)","v":""},{"$f":"IF('Caseload Reporting'!G394 = \"\",\"\",'Caseload Reporting'!G394)","v":""},{"$f":"IF('Caseload Reporting'!H394 = \"\",\"\",'Caseload Reporting'!H394)","v":""},{"$f":"IF('Caseload Reporting'!I394 = \"\",\"\",'Caseload Reporting'!I394)","v":""},{"$f":"IF('Caseload Reporting'!J394 = \"\",\"\",'Caseload Reporting'!J394)","v":""},{"$f":"IF('Caseload Reporting'!K394 = \"\",\"\",'Caseload Reporting'!K394)","v":""},{"$f":"IF('Caseload Reporting'!L394 = \"\",\"\",'Caseload Reporting'!L394)","v":""},{"$f":"IF('Caseload Reporting'!M394 = \"\",\"\",'Caseload Reporting'!M394)","v":""},{"$f":"IF('Caseload Reporting'!N394 = \"\",\"\",'Caseload Reporting'!N394)","v":""},{"$f":"IF('Caseload Reporting'!P394 = \"\",\"\",'Caseload Reporting'!P394)","v":""},{"$f":"IF('Caseload Reporting'!O394 = \"\",\"\",'Caseload Reporting'!O394)","v":""},{"$f":"IF('Caseload Reporting'!Q394 = \"\",\"\",'Caseload Reporting'!Q394)","v":""},{"$f":"IF('Caseload Reporting'!R394 = \"\",\"\",'Caseload Reporting'!R394)","v":""},{"$f":"IF('Caseload Reporting'!E394 = \"\",\"\",'Caseload Reporting'!E394)","v":""},{"$f":"IF('Caseload Reporting'!S394 = \"\",\"\",'Caseload Reporting'!S394)","v":""}]
[{"$f":"IF('Caseload Reporting'!A395 = \"\",\"\",'Caseload Reporting'!A395)","v":""},{"$f":"IF('Caseload Reporting'!B395 = \"\",\"\",'Caseload Reporting'!B395)","v":""},{"$f":"IF('Caseload Reporting'!C395 = \"\",\"\",'Caseload Reporting'!C395)","v":""},{"$f":"IF('Caseload Reporting'!D395 = \"\",\"\",'Caseload Reporting'!D395)","v":""},{"$f":"IF('Caseload Reporting'!G395 = \"\",\"\",'Caseload Reporting'!G395)","v":""},{"$f":"IF('Caseload Reporting'!H395 = \"\",\"\",'Caseload Reporting'!H395)","v":""},{"$f":"IF('Caseload Reporting'!I395 = \"\",\"\",'Caseload Reporting'!I395)","v":""},{"$f":"IF('Caseload Reporting'!J395 = \"\",\"\",'Caseload Reporting'!J395)","v":""},{"$f":"IF('Caseload Reporting'!K395 = \"\",\"\",'Caseload Reporting'!K395)","v":""},{"$f":"IF('Caseload Reporting'!L395 = \"\",\"\",'Caseload Reporting'!L395)","v":""},{"$f":"IF('Caseload Reporting'!M395 = \"\",\"\",'Caseload Reporting'!M395)","v":""},{"$f":"IF('Caseload Reporting'!N395 = \"\",\"\",'Caseload Reporting'!N395)","v":""},{"$f":"IF('Caseload Reporting'!P395 = \"\",\"\",'Caseload Reporting'!P395)","v":""},{"$f":"IF('Caseload Reporting'!O395 = \"\",\"\",'Caseload Reporting'!O395)","v":""},{"$f":"IF('Caseload Reporting'!Q395 = \"\",\"\",'Caseload Reporting'!Q395)","v":""},{"$f":"IF('Caseload Reporting'!R395 = \"\",\"\",'Caseload Reporting'!R395)","v":""},{"$f":"IF('Caseload Reporting'!E395 = \"\",\"\",'Caseload Reporting'!E395)","v":""},{"$f":"IF('Caseload Reporting'!S395 = \"\",\"\",'Caseload Reporting'!S395)","v":""}]
[{"$f":"IF('Caseload Reporting'!A396 = \"\",\"\",'Caseload Reporting'!A396)","v":""},{"$f":"IF('Caseload Reporting'!B396 = \"\",\"\",'Caseload Reporting'!B396)","v":""},{"$f":"IF('Caseload Reporting'!C396 = \"\",\"\",'Caseload Reporting'!C396)","v":""},{"$f":"IF('Caseload Reporting'!D396 = \"\",\"\",'Caseload Reporting'!D396)","v":""},{"$f":"IF('Caseload Reporting'!G396 = \"\",\"\",'Caseload Reporting'!G396)","v":""},{"$f":"IF('Caseload Reporting'!H396 = \"\",\"\",'Caseload Reporting'!H396)","v":""},{"$f":"IF('Caseload Reporting'!I396 = \"\",\"\",'Caseload Reporting'!I396)","v":""},{"$f":"IF('Caseload Reporting'!J396 = \"\",\"\",'Caseload Reporting'!J396)","v":""},{"$f":"IF('Caseload Reporting'!K396 = \"\",\"\",'Caseload Reporting'!K396)","v":""},{"$f":"IF('Caseload Reporting'!L396 = \"\",\"\",'Caseload Reporting'!L396)","v":""},{"$f":"IF('Caseload Reporting'!M396 = \"\",\"\",'Caseload Reporting'!M396)","v":""},{"$f":"IF('Caseload Reporting'!N396 = \"\",\"\",'Caseload Reporting'!N396)","v":""},{"$f":"IF('Caseload Reporting'!P396 = \"\",\"\",'Caseload Reporting'!P396)","v":""},{"$f":"IF('Caseload Reporting'!O396 = \"\",\"\",'Caseload Reporting'!O396)","v":""},{"$f":"IF('Caseload Reporting'!Q396 = \"\",\"\",'Caseload Reporting'!Q396)","v":""},{"$f":"IF('Caseload Reporting'!R396 = \"\",\"\",'Caseload Reporting'!R396)","v":""},{"$f":"IF('Caseload Reporting'!E396 = \"\",\"\",'Caseload Reporting'!E396)","v":""},{"$f":"IF('Caseload Reporting'!S396 = \"\",\"\",'Caseload Reporting'!S396)","v":""}]
[{"$f":"IF('Caseload Reporting'!A397 = \"\",\"\",'Caseload Reporting'!A397)","v":""},{"$f":"IF('Caseload Reporting'!B397 = \"\",\"\",'Caseload Reporting'!B397)","v":""},{"$f":"IF('Caseload Reporting'!C397 = \"\",\"\",'Caseload Reporting'!C397)","v":""},{"$f":"IF('Caseload Reporting'!D397 = \"\",\"\",'Caseload Reporting'!D397)","v":""},{"$f":"IF('Caseload Reporting'!G397 = \"\",\"\",'Caseload Reporting'!G397)","v":""},{"$f":"IF('Caseload Reporting'!H397 = \"\",\"\",'Caseload Reporting'!H397)","v":""},{"$f":"IF('Caseload Reporting'!I397 = \"\",\"\",'Caseload Reporting'!I397)","v":""},{"$f":"IF('Caseload Reporting'!J397 = \"\",\"\",'Caseload Reporting'!J397)","v":""},{"$f":"IF('Caseload Reporting'!K397 = \"\",\"\",'Caseload Reporting'!K397)","v":""},{"$f":"IF('Caseload Reporting'!L397 = \"\",\"\",'Caseload Reporting'!L397)","v":""},{"$f":"IF('Caseload Reporting'!M397 = \"\",\"\",'Caseload Reporting'!M397)","v":""},{"$f":"IF('Caseload Reporting'!N397 = \"\",\"\",'Caseload Reporting'!N397)","v":""},{"$f":"IF('Caseload Reporting'!P397 = \"\",\"\",'Caseload Reporting'!P397)","v":""},{"$f":"IF('Caseload Reporting'!O397 = \"\",\"\",'Caseload Reporting'!O397)","v":""},{"$f":"IF('Caseload Reporting'!Q397 = \"\",\"\",'Caseload Reporting'!Q397)","v":""},{"$f":"IF('Caseload Reporting'!R397 = \"\",\"\",'Caseload Reporting'!R397)","v":""},{"$f":"IF('Caseload Reporting'!E397 = \"\",\"\",'Caseload Reporting'!E397)","v":""},{"$f":"IF('Caseload Reporting'!S397 = \"\",\"\",'Caseload Reporting'!S397)","v":""}]
[{"$f":"IF('Caseload Reporting'!A398 = \"\",\"\",'Caseload Reporting'!A398)","v":""},{"$f":"IF('Caseload Reporting'!B398 = \"\",\"\",'Caseload Reporting'!B398)","v":""},{"$f":"IF('Caseload Reporting'!C398 = \"\",\"\",'Caseload Reporting'!C398)","v":""},{"$f":"IF('Caseload Reporting'!D398 = \"\",\"\",'Caseload Reporting'!D398)","v":""},{"$f":"IF('Caseload Reporting'!G398 = \"\",\"\",'Caseload Reporting'!G398)","v":""},{"$f":"IF('Caseload Reporting'!H398 = \"\",\"\",'Caseload Reporting'!H398)","v":""},{"$f":"IF('Caseload Reporting'!I398 = \"\",\"\",'Caseload Reporting'!I398)","v":""},{"$f":"IF('Caseload Reporting'!J398 = \"\",\"\",'Caseload Reporting'!J398)","v":""},{"$f":"IF('Caseload Reporting'!K398 = \"\",\"\",'Caseload Reporting'!K398)","v":""},{"$f":"IF('Caseload Reporting'!L398 = \"\",\"\",'Caseload Reporting'!L398)","v":""},{"$f":"IF('Caseload Reporting'!M398 = \"\",\"\",'Caseload Reporting'!M398)","v":""},{"$f":"IF('Caseload Reporting'!N398 = \"\",\"\",'Caseload Reporting'!N398)","v":""},{"$f":"IF('Caseload Reporting'!P398 = \"\",\"\",'Caseload Reporting'!P398)","v":""},{"$f":"IF('Caseload Reporting'!O398 = \"\",\"\",'Caseload Reporting'!O398)","v":""},{"$f":"IF('Caseload Reporting'!Q398 = \"\",\"\",'Caseload Reporting'!Q398)","v":""},{"$f":"IF('Caseload Reporting'!R398 = \"\",\"\",'Caseload Reporting'!R398)","v":""},{"$f":"IF('Caseload Reporting'!E398 = \"\",\"\",'Caseload Reporting'!E398)","v":""},{"$f":"IF('Caseload Reporting'!S398 = \"\",\"\",'Caseload Reporting'!S398)","v":""}]
[{"$f":"IF('Caseload Reporting'!A399 = \"\",\"\",'Caseload Reporting'!A399)","v":""},{"$f":"IF('Caseload Reporting'!B399 = \"\",\"\",'Caseload Reporting'!B399)","v":""},{"$f":"IF('Caseload Reporting'!C399 = \"\",\"\",'Caseload Reporting'!C399)","v":""},{"$f":"IF('Caseload Reporting'!D399 = \"\",\"\",'Caseload Reporting'!D399)","v":""},{"$f":"IF('Caseload Reporting'!G399 = \"\",\"\",'Caseload Reporting'!G399)","v":""},{"$f":"IF('Caseload Reporting'!H399 = \"\",\"\",'Caseload Reporting'!H399)","v":""},{"$f":"IF('Caseload Reporting'!I399 = \"\",\"\",'Caseload Reporting'!I399)","v":""},{"$f":"IF('Caseload Reporting'!J399 = \"\",\"\",'Caseload Reporting'!J399)","v":""},{"$f":"IF('Caseload Reporting'!K399 = \"\",\"\",'Caseload Reporting'!K399)","v":""},{"$f":"IF('Caseload Reporting'!L399 = \"\",\"\",'Caseload Reporting'!L399)","v":""},{"$f":"IF('Caseload Reporting'!M399 = \"\",\"\",'Caseload Reporting'!M399)","v":""},{"$f":"IF('Caseload Reporting'!N399 = \"\",\"\",'Caseload Reporting'!N399)","v":""},{"$f":"IF('Caseload Reporting'!P399 = \"\",\"\",'Caseload Reporting'!P399)","v":""},{"$f":"IF('Caseload Reporting'!O399 = \"\",\"\",'Caseload Reporting'!O399)","v":""},{"$f":"IF('Caseload Reporting'!Q399 = \"\",\"\",'Caseload Reporting'!Q399)","v":""},{"$f":"IF('Caseload Reporting'!R399 = \"\",\"\",'Caseload Reporting'!R399)","v":""},{"$f":"IF('Caseload Reporting'!E399 = \"\",\"\",'Caseload Reporting'!E399)","v":""},{"$f":"IF('Caseload Reporting'!S399 = \"\",\"\",'Caseload Reporting'!S399)","v":""}]
[{"$f":"IF('Caseload Reporting'!A400 = \"\",\"\",'Caseload Reporting'!A400)","v":""},{"$f":"IF('Caseload Reporting'!B400 = \"\",\"\",'Caseload Reporting'!B400)","v":""},{"$f":"IF('Caseload Reporting'!C400 = \"\",\"\",'Caseload Reporting'!C400)","v":""},{"$f":"IF('Caseload Reporting'!D400 = \"\",\"\",'Caseload Reporting'!D400)","v":""},{"$f":"IF('Caseload Reporting'!G400 = \"\",\"\",'Caseload Reporting'!G400)","v":""},{"$f":"IF('Caseload Reporting'!H400 = \"\",\"\",'Caseload Reporting'!H400)","v":""},{"$f":"IF('Caseload Reporting'!I400 = \"\",\"\",'Caseload Reporting'!I400)","v":""},{"$f":"IF('Caseload Reporting'!J400 = \"\",\"\",'Caseload Reporting'!J400)","v":""},{"$f":"IF('Caseload Reporting'!K400 = \"\",\"\",'Caseload Reporting'!K400)","v":""},{"$f":"IF('Caseload Reporting'!L400 = \"\",\"\",'Caseload Reporting'!L400)","v":""},{"$f":"IF('Caseload Reporting'!M400 = \"\",\"\",'Caseload Reporting'!M400)","v":""},{"$f":"IF('Caseload Reporting'!N400 = \"\",\"\",'Caseload Reporting'!N400)","v":""},{"$f":"IF('Caseload Reporting'!P400 = \"\",\"\",'Caseload Reporting'!P400)","v":""},{"$f":"IF('Caseload Reporting'!O400 = \"\",\"\",'Caseload Reporting'!O400)","v":""},{"$f":"IF('Caseload Reporting'!Q400 = \"\",\"\",'Caseload Reporting'!Q400)","v":""},{"$f":"IF('Caseload Reporting'!R400 = \"\",\"\",'Caseload Reporting'!R400)","v":""},{"$f":"IF('Caseload Reporting'!E400 = \"\",\"\",'Caseload Reporting'!E400)","v":""},{"$f":"IF('Caseload Reporting'!S400 = \"\",\"\",'Caseload Reporting'!S400)","v":""}]
[{"$f":"IF('Caseload Reporting'!A401 = \"\",\"\",'Caseload Reporting'!A401)","v":""},{"$f":"IF('Caseload Reporting'!B401 = \"\",\"\",'Caseload Reporting'!B401)","v":""},{"$f":"IF('Caseload Reporting'!C401 = \"\",\"\",'Caseload Reporting'!C401)","v":""},{"$f":"IF('Caseload Reporting'!D401 = \"\",\"\",'Caseload Reporting'!D401)","v":""},{"$f":"IF('Caseload Reporting'!G401 = \"\",\"\",'Caseload Reporting'!G401)","v":""},{"$f":"IF('Caseload Reporting'!H401 = \"\",\"\",'Caseload Reporting'!H401)","v":""},{"$f":"IF('Caseload Reporting'!I401 = \"\",\"\",'Caseload Reporting'!I401)","v":""},{"$f":"IF('Caseload Reporting'!J401 = \"\",\"\",'Caseload Reporting'!J401)","v":""},{"$f":"IF('Caseload Reporting'!K401 = \"\",\"\",'Caseload Reporting'!K401)","v":""},{"$f":"IF('Caseload Reporting'!L401 = \"\",\"\",'Caseload Reporting'!L401)","v":""},{"$f":"IF('Caseload Reporting'!M401 = \"\",\"\",'Caseload Reporting'!M401)","v":""},{"$f":"IF('Caseload Reporting'!N401 = \"\",\"\",'Caseload Reporting'!N401)","v":""},{"$f":"IF('Caseload Reporting'!P401 = \"\",\"\",'Caseload Reporting'!P401)","v":""},{"$f":"IF('Caseload Reporting'!O401 = \"\",\"\",'Caseload Reporting'!O401)","v":""},{"$f":"IF('Caseload Reporting'!Q401 = \"\",\"\",'Caseload Reporting'!Q401)","v":""},{"$f":"IF('Caseload Reporting'!R401 = \"\",\"\",'Caseload Reporting'!R401)","v":""},{"$f":"IF('Caseload Reporting'!E401 = \"\",\"\",'Caseload Reporting'!E401)","v":""},{"$f":"IF('Caseload Reporting'!S401 = \"\",\"\",'Caseload Reporting'!S401)","v":""}]
[{"$f":"IF('Caseload Reporting'!A402 = \"\",\"\",'Caseload Reporting'!A402)","v":""},{"$f":"IF('Caseload Reporting'!B402 = \"\",\"\",'Caseload Reporting'!B402)","v":""},{"$f":"IF('Caseload Reporting'!C402 = \"\",\"\",'Caseload Reporting'!C402)","v":""},{"$f":"IF('Caseload Reporting'!D402 = \"\",\"\",'Caseload Reporting'!D402)","v":""},{"$f":"IF('Caseload Reporting'!G402 = \"\",\"\",'Caseload Reporting'!G402)","v":""},{"$f":"IF('Caseload Reporting'!H402 = \"\",\"\",'Caseload Reporting'!H402)","v":""},{"$f":"IF('Caseload Reporting'!I402 = \"\",\"\",'Caseload Reporting'!I402)","v":""},{"$f":"IF('Caseload Reporting'!J402 = \"\",\"\",'Caseload Reporting'!J402)","v":""},{"$f":"IF('Caseload Reporting'!K402 = \"\",\"\",'Caseload Reporting'!K402)","v":""},{"$f":"IF('Caseload Reporting'!L402 = \"\",\"\",'Caseload Reporting'!L402)","v":""},{"$f":"IF('Caseload Reporting'!M402 = \"\",\"\",'Caseload Reporting'!M402)","v":""},{"$f":"IF('Caseload Reporting'!N402 = \"\",\"\",'Caseload Reporting'!N402)","v":""},{"$f":"IF('Caseload Reporting'!P402 = \"\",\"\",'Caseload Reporting'!P402)","v":""},{"$f":"IF('Caseload Reporting'!O402 = \"\",\"\",'Caseload Reporting'!O402)","v":""},{"$f":"IF('Caseload Reporting'!Q402 = \"\",\"\",'Caseload Reporting'!Q402)","v":""},{"$f":"IF('Caseload Reporting'!R402 = \"\",\"\",'Caseload Reporting'!R402)","v":""},{"$f":"IF('Caseload Reporting'!E402 = \"\",\"\",'Caseload Reporting'!E402)","v":""},{"$f":"IF('Caseload Reporting'!S402 = \"\",\"\",'Caseload Reporting'!S402)","v":""}]
[{"$f":"IF('Caseload Reporting'!A403 = \"\",\"\",'Caseload Reporting'!A403)","v":""},{"$f":"IF('Caseload Reporting'!B403 = \"\",\"\",'Caseload Reporting'!B403)","v":""},{"$f":"IF('Caseload Reporting'!C403 = \"\",\"\",'Caseload Reporting'!C403)","v":""},{"$f":"IF('Caseload Reporting'!D403 = \"\",\"\",'Caseload Reporting'!D403)","v":""},{"$f":"IF('Caseload Reporting'!G403 = \"\",\"\",'Caseload Reporting'!G403)","v":""},{"$f":"IF('Caseload Reporting'!H403 = \"\",\"\",'Caseload Reporting'!H403)","v":""},{"$f":"IF('Caseload Reporting'!I403 = \"\",\"\",'Caseload Reporting'!I403)","v":""},{"$f":"IF('Caseload Reporting'!J403 = \"\",\"\",'Caseload Reporting'!J403)","v":""},{"$f":"IF('Caseload Reporting'!K403 = \"\",\"\",'Caseload Reporting'!K403)","v":""},{"$f":"IF('Caseload Reporting'!L403 = \"\",\"\",'Caseload Reporting'!L403)","v":""},{"$f":"IF('Caseload Reporting'!M403 = \"\",\"\",'Caseload Reporting'!M403)","v":""},{"$f":"IF('Caseload Reporting'!N403 = \"\",\"\",'Caseload Reporting'!N403)","v":""},{"$f":"IF('Caseload Reporting'!P403 = \"\",\"\",'Caseload Reporting'!P403)","v":""},{"$f":"IF('Caseload Reporting'!O403 = \"\",\"\",'Caseload Reporting'!O403)","v":""},{"$f":"IF('Caseload Reporting'!Q403 = \"\",\"\",'Caseload Reporting'!Q403)","v":""},{"$f":"IF('Caseload Reporting'!R403 = \"\",\"\",'Caseload Reporting'!R403)","v":""},{"$f":"IF('Caseload Reporting'!E403 = \"\",\"\",'Caseload Reporting'!E403)","v":""},{"$f":"IF('Caseload Reporting'!S403 = \"\",\"\",'Caseload Reporting'!S403)","v":""}]
[{"$f":"IF('Caseload Reporting'!A404 = \"\",\"\",'Caseload Reporting'!A404)","v":""},{"$f":"IF('Caseload Reporting'!B404 = \"\",\"\",'Caseload Reporting'!B404)","v":""},{"$f":"IF('Caseload Reporting'!C404 = \"\",\"\",'Caseload Reporting'!C404)","v":""},{"$f":"IF('Caseload Reporting'!D404 = \"\",\"\",'Caseload Reporting'!D404)","v":""},{"$f":"IF('Caseload Reporting'!G404 = \"\",\"\",'Caseload Reporting'!G404)","v":""},{"$f":"IF('Caseload Reporting'!H404 = \"\",\"\",'Caseload Reporting'!H404)","v":""},{"$f":"IF('Caseload Reporting'!I404 = \"\",\"\",'Caseload Reporting'!I404)","v":""},{"$f":"IF('Caseload Reporting'!J404 = \"\",\"\",'Caseload Reporting'!J404)","v":""},{"$f":"IF('Caseload Reporting'!K404 = \"\",\"\",'Caseload Reporting'!K404)","v":""},{"$f":"IF('Caseload Reporting'!L404 = \"\",\"\",'Caseload Reporting'!L404)","v":""},{"$f":"IF('Caseload Reporting'!M404 = \"\",\"\",'Caseload Reporting'!M404)","v":""},{"$f":"IF('Caseload Reporting'!N404 = \"\",\"\",'Caseload Reporting'!N404)","v":""},{"$f":"IF('Caseload Reporting'!P404 = \"\",\"\",'Caseload Reporting'!P404)","v":""},{"$f":"IF('Caseload Reporting'!O404 = \"\",\"\",'Caseload Reporting'!O404)","v":""},{"$f":"IF('Caseload Reporting'!Q404 = \"\",\"\",'Caseload Reporting'!Q404)","v":""},{"$f":"IF('Caseload Reporting'!R404 = \"\",\"\",'Caseload Reporting'!R404)","v":""},{"$f":"IF('Caseload Reporting'!E404 = \"\",\"\",'Caseload Reporting'!E404)","v":""},{"$f":"IF('Caseload Reporting'!S404 = \"\",\"\",'Caseload Reporting'!S404)","v":""}]
[{"$f":"IF('Caseload Reporting'!A405 = \"\",\"\",'Caseload Reporting'!A405)","v":""},{"$f":"IF('Caseload Reporting'!B405 = \"\",\"\",'Caseload Reporting'!B405)","v":""},{"$f":"IF('Caseload Reporting'!C405 = \"\",\"\",'Caseload Reporting'!C405)","v":""},{"$f":"IF('Caseload Reporting'!D405 = \"\",\"\",'Caseload Reporting'!D405)","v":""},{"$f":"IF('Caseload Reporting'!G405 = \"\",\"\",'Caseload Reporting'!G405)","v":""},{"$f":"IF('Caseload Reporting'!H405 = \"\",\"\",'Caseload Reporting'!H405)","v":""},{"$f":"IF('Caseload Reporting'!I405 = \"\",\"\",'Caseload Reporting'!I405)","v":""},{"$f":"IF('Caseload Reporting'!J405 = \"\",\"\",'Caseload Reporting'!J405)","v":""},{"$f":"IF('Caseload Reporting'!K405 = \"\",\"\",'Caseload Reporting'!K405)","v":""},{"$f":"IF('Caseload Reporting'!L405 = \"\",\"\",'Caseload Reporting'!L405)","v":""},{"$f":"IF('Caseload Reporting'!M405 = \"\",\"\",'Caseload Reporting'!M405)","v":""},{"$f":"IF('Caseload Reporting'!N405 = \"\",\"\",'Caseload Reporting'!N405)","v":""},{"$f":"IF('Caseload Reporting'!P405 = \"\",\"\",'Caseload Reporting'!P405)","v":""},{"$f":"IF('Caseload Reporting'!O405 = \"\",\"\",'Caseload Reporting'!O405)","v":""},{"$f":"IF('Caseload Reporting'!Q405 = \"\",\"\",'Caseload Reporting'!Q405)","v":""},{"$f":"IF('Caseload Reporting'!R405 = \"\",\"\",'Caseload Reporting'!R405)","v":""},{"$f":"IF('Caseload Reporting'!E405 = \"\",\"\",'Caseload Reporting'!E405)","v":""},{"$f":"IF('Caseload Reporting'!S405 = \"\",\"\",'Caseload Reporting'!S405)","v":""}]
[{"$f":"IF('Caseload Reporting'!A406 = \"\",\"\",'Caseload Reporting'!A406)","v":""},{"$f":"IF('Caseload Reporting'!B406 = \"\",\"\",'Caseload Reporting'!B406)","v":""},{"$f":"IF('Caseload Reporting'!C406 = \"\",\"\",'Caseload Reporting'!C406)","v":""},{"$f":"IF('Caseload Reporting'!D406 = \"\",\"\",'Caseload Reporting'!D406)","v":""},{"$f":"IF('Caseload Reporting'!G406 = \"\",\"\",'Caseload Reporting'!G406)","v":""},{"$f":"IF('Caseload Reporting'!H406 = \"\",\"\",'Caseload Reporting'!H406)","v":""},{"$f":"IF('Caseload Reporting'!I406 = \"\",\"\",'Caseload Reporting'!I406)","v":""},{"$f":"IF('Caseload Reporting'!J406 = \"\",\"\",'Caseload Reporting'!J406)","v":""},{"$f":"IF('Caseload Reporting'!K406 = \"\",\"\",'Caseload Reporting'!K406)","v":""},{"$f":"IF('Caseload Reporting'!L406 = \"\",\"\",'Caseload Reporting'!L406)","v":""},{"$f":"IF('Caseload Reporting'!M406 = \"\",\"\",'Caseload Reporting'!M406)","v":""},{"$f":"IF('Caseload Reporting'!N406 = \"\",\"\",'Caseload Reporting'!N406)","v":""},{"$f":"IF('Caseload Reporting'!P406 = \"\",\"\",'Caseload Reporting'!P406)","v":""},{"$f":"IF('Caseload Reporting'!O406 = \"\",\"\",'Caseload Reporting'!O406)","v":""},{"$f":"IF('Caseload Reporting'!Q406 = \"\",\"\",'Caseload Reporting'!Q406)","v":""},{"$f":"IF('Caseload Reporting'!R406 = \"\",\"\",'Caseload Reporting'!R406)","v":""},{"$f":"IF('Caseload Reporting'!E406 = \"\",\"\",'Caseload Reporting'!E406)","v":""},{"$f":"IF('Caseload Reporting'!S406 = \"\",\"\",'Caseload Reporting'!S406)","v":""}]
[{"$f":"IF('Caseload Reporting'!A407 = \"\",\"\",'Caseload Reporting'!A407)","v":""},{"$f":"IF('Caseload Reporting'!B407 = \"\",\"\",'Caseload Reporting'!B407)","v":""},{"$f":"IF('Caseload Reporting'!C407 = \"\",\"\",'Caseload Reporting'!C407)","v":""},{"$f":"IF('Caseload Reporting'!D407 = \"\",\"\",'Caseload Reporting'!D407)","v":""},{"$f":"IF('Caseload Reporting'!G407 = \"\",\"\",'Caseload Reporting'!G407)","v":""},{"$f":"IF('Caseload Reporting'!H407 = \"\",\"\",'Caseload Reporting'!H407)","v":""},{"$f":"IF('Caseload Reporting'!I407 = \"\",\"\",'Caseload Reporting'!I407)","v":""},{"$f":"IF('Caseload Reporting'!J407 = \"\",\"\",'Caseload Reporting'!J407)","v":""},{"$f":"IF('Caseload Reporting'!K407 = \"\",\"\",'Caseload Reporting'!K407)","v":""},{"$f":"IF('Caseload Reporting'!L407 = \"\",\"\",'Caseload Reporting'!L407)","v":""},{"$f":"IF('Caseload Reporting'!M407 = \"\",\"\",'Caseload Reporting'!M407)","v":""},{"$f":"IF('Caseload Reporting'!N407 = \"\",\"\",'Caseload Reporting'!N407)","v":""},{"$f":"IF('Caseload Reporting'!P407 = \"\",\"\",'Caseload Reporting'!P407)","v":""},{"$f":"IF('Caseload Reporting'!O407 = \"\",\"\",'Caseload Reporting'!O407)","v":""},{"$f":"IF('Caseload Reporting'!Q407 = \"\",\"\",'Caseload Reporting'!Q407)","v":""},{"$f":"IF('Caseload Reporting'!R407 = \"\",\"\",'Caseload Reporting'!R407)","v":""},{"$f":"IF('Caseload Reporting'!E407 = \"\",\"\",'Caseload Reporting'!E407)","v":""},{"$f":"IF('Caseload Reporting'!S407 = \"\",\"\",'Caseload Reporting'!S407)","v":""}]
[{"$f":"IF('Caseload Reporting'!A408 = \"\",\"\",'Caseload Reporting'!A408)","v":""},{"$f":"IF('Caseload Reporting'!B408 = \"\",\"\",'Caseload Reporting'!B408)","v":""},{"$f":"IF('Caseload Reporting'!C408 = \"\",\"\",'Caseload Reporting'!C408)","v":""},{"$f":"IF('Caseload Reporting'!D408 = \"\",\"\",'Caseload Reporting'!D408)","v":""},{"$f":"IF('Caseload Reporting'!G408 = \"\",\"\",'Caseload Reporting'!G408)","v":""},{"$f":"IF('Caseload Reporting'!H408 = \"\",\"\",'Caseload Reporting'!H408)","v":""},{"$f":"IF('Caseload Reporting'!I408 = \"\",\"\",'Caseload Reporting'!I408)","v":""},{"$f":"IF('Caseload Reporting'!J408 = \"\",\"\",'Caseload Reporting'!J408)","v":""},{"$f":"IF('Caseload Reporting'!K408 = \"\",\"\",'Caseload Reporting'!K408)","v":""},{"$f":"IF('Caseload Reporting'!L408 = \"\",\"\",'Caseload Reporting'!L408)","v":""},{"$f":"IF('Caseload Reporting'!M408 = \"\",\"\",'Caseload Reporting'!M408)","v":""},{"$f":"IF('Caseload Reporting'!N408 = \"\",\"\",'Caseload Reporting'!N408)","v":""},{"$f":"IF('Caseload Reporting'!P408 = \"\",\"\",'Caseload Reporting'!P408)","v":""},{"$f":"IF('Caseload Reporting'!O408 = \"\",\"\",'Caseload Reporting'!O408)","v":""},{"$f":"IF('Caseload Reporting'!Q408 = \"\",\"\",'Caseload Reporting'!Q408)","v":""},{"$f":"IF('Caseload Reporting'!R408 = \"\",\"\",'Caseload Reporting'!R408)","v":""},{"$f":"IF('Caseload Reporting'!E408 = \"\",\"\",'Caseload Reporting'!E408)","v":""},{"$f":"IF('Caseload Reporting'!S408 = \"\",\"\",'Caseload Reporting'!S408)","v":""}]
[{"$f":"IF('Caseload Reporting'!A409 = \"\",\"\",'Caseload Reporting'!A409)","v":""},{"$f":"IF('Caseload Reporting'!B409 = \"\",\"\",'Caseload Reporting'!B409)","v":""},{"$f":"IF('Caseload Reporting'!C409 = \"\",\"\",'Caseload Reporting'!C409)","v":""},{"$f":"IF('Caseload Reporting'!D409 = \"\",\"\",'Caseload Reporting'!D409)","v":""},{"$f":"IF('Caseload Reporting'!G409 = \"\",\"\",'Caseload Reporting'!G409)","v":""},{"$f":"IF('Caseload Reporting'!H409 = \"\",\"\",'Caseload Reporting'!H409)","v":""},{"$f":"IF('Caseload Reporting'!I409 = \"\",\"\",'Caseload Reporting'!I409)","v":""},{"$f":"IF('Caseload Reporting'!J409 = \"\",\"\",'Caseload Reporting'!J409)","v":""},{"$f":"IF('Caseload Reporting'!K409 = \"\",\"\",'Caseload Reporting'!K409)","v":""},{"$f":"IF('Caseload Reporting'!L409 = \"\",\"\",'Caseload Reporting'!L409)","v":""},{"$f":"IF('Caseload Reporting'!M409 = \"\",\"\",'Caseload Reporting'!M409)","v":""},{"$f":"IF('Caseload Reporting'!N409 = \"\",\"\",'Caseload Reporting'!N409)","v":""},{"$f":"IF('Caseload Reporting'!P409 = \"\",\"\",'Caseload Reporting'!P409)","v":""},{"$f":"IF('Caseload Reporting'!O409 = \"\",\"\",'Caseload Reporting'!O409)","v":""},{"$f":"IF('Caseload Reporting'!Q409 = \"\",\"\",'Caseload Reporting'!Q409)","v":""},{"$f":"IF('Caseload Reporting'!R409 = \"\",\"\",'Caseload Reporting'!R409)","v":""},{"$f":"IF('Caseload Reporting'!E409 = \"\",\"\",'Caseload Reporting'!E409)","v":""},{"$f":"IF('Caseload Reporting'!S409 = \"\",\"\",'Caseload Reporting'!S409)","v":""}]
[{"$f":"IF('Caseload Reporting'!A410 = \"\",\"\",'Caseload Reporting'!A410)","v":""},{"$f":"IF('Caseload Reporting'!B410 = \"\",\"\",'Caseload Reporting'!B410)","v":""},{"$f":"IF('Caseload Reporting'!C410 = \"\",\"\",'Caseload Reporting'!C410)","v":""},{"$f":"IF('Caseload Reporting'!D410 = \"\",\"\",'Caseload Reporting'!D410)","v":""},{"$f":"IF('Caseload Reporting'!G410 = \"\",\"\",'Caseload Reporting'!G410)","v":""},{"$f":"IF('Caseload Reporting'!H410 = \"\",\"\",'Caseload Reporting'!H410)","v":""},{"$f":"IF('Caseload Reporting'!I410 = \"\",\"\",'Caseload Reporting'!I410)","v":""},{"$f":"IF('Caseload Reporting'!J410 = \"\",\"\",'Caseload Reporting'!J410)","v":""},{"$f":"IF('Caseload Reporting'!K410 = \"\",\"\",'Caseload Reporting'!K410)","v":""},{"$f":"IF('Caseload Reporting'!L410 = \"\",\"\",'Caseload Reporting'!L410)","v":""},{"$f":"IF('Caseload Reporting'!M410 = \"\",\"\",'Caseload Reporting'!M410)","v":""},{"$f":"IF('Caseload Reporting'!N410 = \"\",\"\",'Caseload Reporting'!N410)","v":""},{"$f":"IF('Caseload Reporting'!P410 = \"\",\"\",'Caseload Reporting'!P410)","v":""},{"$f":"IF('Caseload Reporting'!O410 = \"\",\"\",'Caseload Reporting'!O410)","v":""},{"$f":"IF('Caseload Reporting'!Q410 = \"\",\"\",'Caseload Reporting'!Q410)","v":""},{"$f":"IF('Caseload Reporting'!R410 = \"\",\"\",'Caseload Reporting'!R410)","v":""},{"$f":"IF('Caseload Reporting'!E410 = \"\",\"\",'Caseload Reporting'!E410)","v":""},{"$f":"IF('Caseload Reporting'!S410 = \"\",\"\",'Caseload Reporting'!S410)","v":""}]
[{"$f":"IF('Caseload Reporting'!A411 = \"\",\"\",'Caseload Reporting'!A411)","v":""},{"$f":"IF('Caseload Reporting'!B411 = \"\",\"\",'Caseload Reporting'!B411)","v":""},{"$f":"IF('Caseload Reporting'!C411 = \"\",\"\",'Caseload Reporting'!C411)","v":""},{"$f":"IF('Caseload Reporting'!D411 = \"\",\"\",'Caseload Reporting'!D411)","v":""},{"$f":"IF('Caseload Reporting'!G411 = \"\",\"\",'Caseload Reporting'!G411)","v":""},{"$f":"IF('Caseload Reporting'!H411 = \"\",\"\",'Caseload Reporting'!H411)","v":""},{"$f":"IF('Caseload Reporting'!I411 = \"\",\"\",'Caseload Reporting'!I411)","v":""},{"$f":"IF('Caseload Reporting'!J411 = \"\",\"\",'Caseload Reporting'!J411)","v":""},{"$f":"IF('Caseload Reporting'!K411 = \"\",\"\",'Caseload Reporting'!K411)","v":""},{"$f":"IF('Caseload Reporting'!L411 = \"\",\"\",'Caseload Reporting'!L411)","v":""},{"$f":"IF('Caseload Reporting'!M411 = \"\",\"\",'Caseload Reporting'!M411)","v":""},{"$f":"IF('Caseload Reporting'!N411 = \"\",\"\",'Caseload Reporting'!N411)","v":""},{"$f":"IF('Caseload Reporting'!P411 = \"\",\"\",'Caseload Reporting'!P411)","v":""},{"$f":"IF('Caseload Reporting'!O411 = \"\",\"\",'Caseload Reporting'!O411)","v":""},{"$f":"IF('Caseload Reporting'!Q411 = \"\",\"\",'Caseload Reporting'!Q411)","v":""},{"$f":"IF('Caseload Reporting'!R411 = \"\",\"\",'Caseload Reporting'!R411)","v":""},{"$f":"IF('Caseload Reporting'!E411 = \"\",\"\",'Caseload Reporting'!E411)","v":""},{"$f":"IF('Caseload Reporting'!S411 = \"\",\"\",'Caseload Reporting'!S411)","v":""}]
[{"$f":"IF('Caseload Reporting'!A412 = \"\",\"\",'Caseload Reporting'!A412)","v":""},{"$f":"IF('Caseload Reporting'!B412 = \"\",\"\",'Caseload Reporting'!B412)","v":""},{"$f":"IF('Caseload Reporting'!C412 = \"\",\"\",'Caseload Reporting'!C412)","v":""},{"$f":"IF('Caseload Reporting'!D412 = \"\",\"\",'Caseload Reporting'!D412)","v":""},{"$f":"IF('Caseload Reporting'!G412 = \"\",\"\",'Caseload Reporting'!G412)","v":""},{"$f":"IF('Caseload Reporting'!H412 = \"\",\"\",'Caseload Reporting'!H412)","v":""},{"$f":"IF('Caseload Reporting'!I412 = \"\",\"\",'Caseload Reporting'!I412)","v":""},{"$f":"IF('Caseload Reporting'!J412 = \"\",\"\",'Caseload Reporting'!J412)","v":""},{"$f":"IF('Caseload Reporting'!K412 = \"\",\"\",'Caseload Reporting'!K412)","v":""},{"$f":"IF('Caseload Reporting'!L412 = \"\",\"\",'Caseload Reporting'!L412)","v":""},{"$f":"IF('Caseload Reporting'!M412 = \"\",\"\",'Caseload Reporting'!M412)","v":""},{"$f":"IF('Caseload Reporting'!N412 = \"\",\"\",'Caseload Reporting'!N412)","v":""},{"$f":"IF('Caseload Reporting'!P412 = \"\",\"\",'Caseload Reporting'!P412)","v":""},{"$f":"IF('Caseload Reporting'!O412 = \"\",\"\",'Caseload Reporting'!O412)","v":""},{"$f":"IF('Caseload Reporting'!Q412 = \"\",\"\",'Caseload Reporting'!Q412)","v":""},{"$f":"IF('Caseload Reporting'!R412 = \"\",\"\",'Caseload Reporting'!R412)","v":""},{"$f":"IF('Caseload Reporting'!E412 = \"\",\"\",'Caseload Reporting'!E412)","v":""},{"$f":"IF('Caseload Reporting'!S412 = \"\",\"\",'Caseload Reporting'!S412)","v":""}]
[{"$f":"IF('Caseload Reporting'!A413 = \"\",\"\",'Caseload Reporting'!A413)","v":""},{"$f":"IF('Caseload Reporting'!B413 = \"\",\"\",'Caseload Reporting'!B413)","v":""},{"$f":"IF('Caseload Reporting'!C413 = \"\",\"\",'Caseload Reporting'!C413)","v":""},{"$f":"IF('Caseload Reporting'!D413 = \"\",\"\",'Caseload Reporting'!D413)","v":""},{"$f":"IF('Caseload Reporting'!G413 = \"\",\"\",'Caseload Reporting'!G413)","v":""},{"$f":"IF('Caseload Reporting'!H413 = \"\",\"\",'Caseload Reporting'!H413)","v":""},{"$f":"IF('Caseload Reporting'!I413 = \"\",\"\",'Caseload Reporting'!I413)","v":""},{"$f":"IF('Caseload Reporting'!J413 = \"\",\"\",'Caseload Reporting'!J413)","v":""},{"$f":"IF('Caseload Reporting'!K413 = \"\",\"\",'Caseload Reporting'!K413)","v":""},{"$f":"IF('Caseload Reporting'!L413 = \"\",\"\",'Caseload Reporting'!L413)","v":""},{"$f":"IF('Caseload Reporting'!M413 = \"\",\"\",'Caseload Reporting'!M413)","v":""},{"$f":"IF('Caseload Reporting'!N413 = \"\",\"\",'Caseload Reporting'!N413)","v":""},{"$f":"IF('Caseload Reporting'!P413 = \"\",\"\",'Caseload Reporting'!P413)","v":""},{"$f":"IF('Caseload Reporting'!O413 = \"\",\"\",'Caseload Reporting'!O413)","v":""},{"$f":"IF('Caseload Reporting'!Q413 = \"\",\"\",'Caseload Reporting'!Q413)","v":""},{"$f":"IF('Caseload Reporting'!R413 = \"\",\"\",'Caseload Reporting'!R413)","v":""},{"$f":"IF('Caseload Reporting'!E413 = \"\",\"\",'Caseload Reporting'!E413)","v":""},{"$f":"IF('Caseload Reporting'!S413 = \"\",\"\",'Caseload Reporting'!S413)","v":""}]
[{"$f":"IF('Caseload Reporting'!A414 = \"\",\"\",'Caseload Reporting'!A414)","v":""},{"$f":"IF('Caseload Reporting'!B414 = \"\",\"\",'Caseload Reporting'!B414)","v":""},{"$f":"IF('Caseload Reporting'!C414 = \"\",\"\",'Caseload Reporting'!C414)","v":""},{"$f":"IF('Caseload Reporting'!D414 = \"\",\"\",'Caseload Reporting'!D414)","v":""},{"$f":"IF('Caseload Reporting'!G414 = \"\",\"\",'Caseload Reporting'!G414)","v":""},{"$f":"IF('Caseload Reporting'!H414 = \"\",\"\",'Caseload Reporting'!H414)","v":""},{"$f":"IF('Caseload Reporting'!I414 = \"\",\"\",'Caseload Reporting'!I414)","v":""},{"$f":"IF('Caseload Reporting'!J414 = \"\",\"\",'Caseload Reporting'!J414)","v":""},{"$f":"IF('Caseload Reporting'!K414 = \"\",\"\",'Caseload Reporting'!K414)","v":""},{"$f":"IF('Caseload Reporting'!L414 = \"\",\"\",'Caseload Reporting'!L414)","v":""},{"$f":"IF('Caseload Reporting'!M414 = \"\",\"\",'Caseload Reporting'!M414)","v":""},{"$f":"IF('Caseload Reporting'!N414 = \"\",\"\",'Caseload Reporting'!N414)","v":""},{"$f":"IF('Caseload Reporting'!P414 = \"\",\"\",'Caseload Reporting'!P414)","v":""},{"$f":"IF('Caseload Reporting'!O414 = \"\",\"\",'Caseload Reporting'!O414)","v":""},{"$f":"IF('Caseload Reporting'!Q414 = \"\",\"\",'Caseload Reporting'!Q414)","v":""},{"$f":"IF('Caseload Reporting'!R414 = \"\",\"\",'Caseload Reporting'!R414)","v":""},{"$f":"IF('Caseload Reporting'!E414 = \"\",\"\",'Caseload Reporting'!E414)","v":""},{"$f":"IF('Caseload Reporting'!S414 = \"\",\"\",'Caseload Reporting'!S414)","v":""}]
[{"$f":"IF('Caseload Reporting'!A415 = \"\",\"\",'Caseload Reporting'!A415)","v":""},{"$f":"IF('Caseload Reporting'!B415 = \"\",\"\",'Caseload Reporting'!B415)","v":""},{"$f":"IF('Caseload Reporting'!C415 = \"\",\"\",'Caseload Reporting'!C415)","v":""},{"$f":"IF('Caseload Reporting'!D415 = \"\",\"\",'Caseload Reporting'!D415)","v":""},{"$f":"IF('Caseload Reporting'!G415 = \"\",\"\",'Caseload Reporting'!G415)","v":""},{"$f":"IF('Caseload Reporting'!H415 = \"\",\"\",'Caseload Reporting'!H415)","v":""},{"$f":"IF('Caseload Reporting'!I415 = \"\",\"\",'Caseload Reporting'!I415)","v":""},{"$f":"IF('Caseload Reporting'!J415 = \"\",\"\",'Caseload Reporting'!J415)","v":""},{"$f":"IF('Caseload Reporting'!K415 = \"\",\"\",'Caseload Reporting'!K415)","v":""},{"$f":"IF('Caseload Reporting'!L415 = \"\",\"\",'Caseload Reporting'!L415)","v":""},{"$f":"IF('Caseload Reporting'!M415 = \"\",\"\",'Caseload Reporting'!M415)","v":""},{"$f":"IF('Caseload Reporting'!N415 = \"\",\"\",'Caseload Reporting'!N415)","v":""},{"$f":"IF('Caseload Reporting'!P415 = \"\",\"\",'Caseload Reporting'!P415)","v":""},{"$f":"IF('Caseload Reporting'!O415 = \"\",\"\",'Caseload Reporting'!O415)","v":""},{"$f":"IF('Caseload Reporting'!Q415 = \"\",\"\",'Caseload Reporting'!Q415)","v":""},{"$f":"IF('Caseload Reporting'!R415 = \"\",\"\",'Caseload Reporting'!R415)","v":""},{"$f":"IF('Caseload Reporting'!E415 = \"\",\"\",'Caseload Reporting'!E415)","v":""},{"$f":"IF('Caseload Reporting'!S415 = \"\",\"\",'Caseload Reporting'!S415)","v":""}]
[{"$f":"IF('Caseload Reporting'!A416 = \"\",\"\",'Caseload Reporting'!A416)","v":""},{"$f":"IF('Caseload Reporting'!B416 = \"\",\"\",'Caseload Reporting'!B416)","v":""},{"$f":"IF('Caseload Reporting'!C416 = \"\",\"\",'Caseload Reporting'!C416)","v":""},{"$f":"IF('Caseload Reporting'!D416 = \"\",\"\",'Caseload Reporting'!D416)","v":""},{"$f":"IF('Caseload Reporting'!G416 = \"\",\"\",'Caseload Reporting'!G416)","v":""},{"$f":"IF('Caseload Reporting'!H416 = \"\",\"\",'Caseload Reporting'!H416)","v":""},{"$f":"IF('Caseload Reporting'!I416 = \"\",\"\",'Caseload Reporting'!I416)","v":""},{"$f":"IF('Caseload Reporting'!J416 = \"\",\"\",'Caseload Reporting'!J416)","v":""},{"$f":"IF('Caseload Reporting'!K416 = \"\",\"\",'Caseload Reporting'!K416)","v":""},{"$f":"IF('Caseload Reporting'!L416 = \"\",\"\",'Caseload Reporting'!L416)","v":""},{"$f":"IF('Caseload Reporting'!M416 = \"\",\"\",'Caseload Reporting'!M416)","v":""},{"$f":"IF('Caseload Reporting'!N416 = \"\",\"\",'Caseload Reporting'!N416)","v":""},{"$f":"IF('Caseload Reporting'!P416 = \"\",\"\",'Caseload Reporting'!P416)","v":""},{"$f":"IF('Caseload Reporting'!O416 = \"\",\"\",'Caseload Reporting'!O416)","v":""},{"$f":"IF('Caseload Reporting'!Q416 = \"\",\"\",'Caseload Reporting'!Q416)","v":""},{"$f":"IF('Caseload Reporting'!R416 = \"\",\"\",'Caseload Reporting'!R416)","v":""},{"$f":"IF('Caseload Reporting'!E416 = \"\",\"\",'Caseload Reporting'!E416)","v":""},{"$f":"IF('Caseload Reporting'!S416 = \"\",\"\",'Caseload Reporting'!S416)","v":""}]
[{"$f":"IF('Caseload Reporting'!A417 = \"\",\"\",'Caseload Reporting'!A417)","v":""},{"$f":"IF('Caseload Reporting'!B417 = \"\",\"\",'Caseload Reporting'!B417)","v":""},{"$f":"IF('Caseload Reporting'!C417 = \"\",\"\",'Caseload Reporting'!C417)","v":""},{"$f":"IF('Caseload Reporting'!D417 = \"\",\"\",'Caseload Reporting'!D417)","v":""},{"$f":"IF('Caseload Reporting'!G417 = \"\",\"\",'Caseload Reporting'!G417)","v":""},{"$f":"IF('Caseload Reporting'!H417 = \"\",\"\",'Caseload Reporting'!H417)","v":""},{"$f":"IF('Caseload Reporting'!I417 = \"\",\"\",'Caseload Reporting'!I417)","v":""},{"$f":"IF('Caseload Reporting'!J417 = \"\",\"\",'Caseload Reporting'!J417)","v":""},{"$f":"IF('Caseload Reporting'!K417 = \"\",\"\",'Caseload Reporting'!K417)","v":""},{"$f":"IF('Caseload Reporting'!L417 = \"\",\"\",'Caseload Reporting'!L417)","v":""},{"$f":"IF('Caseload Reporting'!M417 = \"\",\"\",'Caseload Reporting'!M417)","v":""},{"$f":"IF('Caseload Reporting'!N417 = \"\",\"\",'Caseload Reporting'!N417)","v":""},{"$f":"IF('Caseload Reporting'!P417 = \"\",\"\",'Caseload Reporting'!P417)","v":""},{"$f":"IF('Caseload Reporting'!O417 = \"\",\"\",'Caseload Reporting'!O417)","v":""},{"$f":"IF('Caseload Reporting'!Q417 = \"\",\"\",'Caseload Reporting'!Q417)","v":""},{"$f":"IF('Caseload Reporting'!R417 = \"\",\"\",'Caseload Reporting'!R417)","v":""},{"$f":"IF('Caseload Reporting'!E417 = \"\",\"\",'Caseload Reporting'!E417)","v":""},{"$f":"IF('Caseload Reporting'!S417 = \"\",\"\",'Caseload Reporting'!S417)","v":""}]
[{"$f":"IF('Caseload Reporting'!A418 = \"\",\"\",'Caseload Reporting'!A418)","v":""},{"$f":"IF('Caseload Reporting'!B418 = \"\",\"\",'Caseload Reporting'!B418)","v":""},{"$f":"IF('Caseload Reporting'!C418 = \"\",\"\",'Caseload Reporting'!C418)","v":""},{"$f":"IF('Caseload Reporting'!D418 = \"\",\"\",'Caseload Reporting'!D418)","v":""},{"$f":"IF('Caseload Reporting'!G418 = \"\",\"\",'Caseload Reporting'!G418)","v":""},{"$f":"IF('Caseload Reporting'!H418 = \"\",\"\",'Caseload Reporting'!H418)","v":""},{"$f":"IF('Caseload Reporting'!I418 = \"\",\"\",'Caseload Reporting'!I418)","v":""},{"$f":"IF('Caseload Reporting'!J418 = \"\",\"\",'Caseload Reporting'!J418)","v":""},{"$f":"IF('Caseload Reporting'!K418 = \"\",\"\",'Caseload Reporting'!K418)","v":""},{"$f":"IF('Caseload Reporting'!L418 = \"\",\"\",'Caseload Reporting'!L418)","v":""},{"$f":"IF('Caseload Reporting'!M418 = \"\",\"\",'Caseload Reporting'!M418)","v":""},{"$f":"IF('Caseload Reporting'!N418 = \"\",\"\",'Caseload Reporting'!N418)","v":""},{"$f":"IF('Caseload Reporting'!P418 = \"\",\"\",'Caseload Reporting'!P418)","v":""},{"$f":"IF('Caseload Reporting'!O418 = \"\",\"\",'Caseload Reporting'!O418)","v":""},{"$f":"IF('Caseload Reporting'!Q418 = \"\",\"\",'Caseload Reporting'!Q418)","v":""},{"$f":"IF('Caseload Reporting'!R418 = \"\",\"\",'Caseload Reporting'!R418)","v":""},{"$f":"IF('Caseload Reporting'!E418 = \"\",\"\",'Caseload Reporting'!E418)","v":""},{"$f":"IF('Caseload Reporting'!S418 = \"\",\"\",'Caseload Reporting'!S418)","v":""}]
[{"$f":"IF('Caseload Reporting'!A419 = \"\",\"\",'Caseload Reporting'!A419)","v":""},{"$f":"IF('Caseload Reporting'!B419 = \"\",\"\",'Caseload Reporting'!B419)","v":""},{"$f":"IF('Caseload Reporting'!C419 = \"\",\"\",'Caseload Reporting'!C419)","v":""},{"$f":"IF('Caseload Reporting'!D419 = \"\",\"\",'Caseload Reporting'!D419)","v":""},{"$f":"IF('Caseload Reporting'!G419 = \"\",\"\",'Caseload Reporting'!G419)","v":""},{"$f":"IF('Caseload Reporting'!H419 = \"\",\"\",'Caseload Reporting'!H419)","v":""},{"$f":"IF('Caseload Reporting'!I419 = \"\",\"\",'Caseload Reporting'!I419)","v":""},{"$f":"IF('Caseload Reporting'!J419 = \"\",\"\",'Caseload Reporting'!J419)","v":""},{"$f":"IF('Caseload Reporting'!K419 = \"\",\"\",'Caseload Reporting'!K419)","v":""},{"$f":"IF('Caseload Reporting'!L419 = \"\",\"\",'Caseload Reporting'!L419)","v":""},{"$f":"IF('Caseload Reporting'!M419 = \"\",\"\",'Caseload Reporting'!M419)","v":""},{"$f":"IF('Caseload Reporting'!N419 = \"\",\"\",'Caseload Reporting'!N419)","v":""},{"$f":"IF('Caseload Reporting'!P419 = \"\",\"\",'Caseload Reporting'!P419)","v":""},{"$f":"IF('Caseload Reporting'!O419 = \"\",\"\",'Caseload Reporting'!O419)","v":""},{"$f":"IF('Caseload Reporting'!Q419 = \"\",\"\",'Caseload Reporting'!Q419)","v":""},{"$f":"IF('Caseload Reporting'!R419 = \"\",\"\",'Caseload Reporting'!R419)","v":""},{"$f":"IF('Caseload Reporting'!E419 = \"\",\"\",'Caseload Reporting'!E419)","v":""},{"$f":"IF('Caseload Reporting'!S419 = \"\",\"\",'Caseload Reporting'!S419)","v":""}]
[{"$f":"IF('Caseload Reporting'!A420 = \"\",\"\",'Caseload Reporting'!A420)","v":""},{"$f":"IF('Caseload Reporting'!B420 = \"\",\"\",'Caseload Reporting'!B420)","v":""},{"$f":"IF('Caseload Reporting'!C420 = \"\",\"\",'Caseload Reporting'!C420)","v":""},{"$f":"IF('Caseload Reporting'!D420 = \"\",\"\",'Caseload Reporting'!D420)","v":""},{"$f":"IF('Caseload Reporting'!G420 = \"\",\"\",'Caseload Reporting'!G420)","v":""},{"$f":"IF('Caseload Reporting'!H420 = \"\",\"\",'Caseload Reporting'!H420)","v":""},{"$f":"IF('Caseload Reporting'!I420 = \"\",\"\",'Caseload Reporting'!I420)","v":""},{"$f":"IF('Caseload Reporting'!J420 = \"\",\"\",'Caseload Reporting'!J420)","v":""},{"$f":"IF('Caseload Reporting'!K420 = \"\",\"\",'Caseload Reporting'!K420)","v":""},{"$f":"IF('Caseload Reporting'!L420 = \"\",\"\",'Caseload Reporting'!L420)","v":""},{"$f":"IF('Caseload Reporting'!M420 = \"\",\"\",'Caseload Reporting'!M420)","v":""},{"$f":"IF('Caseload Reporting'!N420 = \"\",\"\",'Caseload Reporting'!N420)","v":""},{"$f":"IF('Caseload Reporting'!P420 = \"\",\"\",'Caseload Reporting'!P420)","v":""},{"$f":"IF('Caseload Reporting'!O420 = \"\",\"\",'Caseload Reporting'!O420)","v":""},{"$f":"IF('Caseload Reporting'!Q420 = \"\",\"\",'Caseload Reporting'!Q420)","v":""},{"$f":"IF('Caseload Reporting'!R420 = \"\",\"\",'Caseload Reporting'!R420)","v":""},{"$f":"IF('Caseload Reporting'!E420 = \"\",\"\",'Caseload Reporting'!E420)","v":""},{"$f":"IF('Caseload Reporting'!S420 = \"\",\"\",'Caseload Reporting'!S420)","v":""}]
[{"$f":"IF('Caseload Reporting'!A421 = \"\",\"\",'Caseload Reporting'!A421)","v":""},{"$f":"IF('Caseload Reporting'!B421 = \"\",\"\",'Caseload Reporting'!B421)","v":""},{"$f":"IF('Caseload Reporting'!C421 = \"\",\"\",'Caseload Reporting'!C421)","v":""},{"$f":"IF('Caseload Reporting'!D421 = \"\",\"\",'Caseload Reporting'!D421)","v":""},{"$f":"IF('Caseload Reporting'!G421 = \"\",\"\",'Caseload Reporting'!G421)","v":""},{"$f":"IF('Caseload Reporting'!H421 = \"\",\"\",'Caseload Reporting'!H421)","v":""},{"$f":"IF('Caseload Reporting'!I421 = \"\",\"\",'Caseload Reporting'!I421)","v":""},{"$f":"IF('Caseload Reporting'!J421 = \"\",\"\",'Caseload Reporting'!J421)","v":""},{"$f":"IF('Caseload Reporting'!K421 = \"\",\"\",'Caseload Reporting'!K421)","v":""},{"$f":"IF('Caseload Reporting'!L421 = \"\",\"\",'Caseload Reporting'!L421)","v":""},{"$f":"IF('Caseload Reporting'!M421 = \"\",\"\",'Caseload Reporting'!M421)","v":""},{"$f":"IF('Caseload Reporting'!N421 = \"\",\"\",'Caseload Reporting'!N421)","v":""},{"$f":"IF('Caseload Reporting'!P421 = \"\",\"\",'Caseload Reporting'!P421)","v":""},{"$f":"IF('Caseload Reporting'!O421 = \"\",\"\",'Caseload Reporting'!O421)","v":""},{"$f":"IF('Caseload Reporting'!Q421 = \"\",\"\",'Caseload Reporting'!Q421)","v":""},{"$f":"IF('Caseload Reporting'!R421 = \"\",\"\",'Caseload Reporting'!R421)","v":""},{"$f":"IF('Caseload Reporting'!E421 = \"\",\"\",'Caseload Reporting'!E421)","v":""},{"$f":"IF('Caseload Reporting'!S421 = \"\",\"\",'Caseload Reporting'!S421)","v":""}]
[{"$f":"IF('Caseload Reporting'!A422 = \"\",\"\",'Caseload Reporting'!A422)","v":""},{"$f":"IF('Caseload Reporting'!B422 = \"\",\"\",'Caseload Reporting'!B422)","v":""},{"$f":"IF('Caseload Reporting'!C422 = \"\",\"\",'Caseload Reporting'!C422)","v":""},{"$f":"IF('Caseload Reporting'!D422 = \"\",\"\",'Caseload Reporting'!D422)","v":""},{"$f":"IF('Caseload Reporting'!G422 = \"\",\"\",'Caseload Reporting'!G422)","v":""},{"$f":"IF('Caseload Reporting'!H422 = \"\",\"\",'Caseload Reporting'!H422)","v":""},{"$f":"IF('Caseload Reporting'!I422 = \"\",\"\",'Caseload Reporting'!I422)","v":""},{"$f":"IF('Caseload Reporting'!J422 = \"\",\"\",'Caseload Reporting'!J422)","v":""},{"$f":"IF('Caseload Reporting'!K422 = \"\",\"\",'Caseload Reporting'!K422)","v":""},{"$f":"IF('Caseload Reporting'!L422 = \"\",\"\",'Caseload Reporting'!L422)","v":""},{"$f":"IF('Caseload Reporting'!M422 = \"\",\"\",'Caseload Reporting'!M422)","v":""},{"$f":"IF('Caseload Reporting'!N422 = \"\",\"\",'Caseload Reporting'!N422)","v":""},{"$f":"IF('Caseload Reporting'!P422 = \"\",\"\",'Caseload Reporting'!P422)","v":""},{"$f":"IF('Caseload Reporting'!O422 = \"\",\"\",'Caseload Reporting'!O422)","v":""},{"$f":"IF('Caseload Reporting'!Q422 = \"\",\"\",'Caseload Reporting'!Q422)","v":""},{"$f":"IF('Caseload Reporting'!R422 = \"\",\"\",'Caseload Reporting'!R422)","v":""},{"$f":"IF('Caseload Reporting'!E422 = \"\",\"\",'Caseload Reporting'!E422)","v":""},{"$f":"IF('Caseload Reporting'!S422 = \"\",\"\",'Caseload Reporting'!S422)","v":""}]
[{"$f":"IF('Caseload Reporting'!A423 = \"\",\"\",'Caseload Reporting'!A423)","v":""},{"$f":"IF('Caseload Reporting'!B423 = \"\",\"\",'Caseload Reporting'!B423)","v":""},{"$f":"IF('Caseload Reporting'!C423 = \"\",\"\",'Caseload Reporting'!C423)","v":""},{"$f":"IF('Caseload Reporting'!D423 = \"\",\"\",'Caseload Reporting'!D423)","v":""},{"$f":"IF('Caseload Reporting'!G423 = \"\",\"\",'Caseload Reporting'!G423)","v":""},{"$f":"IF('Caseload Reporting'!H423 = \"\",\"\",'Caseload Reporting'!H423)","v":""},{"$f":"IF('Caseload Reporting'!I423 = \"\",\"\",'Caseload Reporting'!I423)","v":""},{"$f":"IF('Caseload Reporting'!J423 = \"\",\"\",'Caseload Reporting'!J423)","v":""},{"$f":"IF('Caseload Reporting'!K423 = \"\",\"\",'Caseload Reporting'!K423)","v":""},{"$f":"IF('Caseload Reporting'!L423 = \"\",\"\",'Caseload Reporting'!L423)","v":""},{"$f":"IF('Caseload Reporting'!M423 = \"\",\"\",'Caseload Reporting'!M423)","v":""},{"$f":"IF('Caseload Reporting'!N423 = \"\",\"\",'Caseload Reporting'!N423)","v":""},{"$f":"IF('Caseload Reporting'!P423 = \"\",\"\",'Caseload Reporting'!P423)","v":""},{"$f":"IF('Caseload Reporting'!O423 = \"\",\"\",'Caseload Reporting'!O423)","v":""},{"$f":"IF('Caseload Reporting'!Q423 = \"\",\"\",'Caseload Reporting'!Q423)","v":""},{"$f":"IF('Caseload Reporting'!R423 = \"\",\"\",'Caseload Reporting'!R423)","v":""},{"$f":"IF('Caseload Reporting'!E423 = \"\",\"\",'Caseload Reporting'!E423)","v":""},{"$f":"IF('Caseload Reporting'!S423 = \"\",\"\",'Caseload Reporting'!S423)","v":""}]
[{"$f":"IF('Caseload Reporting'!A424 = \"\",\"\",'Caseload Reporting'!A424)","v":""},{"$f":"IF('Caseload Reporting'!B424 = \"\",\"\",'Caseload Reporting'!B424)","v":""},{"$f":"IF('Caseload Reporting'!C424 = \"\",\"\",'Caseload Reporting'!C424)","v":""},{"$f":"IF('Caseload Reporting'!D424 = \"\",\"\",'Caseload Reporting'!D424)","v":""},{"$f":"IF('Caseload Reporting'!G424 = \"\",\"\",'Caseload Reporting'!G424)","v":""},{"$f":"IF('Caseload Reporting'!H424 = \"\",\"\",'Caseload Reporting'!H424)","v":""},{"$f":"IF('Caseload Reporting'!I424 = \"\",\"\",'Caseload Reporting'!I424)","v":""},{"$f":"IF('Caseload Reporting'!J424 = \"\",\"\",'Caseload Reporting'!J424)","v":""},{"$f":"IF('Caseload Reporting'!K424 = \"\",\"\",'Caseload Reporting'!K424)","v":""},{"$f":"IF('Caseload Reporting'!L424 = \"\",\"\",'Caseload Reporting'!L424)","v":""},{"$f":"IF('Caseload Reporting'!M424 = \"\",\"\",'Caseload Reporting'!M424)","v":""},{"$f":"IF('Caseload Reporting'!N424 = \"\",\"\",'Caseload Reporting'!N424)","v":""},{"$f":"IF('Caseload Reporting'!P424 = \"\",\"\",'Caseload Reporting'!P424)","v":""},{"$f":"IF('Caseload Reporting'!O424 = \"\",\"\",'Caseload Reporting'!O424)","v":""},{"$f":"IF('Caseload Reporting'!Q424 = \"\",\"\",'Caseload Reporting'!Q424)","v":""},{"$f":"IF('Caseload Reporting'!R424 = \"\",\"\",'Caseload Reporting'!R424)","v":""},{"$f":"IF('Caseload Reporting'!E424 = \"\",\"\",'Caseload Reporting'!E424)","v":""},{"$f":"IF('Caseload Reporting'!S424 = \"\",\"\",'Caseload Reporting'!S424)","v":""}]
[{"$f":"IF('Caseload Reporting'!A425 = \"\",\"\",'Caseload Reporting'!A425)","v":""},{"$f":"IF('Caseload Reporting'!B425 = \"\",\"\",'Caseload Reporting'!B425)","v":""},{"$f":"IF('Caseload Reporting'!C425 = \"\",\"\",'Caseload Reporting'!C425)","v":""},{"$f":"IF('Caseload Reporting'!D425 = \"\",\"\",'Caseload Reporting'!D425)","v":""},{"$f":"IF('Caseload Reporting'!G425 = \"\",\"\",'Caseload Reporting'!G425)","v":""},{"$f":"IF('Caseload Reporting'!H425 = \"\",\"\",'Caseload Reporting'!H425)","v":""},{"$f":"IF('Caseload Reporting'!I425 = \"\",\"\",'Caseload Reporting'!I425)","v":""},{"$f":"IF('Caseload Reporting'!J425 = \"\",\"\",'Caseload Reporting'!J425)","v":""},{"$f":"IF('Caseload Reporting'!K425 = \"\",\"\",'Caseload Reporting'!K425)","v":""},{"$f":"IF('Caseload Reporting'!L425 = \"\",\"\",'Caseload Reporting'!L425)","v":""},{"$f":"IF('Caseload Reporting'!M425 = \"\",\"\",'Caseload Reporting'!M425)","v":""},{"$f":"IF('Caseload Reporting'!N425 = \"\",\"\",'Caseload Reporting'!N425)","v":""},{"$f":"IF('Caseload Reporting'!P425 = \"\",\"\",'Caseload Reporting'!P425)","v":""},{"$f":"IF('Caseload Reporting'!O425 = \"\",\"\",'Caseload Reporting'!O425)","v":""},{"$f":"IF('Caseload Reporting'!Q425 = \"\",\"\",'Caseload Reporting'!Q425)","v":""},{"$f":"IF('Caseload Reporting'!R425 = \"\",\"\",'Caseload Reporting'!R425)","v":""},{"$f":"IF('Caseload Reporting'!E425 = \"\",\"\",'Caseload Reporting'!E425)","v":""},{"$f":"IF('Caseload Reporting'!S425 = \"\",\"\",'Caseload Reporting'!S425)","v":""}]
[{"$f":"IF('Caseload Reporting'!A426 = \"\",\"\",'Caseload Reporting'!A426)","v":""},{"$f":"IF('Caseload Reporting'!B426 = \"\",\"\",'Caseload Reporting'!B426)","v":""},{"$f":"IF('Caseload Reporting'!C426 = \"\",\"\",'Caseload Reporting'!C426)","v":""},{"$f":"IF('Caseload Reporting'!D426 = \"\",\"\",'Caseload Reporting'!D426)","v":""},{"$f":"IF('Caseload Reporting'!G426 = \"\",\"\",'Caseload Reporting'!G426)","v":""},{"$f":"IF('Caseload Reporting'!H426 = \"\",\"\",'Caseload Reporting'!H426)","v":""},{"$f":"IF('Caseload Reporting'!I426 = \"\",\"\",'Caseload Reporting'!I426)","v":""},{"$f":"IF('Caseload Reporting'!J426 = \"\",\"\",'Caseload Reporting'!J426)","v":""},{"$f":"IF('Caseload Reporting'!K426 = \"\",\"\",'Caseload Reporting'!K426)","v":""},{"$f":"IF('Caseload Reporting'!L426 = \"\",\"\",'Caseload Reporting'!L426)","v":""},{"$f":"IF('Caseload Reporting'!M426 = \"\",\"\",'Caseload Reporting'!M426)","v":""},{"$f":"IF('Caseload Reporting'!N426 = \"\",\"\",'Caseload Reporting'!N426)","v":""},{"$f":"IF('Caseload Reporting'!P426 = \"\",\"\",'Caseload Reporting'!P426)","v":""},{"$f":"IF('Caseload Reporting'!O426 = \"\",\"\",'Caseload Reporting'!O426)","v":""},{"$f":"IF('Caseload Reporting'!Q426 = \"\",\"\",'Caseload Reporting'!Q426)","v":""},{"$f":"IF('Caseload Reporting'!R426 = \"\",\"\",'Caseload Reporting'!R426)","v":""},{"$f":"IF('Caseload Reporting'!E426 = \"\",\"\",'Caseload Reporting'!E426)","v":""},{"$f":"IF('Caseload Reporting'!S426 = \"\",\"\",'Caseload Reporting'!S426)","v":""}]
[{"$f":"IF('Caseload Reporting'!A427 = \"\",\"\",'Caseload Reporting'!A427)","v":""},{"$f":"IF('Caseload Reporting'!B427 = \"\",\"\",'Caseload Reporting'!B427)","v":""},{"$f":"IF('Caseload Reporting'!C427 = \"\",\"\",'Caseload Reporting'!C427)","v":""},{"$f":"IF('Caseload Reporting'!D427 = \"\",\"\",'Caseload Reporting'!D427)","v":""},{"$f":"IF('Caseload Reporting'!G427 = \"\",\"\",'Caseload Reporting'!G427)","v":""},{"$f":"IF('Caseload Reporting'!H427 = \"\",\"\",'Caseload Reporting'!H427)","v":""},{"$f":"IF('Caseload Reporting'!I427 = \"\",\"\",'Caseload Reporting'!I427)","v":""},{"$f":"IF('Caseload Reporting'!J427 = \"\",\"\",'Caseload Reporting'!J427)","v":""},{"$f":"IF('Caseload Reporting'!K427 = \"\",\"\",'Caseload Reporting'!K427)","v":""},{"$f":"IF('Caseload Reporting'!L427 = \"\",\"\",'Caseload Reporting'!L427)","v":""},{"$f":"IF('Caseload Reporting'!M427 = \"\",\"\",'Caseload Reporting'!M427)","v":""},{"$f":"IF('Caseload Reporting'!N427 = \"\",\"\",'Caseload Reporting'!N427)","v":""},{"$f":"IF('Caseload Reporting'!P427 = \"\",\"\",'Caseload Reporting'!P427)","v":""},{"$f":"IF('Caseload Reporting'!O427 = \"\",\"\",'Caseload Reporting'!O427)","v":""},{"$f":"IF('Caseload Reporting'!Q427 = \"\",\"\",'Caseload Reporting'!Q427)","v":""},{"$f":"IF('Caseload Reporting'!R427 = \"\",\"\",'Caseload Reporting'!R427)","v":""},{"$f":"IF('Caseload Reporting'!E427 = \"\",\"\",'Caseload Reporting'!E427)","v":""},{"$f":"IF('Caseload Reporting'!S427 = \"\",\"\",'Caseload Reporting'!S427)","v":""}]
[{"$f":"IF('Caseload Reporting'!A428 = \"\",\"\",'Caseload Reporting'!A428)","v":""},{"$f":"IF('Caseload Reporting'!B428 = \"\",\"\",'Caseload Reporting'!B428)","v":""},{"$f":"IF('Caseload Reporting'!C428 = \"\",\"\",'Caseload Reporting'!C428)","v":""},{"$f":"IF('Caseload Reporting'!D428 = \"\",\"\",'Caseload Reporting'!D428)","v":""},{"$f":"IF('Caseload Reporting'!G428 = \"\",\"\",'Caseload Reporting'!G428)","v":""},{"$f":"IF('Caseload Reporting'!H428 = \"\",\"\",'Caseload Reporting'!H428)","v":""},{"$f":"IF('Caseload Reporting'!I428 = \"\",\"\",'Caseload Reporting'!I428)","v":""},{"$f":"IF('Caseload Reporting'!J428 = \"\",\"\",'Caseload Reporting'!J428)","v":""},{"$f":"IF('Caseload Reporting'!K428 = \"\",\"\",'Caseload Reporting'!K428)","v":""},{"$f":"IF('Caseload Reporting'!L428 = \"\",\"\",'Caseload Reporting'!L428)","v":""},{"$f":"IF('Caseload Reporting'!M428 = \"\",\"\",'Caseload Reporting'!M428)","v":""},{"$f":"IF('Caseload Reporting'!N428 = \"\",\"\",'Caseload Reporting'!N428)","v":""},{"$f":"IF('Caseload Reporting'!P428 = \"\",\"\",'Caseload Reporting'!P428)","v":""},{"$f":"IF('Caseload Reporting'!O428 = \"\",\"\",'Caseload Reporting'!O428)","v":""},{"$f":"IF('Caseload Reporting'!Q428 = \"\",\"\",'Caseload Reporting'!Q428)","v":""},{"$f":"IF('Caseload Reporting'!R428 = \"\",\"\",'Caseload Reporting'!R428)","v":""},{"$f":"IF('Caseload Reporting'!E428 = \"\",\"\",'Caseload Reporting'!E428)","v":""},{"$f":"IF('Caseload Reporting'!S428 = \"\",\"\",'Caseload Reporting'!S428)","v":""}]
[{"$f":"IF('Caseload Reporting'!A429 = \"\",\"\",'Caseload Reporting'!A429)","v":""},{"$f":"IF('Caseload Reporting'!B429 = \"\",\"\",'Caseload Reporting'!B429)","v":""},{"$f":"IF('Caseload Reporting'!C429 = \"\",\"\",'Caseload Reporting'!C429)","v":""},{"$f":"IF('Caseload Reporting'!D429 = \"\",\"\",'Caseload Reporting'!D429)","v":""},{"$f":"IF('Caseload Reporting'!G429 = \"\",\"\",'Caseload Reporting'!G429)","v":""},{"$f":"IF('Caseload Reporting'!H429 = \"\",\"\",'Caseload Reporting'!H429)","v":""},{"$f":"IF('Caseload Reporting'!I429 = \"\",\"\",'Caseload Reporting'!I429)","v":""},{"$f":"IF('Caseload Reporting'!J429 = \"\",\"\",'Caseload Reporting'!J429)","v":""},{"$f":"IF('Caseload Reporting'!K429 = \"\",\"\",'Caseload Reporting'!K429)","v":""},{"$f":"IF('Caseload Reporting'!L429 = \"\",\"\",'Caseload Reporting'!L429)","v":""},{"$f":"IF('Caseload Reporting'!M429 = \"\",\"\",'Caseload Reporting'!M429)","v":""},{"$f":"IF('Caseload Reporting'!N429 = \"\",\"\",'Caseload Reporting'!N429)","v":""},{"$f":"IF('Caseload Reporting'!P429 = \"\",\"\",'Caseload Reporting'!P429)","v":""},{"$f":"IF('Caseload Reporting'!O429 = \"\",\"\",'Caseload Reporting'!O429)","v":""},{"$f":"IF('Caseload Reporting'!Q429 = \"\",\"\",'Caseload Reporting'!Q429)","v":""},{"$f":"IF('Caseload Reporting'!R429 = \"\",\"\",'Caseload Reporting'!R429)","v":""},{"$f":"IF('Caseload Reporting'!E429 = \"\",\"\",'Caseload Reporting'!E429)","v":""},{"$f":"IF('Caseload Reporting'!S429 = \"\",\"\",'Caseload Reporting'!S429)","v":""}]
[{"$f":"IF('Caseload Reporting'!A430 = \"\",\"\",'Caseload Reporting'!A430)","v":""},{"$f":"IF('Caseload Reporting'!B430 = \"\",\"\",'Caseload Reporting'!B430)","v":""},{"$f":"IF('Caseload Reporting'!C430 = \"\",\"\",'Caseload Reporting'!C430)","v":""},{"$f":"IF('Caseload Reporting'!D430 = \"\",\"\",'Caseload Reporting'!D430)","v":""},{"$f":"IF('Caseload Reporting'!G430 = \"\",\"\",'Caseload Reporting'!G430)","v":""},{"$f":"IF('Caseload Reporting'!H430 = \"\",\"\",'Caseload Reporting'!H430)","v":""},{"$f":"IF('Caseload Reporting'!I430 = \"\",\"\",'Caseload Reporting'!I430)","v":""},{"$f":"IF('Caseload Reporting'!J430 = \"\",\"\",'Caseload Reporting'!J430)","v":""},{"$f":"IF('Caseload Reporting'!K430 = \"\",\"\",'Caseload Reporting'!K430)","v":""},{"$f":"IF('Caseload Reporting'!L430 = \"\",\"\",'Caseload Reporting'!L430)","v":""},{"$f":"IF('Caseload Reporting'!M430 = \"\",\"\",'Caseload Reporting'!M430)","v":""},{"$f":"IF('Caseload Reporting'!N430 = \"\",\"\",'Caseload Reporting'!N430)","v":""},{"$f":"IF('Caseload Reporting'!P430 = \"\",\"\",'Caseload Reporting'!P430)","v":""},{"$f":"IF('Caseload Reporting'!O430 = \"\",\"\",'Caseload Reporting'!O430)","v":""},{"$f":"IF('Caseload Reporting'!Q430 = \"\",\"\",'Caseload Reporting'!Q430)","v":""},{"$f":"IF('Caseload Reporting'!R430 = \"\",\"\",'Caseload Reporting'!R430)","v":""},{"$f":"IF('Caseload Reporting'!E430 = \"\",\"\",'Caseload Reporting'!E430)","v":""},{"$f":"IF('Caseload Reporting'!S430 = \"\",\"\",'Caseload Reporting'!S430)","v":""}]
[{"$f":"IF('Caseload Reporting'!A431 = \"\",\"\",'Caseload Reporting'!A431)","v":""},{"$f":"IF('Caseload Reporting'!B431 = \"\",\"\",'Caseload Reporting'!B431)","v":""},{"$f":"IF('Caseload Reporting'!C431 = \"\",\"\",'Caseload Reporting'!C431)","v":""},{"$f":"IF('Caseload Reporting'!D431 = \"\",\"\",'Caseload Reporting'!D431)","v":""},{"$f":"IF('Caseload Reporting'!G431 = \"\",\"\",'Caseload Reporting'!G431)","v":""},{"$f":"IF('Caseload Reporting'!H431 = \"\",\"\",'Caseload Reporting'!H431)","v":""},{"$f":"IF('Caseload Reporting'!I431 = \"\",\"\",'Caseload Reporting'!I431)","v":""},{"$f":"IF('Caseload Reporting'!J431 = \"\",\"\",'Caseload Reporting'!J431)","v":""},{"$f":"IF('Caseload Reporting'!K431 = \"\",\"\",'Caseload Reporting'!K431)","v":""},{"$f":"IF('Caseload Reporting'!L431 = \"\",\"\",'Caseload Reporting'!L431)","v":""},{"$f":"IF('Caseload Reporting'!M431 = \"\",\"\",'Caseload Reporting'!M431)","v":""},{"$f":"IF('Caseload Reporting'!N431 = \"\",\"\",'Caseload Reporting'!N431)","v":""},{"$f":"IF('Caseload Reporting'!P431 = \"\",\"\",'Caseload Reporting'!P431)","v":""},{"$f":"IF('Caseload Reporting'!O431 = \"\",\"\",'Caseload Reporting'!O431)","v":""},{"$f":"IF('Caseload Reporting'!Q431 = \"\",\"\",'Caseload Reporting'!Q431)","v":""},{"$f":"IF('Caseload Reporting'!R431 = \"\",\"\",'Caseload Reporting'!R431)","v":""},{"$f":"IF('Caseload Reporting'!E431 = \"\",\"\",'Caseload Reporting'!E431)","v":""},{"$f":"IF('Caseload Reporting'!S431 = \"\",\"\",'Caseload Reporting'!S431)","v":""}]
[{"$f":"IF('Caseload Reporting'!A432 = \"\",\"\",'Caseload Reporting'!A432)","v":""},{"$f":"IF('Caseload Reporting'!B432 = \"\",\"\",'Caseload Reporting'!B432)","v":""},{"$f":"IF('Caseload Reporting'!C432 = \"\",\"\",'Caseload Reporting'!C432)","v":""},{"$f":"IF('Caseload Reporting'!D432 = \"\",\"\",'Caseload Reporting'!D432)","v":""},{"$f":"IF('Caseload Reporting'!G432 = \"\",\"\",'Caseload Reporting'!G432)","v":""},{"$f":"IF('Caseload Reporting'!H432 = \"\",\"\",'Caseload Reporting'!H432)","v":""},{"$f":"IF('Caseload Reporting'!I432 = \"\",\"\",'Caseload Reporting'!I432)","v":""},{"$f":"IF('Caseload Reporting'!J432 = \"\",\"\",'Caseload Reporting'!J432)","v":""},{"$f":"IF('Caseload Reporting'!K432 = \"\",\"\",'Caseload Reporting'!K432)","v":""},{"$f":"IF('Caseload Reporting'!L432 = \"\",\"\",'Caseload Reporting'!L432)","v":""},{"$f":"IF('Caseload Reporting'!M432 = \"\",\"\",'Caseload Reporting'!M432)","v":""},{"$f":"IF('Caseload Reporting'!N432 = \"\",\"\",'Caseload Reporting'!N432)","v":""},{"$f":"IF('Caseload Reporting'!P432 = \"\",\"\",'Caseload Reporting'!P432)","v":""},{"$f":"IF('Caseload Reporting'!O432 = \"\",\"\",'Caseload Reporting'!O432)","v":""},{"$f":"IF('Caseload Reporting'!Q432 = \"\",\"\",'Caseload Reporting'!Q432)","v":""},{"$f":"IF('Caseload Reporting'!R432 = \"\",\"\",'Caseload Reporting'!R432)","v":""},{"$f":"IF('Caseload Reporting'!E432 = \"\",\"\",'Caseload Reporting'!E432)","v":""},{"$f":"IF('Caseload Reporting'!S432 = \"\",\"\",'Caseload Reporting'!S432)","v":""}]
[{"$f":"IF('Caseload Reporting'!A433 = \"\",\"\",'Caseload Reporting'!A433)","v":""},{"$f":"IF('Caseload Reporting'!B433 = \"\",\"\",'Caseload Reporting'!B433)","v":""},{"$f":"IF('Caseload Reporting'!C433 = \"\",\"\",'Caseload Reporting'!C433)","v":""},{"$f":"IF('Caseload Reporting'!D433 = \"\",\"\",'Caseload Reporting'!D433)","v":""},{"$f":"IF('Caseload Reporting'!G433 = \"\",\"\",'Caseload Reporting'!G433)","v":""},{"$f":"IF('Caseload Reporting'!H433 = \"\",\"\",'Caseload Reporting'!H433)","v":""},{"$f":"IF('Caseload Reporting'!I433 = \"\",\"\",'Caseload Reporting'!I433)","v":""},{"$f":"IF('Caseload Reporting'!J433 = \"\",\"\",'Caseload Reporting'!J433)","v":""},{"$f":"IF('Caseload Reporting'!K433 = \"\",\"\",'Caseload Reporting'!K433)","v":""},{"$f":"IF('Caseload Reporting'!L433 = \"\",\"\",'Caseload Reporting'!L433)","v":""},{"$f":"IF('Caseload Reporting'!M433 = \"\",\"\",'Caseload Reporting'!M433)","v":""},{"$f":"IF('Caseload Reporting'!N433 = \"\",\"\",'Caseload Reporting'!N433)","v":""},{"$f":"IF('Caseload Reporting'!P433 = \"\",\"\",'Caseload Reporting'!P433)","v":""},{"$f":"IF('Caseload Reporting'!O433 = \"\",\"\",'Caseload Reporting'!O433)","v":""},{"$f":"IF('Caseload Reporting'!Q433 = \"\",\"\",'Caseload Reporting'!Q433)","v":""},{"$f":"IF('Caseload Reporting'!R433 = \"\",\"\",'Caseload Reporting'!R433)","v":""},{"$f":"IF('Caseload Reporting'!E433 = \"\",\"\",'Caseload Reporting'!E433)","v":""},{"$f":"IF('Caseload Reporting'!S433 = \"\",\"\",'Caseload Reporting'!S433)","v":""}]
[{"$f":"IF('Caseload Reporting'!A434 = \"\",\"\",'Caseload Reporting'!A434)","v":""},{"$f":"IF('Caseload Reporting'!B434 = \"\",\"\",'Caseload Reporting'!B434)","v":""},{"$f":"IF('Caseload Reporting'!C434 = \"\",\"\",'Caseload Reporting'!C434)","v":""},{"$f":"IF('Caseload Reporting'!D434 = \"\",\"\",'Caseload Reporting'!D434)","v":""},{"$f":"IF('Caseload Reporting'!G434 = \"\",\"\",'Caseload Reporting'!G434)","v":""},{"$f":"IF('Caseload Reporting'!H434 = \"\",\"\",'Caseload Reporting'!H434)","v":""},{"$f":"IF('Caseload Reporting'!I434 = \"\",\"\",'Caseload Reporting'!I434)","v":""},{"$f":"IF('Caseload Reporting'!J434 = \"\",\"\",'Caseload Reporting'!J434)","v":""},{"$f":"IF('Caseload Reporting'!K434 = \"\",\"\",'Caseload Reporting'!K434)","v":""},{"$f":"IF('Caseload Reporting'!L434 = \"\",\"\",'Caseload Reporting'!L434)","v":""},{"$f":"IF('Caseload Reporting'!M434 = \"\",\"\",'Caseload Reporting'!M434)","v":""},{"$f":"IF('Caseload Reporting'!N434 = \"\",\"\",'Caseload Reporting'!N434)","v":""},{"$f":"IF('Caseload Reporting'!P434 = \"\",\"\",'Caseload Reporting'!P434)","v":""},{"$f":"IF('Caseload Reporting'!O434 = \"\",\"\",'Caseload Reporting'!O434)","v":""},{"$f":"IF('Caseload Reporting'!Q434 = \"\",\"\",'Caseload Reporting'!Q434)","v":""},{"$f":"IF('Caseload Reporting'!R434 = \"\",\"\",'Caseload Reporting'!R434)","v":""},{"$f":"IF('Caseload Reporting'!E434 = \"\",\"\",'Caseload Reporting'!E434)","v":""},{"$f":"IF('Caseload Reporting'!S434 = \"\",\"\",'Caseload Reporting'!S434)","v":""}]
[{"$f":"IF('Caseload Reporting'!A435 = \"\",\"\",'Caseload Reporting'!A435)","v":""},{"$f":"IF('Caseload Reporting'!B435 = \"\",\"\",'Caseload Reporting'!B435)","v":""},{"$f":"IF('Caseload Reporting'!C435 = \"\",\"\",'Caseload Reporting'!C435)","v":""},{"$f":"IF('Caseload Reporting'!D435 = \"\",\"\",'Caseload Reporting'!D435)","v":""},{"$f":"IF('Caseload Reporting'!G435 = \"\",\"\",'Caseload Reporting'!G435)","v":""},{"$f":"IF('Caseload Reporting'!H435 = \"\",\"\",'Caseload Reporting'!H435)","v":""},{"$f":"IF('Caseload Reporting'!I435 = \"\",\"\",'Caseload Reporting'!I435)","v":""},{"$f":"IF('Caseload Reporting'!J435 = \"\",\"\",'Caseload Reporting'!J435)","v":""},{"$f":"IF('Caseload Reporting'!K435 = \"\",\"\",'Caseload Reporting'!K435)","v":""},{"$f":"IF('Caseload Reporting'!L435 = \"\",\"\",'Caseload Reporting'!L435)","v":""},{"$f":"IF('Caseload Reporting'!M435 = \"\",\"\",'Caseload Reporting'!M435)","v":""},{"$f":"IF('Caseload Reporting'!N435 = \"\",\"\",'Caseload Reporting'!N435)","v":""},{"$f":"IF('Caseload Reporting'!P435 = \"\",\"\",'Caseload Reporting'!P435)","v":""},{"$f":"IF('Caseload Reporting'!O435 = \"\",\"\",'Caseload Reporting'!O435)","v":""},{"$f":"IF('Caseload Reporting'!Q435 = \"\",\"\",'Caseload Reporting'!Q435)","v":""},{"$f":"IF('Caseload Reporting'!R435 = \"\",\"\",'Caseload Reporting'!R435)","v":""},{"$f":"IF('Caseload Reporting'!E435 = \"\",\"\",'Caseload Reporting'!E435)","v":""},{"$f":"IF('Caseload Reporting'!S435 = \"\",\"\",'Caseload Reporting'!S435)","v":""}]
[{"$f":"IF('Caseload Reporting'!A436 = \"\",\"\",'Caseload Reporting'!A436)","v":""},{"$f":"IF('Caseload Reporting'!B436 = \"\",\"\",'Caseload Reporting'!B436)","v":""},{"$f":"IF('Caseload Reporting'!C436 = \"\",\"\",'Caseload Reporting'!C436)","v":""},{"$f":"IF('Caseload Reporting'!D436 = \"\",\"\",'Caseload Reporting'!D436)","v":""},{"$f":"IF('Caseload Reporting'!G436 = \"\",\"\",'Caseload Reporting'!G436)","v":""},{"$f":"IF('Caseload Reporting'!H436 = \"\",\"\",'Caseload Reporting'!H436)","v":""},{"$f":"IF('Caseload Reporting'!I436 = \"\",\"\",'Caseload Reporting'!I436)","v":""},{"$f":"IF('Caseload Reporting'!J436 = \"\",\"\",'Caseload Reporting'!J436)","v":""},{"$f":"IF('Caseload Reporting'!K436 = \"\",\"\",'Caseload Reporting'!K436)","v":""},{"$f":"IF('Caseload Reporting'!L436 = \"\",\"\",'Caseload Reporting'!L436)","v":""},{"$f":"IF('Caseload Reporting'!M436 = \"\",\"\",'Caseload Reporting'!M436)","v":""},{"$f":"IF('Caseload Reporting'!N436 = \"\",\"\",'Caseload Reporting'!N436)","v":""},{"$f":"IF('Caseload Reporting'!P436 = \"\",\"\",'Caseload Reporting'!P436)","v":""},{"$f":"IF('Caseload Reporting'!O436 = \"\",\"\",'Caseload Reporting'!O436)","v":""},{"$f":"IF('Caseload Reporting'!Q436 = \"\",\"\",'Caseload Reporting'!Q436)","v":""},{"$f":"IF('Caseload Reporting'!R436 = \"\",\"\",'Caseload Reporting'!R436)","v":""},{"$f":"IF('Caseload Reporting'!E436 = \"\",\"\",'Caseload Reporting'!E436)","v":""},{"$f":"IF('Caseload Reporting'!S436 = \"\",\"\",'Caseload Reporting'!S436)","v":""}]
[{"$f":"IF('Caseload Reporting'!A437 = \"\",\"\",'Caseload Reporting'!A437)","v":""},{"$f":"IF('Caseload Reporting'!B437 = \"\",\"\",'Caseload Reporting'!B437)","v":""},{"$f":"IF('Caseload Reporting'!C437 = \"\",\"\",'Caseload Reporting'!C437)","v":""},{"$f":"IF('Caseload Reporting'!D437 = \"\",\"\",'Caseload Reporting'!D437)","v":""},{"$f":"IF('Caseload Reporting'!G437 = \"\",\"\",'Caseload Reporting'!G437)","v":""},{"$f":"IF('Caseload Reporting'!H437 = \"\",\"\",'Caseload Reporting'!H437)","v":""},{"$f":"IF('Caseload Reporting'!I437 = \"\",\"\",'Caseload Reporting'!I437)","v":""},{"$f":"IF('Caseload Reporting'!J437 = \"\",\"\",'Caseload Reporting'!J437)","v":""},{"$f":"IF('Caseload Reporting'!K437 = \"\",\"\",'Caseload Reporting'!K437)","v":""},{"$f":"IF('Caseload Reporting'!L437 = \"\",\"\",'Caseload Reporting'!L437)","v":""},{"$f":"IF('Caseload Reporting'!M437 = \"\",\"\",'Caseload Reporting'!M437)","v":""},{"$f":"IF('Caseload Reporting'!N437 = \"\",\"\",'Caseload Reporting'!N437)","v":""},{"$f":"IF('Caseload Reporting'!P437 = \"\",\"\",'Caseload Reporting'!P437)","v":""},{"$f":"IF('Caseload Reporting'!O437 = \"\",\"\",'Caseload Reporting'!O437)","v":""},{"$f":"IF('Caseload Reporting'!Q437 = \"\",\"\",'Caseload Reporting'!Q437)","v":""},{"$f":"IF('Caseload Reporting'!R437 = \"\",\"\",'Caseload Reporting'!R437)","v":""},{"$f":"IF('Caseload Reporting'!E437 = \"\",\"\",'Caseload Reporting'!E437)","v":""},{"$f":"IF('Caseload Reporting'!S437 = \"\",\"\",'Caseload Reporting'!S437)","v":""}]
[{"$f":"IF('Caseload Reporting'!A438 = \"\",\"\",'Caseload Reporting'!A438)","v":""},{"$f":"IF('Caseload Reporting'!B438 = \"\",\"\",'Caseload Reporting'!B438)","v":""},{"$f":"IF('Caseload Reporting'!C438 = \"\",\"\",'Caseload Reporting'!C438)","v":""},{"$f":"IF('Caseload Reporting'!D438 = \"\",\"\",'Caseload Reporting'!D438)","v":""},{"$f":"IF('Caseload Reporting'!G438 = \"\",\"\",'Caseload Reporting'!G438)","v":""},{"$f":"IF('Caseload Reporting'!H438 = \"\",\"\",'Caseload Reporting'!H438)","v":""},{"$f":"IF('Caseload Reporting'!I438 = \"\",\"\",'Caseload Reporting'!I438)","v":""},{"$f":"IF('Caseload Reporting'!J438 = \"\",\"\",'Caseload Reporting'!J438)","v":""},{"$f":"IF('Caseload Reporting'!K438 = \"\",\"\",'Caseload Reporting'!K438)","v":""},{"$f":"IF('Caseload Reporting'!L438 = \"\",\"\",'Caseload Reporting'!L438)","v":""},{"$f":"IF('Caseload Reporting'!M438 = \"\",\"\",'Caseload Reporting'!M438)","v":""},{"$f":"IF('Caseload Reporting'!N438 = \"\",\"\",'Caseload Reporting'!N438)","v":""},{"$f":"IF('Caseload Reporting'!P438 = \"\",\"\",'Caseload Reporting'!P438)","v":""},{"$f":"IF('Caseload Reporting'!O438 = \"\",\"\",'Caseload Reporting'!O438)","v":""},{"$f":"IF('Caseload Reporting'!Q438 = \"\",\"\",'Caseload Reporting'!Q438)","v":""},{"$f":"IF('Caseload Reporting'!R438 = \"\",\"\",'Caseload Reporting'!R438)","v":""},{"$f":"IF('Caseload Reporting'!E438 = \"\",\"\",'Caseload Reporting'!E438)","v":""},{"$f":"IF('Caseload Reporting'!S438 = \"\",\"\",'Caseload Reporting'!S438)","v":""}]
[{"$f":"IF('Caseload Reporting'!A439 = \"\",\"\",'Caseload Reporting'!A439)","v":""},{"$f":"IF('Caseload Reporting'!B439 = \"\",\"\",'Caseload Reporting'!B439)","v":""},{"$f":"IF('Caseload Reporting'!C439 = \"\",\"\",'Caseload Reporting'!C439)","v":""},{"$f":"IF('Caseload Reporting'!D439 = \"\",\"\",'Caseload Reporting'!D439)","v":""},{"$f":"IF('Caseload Reporting'!G439 = \"\",\"\",'Caseload Reporting'!G439)","v":""},{"$f":"IF('Caseload Reporting'!H439 = \"\",\"\",'Caseload Reporting'!H439)","v":""},{"$f":"IF('Caseload Reporting'!I439 = \"\",\"\",'Caseload Reporting'!I439)","v":""},{"$f":"IF('Caseload Reporting'!J439 = \"\",\"\",'Caseload Reporting'!J439)","v":""},{"$f":"IF('Caseload Reporting'!K439 = \"\",\"\",'Caseload Reporting'!K439)","v":""},{"$f":"IF('Caseload Reporting'!L439 = \"\",\"\",'Caseload Reporting'!L439)","v":""},{"$f":"IF('Caseload Reporting'!M439 = \"\",\"\",'Caseload Reporting'!M439)","v":""},{"$f":"IF('Caseload Reporting'!N439 = \"\",\"\",'Caseload Reporting'!N439)","v":""},{"$f":"IF('Caseload Reporting'!P439 = \"\",\"\",'Caseload Reporting'!P439)","v":""},{"$f":"IF('Caseload Reporting'!O439 = \"\",\"\",'Caseload Reporting'!O439)","v":""},{"$f":"IF('Caseload Reporting'!Q439 = \"\",\"\",'Caseload Reporting'!Q439)","v":""},{"$f":"IF('Caseload Reporting'!R439 = \"\",\"\",'Caseload Reporting'!R439)","v":""},{"$f":"IF('Caseload Reporting'!E439 = \"\",\"\",'Caseload Reporting'!E439)","v":""},{"$f":"IF('Caseload Reporting'!S439 = \"\",\"\",'Caseload Reporting'!S439)","v":""}]
[{"$f":"IF('Caseload Reporting'!A440 = \"\",\"\",'Caseload Reporting'!A440)","v":""},{"$f":"IF('Caseload Reporting'!B440 = \"\",\"\",'Caseload Reporting'!B440)","v":""},{"$f":"IF('Caseload Reporting'!C440 = \"\",\"\",'Caseload Reporting'!C440)","v":""},{"$f":"IF('Caseload Reporting'!D440 = \"\",\"\",'Caseload Reporting'!D440)","v":""},{"$f":"IF('Caseload Reporting'!G440 = \"\",\"\",'Caseload Reporting'!G440)","v":""},{"$f":"IF('Caseload Reporting'!H440 = \"\",\"\",'Caseload Reporting'!H440)","v":""},{"$f":"IF('Caseload Reporting'!I440 = \"\",\"\",'Caseload Reporting'!I440)","v":""},{"$f":"IF('Caseload Reporting'!J440 = \"\",\"\",'Caseload Reporting'!J440)","v":""},{"$f":"IF('Caseload Reporting'!K440 = \"\",\"\",'Caseload Reporting'!K440)","v":""},{"$f":"IF('Caseload Reporting'!L440 = \"\",\"\",'Caseload Reporting'!L440)","v":""},{"$f":"IF('Caseload Reporting'!M440 = \"\",\"\",'Caseload Reporting'!M440)","v":""},{"$f":"IF('Caseload Reporting'!N440 = \"\",\"\",'Caseload Reporting'!N440)","v":""},{"$f":"IF('Caseload Reporting'!P440 = \"\",\"\",'Caseload Reporting'!P440)","v":""},{"$f":"IF('Caseload Reporting'!O440 = \"\",\"\",'Caseload Reporting'!O440)","v":""},{"$f":"IF('Caseload Reporting'!Q440 = \"\",\"\",'Caseload Reporting'!Q440)","v":""},{"$f":"IF('Caseload Reporting'!R440 = \"\",\"\",'Caseload Reporting'!R440)","v":""},{"$f":"IF('Caseload Reporting'!E440 = \"\",\"\",'Caseload Reporting'!E440)","v":""},{"$f":"IF('Caseload Reporting'!S440 = \"\",\"\",'Caseload Reporting'!S440)","v":""}]
[{"$f":"IF('Caseload Reporting'!A441 = \"\",\"\",'Caseload Reporting'!A441)","v":""},{"$f":"IF('Caseload Reporting'!B441 = \"\",\"\",'Caseload Reporting'!B441)","v":""},{"$f":"IF('Caseload Reporting'!C441 = \"\",\"\",'Caseload Reporting'!C441)","v":""},{"$f":"IF('Caseload Reporting'!D441 = \"\",\"\",'Caseload Reporting'!D441)","v":""},{"$f":"IF('Caseload Reporting'!G441 = \"\",\"\",'Caseload Reporting'!G441)","v":""},{"$f":"IF('Caseload Reporting'!H441 = \"\",\"\",'Caseload Reporting'!H441)","v":""},{"$f":"IF('Caseload Reporting'!I441 = \"\",\"\",'Caseload Reporting'!I441)","v":""},{"$f":"IF('Caseload Reporting'!J441 = \"\",\"\",'Caseload Reporting'!J441)","v":""},{"$f":"IF('Caseload Reporting'!K441 = \"\",\"\",'Caseload Reporting'!K441)","v":""},{"$f":"IF('Caseload Reporting'!L441 = \"\",\"\",'Caseload Reporting'!L441)","v":""},{"$f":"IF('Caseload Reporting'!M441 = \"\",\"\",'Caseload Reporting'!M441)","v":""},{"$f":"IF('Caseload Reporting'!N441 = \"\",\"\",'Caseload Reporting'!N441)","v":""},{"$f":"IF('Caseload Reporting'!P441 = \"\",\"\",'Caseload Reporting'!P441)","v":""},{"$f":"IF('Caseload Reporting'!O441 = \"\",\"\",'Caseload Reporting'!O441)","v":""},{"$f":"IF('Caseload Reporting'!Q441 = \"\",\"\",'Caseload Reporting'!Q441)","v":""},{"$f":"IF('Caseload Reporting'!R441 = \"\",\"\",'Caseload Reporting'!R441)","v":""},{"$f":"IF('Caseload Reporting'!E441 = \"\",\"\",'Caseload Reporting'!E441)","v":""},{"$f":"IF('Caseload Reporting'!S441 = \"\",\"\",'Caseload Reporting'!S441)","v":""}]
[{"$f":"IF('Caseload Reporting'!A442 = \"\",\"\",'Caseload Reporting'!A442)","v":""},{"$f":"IF('Caseload Reporting'!B442 = \"\",\"\",'Caseload Reporting'!B442)","v":""},{"$f":"IF('Caseload Reporting'!C442 = \"\",\"\",'Caseload Reporting'!C442)","v":""},{"$f":"IF('Caseload Reporting'!D442 = \"\",\"\",'Caseload Reporting'!D442)","v":""},{"$f":"IF('Caseload Reporting'!G442 = \"\",\"\",'Caseload Reporting'!G442)","v":""},{"$f":"IF('Caseload Reporting'!H442 = \"\",\"\",'Caseload Reporting'!H442)","v":""},{"$f":"IF('Caseload Reporting'!I442 = \"\",\"\",'Caseload Reporting'!I442)","v":""},{"$f":"IF('Caseload Reporting'!J442 = \"\",\"\",'Caseload Reporting'!J442)","v":""},{"$f":"IF('Caseload Reporting'!K442 = \"\",\"\",'Caseload Reporting'!K442)","v":""},{"$f":"IF('Caseload Reporting'!L442 = \"\",\"\",'Caseload Reporting'!L442)","v":""},{"$f":"IF('Caseload Reporting'!M442 = \"\",\"\",'Caseload Reporting'!M442)","v":""},{"$f":"IF('Caseload Reporting'!N442 = \"\",\"\",'Caseload Reporting'!N442)","v":""},{"$f":"IF('Caseload Reporting'!P442 = \"\",\"\",'Caseload Reporting'!P442)","v":""},{"$f":"IF('Caseload Reporting'!O442 = \"\",\"\",'Caseload Reporting'!O442)","v":""},{"$f":"IF('Caseload Reporting'!Q442 = \"\",\"\",'Caseload Reporting'!Q442)","v":""},{"$f":"IF('Caseload Reporting'!R442 = \"\",\"\",'Caseload Reporting'!R442)","v":""},{"$f":"IF('Caseload Reporting'!E442 = \"\",\"\",'Caseload Reporting'!E442)","v":""},{"$f":"IF('Caseload Reporting'!S442 = \"\",\"\",'Caseload Reporting'!S442)","v":""}]
[{"$f":"IF('Caseload Reporting'!A443 = \"\",\"\",'Caseload Reporting'!A443)","v":""},{"$f":"IF('Caseload Reporting'!B443 = \"\",\"\",'Caseload Reporting'!B443)","v":""},{"$f":"IF('Caseload Reporting'!C443 = \"\",\"\",'Caseload Reporting'!C443)","v":""},{"$f":"IF('Caseload Reporting'!D443 = \"\",\"\",'Caseload Reporting'!D443)","v":""},{"$f":"IF('Caseload Reporting'!G443 = \"\",\"\",'Caseload Reporting'!G443)","v":""},{"$f":"IF('Caseload Reporting'!H443 = \"\",\"\",'Caseload Reporting'!H443)","v":""},{"$f":"IF('Caseload Reporting'!I443 = \"\",\"\",'Caseload Reporting'!I443)","v":""},{"$f":"IF('Caseload Reporting'!J443 = \"\",\"\",'Caseload Reporting'!J443)","v":""},{"$f":"IF('Caseload Reporting'!K443 = \"\",\"\",'Caseload Reporting'!K443)","v":""},{"$f":"IF('Caseload Reporting'!L443 = \"\",\"\",'Caseload Reporting'!L443)","v":""},{"$f":"IF('Caseload Reporting'!M443 = \"\",\"\",'Caseload Reporting'!M443)","v":""},{"$f":"IF('Caseload Reporting'!N443 = \"\",\"\",'Caseload Reporting'!N443)","v":""},{"$f":"IF('Caseload Reporting'!P443 = \"\",\"\",'Caseload Reporting'!P443)","v":""},{"$f":"IF('Caseload Reporting'!O443 = \"\",\"\",'Caseload Reporting'!O443)","v":""},{"$f":"IF('Caseload Reporting'!Q443 = \"\",\"\",'Caseload Reporting'!Q443)","v":""},{"$f":"IF('Caseload Reporting'!R443 = \"\",\"\",'Caseload Reporting'!R443)","v":""},{"$f":"IF('Caseload Reporting'!E443 = \"\",\"\",'Caseload Reporting'!E443)","v":""},{"$f":"IF('Caseload Reporting'!S443 = \"\",\"\",'Caseload Reporting'!S443)","v":""}]
[{"$f":"IF('Caseload Reporting'!A444 = \"\",\"\",'Caseload Reporting'!A444)","v":""},{"$f":"IF('Caseload Reporting'!B444 = \"\",\"\",'Caseload Reporting'!B444)","v":""},{"$f":"IF('Caseload Reporting'!C444 = \"\",\"\",'Caseload Reporting'!C444)","v":""},{"$f":"IF('Caseload Reporting'!D444 = \"\",\"\",'Caseload Reporting'!D444)","v":""},{"$f":"IF('Caseload Reporting'!G444 = \"\",\"\",'Caseload Reporting'!G444)","v":""},{"$f":"IF('Caseload Reporting'!H444 = \"\",\"\",'Caseload Reporting'!H444)","v":""},{"$f":"IF('Caseload Reporting'!I444 = \"\",\"\",'Caseload Reporting'!I444)","v":""},{"$f":"IF('Caseload Reporting'!J444 = \"\",\"\",'Caseload Reporting'!J444)","v":""},{"$f":"IF('Caseload Reporting'!K444 = \"\",\"\",'Caseload Reporting'!K444)","v":""},{"$f":"IF('Caseload Reporting'!L444 = \"\",\"\",'Caseload Reporting'!L444)","v":""},{"$f":"IF('Caseload Reporting'!M444 = \"\",\"\",'Caseload Reporting'!M444)","v":""},{"$f":"IF('Caseload Reporting'!N444 = \"\",\"\",'Caseload Reporting'!N444)","v":""},{"$f":"IF('Caseload Reporting'!P444 = \"\",\"\",'Caseload Reporting'!P444)","v":""},{"$f":"IF('Caseload Reporting'!O444 = \"\",\"\",'Caseload Reporting'!O444)","v":""},{"$f":"IF('Caseload Reporting'!Q444 = \"\",\"\",'Caseload Reporting'!Q444)","v":""},{"$f":"IF('Caseload Reporting'!R444 = \"\",\"\",'Caseload Reporting'!R444)","v":""},{"$f":"IF('Caseload Reporting'!E444 = \"\",\"\",'Caseload Reporting'!E444)","v":""},{"$f":"IF('Caseload Reporting'!S444 = \"\",\"\",'Caseload Reporting'!S444)","v":""}]
[{"$f":"IF('Caseload Reporting'!A445 = \"\",\"\",'Caseload Reporting'!A445)","v":""},{"$f":"IF('Caseload Reporting'!B445 = \"\",\"\",'Caseload Reporting'!B445)","v":""},{"$f":"IF('Caseload Reporting'!C445 = \"\",\"\",'Caseload Reporting'!C445)","v":""},{"$f":"IF('Caseload Reporting'!D445 = \"\",\"\",'Caseload Reporting'!D445)","v":""},{"$f":"IF('Caseload Reporting'!G445 = \"\",\"\",'Caseload Reporting'!G445)","v":""},{"$f":"IF('Caseload Reporting'!H445 = \"\",\"\",'Caseload Reporting'!H445)","v":""},{"$f":"IF('Caseload Reporting'!I445 = \"\",\"\",'Caseload Reporting'!I445)","v":""},{"$f":"IF('Caseload Reporting'!J445 = \"\",\"\",'Caseload Reporting'!J445)","v":""},{"$f":"IF('Caseload Reporting'!K445 = \"\",\"\",'Caseload Reporting'!K445)","v":""},{"$f":"IF('Caseload Reporting'!L445 = \"\",\"\",'Caseload Reporting'!L445)","v":""},{"$f":"IF('Caseload Reporting'!M445 = \"\",\"\",'Caseload Reporting'!M445)","v":""},{"$f":"IF('Caseload Reporting'!N445 = \"\",\"\",'Caseload Reporting'!N445)","v":""},{"$f":"IF('Caseload Reporting'!P445 = \"\",\"\",'Caseload Reporting'!P445)","v":""},{"$f":"IF('Caseload Reporting'!O445 = \"\",\"\",'Caseload Reporting'!O445)","v":""},{"$f":"IF('Caseload Reporting'!Q445 = \"\",\"\",'Caseload Reporting'!Q445)","v":""},{"$f":"IF('Caseload Reporting'!R445 = \"\",\"\",'Caseload Reporting'!R445)","v":""},{"$f":"IF('Caseload Reporting'!E445 = \"\",\"\",'Caseload Reporting'!E445)","v":""},{"$f":"IF('Caseload Reporting'!S445 = \"\",\"\",'Caseload Reporting'!S445)","v":""}]
[{"$f":"IF('Caseload Reporting'!A446 = \"\",\"\",'Caseload Reporting'!A446)","v":""},{"$f":"IF('Caseload Reporting'!B446 = \"\",\"\",'Caseload Reporting'!B446)","v":""},{"$f":"IF('Caseload Reporting'!C446 = \"\",\"\",'Caseload Reporting'!C446)","v":""},{"$f":"IF('Caseload Reporting'!D446 = \"\",\"\",'Caseload Reporting'!D446)","v":""},{"$f":"IF('Caseload Reporting'!G446 = \"\",\"\",'Caseload Reporting'!G446)","v":""},{"$f":"IF('Caseload Reporting'!H446 = \"\",\"\",'Caseload Reporting'!H446)","v":""},{"$f":"IF('Caseload Reporting'!I446 = \"\",\"\",'Caseload Reporting'!I446)","v":""},{"$f":"IF('Caseload Reporting'!J446 = \"\",\"\",'Caseload Reporting'!J446)","v":""},{"$f":"IF('Caseload Reporting'!K446 = \"\",\"\",'Caseload Reporting'!K446)","v":""},{"$f":"IF('Caseload Reporting'!L446 = \"\",\"\",'Caseload Reporting'!L446)","v":""},{"$f":"IF('Caseload Reporting'!M446 = \"\",\"\",'Caseload Reporting'!M446)","v":""},{"$f":"IF('Caseload Reporting'!N446 = \"\",\"\",'Caseload Reporting'!N446)","v":""},{"$f":"IF('Caseload Reporting'!P446 = \"\",\"\",'Caseload Reporting'!P446)","v":""},{"$f":"IF('Caseload Reporting'!O446 = \"\",\"\",'Caseload Reporting'!O446)","v":""},{"$f":"IF('Caseload Reporting'!Q446 = \"\",\"\",'Caseload Reporting'!Q446)","v":""},{"$f":"IF('Caseload Reporting'!R446 = \"\",\"\",'Caseload Reporting'!R446)","v":""},{"$f":"IF('Caseload Reporting'!E446 = \"\",\"\",'Caseload Reporting'!E446)","v":""},{"$f":"IF('Caseload Reporting'!S446 = \"\",\"\",'Caseload Reporting'!S446)","v":""}]
[{"$f":"IF('Caseload Reporting'!A447 = \"\",\"\",'Caseload Reporting'!A447)","v":""},{"$f":"IF('Caseload Reporting'!B447 = \"\",\"\",'Caseload Reporting'!B447)","v":""},{"$f":"IF('Caseload Reporting'!C447 = \"\",\"\",'Caseload Reporting'!C447)","v":""},{"$f":"IF('Caseload Reporting'!D447 = \"\",\"\",'Caseload Reporting'!D447)","v":""},{"$f":"IF('Caseload Reporting'!G447 = \"\",\"\",'Caseload Reporting'!G447)","v":""},{"$f":"IF('Caseload Reporting'!H447 = \"\",\"\",'Caseload Reporting'!H447)","v":""},{"$f":"IF('Caseload Reporting'!I447 = \"\",\"\",'Caseload Reporting'!I447)","v":""},{"$f":"IF('Caseload Reporting'!J447 = \"\",\"\",'Caseload Reporting'!J447)","v":""},{"$f":"IF('Caseload Reporting'!K447 = \"\",\"\",'Caseload Reporting'!K447)","v":""},{"$f":"IF('Caseload Reporting'!L447 = \"\",\"\",'Caseload Reporting'!L447)","v":""},{"$f":"IF('Caseload Reporting'!M447 = \"\",\"\",'Caseload Reporting'!M447)","v":""},{"$f":"IF('Caseload Reporting'!N447 = \"\",\"\",'Caseload Reporting'!N447)","v":""},{"$f":"IF('Caseload Reporting'!P447 = \"\",\"\",'Caseload Reporting'!P447)","v":""},{"$f":"IF('Caseload Reporting'!O447 = \"\",\"\",'Caseload Reporting'!O447)","v":""},{"$f":"IF('Caseload Reporting'!Q447 = \"\",\"\",'Caseload Reporting'!Q447)","v":""},{"$f":"IF('Caseload Reporting'!R447 = \"\",\"\",'Caseload Reporting'!R447)","v":""},{"$f":"IF('Caseload Reporting'!E447 = \"\",\"\",'Caseload Reporting'!E447)","v":""},{"$f":"IF('Caseload Reporting'!S447 = \"\",\"\",'Caseload Reporting'!S447)","v":""}]
[{"$f":"IF('Caseload Reporting'!A448 = \"\",\"\",'Caseload Reporting'!A448)","v":""},{"$f":"IF('Caseload Reporting'!B448 = \"\",\"\",'Caseload Reporting'!B448)","v":""},{"$f":"IF('Caseload Reporting'!C448 = \"\",\"\",'Caseload Reporting'!C448)","v":""},{"$f":"IF('Caseload Reporting'!D448 = \"\",\"\",'Caseload Reporting'!D448)","v":""},{"$f":"IF('Caseload Reporting'!G448 = \"\",\"\",'Caseload Reporting'!G448)","v":""},{"$f":"IF('Caseload Reporting'!H448 = \"\",\"\",'Caseload Reporting'!H448)","v":""},{"$f":"IF('Caseload Reporting'!I448 = \"\",\"\",'Caseload Reporting'!I448)","v":""},{"$f":"IF('Caseload Reporting'!J448 = \"\",\"\",'Caseload Reporting'!J448)","v":""},{"$f":"IF('Caseload Reporting'!K448 = \"\",\"\",'Caseload Reporting'!K448)","v":""},{"$f":"IF('Caseload Reporting'!L448 = \"\",\"\",'Caseload Reporting'!L448)","v":""},{"$f":"IF('Caseload Reporting'!M448 = \"\",\"\",'Caseload Reporting'!M448)","v":""},{"$f":"IF('Caseload Reporting'!N448 = \"\",\"\",'Caseload Reporting'!N448)","v":""},{"$f":"IF('Caseload Reporting'!P448 = \"\",\"\",'Caseload Reporting'!P448)","v":""},{"$f":"IF('Caseload Reporting'!O448 = \"\",\"\",'Caseload Reporting'!O448)","v":""},{"$f":"IF('Caseload Reporting'!Q448 = \"\",\"\",'Caseload Reporting'!Q448)","v":""},{"$f":"IF('Caseload Reporting'!R448 = \"\",\"\",'Caseload Reporting'!R448)","v":""},{"$f":"IF('Caseload Reporting'!E448 = \"\",\"\",'Caseload Reporting'!E448)","v":""},{"$f":"IF('Caseload Reporting'!S448 = \"\",\"\",'Caseload Reporting'!S448)","v":""}]
[{"$f":"IF('Caseload Reporting'!A449 = \"\",\"\",'Caseload Reporting'!A449)","v":""},{"$f":"IF('Caseload Reporting'!B449 = \"\",\"\",'Caseload Reporting'!B449)","v":""},{"$f":"IF('Caseload Reporting'!C449 = \"\",\"\",'Caseload Reporting'!C449)","v":""},{"$f":"IF('Caseload Reporting'!D449 = \"\",\"\",'Caseload Reporting'!D449)","v":""},{"$f":"IF('Caseload Reporting'!G449 = \"\",\"\",'Caseload Reporting'!G449)","v":""},{"$f":"IF('Caseload Reporting'!H449 = \"\",\"\",'Caseload Reporting'!H449)","v":""},{"$f":"IF('Caseload Reporting'!I449 = \"\",\"\",'Caseload Reporting'!I449)","v":""},{"$f":"IF('Caseload Reporting'!J449 = \"\",\"\",'Caseload Reporting'!J449)","v":""},{"$f":"IF('Caseload Reporting'!K449 = \"\",\"\",'Caseload Reporting'!K449)","v":""},{"$f":"IF('Caseload Reporting'!L449 = \"\",\"\",'Caseload Reporting'!L449)","v":""},{"$f":"IF('Caseload Reporting'!M449 = \"\",\"\",'Caseload Reporting'!M449)","v":""},{"$f":"IF('Caseload Reporting'!N449 = \"\",\"\",'Caseload Reporting'!N449)","v":""},{"$f":"IF('Caseload Reporting'!P449 = \"\",\"\",'Caseload Reporting'!P449)","v":""},{"$f":"IF('Caseload Reporting'!O449 = \"\",\"\",'Caseload Reporting'!O449)","v":""},{"$f":"IF('Caseload Reporting'!Q449 = \"\",\"\",'Caseload Reporting'!Q449)","v":""},{"$f":"IF('Caseload Reporting'!R449 = \"\",\"\",'Caseload Reporting'!R449)","v":""},{"$f":"IF('Caseload Reporting'!E449 = \"\",\"\",'Caseload Reporting'!E449)","v":""},{"$f":"IF('Caseload Reporting'!S449 = \"\",\"\",'Caseload Reporting'!S449)","v":""}]
[{"$f":"IF('Caseload Reporting'!A450 = \"\",\"\",'Caseload Reporting'!A450)","v":""},{"$f":"IF('Caseload Reporting'!B450 = \"\",\"\",'Caseload Reporting'!B450)","v":""},{"$f":"IF('Caseload Reporting'!C450 = \"\",\"\",'Caseload Reporting'!C450)","v":""},{"$f":"IF('Caseload Reporting'!D450 = \"\",\"\",'Caseload Reporting'!D450)","v":""},{"$f":"IF('Caseload Reporting'!G450 = \"\",\"\",'Caseload Reporting'!G450)","v":""},{"$f":"IF('Caseload Reporting'!H450 = \"\",\"\",'Caseload Reporting'!H450)","v":""},{"$f":"IF('Caseload Reporting'!I450 = \"\",\"\",'Caseload Reporting'!I450)","v":""},{"$f":"IF('Caseload Reporting'!J450 = \"\",\"\",'Caseload Reporting'!J450)","v":""},{"$f":"IF('Caseload Reporting'!K450 = \"\",\"\",'Caseload Reporting'!K450)","v":""},{"$f":"IF('Caseload Reporting'!L450 = \"\",\"\",'Caseload Reporting'!L450)","v":""},{"$f":"IF('Caseload Reporting'!M450 = \"\",\"\",'Caseload Reporting'!M450)","v":""},{"$f":"IF('Caseload Reporting'!N450 = \"\",\"\",'Caseload Reporting'!N450)","v":""},{"$f":"IF('Caseload Reporting'!P450 = \"\",\"\",'Caseload Reporting'!P450)","v":""},{"$f":"IF('Caseload Reporting'!O450 = \"\",\"\",'Caseload Reporting'!O450)","v":""},{"$f":"IF('Caseload Reporting'!Q450 = \"\",\"\",'Caseload Reporting'!Q450)","v":""},{"$f":"IF('Caseload Reporting'!R450 = \"\",\"\",'Caseload Reporting'!R450)","v":""},{"$f":"IF('Caseload Reporting'!E450 = \"\",\"\",'Caseload Reporting'!E450)","v":""},{"$f":"IF('Caseload Reporting'!S450 = \"\",\"\",'Caseload Reporting'!S450)","v":""}]
[{"$f":"IF('Caseload Reporting'!A451 = \"\",\"\",'Caseload Reporting'!A451)","v":""},{"$f":"IF('Caseload Reporting'!B451 = \"\",\"\",'Caseload Reporting'!B451)","v":""},{"$f":"IF('Caseload Reporting'!C451 = \"\",\"\",'Caseload Reporting'!C451)","v":""},{"$f":"IF('Caseload Reporting'!D451 = \"\",\"\",'Caseload Reporting'!D451)","v":""},{"$f":"IF('Caseload Reporting'!G451 = \"\",\"\",'Caseload Reporting'!G451)","v":""},{"$f":"IF('Caseload Reporting'!H451 = \"\",\"\",'Caseload Reporting'!H451)","v":""},{"$f":"IF('Caseload Reporting'!I451 = \"\",\"\",'Caseload Reporting'!I451)","v":""},{"$f":"IF('Caseload Reporting'!J451 = \"\",\"\",'Caseload Reporting'!J451)","v":""},{"$f":"IF('Caseload Reporting'!K451 = \"\",\"\",'Caseload Reporting'!K451)","v":""},{"$f":"IF('Caseload Reporting'!L451 = \"\",\"\",'Caseload Reporting'!L451)","v":""},{"$f":"IF('Caseload Reporting'!M451 = \"\",\"\",'Caseload Reporting'!M451)","v":""},{"$f":"IF('Caseload Reporting'!N451 = \"\",\"\",'Caseload Reporting'!N451)","v":""},{"$f":"IF('Caseload Reporting'!P451 = \"\",\"\",'Caseload Reporting'!P451)","v":""},{"$f":"IF('Caseload Reporting'!O451 = \"\",\"\",'Caseload Reporting'!O451)","v":""},{"$f":"IF('Caseload Reporting'!Q451 = \"\",\"\",'Caseload Reporting'!Q451)","v":""},{"$f":"IF('Caseload Reporting'!R451 = \"\",\"\",'Caseload Reporting'!R451)","v":""},{"$f":"IF('Caseload Reporting'!E451 = \"\",\"\",'Caseload Reporting'!E451)","v":""},{"$f":"IF('Caseload Reporting'!S451 = \"\",\"\",'Caseload Reporting'!S451)","v":""}]
[{"$f":"IF('Caseload Reporting'!A452 = \"\",\"\",'Caseload Reporting'!A452)","v":""},{"$f":"IF('Caseload Reporting'!B452 = \"\",\"\",'Caseload Reporting'!B452)","v":""},{"$f":"IF('Caseload Reporting'!C452 = \"\",\"\",'Caseload Reporting'!C452)","v":""},{"$f":"IF('Caseload Reporting'!D452 = \"\",\"\",'Caseload Reporting'!D452)","v":""},{"$f":"IF('Caseload Reporting'!G452 = \"\",\"\",'Caseload Reporting'!G452)","v":""},{"$f":"IF('Caseload Reporting'!H452 = \"\",\"\",'Caseload Reporting'!H452)","v":""},{"$f":"IF('Caseload Reporting'!I452 = \"\",\"\",'Caseload Reporting'!I452)","v":""},{"$f":"IF('Caseload Reporting'!J452 = \"\",\"\",'Caseload Reporting'!J452)","v":""},{"$f":"IF('Caseload Reporting'!K452 = \"\",\"\",'Caseload Reporting'!K452)","v":""},{"$f":"IF('Caseload Reporting'!L452 = \"\",\"\",'Caseload Reporting'!L452)","v":""},{"$f":"IF('Caseload Reporting'!M452 = \"\",\"\",'Caseload Reporting'!M452)","v":""},{"$f":"IF('Caseload Reporting'!N452 = \"\",\"\",'Caseload Reporting'!N452)","v":""},{"$f":"IF('Caseload Reporting'!P452 = \"\",\"\",'Caseload Reporting'!P452)","v":""},{"$f":"IF('Caseload Reporting'!O452 = \"\",\"\",'Caseload Reporting'!O452)","v":""},{"$f":"IF('Caseload Reporting'!Q452 = \"\",\"\",'Caseload Reporting'!Q452)","v":""},{"$f":"IF('Caseload Reporting'!R452 = \"\",\"\",'Caseload Reporting'!R452)","v":""},{"$f":"IF('Caseload Reporting'!E452 = \"\",\"\",'Caseload Reporting'!E452)","v":""},{"$f":"IF('Caseload Reporting'!S452 = \"\",\"\",'Caseload Reporting'!S452)","v":""}]
[{"$f":"IF('Caseload Reporting'!A453 = \"\",\"\",'Caseload Reporting'!A453)","v":""},{"$f":"IF('Caseload Reporting'!B453 = \"\",\"\",'Caseload Reporting'!B453)","v":""},{"$f":"IF('Caseload Reporting'!C453 = \"\",\"\",'Caseload Reporting'!C453)","v":""},{"$f":"IF('Caseload Reporting'!D453 = \"\",\"\",'Caseload Reporting'!D453)","v":""},{"$f":"IF('Caseload Reporting'!G453 = \"\",\"\",'Caseload Reporting'!G453)","v":""},{"$f":"IF('Caseload Reporting'!H453 = \"\",\"\",'Caseload Reporting'!H453)","v":""},{"$f":"IF('Caseload Reporting'!I453 = \"\",\"\",'Caseload Reporting'!I453)","v":""},{"$f":"IF('Caseload Reporting'!J453 = \"\",\"\",'Caseload Reporting'!J453)","v":""},{"$f":"IF('Caseload Reporting'!K453 = \"\",\"\",'Caseload Reporting'!K453)","v":""},{"$f":"IF('Caseload Reporting'!L453 = \"\",\"\",'Caseload Reporting'!L453)","v":""},{"$f":"IF('Caseload Reporting'!M453 = \"\",\"\",'Caseload Reporting'!M453)","v":""},{"$f":"IF('Caseload Reporting'!N453 = \"\",\"\",'Caseload Reporting'!N453)","v":""},{"$f":"IF('Caseload Reporting'!P453 = \"\",\"\",'Caseload Reporting'!P453)","v":""},{"$f":"IF('Caseload Reporting'!O453 = \"\",\"\",'Caseload Reporting'!O453)","v":""},{"$f":"IF('Caseload Reporting'!Q453 = \"\",\"\",'Caseload Reporting'!Q453)","v":""},{"$f":"IF('Caseload Reporting'!R453 = \"\",\"\",'Caseload Reporting'!R453)","v":""},{"$f":"IF('Caseload Reporting'!E453 = \"\",\"\",'Caseload Reporting'!E453)","v":""},{"$f":"IF('Caseload Reporting'!S453 = \"\",\"\",'Caseload Reporting'!S453)","v":""}]
[{"$f":"IF('Caseload Reporting'!A454 = \"\",\"\",'Caseload Reporting'!A454)","v":""},{"$f":"IF('Caseload Reporting'!B454 = \"\",\"\",'Caseload Reporting'!B454)","v":""},{"$f":"IF('Caseload Reporting'!C454 = \"\",\"\",'Caseload Reporting'!C454)","v":""},{"$f":"IF('Caseload Reporting'!D454 = \"\",\"\",'Caseload Reporting'!D454)","v":""},{"$f":"IF('Caseload Reporting'!G454 = \"\",\"\",'Caseload Reporting'!G454)","v":""},{"$f":"IF('Caseload Reporting'!H454 = \"\",\"\",'Caseload Reporting'!H454)","v":""},{"$f":"IF('Caseload Reporting'!I454 = \"\",\"\",'Caseload Reporting'!I454)","v":""},{"$f":"IF('Caseload Reporting'!J454 = \"\",\"\",'Caseload Reporting'!J454)","v":""},{"$f":"IF('Caseload Reporting'!K454 = \"\",\"\",'Caseload Reporting'!K454)","v":""},{"$f":"IF('Caseload Reporting'!L454 = \"\",\"\",'Caseload Reporting'!L454)","v":""},{"$f":"IF('Caseload Reporting'!M454 = \"\",\"\",'Caseload Reporting'!M454)","v":""},{"$f":"IF('Caseload Reporting'!N454 = \"\",\"\",'Caseload Reporting'!N454)","v":""},{"$f":"IF('Caseload Reporting'!P454 = \"\",\"\",'Caseload Reporting'!P454)","v":""},{"$f":"IF('Caseload Reporting'!O454 = \"\",\"\",'Caseload Reporting'!O454)","v":""},{"$f":"IF('Caseload Reporting'!Q454 = \"\",\"\",'Caseload Reporting'!Q454)","v":""},{"$f":"IF('Caseload Reporting'!R454 = \"\",\"\",'Caseload Reporting'!R454)","v":""},{"$f":"IF('Caseload Reporting'!E454 = \"\",\"\",'Caseload Reporting'!E454)","v":""},{"$f":"IF('Caseload Reporting'!S454 = \"\",\"\",'Caseload Reporting'!S454)","v":""}]
[{"$f":"IF('Caseload Reporting'!A455 = \"\",\"\",'Caseload Reporting'!A455)","v":""},{"$f":"IF('Caseload Reporting'!B455 = \"\",\"\",'Caseload Reporting'!B455)","v":""},{"$f":"IF('Caseload Reporting'!C455 = \"\",\"\",'Caseload Reporting'!C455)","v":""},{"$f":"IF('Caseload Reporting'!D455 = \"\",\"\",'Caseload Reporting'!D455)","v":""},{"$f":"IF('Caseload Reporting'!G455 = \"\",\"\",'Caseload Reporting'!G455)","v":""},{"$f":"IF('Caseload Reporting'!H455 = \"\",\"\",'Caseload Reporting'!H455)","v":""},{"$f":"IF('Caseload Reporting'!I455 = \"\",\"\",'Caseload Reporting'!I455)","v":""},{"$f":"IF('Caseload Reporting'!J455 = \"\",\"\",'Caseload Reporting'!J455)","v":""},{"$f":"IF('Caseload Reporting'!K455 = \"\",\"\",'Caseload Reporting'!K455)","v":""},{"$f":"IF('Caseload Reporting'!L455 = \"\",\"\",'Caseload Reporting'!L455)","v":""},{"$f":"IF('Caseload Reporting'!M455 = \"\",\"\",'Caseload Reporting'!M455)","v":""},{"$f":"IF('Caseload Reporting'!N455 = \"\",\"\",'Caseload Reporting'!N455)","v":""},{"$f":"IF('Caseload Reporting'!P455 = \"\",\"\",'Caseload Reporting'!P455)","v":""},{"$f":"IF('Caseload Reporting'!O455 = \"\",\"\",'Caseload Reporting'!O455)","v":""},{"$f":"IF('Caseload Reporting'!Q455 = \"\",\"\",'Caseload Reporting'!Q455)","v":""},{"$f":"IF('Caseload Reporting'!R455 = \"\",\"\",'Caseload Reporting'!R455)","v":""},{"$f":"IF('Caseload Reporting'!E455 = \"\",\"\",'Caseload Reporting'!E455)","v":""},{"$f":"IF('Caseload Reporting'!S455 = \"\",\"\",'Caseload Reporting'!S455)","v":""}]
[{"$f":"IF('Caseload Reporting'!A456 = \"\",\"\",'Caseload Reporting'!A456)","v":""},{"$f":"IF('Caseload Reporting'!B456 = \"\",\"\",'Caseload Reporting'!B456)","v":""},{"$f":"IF('Caseload Reporting'!C456 = \"\",\"\",'Caseload Reporting'!C456)","v":""},{"$f":"IF('Caseload Reporting'!D456 = \"\",\"\",'Caseload Reporting'!D456)","v":""},{"$f":"IF('Caseload Reporting'!G456 = \"\",\"\",'Caseload Reporting'!G456)","v":""},{"$f":"IF('Caseload Reporting'!H456 = \"\",\"\",'Caseload Reporting'!H456)","v":""},{"$f":"IF('Caseload Reporting'!I456 = \"\",\"\",'Caseload Reporting'!I456)","v":""},{"$f":"IF('Caseload Reporting'!J456 = \"\",\"\",'Caseload Reporting'!J456)","v":""},{"$f":"IF('Caseload Reporting'!K456 = \"\",\"\",'Caseload Reporting'!K456)","v":""},{"$f":"IF('Caseload Reporting'!L456 = \"\",\"\",'Caseload Reporting'!L456)","v":""},{"$f":"IF('Caseload Reporting'!M456 = \"\",\"\",'Caseload Reporting'!M456)","v":""},{"$f":"IF('Caseload Reporting'!N456 = \"\",\"\",'Caseload Reporting'!N456)","v":""},{"$f":"IF('Caseload Reporting'!P456 = \"\",\"\",'Caseload Reporting'!P456)","v":""},{"$f":"IF('Caseload Reporting'!O456 = \"\",\"\",'Caseload Reporting'!O456)","v":""},{"$f":"IF('Caseload Reporting'!Q456 = \"\",\"\",'Caseload Reporting'!Q456)","v":""},{"$f":"IF('Caseload Reporting'!R456 = \"\",\"\",'Caseload Reporting'!R456)","v":""},{"$f":"IF('Caseload Reporting'!E456 = \"\",\"\",'Caseload Reporting'!E456)","v":""},{"$f":"IF('Caseload Reporting'!S456 = \"\",\"\",'Caseload Reporting'!S456)","v":""}]
[{"$f":"IF('Caseload Reporting'!A457 = \"\",\"\",'Caseload Reporting'!A457)","v":""},{"$f":"IF('Caseload Reporting'!B457 = \"\",\"\",'Caseload Reporting'!B457)","v":""},{"$f":"IF('Caseload Reporting'!C457 = \"\",\"\",'Caseload Reporting'!C457)","v":""},{"$f":"IF('Caseload Reporting'!D457 = \"\",\"\",'Caseload Reporting'!D457)","v":""},{"$f":"IF('Caseload Reporting'!G457 = \"\",\"\",'Caseload Reporting'!G457)","v":""},{"$f":"IF('Caseload Reporting'!H457 = \"\",\"\",'Caseload Reporting'!H457)","v":""},{"$f":"IF('Caseload Reporting'!I457 = \"\",\"\",'Caseload Reporting'!I457)","v":""},{"$f":"IF('Caseload Reporting'!J457 = \"\",\"\",'Caseload Reporting'!J457)","v":""},{"$f":"IF('Caseload Reporting'!K457 = \"\",\"\",'Caseload Reporting'!K457)","v":""},{"$f":"IF('Caseload Reporting'!L457 = \"\",\"\",'Caseload Reporting'!L457)","v":""},{"$f":"IF('Caseload Reporting'!M457 = \"\",\"\",'Caseload Reporting'!M457)","v":""},{"$f":"IF('Caseload Reporting'!N457 = \"\",\"\",'Caseload Reporting'!N457)","v":""},{"$f":"IF('Caseload Reporting'!P457 = \"\",\"\",'Caseload Reporting'!P457)","v":""},{"$f":"IF('Caseload Reporting'!O457 = \"\",\"\",'Caseload Reporting'!O457)","v":""},{"$f":"IF('Caseload Reporting'!Q457 = \"\",\"\",'Caseload Reporting'!Q457)","v":""},{"$f":"IF('Caseload Reporting'!R457 = \"\",\"\",'Caseload Reporting'!R457)","v":""},{"$f":"IF('Caseload Reporting'!E457 = \"\",\"\",'Caseload Reporting'!E457)","v":""},{"$f":"IF('Caseload Reporting'!S457 = \"\",\"\",'Caseload Reporting'!S457)","v":""}]
[{"$f":"IF('Caseload Reporting'!A458 = \"\",\"\",'Caseload Reporting'!A458)","v":""},{"$f":"IF('Caseload Reporting'!B458 = \"\",\"\",'Caseload Reporting'!B458)","v":""},{"$f":"IF('Caseload Reporting'!C458 = \"\",\"\",'Caseload Reporting'!C458)","v":""},{"$f":"IF('Caseload Reporting'!D458 = \"\",\"\",'Caseload Reporting'!D458)","v":""},{"$f":"IF('Caseload Reporting'!G458 = \"\",\"\",'Caseload Reporting'!G458)","v":""},{"$f":"IF('Caseload Reporting'!H458 = \"\",\"\",'Caseload Reporting'!H458)","v":""},{"$f":"IF('Caseload Reporting'!I458 = \"\",\"\",'Caseload Reporting'!I458)","v":""},{"$f":"IF('Caseload Reporting'!J458 = \"\",\"\",'Caseload Reporting'!J458)","v":""},{"$f":"IF('Caseload Reporting'!K458 = \"\",\"\",'Caseload Reporting'!K458)","v":""},{"$f":"IF('Caseload Reporting'!L458 = \"\",\"\",'Caseload Reporting'!L458)","v":""},{"$f":"IF('Caseload Reporting'!M458 = \"\",\"\",'Caseload Reporting'!M458)","v":""},{"$f":"IF('Caseload Reporting'!N458 = \"\",\"\",'Caseload Reporting'!N458)","v":""},{"$f":"IF('Caseload Reporting'!P458 = \"\",\"\",'Caseload Reporting'!P458)","v":""},{"$f":"IF('Caseload Reporting'!O458 = \"\",\"\",'Caseload Reporting'!O458)","v":""},{"$f":"IF('Caseload Reporting'!Q458 = \"\",\"\",'Caseload Reporting'!Q458)","v":""},{"$f":"IF('Caseload Reporting'!R458 = \"\",\"\",'Caseload Reporting'!R458)","v":""},{"$f":"IF('Caseload Reporting'!E458 = \"\",\"\",'Caseload Reporting'!E458)","v":""},{"$f":"IF('Caseload Reporting'!S458 = \"\",\"\",'Caseload Reporting'!S458)","v":""}]
[{"$f":"IF('Caseload Reporting'!A459 = \"\",\"\",'Caseload Reporting'!A459)","v":""},{"$f":"IF('Caseload Reporting'!B459 = \"\",\"\",'Caseload Reporting'!B459)","v":""},{"$f":"IF('Caseload Reporting'!C459 = \"\",\"\",'Caseload Reporting'!C459)","v":""},{"$f":"IF('Caseload Reporting'!D459 = \"\",\"\",'Caseload Reporting'!D459)","v":""},{"$f":"IF('Caseload Reporting'!G459 = \"\",\"\",'Caseload Reporting'!G459)","v":""},{"$f":"IF('Caseload Reporting'!H459 = \"\",\"\",'Caseload Reporting'!H459)","v":""},{"$f":"IF('Caseload Reporting'!I459 = \"\",\"\",'Caseload Reporting'!I459)","v":""},{"$f":"IF('Caseload Reporting'!J459 = \"\",\"\",'Caseload Reporting'!J459)","v":""},{"$f":"IF('Caseload Reporting'!K459 = \"\",\"\",'Caseload Reporting'!K459)","v":""},{"$f":"IF('Caseload Reporting'!L459 = \"\",\"\",'Caseload Reporting'!L459)","v":""},{"$f":"IF('Caseload Reporting'!M459 = \"\",\"\",'Caseload Reporting'!M459)","v":""},{"$f":"IF('Caseload Reporting'!N459 = \"\",\"\",'Caseload Reporting'!N459)","v":""},{"$f":"IF('Caseload Reporting'!P459 = \"\",\"\",'Caseload Reporting'!P459)","v":""},{"$f":"IF('Caseload Reporting'!O459 = \"\",\"\",'Caseload Reporting'!O459)","v":""},{"$f":"IF('Caseload Reporting'!Q459 = \"\",\"\",'Caseload Reporting'!Q459)","v":""},{"$f":"IF('Caseload Reporting'!R459 = \"\",\"\",'Caseload Reporting'!R459)","v":""},{"$f":"IF('Caseload Reporting'!E459 = \"\",\"\",'Caseload Reporting'!E459)","v":""},{"$f":"IF('Caseload Reporting'!S459 = \"\",\"\",'Caseload Reporting'!S459)","v":""}]
[{"$f":"IF('Caseload Reporting'!A460 = \"\",\"\",'Caseload Reporting'!A460)","v":""},{"$f":"IF('Caseload Reporting'!B460 = \"\",\"\",'Caseload Reporting'!B460)","v":""},{"$f":"IF('Caseload Reporting'!C460 = \"\",\"\",'Caseload Reporting'!C460)","v":""},{"$f":"IF('Caseload Reporting'!D460 = \"\",\"\",'Caseload Reporting'!D460)","v":""},{"$f":"IF('Caseload Reporting'!G460 = \"\",\"\",'Caseload Reporting'!G460)","v":""},{"$f":"IF('Caseload Reporting'!H460 = \"\",\"\",'Caseload Reporting'!H460)","v":""},{"$f":"IF('Caseload Reporting'!I460 = \"\",\"\",'Caseload Reporting'!I460)","v":""},{"$f":"IF('Caseload Reporting'!J460 = \"\",\"\",'Caseload Reporting'!J460)","v":""},{"$f":"IF('Caseload Reporting'!K460 = \"\",\"\",'Caseload Reporting'!K460)","v":""},{"$f":"IF('Caseload Reporting'!L460 = \"\",\"\",'Caseload Reporting'!L460)","v":""},{"$f":"IF('Caseload Reporting'!M460 = \"\",\"\",'Caseload Reporting'!M460)","v":""},{"$f":"IF('Caseload Reporting'!N460 = \"\",\"\",'Caseload Reporting'!N460)","v":""},{"$f":"IF('Caseload Reporting'!P460 = \"\",\"\",'Caseload Reporting'!P460)","v":""},{"$f":"IF('Caseload Reporting'!O460 = \"\",\"\",'Caseload Reporting'!O460)","v":""},{"$f":"IF('Caseload Reporting'!Q460 = \"\",\"\",'Caseload Reporting'!Q460)","v":""},{"$f":"IF('Caseload Reporting'!R460 = \"\",\"\",'Caseload Reporting'!R460)","v":""},{"$f":"IF('Caseload Reporting'!E460 = \"\",\"\",'Caseload Reporting'!E460)","v":""},{"$f":"IF('Caseload Reporting'!S460 = \"\",\"\",'Caseload Reporting'!S460)","v":""}]
[{"$f":"IF('Caseload Reporting'!A461 = \"\",\"\",'Caseload Reporting'!A461)","v":""},{"$f":"IF('Caseload Reporting'!B461 = \"\",\"\",'Caseload Reporting'!B461)","v":""},{"$f":"IF('Caseload Reporting'!C461 = \"\",\"\",'Caseload Reporting'!C461)","v":""},{"$f":"IF('Caseload Reporting'!D461 = \"\",\"\",'Caseload Reporting'!D461)","v":""},{"$f":"IF('Caseload Reporting'!G461 = \"\",\"\",'Caseload Reporting'!G461)","v":""},{"$f":"IF('Caseload Reporting'!H461 = \"\",\"\",'Caseload Reporting'!H461)","v":""},{"$f":"IF('Caseload Reporting'!I461 = \"\",\"\",'Caseload Reporting'!I461)","v":""},{"$f":"IF('Caseload Reporting'!J461 = \"\",\"\",'Caseload Reporting'!J461)","v":""},{"$f":"IF('Caseload Reporting'!K461 = \"\",\"\",'Caseload Reporting'!K461)","v":""},{"$f":"IF('Caseload Reporting'!L461 = \"\",\"\",'Caseload Reporting'!L461)","v":""},{"$f":"IF('Caseload Reporting'!M461 = \"\",\"\",'Caseload Reporting'!M461)","v":""},{"$f":"IF('Caseload Reporting'!N461 = \"\",\"\",'Caseload Reporting'!N461)","v":""},{"$f":"IF('Caseload Reporting'!P461 = \"\",\"\",'Caseload Reporting'!P461)","v":""},{"$f":"IF('Caseload Reporting'!O461 = \"\",\"\",'Caseload Reporting'!O461)","v":""},{"$f":"IF('Caseload Reporting'!Q461 = \"\",\"\",'Caseload Reporting'!Q461)","v":""},{"$f":"IF('Caseload Reporting'!R461 = \"\",\"\",'Caseload Reporting'!R461)","v":""},{"$f":"IF('Caseload Reporting'!E461 = \"\",\"\",'Caseload Reporting'!E461)","v":""},{"$f":"IF('Caseload Reporting'!S461 = \"\",\"\",'Caseload Reporting'!S461)","v":""}]
[{"$f":"IF('Caseload Reporting'!A462 = \"\",\"\",'Caseload Reporting'!A462)","v":""},{"$f":"IF('Caseload Reporting'!B462 = \"\",\"\",'Caseload Reporting'!B462)","v":""},{"$f":"IF('Caseload Reporting'!C462 = \"\",\"\",'Caseload Reporting'!C462)","v":""},{"$f":"IF('Caseload Reporting'!D462 = \"\",\"\",'Caseload Reporting'!D462)","v":""},{"$f":"IF('Caseload Reporting'!G462 = \"\",\"\",'Caseload Reporting'!G462)","v":""},{"$f":"IF('Caseload Reporting'!H462 = \"\",\"\",'Caseload Reporting'!H462)","v":""},{"$f":"IF('Caseload Reporting'!I462 = \"\",\"\",'Caseload Reporting'!I462)","v":""},{"$f":"IF('Caseload Reporting'!J462 = \"\",\"\",'Caseload Reporting'!J462)","v":""},{"$f":"IF('Caseload Reporting'!K462 = \"\",\"\",'Caseload Reporting'!K462)","v":""},{"$f":"IF('Caseload Reporting'!L462 = \"\",\"\",'Caseload Reporting'!L462)","v":""},{"$f":"IF('Caseload Reporting'!M462 = \"\",\"\",'Caseload Reporting'!M462)","v":""},{"$f":"IF('Caseload Reporting'!N462 = \"\",\"\",'Caseload Reporting'!N462)","v":""},{"$f":"IF('Caseload Reporting'!P462 = \"\",\"\",'Caseload Reporting'!P462)","v":""},{"$f":"IF('Caseload Reporting'!O462 = \"\",\"\",'Caseload Reporting'!O462)","v":""},{"$f":"IF('Caseload Reporting'!Q462 = \"\",\"\",'Caseload Reporting'!Q462)","v":""},{"$f":"IF('Caseload Reporting'!R462 = \"\",\"\",'Caseload Reporting'!R462)","v":""},{"$f":"IF('Caseload Reporting'!E462 = \"\",\"\",'Caseload Reporting'!E462)","v":""},{"$f":"IF('Caseload Reporting'!S462 = \"\",\"\",'Caseload Reporting'!S462)","v":""}]
[{"$f":"IF('Caseload Reporting'!A463 = \"\",\"\",'Caseload Reporting'!A463)","v":""},{"$f":"IF('Caseload Reporting'!B463 = \"\",\"\",'Caseload Reporting'!B463)","v":""},{"$f":"IF('Caseload Reporting'!C463 = \"\",\"\",'Caseload Reporting'!C463)","v":""},{"$f":"IF('Caseload Reporting'!D463 = \"\",\"\",'Caseload Reporting'!D463)","v":""},{"$f":"IF('Caseload Reporting'!G463 = \"\",\"\",'Caseload Reporting'!G463)","v":""},{"$f":"IF('Caseload Reporting'!H463 = \"\",\"\",'Caseload Reporting'!H463)","v":""},{"$f":"IF('Caseload Reporting'!I463 = \"\",\"\",'Caseload Reporting'!I463)","v":""},{"$f":"IF('Caseload Reporting'!J463 = \"\",\"\",'Caseload Reporting'!J463)","v":""},{"$f":"IF('Caseload Reporting'!K463 = \"\",\"\",'Caseload Reporting'!K463)","v":""},{"$f":"IF('Caseload Reporting'!L463 = \"\",\"\",'Caseload Reporting'!L463)","v":""},{"$f":"IF('Caseload Reporting'!M463 = \"\",\"\",'Caseload Reporting'!M463)","v":""},{"$f":"IF('Caseload Reporting'!N463 = \"\",\"\",'Caseload Reporting'!N463)","v":""},{"$f":"IF('Caseload Reporting'!P463 = \"\",\"\",'Caseload Reporting'!P463)","v":""},{"$f":"IF('Caseload Reporting'!O463 = \"\",\"\",'Caseload Reporting'!O463)","v":""},{"$f":"IF('Caseload Reporting'!Q463 = \"\",\"\",'Caseload Reporting'!Q463)","v":""},{"$f":"IF('Caseload Reporting'!R463 = \"\",\"\",'Caseload Reporting'!R463)","v":""},{"$f":"IF('Caseload Reporting'!E463 = \"\",\"\",'Caseload Reporting'!E463)","v":""},{"$f":"IF('Caseload Reporting'!S463 = \"\",\"\",'Caseload Reporting'!S463)","v":""}]
[{"$f":"IF('Caseload Reporting'!A464 = \"\",\"\",'Caseload Reporting'!A464)","v":""},{"$f":"IF('Caseload Reporting'!B464 = \"\",\"\",'Caseload Reporting'!B464)","v":""},{"$f":"IF('Caseload Reporting'!C464 = \"\",\"\",'Caseload Reporting'!C464)","v":""},{"$f":"IF('Caseload Reporting'!D464 = \"\",\"\",'Caseload Reporting'!D464)","v":""},{"$f":"IF('Caseload Reporting'!G464 = \"\",\"\",'Caseload Reporting'!G464)","v":""},{"$f":"IF('Caseload Reporting'!H464 = \"\",\"\",'Caseload Reporting'!H464)","v":""},{"$f":"IF('Caseload Reporting'!I464 = \"\",\"\",'Caseload Reporting'!I464)","v":""},{"$f":"IF('Caseload Reporting'!J464 = \"\",\"\",'Caseload Reporting'!J464)","v":""},{"$f":"IF('Caseload Reporting'!K464 = \"\",\"\",'Caseload Reporting'!K464)","v":""},{"$f":"IF('Caseload Reporting'!L464 = \"\",\"\",'Caseload Reporting'!L464)","v":""},{"$f":"IF('Caseload Reporting'!M464 = \"\",\"\",'Caseload Reporting'!M464)","v":""},{"$f":"IF('Caseload Reporting'!N464 = \"\",\"\",'Caseload Reporting'!N464)","v":""},{"$f":"IF('Caseload Reporting'!P464 = \"\",\"\",'Caseload Reporting'!P464)","v":""},{"$f":"IF('Caseload Reporting'!O464 = \"\",\"\",'Caseload Reporting'!O464)","v":""},{"$f":"IF('Caseload Reporting'!Q464 = \"\",\"\",'Caseload Reporting'!Q464)","v":""},{"$f":"IF('Caseload Reporting'!R464 = \"\",\"\",'Caseload Reporting'!R464)","v":""},{"$f":"IF('Caseload Reporting'!E464 = \"\",\"\",'Caseload Reporting'!E464)","v":""},{"$f":"IF('Caseload Reporting'!S464 = \"\",\"\",'Caseload Reporting'!S464)","v":""}]
[{"$f":"IF('Caseload Reporting'!A465 = \"\",\"\",'Caseload Reporting'!A465)","v":""},{"$f":"IF('Caseload Reporting'!B465 = \"\",\"\",'Caseload Reporting'!B465)","v":""},{"$f":"IF('Caseload Reporting'!C465 = \"\",\"\",'Caseload Reporting'!C465)","v":""},{"$f":"IF('Caseload Reporting'!D465 = \"\",\"\",'Caseload Reporting'!D465)","v":""},{"$f":"IF('Caseload Reporting'!G465 = \"\",\"\",'Caseload Reporting'!G465)","v":""},{"$f":"IF('Caseload Reporting'!H465 = \"\",\"\",'Caseload Reporting'!H465)","v":""},{"$f":"IF('Caseload Reporting'!I465 = \"\",\"\",'Caseload Reporting'!I465)","v":""},{"$f":"IF('Caseload Reporting'!J465 = \"\",\"\",'Caseload Reporting'!J465)","v":""},{"$f":"IF('Caseload Reporting'!K465 = \"\",\"\",'Caseload Reporting'!K465)","v":""},{"$f":"IF('Caseload Reporting'!L465 = \"\",\"\",'Caseload Reporting'!L465)","v":""},{"$f":"IF('Caseload Reporting'!M465 = \"\",\"\",'Caseload Reporting'!M465)","v":""},{"$f":"IF('Caseload Reporting'!N465 = \"\",\"\",'Caseload Reporting'!N465)","v":""},{"$f":"IF('Caseload Reporting'!P465 = \"\",\"\",'Caseload Reporting'!P465)","v":""},{"$f":"IF('Caseload Reporting'!O465 = \"\",\"\",'Caseload Reporting'!O465)","v":""},{"$f":"IF('Caseload Reporting'!Q465 = \"\",\"\",'Caseload Reporting'!Q465)","v":""},{"$f":"IF('Caseload Reporting'!R465 = \"\",\"\",'Caseload Reporting'!R465)","v":""},{"$f":"IF('Caseload Reporting'!E465 = \"\",\"\",'Caseload Reporting'!E465)","v":""},{"$f":"IF('Caseload Reporting'!S465 = \"\",\"\",'Caseload Reporting'!S465)","v":""}]
[{"$f":"IF('Caseload Reporting'!A466 = \"\",\"\",'Caseload Reporting'!A466)","v":""},{"$f":"IF('Caseload Reporting'!B466 = \"\",\"\",'Caseload Reporting'!B466)","v":""},{"$f":"IF('Caseload Reporting'!C466 = \"\",\"\",'Caseload Reporting'!C466)","v":""},{"$f":"IF('Caseload Reporting'!D466 = \"\",\"\",'Caseload Reporting'!D466)","v":""},{"$f":"IF('Caseload Reporting'!G466 = \"\",\"\",'Caseload Reporting'!G466)","v":""},{"$f":"IF('Caseload Reporting'!H466 = \"\",\"\",'Caseload Reporting'!H466)","v":""},{"$f":"IF('Caseload Reporting'!I466 = \"\",\"\",'Caseload Reporting'!I466)","v":""},{"$f":"IF('Caseload Reporting'!J466 = \"\",\"\",'Caseload Reporting'!J466)","v":""},{"$f":"IF('Caseload Reporting'!K466 = \"\",\"\",'Caseload Reporting'!K466)","v":""},{"$f":"IF('Caseload Reporting'!L466 = \"\",\"\",'Caseload Reporting'!L466)","v":""},{"$f":"IF('Caseload Reporting'!M466 = \"\",\"\",'Caseload Reporting'!M466)","v":""},{"$f":"IF('Caseload Reporting'!N466 = \"\",\"\",'Caseload Reporting'!N466)","v":""},{"$f":"IF('Caseload Reporting'!P466 = \"\",\"\",'Caseload Reporting'!P466)","v":""},{"$f":"IF('Caseload Reporting'!O466 = \"\",\"\",'Caseload Reporting'!O466)","v":""},{"$f":"IF('Caseload Reporting'!Q466 = \"\",\"\",'Caseload Reporting'!Q466)","v":""},{"$f":"IF('Caseload Reporting'!R466 = \"\",\"\",'Caseload Reporting'!R466)","v":""},{"$f":"IF('Caseload Reporting'!E466 = \"\",\"\",'Caseload Reporting'!E466)","v":""},{"$f":"IF('Caseload Reporting'!S466 = \"\",\"\",'Caseload Reporting'!S466)","v":""}]
[{"$f":"IF('Caseload Reporting'!A467 = \"\",\"\",'Caseload Reporting'!A467)","v":""},{"$f":"IF('Caseload Reporting'!B467 = \"\",\"\",'Caseload Reporting'!B467)","v":""},{"$f":"IF('Caseload Reporting'!C467 = \"\",\"\",'Caseload Reporting'!C467)","v":""},{"$f":"IF('Caseload Reporting'!D467 = \"\",\"\",'Caseload Reporting'!D467)","v":""},{"$f":"IF('Caseload Reporting'!G467 = \"\",\"\",'Caseload Reporting'!G467)","v":""},{"$f":"IF('Caseload Reporting'!H467 = \"\",\"\",'Caseload Reporting'!H467)","v":""},{"$f":"IF('Caseload Reporting'!I467 = \"\",\"\",'Caseload Reporting'!I467)","v":""},{"$f":"IF('Caseload Reporting'!J467 = \"\",\"\",'Caseload Reporting'!J467)","v":""},{"$f":"IF('Caseload Reporting'!K467 = \"\",\"\",'Caseload Reporting'!K467)","v":""},{"$f":"IF('Caseload Reporting'!L467 = \"\",\"\",'Caseload Reporting'!L467)","v":""},{"$f":"IF('Caseload Reporting'!M467 = \"\",\"\",'Caseload Reporting'!M467)","v":""},{"$f":"IF('Caseload Reporting'!N467 = \"\",\"\",'Caseload Reporting'!N467)","v":""},{"$f":"IF('Caseload Reporting'!P467 = \"\",\"\",'Caseload Reporting'!P467)","v":""},{"$f":"IF('Caseload Reporting'!O467 = \"\",\"\",'Caseload Reporting'!O467)","v":""},{"$f":"IF('Caseload Reporting'!Q467 = \"\",\"\",'Caseload Reporting'!Q467)","v":""},{"$f":"IF('Caseload Reporting'!R467 = \"\",\"\",'Caseload Reporting'!R467)","v":""},{"$f":"IF('Caseload Reporting'!E467 = \"\",\"\",'Caseload Reporting'!E467)","v":""},{"$f":"IF('Caseload Reporting'!S467 = \"\",\"\",'Caseload Reporting'!S467)","v":""}]
[{"$f":"IF('Caseload Reporting'!A468 = \"\",\"\",'Caseload Reporting'!A468)","v":""},{"$f":"IF('Caseload Reporting'!B468 = \"\",\"\",'Caseload Reporting'!B468)","v":""},{"$f":"IF('Caseload Reporting'!C468 = \"\",\"\",'Caseload Reporting'!C468)","v":""},{"$f":"IF('Caseload Reporting'!D468 = \"\",\"\",'Caseload Reporting'!D468)","v":""},{"$f":"IF('Caseload Reporting'!G468 = \"\",\"\",'Caseload Reporting'!G468)","v":""},{"$f":"IF('Caseload Reporting'!H468 = \"\",\"\",'Caseload Reporting'!H468)","v":""},{"$f":"IF('Caseload Reporting'!I468 = \"\",\"\",'Caseload Reporting'!I468)","v":""},{"$f":"IF('Caseload Reporting'!J468 = \"\",\"\",'Caseload Reporting'!J468)","v":""},{"$f":"IF('Caseload Reporting'!K468 = \"\",\"\",'Caseload Reporting'!K468)","v":""},{"$f":"IF('Caseload Reporting'!L468 = \"\",\"\",'Caseload Reporting'!L468)","v":""},{"$f":"IF('Caseload Reporting'!M468 = \"\",\"\",'Caseload Reporting'!M468)","v":""},{"$f":"IF('Caseload Reporting'!N468 = \"\",\"\",'Caseload Reporting'!N468)","v":""},{"$f":"IF('Caseload Reporting'!P468 = \"\",\"\",'Caseload Reporting'!P468)","v":""},{"$f":"IF('Caseload Reporting'!O468 = \"\",\"\",'Caseload Reporting'!O468)","v":""},{"$f":"IF('Caseload Reporting'!Q468 = \"\",\"\",'Caseload Reporting'!Q468)","v":""},{"$f":"IF('Caseload Reporting'!R468 = \"\",\"\",'Caseload Reporting'!R468)","v":""},{"$f":"IF('Caseload Reporting'!E468 = \"\",\"\",'Caseload Reporting'!E468)","v":""},{"$f":"IF('Caseload Reporting'!S468 = \"\",\"\",'Caseload Reporting'!S468)","v":""}]
[{"$f":"IF('Caseload Reporting'!A469 = \"\",\"\",'Caseload Reporting'!A469)","v":""},{"$f":"IF('Caseload Reporting'!B469 = \"\",\"\",'Caseload Reporting'!B469)","v":""},{"$f":"IF('Caseload Reporting'!C469 = \"\",\"\",'Caseload Reporting'!C469)","v":""},{"$f":"IF('Caseload Reporting'!D469 = \"\",\"\",'Caseload Reporting'!D469)","v":""},{"$f":"IF('Caseload Reporting'!G469 = \"\",\"\",'Caseload Reporting'!G469)","v":""},{"$f":"IF('Caseload Reporting'!H469 = \"\",\"\",'Caseload Reporting'!H469)","v":""},{"$f":"IF('Caseload Reporting'!I469 = \"\",\"\",'Caseload Reporting'!I469)","v":""},{"$f":"IF('Caseload Reporting'!J469 = \"\",\"\",'Caseload Reporting'!J469)","v":""},{"$f":"IF('Caseload Reporting'!K469 = \"\",\"\",'Caseload Reporting'!K469)","v":""},{"$f":"IF('Caseload Reporting'!L469 = \"\",\"\",'Caseload Reporting'!L469)","v":""},{"$f":"IF('Caseload Reporting'!M469 = \"\",\"\",'Caseload Reporting'!M469)","v":""},{"$f":"IF('Caseload Reporting'!N469 = \"\",\"\",'Caseload Reporting'!N469)","v":""},{"$f":"IF('Caseload Reporting'!P469 = \"\",\"\",'Caseload Reporting'!P469)","v":""},{"$f":"IF('Caseload Reporting'!O469 = \"\",\"\",'Caseload Reporting'!O469)","v":""},{"$f":"IF('Caseload Reporting'!Q469 = \"\",\"\",'Caseload Reporting'!Q469)","v":""},{"$f":"IF('Caseload Reporting'!R469 = \"\",\"\",'Caseload Reporting'!R469)","v":""},{"$f":"IF('Caseload Reporting'!E469 = \"\",\"\",'Caseload Reporting'!E469)","v":""},{"$f":"IF('Caseload Reporting'!S469 = \"\",\"\",'Caseload Reporting'!S469)","v":""}]
[{"$f":"IF('Caseload Reporting'!A470 = \"\",\"\",'Caseload Reporting'!A470)","v":""},{"$f":"IF('Caseload Reporting'!B470 = \"\",\"\",'Caseload Reporting'!B470)","v":""},{"$f":"IF('Caseload Reporting'!C470 = \"\",\"\",'Caseload Reporting'!C470)","v":""},{"$f":"IF('Caseload Reporting'!D470 = \"\",\"\",'Caseload Reporting'!D470)","v":""},{"$f":"IF('Caseload Reporting'!G470 = \"\",\"\",'Caseload Reporting'!G470)","v":""},{"$f":"IF('Caseload Reporting'!H470 = \"\",\"\",'Caseload Reporting'!H470)","v":""},{"$f":"IF('Caseload Reporting'!I470 = \"\",\"\",'Caseload Reporting'!I470)","v":""},{"$f":"IF('Caseload Reporting'!J470 = \"\",\"\",'Caseload Reporting'!J470)","v":""},{"$f":"IF('Caseload Reporting'!K470 = \"\",\"\",'Caseload Reporting'!K470)","v":""},{"$f":"IF('Caseload Reporting'!L470 = \"\",\"\",'Caseload Reporting'!L470)","v":""},{"$f":"IF('Caseload Reporting'!M470 = \"\",\"\",'Caseload Reporting'!M470)","v":""},{"$f":"IF('Caseload Reporting'!N470 = \"\",\"\",'Caseload Reporting'!N470)","v":""},{"$f":"IF('Caseload Reporting'!P470 = \"\",\"\",'Caseload Reporting'!P470)","v":""},{"$f":"IF('Caseload Reporting'!O470 = \"\",\"\",'Caseload Reporting'!O470)","v":""},{"$f":"IF('Caseload Reporting'!Q470 = \"\",\"\",'Caseload Reporting'!Q470)","v":""},{"$f":"IF('Caseload Reporting'!R470 = \"\",\"\",'Caseload Reporting'!R470)","v":""},{"$f":"IF('Caseload Reporting'!E470 = \"\",\"\",'Caseload Reporting'!E470)","v":""},{"$f":"IF('Caseload Reporting'!S470 = \"\",\"\",'Caseload Reporting'!S470)","v":""}]
[{"$f":"IF('Caseload Reporting'!A471 = \"\",\"\",'Caseload Reporting'!A471)","v":""},{"$f":"IF('Caseload Reporting'!B471 = \"\",\"\",'Caseload Reporting'!B471)","v":""},{"$f":"IF('Caseload Reporting'!C471 = \"\",\"\",'Caseload Reporting'!C471)","v":""},{"$f":"IF('Caseload Reporting'!D471 = \"\",\"\",'Caseload Reporting'!D471)","v":""},{"$f":"IF('Caseload Reporting'!G471 = \"\",\"\",'Caseload Reporting'!G471)","v":""},{"$f":"IF('Caseload Reporting'!H471 = \"\",\"\",'Caseload Reporting'!H471)","v":""},{"$f":"IF('Caseload Reporting'!I471 = \"\",\"\",'Caseload Reporting'!I471)","v":""},{"$f":"IF('Caseload Reporting'!J471 = \"\",\"\",'Caseload Reporting'!J471)","v":""},{"$f":"IF('Caseload Reporting'!K471 = \"\",\"\",'Caseload Reporting'!K471)","v":""},{"$f":"IF('Caseload Reporting'!L471 = \"\",\"\",'Caseload Reporting'!L471)","v":""},{"$f":"IF('Caseload Reporting'!M471 = \"\",\"\",'Caseload Reporting'!M471)","v":""},{"$f":"IF('Caseload Reporting'!N471 = \"\",\"\",'Caseload Reporting'!N471)","v":""},{"$f":"IF('Caseload Reporting'!P471 = \"\",\"\",'Caseload Reporting'!P471)","v":""},{"$f":"IF('Caseload Reporting'!O471 = \"\",\"\",'Caseload Reporting'!O471)","v":""},{"$f":"IF('Caseload Reporting'!Q471 = \"\",\"\",'Caseload Reporting'!Q471)","v":""},{"$f":"IF('Caseload Reporting'!R471 = \"\",\"\",'Caseload Reporting'!R471)","v":""},{"$f":"IF('Caseload Reporting'!E471 = \"\",\"\",'Caseload Reporting'!E471)","v":""},{"$f":"IF('Caseload Reporting'!S471 = \"\",\"\",'Caseload Reporting'!S471)","v":""}]
[{"$f":"IF('Caseload Reporting'!A472 = \"\",\"\",'Caseload Reporting'!A472)","v":""},{"$f":"IF('Caseload Reporting'!B472 = \"\",\"\",'Caseload Reporting'!B472)","v":""},{"$f":"IF('Caseload Reporting'!C472 = \"\",\"\",'Caseload Reporting'!C472)","v":""},{"$f":"IF('Caseload Reporting'!D472 = \"\",\"\",'Caseload Reporting'!D472)","v":""},{"$f":"IF('Caseload Reporting'!G472 = \"\",\"\",'Caseload Reporting'!G472)","v":""},{"$f":"IF('Caseload Reporting'!H472 = \"\",\"\",'Caseload Reporting'!H472)","v":""},{"$f":"IF('Caseload Reporting'!I472 = \"\",\"\",'Caseload Reporting'!I472)","v":""},{"$f":"IF('Caseload Reporting'!J472 = \"\",\"\",'Caseload Reporting'!J472)","v":""},{"$f":"IF('Caseload Reporting'!K472 = \"\",\"\",'Caseload Reporting'!K472)","v":""},{"$f":"IF('Caseload Reporting'!L472 = \"\",\"\",'Caseload Reporting'!L472)","v":""},{"$f":"IF('Caseload Reporting'!M472 = \"\",\"\",'Caseload Reporting'!M472)","v":""},{"$f":"IF('Caseload Reporting'!N472 = \"\",\"\",'Caseload Reporting'!N472)","v":""},{"$f":"IF('Caseload Reporting'!P472 = \"\",\"\",'Caseload Reporting'!P472)","v":""},{"$f":"IF('Caseload Reporting'!O472 = \"\",\"\",'Caseload Reporting'!O472)","v":""},{"$f":"IF('Caseload Reporting'!Q472 = \"\",\"\",'Caseload Reporting'!Q472)","v":""},{"$f":"IF('Caseload Reporting'!R472 = \"\",\"\",'Caseload Reporting'!R472)","v":""},{"$f":"IF('Caseload Reporting'!E472 = \"\",\"\",'Caseload Reporting'!E472)","v":""},{"$f":"IF('Caseload Reporting'!S472 = \"\",\"\",'Caseload Reporting'!S472)","v":""}]
[{"$f":"IF('Caseload Reporting'!A473 = \"\",\"\",'Caseload Reporting'!A473)","v":""},{"$f":"IF('Caseload Reporting'!B473 = \"\",\"\",'Caseload Reporting'!B473)","v":""},{"$f":"IF('Caseload Reporting'!C473 = \"\",\"\",'Caseload Reporting'!C473)","v":""},{"$f":"IF('Caseload Reporting'!D473 = \"\",\"\",'Caseload Reporting'!D473)","v":""},{"$f":"IF('Caseload Reporting'!G473 = \"\",\"\",'Caseload Reporting'!G473)","v":""},{"$f":"IF('Caseload Reporting'!H473 = \"\",\"\",'Caseload Reporting'!H473)","v":""},{"$f":"IF('Caseload Reporting'!I473 = \"\",\"\",'Caseload Reporting'!I473)","v":""},{"$f":"IF('Caseload Reporting'!J473 = \"\",\"\",'Caseload Reporting'!J473)","v":""},{"$f":"IF('Caseload Reporting'!K473 = \"\",\"\",'Caseload Reporting'!K473)","v":""},{"$f":"IF('Caseload Reporting'!L473 = \"\",\"\",'Caseload Reporting'!L473)","v":""},{"$f":"IF('Caseload Reporting'!M473 = \"\",\"\",'Caseload Reporting'!M473)","v":""},{"$f":"IF('Caseload Reporting'!N473 = \"\",\"\",'Caseload Reporting'!N473)","v":""},{"$f":"IF('Caseload Reporting'!P473 = \"\",\"\",'Caseload Reporting'!P473)","v":""},{"$f":"IF('Caseload Reporting'!O473 = \"\",\"\",'Caseload Reporting'!O473)","v":""},{"$f":"IF('Caseload Reporting'!Q473 = \"\",\"\",'Caseload Reporting'!Q473)","v":""},{"$f":"IF('Caseload Reporting'!R473 = \"\",\"\",'Caseload Reporting'!R473)","v":""},{"$f":"IF('Caseload Reporting'!E473 = \"\",\"\",'Caseload Reporting'!E473)","v":""},{"$f":"IF('Caseload Reporting'!S473 = \"\",\"\",'Caseload Reporting'!S473)","v":""}]
[{"$f":"IF('Caseload Reporting'!A474 = \"\",\"\",'Caseload Reporting'!A474)","v":""},{"$f":"IF('Caseload Reporting'!B474 = \"\",\"\",'Caseload Reporting'!B474)","v":""},{"$f":"IF('Caseload Reporting'!C474 = \"\",\"\",'Caseload Reporting'!C474)","v":""},{"$f":"IF('Caseload Reporting'!D474 = \"\",\"\",'Caseload Reporting'!D474)","v":""},{"$f":"IF('Caseload Reporting'!G474 = \"\",\"\",'Caseload Reporting'!G474)","v":""},{"$f":"IF('Caseload Reporting'!H474 = \"\",\"\",'Caseload Reporting'!H474)","v":""},{"$f":"IF('Caseload Reporting'!I474 = \"\",\"\",'Caseload Reporting'!I474)","v":""},{"$f":"IF('Caseload Reporting'!J474 = \"\",\"\",'Caseload Reporting'!J474)","v":""},{"$f":"IF('Caseload Reporting'!K474 = \"\",\"\",'Caseload Reporting'!K474)","v":""},{"$f":"IF('Caseload Reporting'!L474 = \"\",\"\",'Caseload Reporting'!L474)","v":""},{"$f":"IF('Caseload Reporting'!M474 = \"\",\"\",'Caseload Reporting'!M474)","v":""},{"$f":"IF('Caseload Reporting'!N474 = \"\",\"\",'Caseload Reporting'!N474)","v":""},{"$f":"IF('Caseload Reporting'!P474 = \"\",\"\",'Caseload Reporting'!P474)","v":""},{"$f":"IF('Caseload Reporting'!O474 = \"\",\"\",'Caseload Reporting'!O474)","v":""},{"$f":"IF('Caseload Reporting'!Q474 = \"\",\"\",'Caseload Reporting'!Q474)","v":""},{"$f":"IF('Caseload Reporting'!R474 = \"\",\"\",'Caseload Reporting'!R474)","v":""},{"$f":"IF('Caseload Reporting'!E474 = \"\",\"\",'Caseload Reporting'!E474)","v":""},{"$f":"IF('Caseload Reporting'!S474 = \"\",\"\",'Caseload Reporting'!S474)","v":""}]
[{"$f":"IF('Caseload Reporting'!A475 = \"\",\"\",'Caseload Reporting'!A475)","v":""},{"$f":"IF('Caseload Reporting'!B475 = \"\",\"\",'Caseload Reporting'!B475)","v":""},{"$f":"IF('Caseload Reporting'!C475 = \"\",\"\",'Caseload Reporting'!C475)","v":""},{"$f":"IF('Caseload Reporting'!D475 = \"\",\"\",'Caseload Reporting'!D475)","v":""},{"$f":"IF('Caseload Reporting'!G475 = \"\",\"\",'Caseload Reporting'!G475)","v":""},{"$f":"IF('Caseload Reporting'!H475 = \"\",\"\",'Caseload Reporting'!H475)","v":""},{"$f":"IF('Caseload Reporting'!I475 = \"\",\"\",'Caseload Reporting'!I475)","v":""},{"$f":"IF('Caseload Reporting'!J475 = \"\",\"\",'Caseload Reporting'!J475)","v":""},{"$f":"IF('Caseload Reporting'!K475 = \"\",\"\",'Caseload Reporting'!K475)","v":""},{"$f":"IF('Caseload Reporting'!L475 = \"\",\"\",'Caseload Reporting'!L475)","v":""},{"$f":"IF('Caseload Reporting'!M475 = \"\",\"\",'Caseload Reporting'!M475)","v":""},{"$f":"IF('Caseload Reporting'!N475 = \"\",\"\",'Caseload Reporting'!N475)","v":""},{"$f":"IF('Caseload Reporting'!P475 = \"\",\"\",'Caseload Reporting'!P475)","v":""},{"$f":"IF('Caseload Reporting'!O475 = \"\",\"\",'Caseload Reporting'!O475)","v":""},{"$f":"IF('Caseload Reporting'!Q475 = \"\",\"\",'Caseload Reporting'!Q475)","v":""},{"$f":"IF('Caseload Reporting'!R475 = \"\",\"\",'Caseload Reporting'!R475)","v":""},{"$f":"IF('Caseload Reporting'!E475 = \"\",\"\",'Caseload Reporting'!E475)","v":""},{"$f":"IF('Caseload Reporting'!S475 = \"\",\"\",'Caseload Reporting'!S475)","v":""}]
[{"$f":"IF('Caseload Reporting'!A476 = \"\",\"\",'Caseload Reporting'!A476)","v":""},{"$f":"IF('Caseload Reporting'!B476 = \"\",\"\",'Caseload Reporting'!B476)","v":""},{"$f":"IF('Caseload Reporting'!C476 = \"\",\"\",'Caseload Reporting'!C476)","v":""},{"$f":"IF('Caseload Reporting'!D476 = \"\",\"\",'Caseload Reporting'!D476)","v":""},{"$f":"IF('Caseload Reporting'!G476 = \"\",\"\",'Caseload Reporting'!G476)","v":""},{"$f":"IF('Caseload Reporting'!H476 = \"\",\"\",'Caseload Reporting'!H476)","v":""},{"$f":"IF('Caseload Reporting'!I476 = \"\",\"\",'Caseload Reporting'!I476)","v":""},{"$f":"IF('Caseload Reporting'!J476 = \"\",\"\",'Caseload Reporting'!J476)","v":""},{"$f":"IF('Caseload Reporting'!K476 = \"\",\"\",'Caseload Reporting'!K476)","v":""},{"$f":"IF('Caseload Reporting'!L476 = \"\",\"\",'Caseload Reporting'!L476)","v":""},{"$f":"IF('Caseload Reporting'!M476 = \"\",\"\",'Caseload Reporting'!M476)","v":""},{"$f":"IF('Caseload Reporting'!N476 = \"\",\"\",'Caseload Reporting'!N476)","v":""},{"$f":"IF('Caseload Reporting'!P476 = \"\",\"\",'Caseload Reporting'!P476)","v":""},{"$f":"IF('Caseload Reporting'!O476 = \"\",\"\",'Caseload Reporting'!O476)","v":""},{"$f":"IF('Caseload Reporting'!Q476 = \"\",\"\",'Caseload Reporting'!Q476)","v":""},{"$f":"IF('Caseload Reporting'!R476 = \"\",\"\",'Caseload Reporting'!R476)","v":""},{"$f":"IF('Caseload Reporting'!E476 = \"\",\"\",'Caseload Reporting'!E476)","v":""},{"$f":"IF('Caseload Reporting'!S476 = \"\",\"\",'Caseload Reporting'!S476)","v":""}]
[{"$f":"IF('Caseload Reporting'!A477 = \"\",\"\",'Caseload Reporting'!A477)","v":""},{"$f":"IF('Caseload Reporting'!B477 = \"\",\"\",'Caseload Reporting'!B477)","v":""},{"$f":"IF('Caseload Reporting'!C477 = \"\",\"\",'Caseload Reporting'!C477)","v":""},{"$f":"IF('Caseload Reporting'!D477 = \"\",\"\",'Caseload Reporting'!D477)","v":""},{"$f":"IF('Caseload Reporting'!G477 = \"\",\"\",'Caseload Reporting'!G477)","v":""},{"$f":"IF('Caseload Reporting'!H477 = \"\",\"\",'Caseload Reporting'!H477)","v":""},{"$f":"IF('Caseload Reporting'!I477 = \"\",\"\",'Caseload Reporting'!I477)","v":""},{"$f":"IF('Caseload Reporting'!J477 = \"\",\"\",'Caseload Reporting'!J477)","v":""},{"$f":"IF('Caseload Reporting'!K477 = \"\",\"\",'Caseload Reporting'!K477)","v":""},{"$f":"IF('Caseload Reporting'!L477 = \"\",\"\",'Caseload Reporting'!L477)","v":""},{"$f":"IF('Caseload Reporting'!M477 = \"\",\"\",'Caseload Reporting'!M477)","v":""},{"$f":"IF('Caseload Reporting'!N477 = \"\",\"\",'Caseload Reporting'!N477)","v":""},{"$f":"IF('Caseload Reporting'!P477 = \"\",\"\",'Caseload Reporting'!P477)","v":""},{"$f":"IF('Caseload Reporting'!O477 = \"\",\"\",'Caseload Reporting'!O477)","v":""},{"$f":"IF('Caseload Reporting'!Q477 = \"\",\"\",'Caseload Reporting'!Q477)","v":""},{"$f":"IF('Caseload Reporting'!R477 = \"\",\"\",'Caseload Reporting'!R477)","v":""},{"$f":"IF('Caseload Reporting'!E477 = \"\",\"\",'Caseload Reporting'!E477)","v":""},{"$f":"IF('Caseload Reporting'!S477 = \"\",\"\",'Caseload Reporting'!S477)","v":""}]
[{"$f":"IF('Caseload Reporting'!A478 = \"\",\"\",'Caseload Reporting'!A478)","v":""},{"$f":"IF('Caseload Reporting'!B478 = \"\",\"\",'Caseload Reporting'!B478)","v":""},{"$f":"IF('Caseload Reporting'!C478 = \"\",\"\",'Caseload Reporting'!C478)","v":""},{"$f":"IF('Caseload Reporting'!D478 = \"\",\"\",'Caseload Reporting'!D478)","v":""},{"$f":"IF('Caseload Reporting'!G478 = \"\",\"\",'Caseload Reporting'!G478)","v":""},{"$f":"IF('Caseload Reporting'!H478 = \"\",\"\",'Caseload Reporting'!H478)","v":""},{"$f":"IF('Caseload Reporting'!I478 = \"\",\"\",'Caseload Reporting'!I478)","v":""},{"$f":"IF('Caseload Reporting'!J478 = \"\",\"\",'Caseload Reporting'!J478)","v":""},{"$f":"IF('Caseload Reporting'!K478 = \"\",\"\",'Caseload Reporting'!K478)","v":""},{"$f":"IF('Caseload Reporting'!L478 = \"\",\"\",'Caseload Reporting'!L478)","v":""},{"$f":"IF('Caseload Reporting'!M478 = \"\",\"\",'Caseload Reporting'!M478)","v":""},{"$f":"IF('Caseload Reporting'!N478 = \"\",\"\",'Caseload Reporting'!N478)","v":""},{"$f":"IF('Caseload Reporting'!P478 = \"\",\"\",'Caseload Reporting'!P478)","v":""},{"$f":"IF('Caseload Reporting'!O478 = \"\",\"\",'Caseload Reporting'!O478)","v":""},{"$f":"IF('Caseload Reporting'!Q478 = \"\",\"\",'Caseload Reporting'!Q478)","v":""},{"$f":"IF('Caseload Reporting'!R478 = \"\",\"\",'Caseload Reporting'!R478)","v":""},{"$f":"IF('Caseload Reporting'!E478 = \"\",\"\",'Caseload Reporting'!E478)","v":""},{"$f":"IF('Caseload Reporting'!S478 = \"\",\"\",'Caseload Reporting'!S478)","v":""}]
[{"$f":"IF('Caseload Reporting'!A479 = \"\",\"\",'Caseload Reporting'!A479)","v":""},{"$f":"IF('Caseload Reporting'!B479 = \"\",\"\",'Caseload Reporting'!B479)","v":""},{"$f":"IF('Caseload Reporting'!C479 = \"\",\"\",'Caseload Reporting'!C479)","v":""},{"$f":"IF('Caseload Reporting'!D479 = \"\",\"\",'Caseload Reporting'!D479)","v":""},{"$f":"IF('Caseload Reporting'!G479 = \"\",\"\",'Caseload Reporting'!G479)","v":""},{"$f":"IF('Caseload Reporting'!H479 = \"\",\"\",'Caseload Reporting'!H479)","v":""},{"$f":"IF('Caseload Reporting'!I479 = \"\",\"\",'Caseload Reporting'!I479)","v":""},{"$f":"IF('Caseload Reporting'!J479 = \"\",\"\",'Caseload Reporting'!J479)","v":""},{"$f":"IF('Caseload Reporting'!K479 = \"\",\"\",'Caseload Reporting'!K479)","v":""},{"$f":"IF('Caseload Reporting'!L479 = \"\",\"\",'Caseload Reporting'!L479)","v":""},{"$f":"IF('Caseload Reporting'!M479 = \"\",\"\",'Caseload Reporting'!M479)","v":""},{"$f":"IF('Caseload Reporting'!N479 = \"\",\"\",'Caseload Reporting'!N479)","v":""},{"$f":"IF('Caseload Reporting'!P479 = \"\",\"\",'Caseload Reporting'!P479)","v":""},{"$f":"IF('Caseload Reporting'!O479 = \"\",\"\",'Caseload Reporting'!O479)","v":""},{"$f":"IF('Caseload Reporting'!Q479 = \"\",\"\",'Caseload Reporting'!Q479)","v":""},{"$f":"IF('Caseload Reporting'!R479 = \"\",\"\",'Caseload Reporting'!R479)","v":""},{"$f":"IF('Caseload Reporting'!E479 = \"\",\"\",'Caseload Reporting'!E479)","v":""},{"$f":"IF('Caseload Reporting'!S479 = \"\",\"\",'Caseload Reporting'!S479)","v":""}]
[{"$f":"IF('Caseload Reporting'!A480 = \"\",\"\",'Caseload Reporting'!A480)","v":""},{"$f":"IF('Caseload Reporting'!B480 = \"\",\"\",'Caseload Reporting'!B480)","v":""},{"$f":"IF('Caseload Reporting'!C480 = \"\",\"\",'Caseload Reporting'!C480)","v":""},{"$f":"IF('Caseload Reporting'!D480 = \"\",\"\",'Caseload Reporting'!D480)","v":""},{"$f":"IF('Caseload Reporting'!G480 = \"\",\"\",'Caseload Reporting'!G480)","v":""},{"$f":"IF('Caseload Reporting'!H480 = \"\",\"\",'Caseload Reporting'!H480)","v":""},{"$f":"IF('Caseload Reporting'!I480 = \"\",\"\",'Caseload Reporting'!I480)","v":""},{"$f":"IF('Caseload Reporting'!J480 = \"\",\"\",'Caseload Reporting'!J480)","v":""},{"$f":"IF('Caseload Reporting'!K480 = \"\",\"\",'Caseload Reporting'!K480)","v":""},{"$f":"IF('Caseload Reporting'!L480 = \"\",\"\",'Caseload Reporting'!L480)","v":""},{"$f":"IF('Caseload Reporting'!M480 = \"\",\"\",'Caseload Reporting'!M480)","v":""},{"$f":"IF('Caseload Reporting'!N480 = \"\",\"\",'Caseload Reporting'!N480)","v":""},{"$f":"IF('Caseload Reporting'!P480 = \"\",\"\",'Caseload Reporting'!P480)","v":""},{"$f":"IF('Caseload Reporting'!O480 = \"\",\"\",'Caseload Reporting'!O480)","v":""},{"$f":"IF('Caseload Reporting'!Q480 = \"\",\"\",'Caseload Reporting'!Q480)","v":""},{"$f":"IF('Caseload Reporting'!R480 = \"\",\"\",'Caseload Reporting'!R480)","v":""},{"$f":"IF('Caseload Reporting'!E480 = \"\",\"\",'Caseload Reporting'!E480)","v":""},{"$f":"IF('Caseload Reporting'!S480 = \"\",\"\",'Caseload Reporting'!S480)","v":""}]
[{"$f":"IF('Caseload Reporting'!A481 = \"\",\"\",'Caseload Reporting'!A481)","v":""},{"$f":"IF('Caseload Reporting'!B481 = \"\",\"\",'Caseload Reporting'!B481)","v":""},{"$f":"IF('Caseload Reporting'!C481 = \"\",\"\",'Caseload Reporting'!C481)","v":""},{"$f":"IF('Caseload Reporting'!D481 = \"\",\"\",'Caseload Reporting'!D481)","v":""},{"$f":"IF('Caseload Reporting'!G481 = \"\",\"\",'Caseload Reporting'!G481)","v":""},{"$f":"IF('Caseload Reporting'!H481 = \"\",\"\",'Caseload Reporting'!H481)","v":""},{"$f":"IF('Caseload Reporting'!I481 = \"\",\"\",'Caseload Reporting'!I481)","v":""},{"$f":"IF('Caseload Reporting'!J481 = \"\",\"\",'Caseload Reporting'!J481)","v":""},{"$f":"IF('Caseload Reporting'!K481 = \"\",\"\",'Caseload Reporting'!K481)","v":""},{"$f":"IF('Caseload Reporting'!L481 = \"\",\"\",'Caseload Reporting'!L481)","v":""},{"$f":"IF('Caseload Reporting'!M481 = \"\",\"\",'Caseload Reporting'!M481)","v":""},{"$f":"IF('Caseload Reporting'!N481 = \"\",\"\",'Caseload Reporting'!N481)","v":""},{"$f":"IF('Caseload Reporting'!P481 = \"\",\"\",'Caseload Reporting'!P481)","v":""},{"$f":"IF('Caseload Reporting'!O481 = \"\",\"\",'Caseload Reporting'!O481)","v":""},{"$f":"IF('Caseload Reporting'!Q481 = \"\",\"\",'Caseload Reporting'!Q481)","v":""},{"$f":"IF('Caseload Reporting'!R481 = \"\",\"\",'Caseload Reporting'!R481)","v":""},{"$f":"IF('Caseload Reporting'!E481 = \"\",\"\",'Caseload Reporting'!E481)","v":""},{"$f":"IF('Caseload Reporting'!S481 = \"\",\"\",'Caseload Reporting'!S481)","v":""}]
[{"$f":"IF('Caseload Reporting'!A482 = \"\",\"\",'Caseload Reporting'!A482)","v":""},{"$f":"IF('Caseload Reporting'!B482 = \"\",\"\",'Caseload Reporting'!B482)","v":""},{"$f":"IF('Caseload Reporting'!C482 = \"\",\"\",'Caseload Reporting'!C482)","v":""},{"$f":"IF('Caseload Reporting'!D482 = \"\",\"\",'Caseload Reporting'!D482)","v":""},{"$f":"IF('Caseload Reporting'!G482 = \"\",\"\",'Caseload Reporting'!G482)","v":""},{"$f":"IF('Caseload Reporting'!H482 = \"\",\"\",'Caseload Reporting'!H482)","v":""},{"$f":"IF('Caseload Reporting'!I482 = \"\",\"\",'Caseload Reporting'!I482)","v":""},{"$f":"IF('Caseload Reporting'!J482 = \"\",\"\",'Caseload Reporting'!J482)","v":""},{"$f":"IF('Caseload Reporting'!K482 = \"\",\"\",'Caseload Reporting'!K482)","v":""},{"$f":"IF('Caseload Reporting'!L482 = \"\",\"\",'Caseload Reporting'!L482)","v":""},{"$f":"IF('Caseload Reporting'!M482 = \"\",\"\",'Caseload Reporting'!M482)","v":""},{"$f":"IF('Caseload Reporting'!N482 = \"\",\"\",'Caseload Reporting'!N482)","v":""},{"$f":"IF('Caseload Reporting'!P482 = \"\",\"\",'Caseload Reporting'!P482)","v":""},{"$f":"IF('Caseload Reporting'!O482 = \"\",\"\",'Caseload Reporting'!O482)","v":""},{"$f":"IF('Caseload Reporting'!Q482 = \"\",\"\",'Caseload Reporting'!Q482)","v":""},{"$f":"IF('Caseload Reporting'!R482 = \"\",\"\",'Caseload Reporting'!R482)","v":""},{"$f":"IF('Caseload Reporting'!E482 = \"\",\"\",'Caseload Reporting'!E482)","v":""},{"$f":"IF('Caseload Reporting'!S482 = \"\",\"\",'Caseload Reporting'!S482)","v":""}]
[{"$f":"IF('Caseload Reporting'!A483 = \"\",\"\",'Caseload Reporting'!A483)","v":""},{"$f":"IF('Caseload Reporting'!B483 = \"\",\"\",'Caseload Reporting'!B483)","v":""},{"$f":"IF('Caseload Reporting'!C483 = \"\",\"\",'Caseload Reporting'!C483)","v":""},{"$f":"IF('Caseload Reporting'!D483 = \"\",\"\",'Caseload Reporting'!D483)","v":""},{"$f":"IF('Caseload Reporting'!G483 = \"\",\"\",'Caseload Reporting'!G483)","v":""},{"$f":"IF('Caseload Reporting'!H483 = \"\",\"\",'Caseload Reporting'!H483)","v":""},{"$f":"IF('Caseload Reporting'!I483 = \"\",\"\",'Caseload Reporting'!I483)","v":""},{"$f":"IF('Caseload Reporting'!J483 = \"\",\"\",'Caseload Reporting'!J483)","v":""},{"$f":"IF('Caseload Reporting'!K483 = \"\",\"\",'Caseload Reporting'!K483)","v":""},{"$f":"IF('Caseload Reporting'!L483 = \"\",\"\",'Caseload Reporting'!L483)","v":""},{"$f":"IF('Caseload Reporting'!M483 = \"\",\"\",'Caseload Reporting'!M483)","v":""},{"$f":"IF('Caseload Reporting'!N483 = \"\",\"\",'Caseload Reporting'!N483)","v":""},{"$f":"IF('Caseload Reporting'!P483 = \"\",\"\",'Caseload Reporting'!P483)","v":""},{"$f":"IF('Caseload Reporting'!O483 = \"\",\"\",'Caseload Reporting'!O483)","v":""},{"$f":"IF('Caseload Reporting'!Q483 = \"\",\"\",'Caseload Reporting'!Q483)","v":""},{"$f":"IF('Caseload Reporting'!R483 = \"\",\"\",'Caseload Reporting'!R483)","v":""},{"$f":"IF('Caseload Reporting'!E483 = \"\",\"\",'Caseload Reporting'!E483)","v":""},{"$f":"IF('Caseload Reporting'!S483 = \"\",\"\",'Caseload Reporting'!S483)","v":""}]
[{"$f":"IF('Caseload Reporting'!A484 = \"\",\"\",'Caseload Reporting'!A484)","v":""},{"$f":"IF('Caseload Reporting'!B484 = \"\",\"\",'Caseload Reporting'!B484)","v":""},{"$f":"IF('Caseload Reporting'!C484 = \"\",\"\",'Caseload Reporting'!C484)","v":""},{"$f":"IF('Caseload Reporting'!D484 = \"\",\"\",'Caseload Reporting'!D484)","v":""},{"$f":"IF('Caseload Reporting'!G484 = \"\",\"\",'Caseload Reporting'!G484)","v":""},{"$f":"IF('Caseload Reporting'!H484 = \"\",\"\",'Caseload Reporting'!H484)","v":""},{"$f":"IF('Caseload Reporting'!I484 = \"\",\"\",'Caseload Reporting'!I484)","v":""},{"$f":"IF('Caseload Reporting'!J484 = \"\",\"\",'Caseload Reporting'!J484)","v":""},{"$f":"IF('Caseload Reporting'!K484 = \"\",\"\",'Caseload Reporting'!K484)","v":""},{"$f":"IF('Caseload Reporting'!L484 = \"\",\"\",'Caseload Reporting'!L484)","v":""},{"$f":"IF('Caseload Reporting'!M484 = \"\",\"\",'Caseload Reporting'!M484)","v":""},{"$f":"IF('Caseload Reporting'!N484 = \"\",\"\",'Caseload Reporting'!N484)","v":""},{"$f":"IF('Caseload Reporting'!P484 = \"\",\"\",'Caseload Reporting'!P484)","v":""},{"$f":"IF('Caseload Reporting'!O484 = \"\",\"\",'Caseload Reporting'!O484)","v":""},{"$f":"IF('Caseload Reporting'!Q484 = \"\",\"\",'Caseload Reporting'!Q484)","v":""},{"$f":"IF('Caseload Reporting'!R484 = \"\",\"\",'Caseload Reporting'!R484)","v":""},{"$f":"IF('Caseload Reporting'!E484 = \"\",\"\",'Caseload Reporting'!E484)","v":""},{"$f":"IF('Caseload Reporting'!S484 = \"\",\"\",'Caseload Reporting'!S484)","v":""}]
[{"$f":"IF('Caseload Reporting'!A485 = \"\",\"\",'Caseload Reporting'!A485)","v":""},{"$f":"IF('Caseload Reporting'!B485 = \"\",\"\",'Caseload Reporting'!B485)","v":""},{"$f":"IF('Caseload Reporting'!C485 = \"\",\"\",'Caseload Reporting'!C485)","v":""},{"$f":"IF('Caseload Reporting'!D485 = \"\",\"\",'Caseload Reporting'!D485)","v":""},{"$f":"IF('Caseload Reporting'!G485 = \"\",\"\",'Caseload Reporting'!G485)","v":""},{"$f":"IF('Caseload Reporting'!H485 = \"\",\"\",'Caseload Reporting'!H485)","v":""},{"$f":"IF('Caseload Reporting'!I485 = \"\",\"\",'Caseload Reporting'!I485)","v":""},{"$f":"IF('Caseload Reporting'!J485 = \"\",\"\",'Caseload Reporting'!J485)","v":""},{"$f":"IF('Caseload Reporting'!K485 = \"\",\"\",'Caseload Reporting'!K485)","v":""},{"$f":"IF('Caseload Reporting'!L485 = \"\",\"\",'Caseload Reporting'!L485)","v":""},{"$f":"IF('Caseload Reporting'!M485 = \"\",\"\",'Caseload Reporting'!M485)","v":""},{"$f":"IF('Caseload Reporting'!N485 = \"\",\"\",'Caseload Reporting'!N485)","v":""},{"$f":"IF('Caseload Reporting'!P485 = \"\",\"\",'Caseload Reporting'!P485)","v":""},{"$f":"IF('Caseload Reporting'!O485 = \"\",\"\",'Caseload Reporting'!O485)","v":""},{"$f":"IF('Caseload Reporting'!Q485 = \"\",\"\",'Caseload Reporting'!Q485)","v":""},{"$f":"IF('Caseload Reporting'!R485 = \"\",\"\",'Caseload Reporting'!R485)","v":""},{"$f":"IF('Caseload Reporting'!E485 = \"\",\"\",'Caseload Reporting'!E485)","v":""},{"$f":"IF('Caseload Reporting'!S485 = \"\",\"\",'Caseload Reporting'!S485)","v":""}]
[{"$f":"IF('Caseload Reporting'!A486 = \"\",\"\",'Caseload Reporting'!A486)","v":""},{"$f":"IF('Caseload Reporting'!B486 = \"\",\"\",'Caseload Reporting'!B486)","v":""},{"$f":"IF('Caseload Reporting'!C486 = \"\",\"\",'Caseload Reporting'!C486)","v":""},{"$f":"IF('Caseload Reporting'!D486 = \"\",\"\",'Caseload Reporting'!D486)","v":""},{"$f":"IF('Caseload Reporting'!G486 = \"\",\"\",'Caseload Reporting'!G486)","v":""},{"$f":"IF('Caseload Reporting'!H486 = \"\",\"\",'Caseload Reporting'!H486)","v":""},{"$f":"IF('Caseload Reporting'!I486 = \"\",\"\",'Caseload Reporting'!I486)","v":""},{"$f":"IF('Caseload Reporting'!J486 = \"\",\"\",'Caseload Reporting'!J486)","v":""},{"$f":"IF('Caseload Reporting'!K486 = \"\",\"\",'Caseload Reporting'!K486)","v":""},{"$f":"IF('Caseload Reporting'!L486 = \"\",\"\",'Caseload Reporting'!L486)","v":""},{"$f":"IF('Caseload Reporting'!M486 = \"\",\"\",'Caseload Reporting'!M486)","v":""},{"$f":"IF('Caseload Reporting'!N486 = \"\",\"\",'Caseload Reporting'!N486)","v":""},{"$f":"IF('Caseload Reporting'!P486 = \"\",\"\",'Caseload Reporting'!P486)","v":""},{"$f":"IF('Caseload Reporting'!O486 = \"\",\"\",'Caseload Reporting'!O486)","v":""},{"$f":"IF('Caseload Reporting'!Q486 = \"\",\"\",'Caseload Reporting'!Q486)","v":""},{"$f":"IF('Caseload Reporting'!R486 = \"\",\"\",'Caseload Reporting'!R486)","v":""},{"$f":"IF('Caseload Reporting'!E486 = \"\",\"\",'Caseload Reporting'!E486)","v":""},{"$f":"IF('Caseload Reporting'!S486 = \"\",\"\",'Caseload Reporting'!S486)","v":""}]
[{"$f":"IF('Caseload Reporting'!A487 = \"\",\"\",'Caseload Reporting'!A487)","v":""},{"$f":"IF('Caseload Reporting'!B487 = \"\",\"\",'Caseload Reporting'!B487)","v":""},{"$f":"IF('Caseload Reporting'!C487 = \"\",\"\",'Caseload Reporting'!C487)","v":""},{"$f":"IF('Caseload Reporting'!D487 = \"\",\"\",'Caseload Reporting'!D487)","v":""},{"$f":"IF('Caseload Reporting'!G487 = \"\",\"\",'Caseload Reporting'!G487)","v":""},{"$f":"IF('Caseload Reporting'!H487 = \"\",\"\",'Caseload Reporting'!H487)","v":""},{"$f":"IF('Caseload Reporting'!I487 = \"\",\"\",'Caseload Reporting'!I487)","v":""},{"$f":"IF('Caseload Reporting'!J487 = \"\",\"\",'Caseload Reporting'!J487)","v":""},{"$f":"IF('Caseload Reporting'!K487 = \"\",\"\",'Caseload Reporting'!K487)","v":""},{"$f":"IF('Caseload Reporting'!L487 = \"\",\"\",'Caseload Reporting'!L487)","v":""},{"$f":"IF('Caseload Reporting'!M487 = \"\",\"\",'Caseload Reporting'!M487)","v":""},{"$f":"IF('Caseload Reporting'!N487 = \"\",\"\",'Caseload Reporting'!N487)","v":""},{"$f":"IF('Caseload Reporting'!P487 = \"\",\"\",'Caseload Reporting'!P487)","v":""},{"$f":"IF('Caseload Reporting'!O487 = \"\",\"\",'Caseload Reporting'!O487)","v":""},{"$f":"IF('Caseload Reporting'!Q487 = \"\",\"\",'Caseload Reporting'!Q487)","v":""},{"$f":"IF('Caseload Reporting'!R487 = \"\",\"\",'Caseload Reporting'!R487)","v":""},{"$f":"IF('Caseload Reporting'!E487 = \"\",\"\",'Caseload Reporting'!E487)","v":""},{"$f":"IF('Caseload Reporting'!S487 = \"\",\"\",'Caseload Reporting'!S487)","v":""}]
[{"$f":"IF('Caseload Reporting'!A488 = \"\",\"\",'Caseload Reporting'!A488)","v":""},{"$f":"IF('Caseload Reporting'!B488 = \"\",\"\",'Caseload Reporting'!B488)","v":""},{"$f":"IF('Caseload Reporting'!C488 = \"\",\"\",'Caseload Reporting'!C488)","v":""},{"$f":"IF('Caseload Reporting'!D488 = \"\",\"\",'Caseload Reporting'!D488)","v":""},{"$f":"IF('Caseload Reporting'!G488 = \"\",\"\",'Caseload Reporting'!G488)","v":""},{"$f":"IF('Caseload Reporting'!H488 = \"\",\"\",'Caseload Reporting'!H488)","v":""},{"$f":"IF('Caseload Reporting'!I488 = \"\",\"\",'Caseload Reporting'!I488)","v":""},{"$f":"IF('Caseload Reporting'!J488 = \"\",\"\",'Caseload Reporting'!J488)","v":""},{"$f":"IF('Caseload Reporting'!K488 = \"\",\"\",'Caseload Reporting'!K488)","v":""},{"$f":"IF('Caseload Reporting'!L488 = \"\",\"\",'Caseload Reporting'!L488)","v":""},{"$f":"IF('Caseload Reporting'!M488 = \"\",\"\",'Caseload Reporting'!M488)","v":""},{"$f":"IF('Caseload Reporting'!N488 = \"\",\"\",'Caseload Reporting'!N488)","v":""},{"$f":"IF('Caseload Reporting'!P488 = \"\",\"\",'Caseload Reporting'!P488)","v":""},{"$f":"IF('Caseload Reporting'!O488 = \"\",\"\",'Caseload Reporting'!O488)","v":""},{"$f":"IF('Caseload Reporting'!Q488 = \"\",\"\",'Caseload Reporting'!Q488)","v":""},{"$f":"IF('Caseload Reporting'!R488 = \"\",\"\",'Caseload Reporting'!R488)","v":""},{"$f":"IF('Caseload Reporting'!E488 = \"\",\"\",'Caseload Reporting'!E488)","v":""},{"$f":"IF('Caseload Reporting'!S488 = \"\",\"\",'Caseload Reporting'!S488)","v":""}]
[{"$f":"IF('Caseload Reporting'!A489 = \"\",\"\",'Caseload Reporting'!A489)","v":""},{"$f":"IF('Caseload Reporting'!B489 = \"\",\"\",'Caseload Reporting'!B489)","v":""},{"$f":"IF('Caseload Reporting'!C489 = \"\",\"\",'Caseload Reporting'!C489)","v":""},{"$f":"IF('Caseload Reporting'!D489 = \"\",\"\",'Caseload Reporting'!D489)","v":""},{"$f":"IF('Caseload Reporting'!G489 = \"\",\"\",'Caseload Reporting'!G489)","v":""},{"$f":"IF('Caseload Reporting'!H489 = \"\",\"\",'Caseload Reporting'!H489)","v":""},{"$f":"IF('Caseload Reporting'!I489 = \"\",\"\",'Caseload Reporting'!I489)","v":""},{"$f":"IF('Caseload Reporting'!J489 = \"\",\"\",'Caseload Reporting'!J489)","v":""},{"$f":"IF('Caseload Reporting'!K489 = \"\",\"\",'Caseload Reporting'!K489)","v":""},{"$f":"IF('Caseload Reporting'!L489 = \"\",\"\",'Caseload Reporting'!L489)","v":""},{"$f":"IF('Caseload Reporting'!M489 = \"\",\"\",'Caseload Reporting'!M489)","v":""},{"$f":"IF('Caseload Reporting'!N489 = \"\",\"\",'Caseload Reporting'!N489)","v":""},{"$f":"IF('Caseload Reporting'!P489 = \"\",\"\",'Caseload Reporting'!P489)","v":""},{"$f":"IF('Caseload Reporting'!O489 = \"\",\"\",'Caseload Reporting'!O489)","v":""},{"$f":"IF('Caseload Reporting'!Q489 = \"\",\"\",'Caseload Reporting'!Q489)","v":""},{"$f":"IF('Caseload Reporting'!R489 = \"\",\"\",'Caseload Reporting'!R489)","v":""},{"$f":"IF('Caseload Reporting'!E489 = \"\",\"\",'Caseload Reporting'!E489)","v":""},{"$f":"IF('Caseload Reporting'!S489 = \"\",\"\",'Caseload Reporting'!S489)","v":""}]
[{"$f":"IF('Caseload Reporting'!A490 = \"\",\"\",'Caseload Reporting'!A490)","v":""},{"$f":"IF('Caseload Reporting'!B490 = \"\",\"\",'Caseload Reporting'!B490)","v":""},{"$f":"IF('Caseload Reporting'!C490 = \"\",\"\",'Caseload Reporting'!C490)","v":""},{"$f":"IF('Caseload Reporting'!D490 = \"\",\"\",'Caseload Reporting'!D490)","v":""},{"$f":"IF('Caseload Reporting'!G490 = \"\",\"\",'Caseload Reporting'!G490)","v":""},{"$f":"IF('Caseload Reporting'!H490 = \"\",\"\",'Caseload Reporting'!H490)","v":""},{"$f":"IF('Caseload Reporting'!I490 = \"\",\"\",'Caseload Reporting'!I490)","v":""},{"$f":"IF('Caseload Reporting'!J490 = \"\",\"\",'Caseload Reporting'!J490)","v":""},{"$f":"IF('Caseload Reporting'!K490 = \"\",\"\",'Caseload Reporting'!K490)","v":""},{"$f":"IF('Caseload Reporting'!L490 = \"\",\"\",'Caseload Reporting'!L490)","v":""},{"$f":"IF('Caseload Reporting'!M490 = \"\",\"\",'Caseload Reporting'!M490)","v":""},{"$f":"IF('Caseload Reporting'!N490 = \"\",\"\",'Caseload Reporting'!N490)","v":""},{"$f":"IF('Caseload Reporting'!P490 = \"\",\"\",'Caseload Reporting'!P490)","v":""},{"$f":"IF('Caseload Reporting'!O490 = \"\",\"\",'Caseload Reporting'!O490)","v":""},{"$f":"IF('Caseload Reporting'!Q490 = \"\",\"\",'Caseload Reporting'!Q490)","v":""},{"$f":"IF('Caseload Reporting'!R490 = \"\",\"\",'Caseload Reporting'!R490)","v":""},{"$f":"IF('Caseload Reporting'!E490 = \"\",\"\",'Caseload Reporting'!E490)","v":""},{"$f":"IF('Caseload Reporting'!S490 = \"\",\"\",'Caseload Reporting'!S490)","v":""}]
[{"$f":"IF('Caseload Reporting'!A491 = \"\",\"\",'Caseload Reporting'!A491)","v":""},{"$f":"IF('Caseload Reporting'!B491 = \"\",\"\",'Caseload Reporting'!B491)","v":""},{"$f":"IF('Caseload Reporting'!C491 = \"\",\"\",'Caseload Reporting'!C491)","v":""},{"$f":"IF('Caseload Reporting'!D491 = \"\",\"\",'Caseload Reporting'!D491)","v":""},{"$f":"IF('Caseload Reporting'!G491 = \"\",\"\",'Caseload Reporting'!G491)","v":""},{"$f":"IF('Caseload Reporting'!H491 = \"\",\"\",'Caseload Reporting'!H491)","v":""},{"$f":"IF('Caseload Reporting'!I491 = \"\",\"\",'Caseload Reporting'!I491)","v":""},{"$f":"IF('Caseload Reporting'!J491 = \"\",\"\",'Caseload Reporting'!J491)","v":""},{"$f":"IF('Caseload Reporting'!K491 = \"\",\"\",'Caseload Reporting'!K491)","v":""},{"$f":"IF('Caseload Reporting'!L491 = \"\",\"\",'Caseload Reporting'!L491)","v":""},{"$f":"IF('Caseload Reporting'!M491 = \"\",\"\",'Caseload Reporting'!M491)","v":""},{"$f":"IF('Caseload Reporting'!N491 = \"\",\"\",'Caseload Reporting'!N491)","v":""},{"$f":"IF('Caseload Reporting'!P491 = \"\",\"\",'Caseload Reporting'!P491)","v":""},{"$f":"IF('Caseload Reporting'!O491 = \"\",\"\",'Caseload Reporting'!O491)","v":""},{"$f":"IF('Caseload Reporting'!Q491 = \"\",\"\",'Caseload Reporting'!Q491)","v":""},{"$f":"IF('Caseload Reporting'!R491 = \"\",\"\",'Caseload Reporting'!R491)","v":""},{"$f":"IF('Caseload Reporting'!E491 = \"\",\"\",'Caseload Reporting'!E491)","v":""},{"$f":"IF('Caseload Reporting'!S491 = \"\",\"\",'Caseload Reporting'!S491)","v":""}]
[{"$f":"IF('Caseload Reporting'!A492 = \"\",\"\",'Caseload Reporting'!A492)","v":""},{"$f":"IF('Caseload Reporting'!B492 = \"\",\"\",'Caseload Reporting'!B492)","v":""},{"$f":"IF('Caseload Reporting'!C492 = \"\",\"\",'Caseload Reporting'!C492)","v":""},{"$f":"IF('Caseload Reporting'!D492 = \"\",\"\",'Caseload Reporting'!D492)","v":""},{"$f":"IF('Caseload Reporting'!G492 = \"\",\"\",'Caseload Reporting'!G492)","v":""},{"$f":"IF('Caseload Reporting'!H492 = \"\",\"\",'Caseload Reporting'!H492)","v":""},{"$f":"IF('Caseload Reporting'!I492 = \"\",\"\",'Caseload Reporting'!I492)","v":""},{"$f":"IF('Caseload Reporting'!J492 = \"\",\"\",'Caseload Reporting'!J492)","v":""},{"$f":"IF('Caseload Reporting'!K492 = \"\",\"\",'Caseload Reporting'!K492)","v":""},{"$f":"IF('Caseload Reporting'!L492 = \"\",\"\",'Caseload Reporting'!L492)","v":""},{"$f":"IF('Caseload Reporting'!M492 = \"\",\"\",'Caseload Reporting'!M492)","v":""},{"$f":"IF('Caseload Reporting'!N492 = \"\",\"\",'Caseload Reporting'!N492)","v":""},{"$f":"IF('Caseload Reporting'!P492 = \"\",\"\",'Caseload Reporting'!P492)","v":""},{"$f":"IF('Caseload Reporting'!O492 = \"\",\"\",'Caseload Reporting'!O492)","v":""},{"$f":"IF('Caseload Reporting'!Q492 = \"\",\"\",'Caseload Reporting'!Q492)","v":""},{"$f":"IF('Caseload Reporting'!R492 = \"\",\"\",'Caseload Reporting'!R492)","v":""},{"$f":"IF('Caseload Reporting'!E492 = \"\",\"\",'Caseload Reporting'!E492)","v":""},{"$f":"IF('Caseload Reporting'!S492 = \"\",\"\",'Caseload Reporting'!S492)","v":""}]
[{"$f":"IF('Caseload Reporting'!A493 = \"\",\"\",'Caseload Reporting'!A493)","v":""},{"$f":"IF('Caseload Reporting'!B493 = \"\",\"\",'Caseload Reporting'!B493)","v":""},{"$f":"IF('Caseload Reporting'!C493 = \"\",\"\",'Caseload Reporting'!C493)","v":""},{"$f":"IF('Caseload Reporting'!D493 = \"\",\"\",'Caseload Reporting'!D493)","v":""},{"$f":"IF('Caseload Reporting'!G493 = \"\",\"\",'Caseload Reporting'!G493)","v":""},{"$f":"IF('Caseload Reporting'!H493 = \"\",\"\",'Caseload Reporting'!H493)","v":""},{"$f":"IF('Caseload Reporting'!I493 = \"\",\"\",'Caseload Reporting'!I493)","v":""},{"$f":"IF('Caseload Reporting'!J493 = \"\",\"\",'Caseload Reporting'!J493)","v":""},{"$f":"IF('Caseload Reporting'!K493 = \"\",\"\",'Caseload Reporting'!K493)","v":""},{"$f":"IF('Caseload Reporting'!L493 = \"\",\"\",'Caseload Reporting'!L493)","v":""},{"$f":"IF('Caseload Reporting'!M493 = \"\",\"\",'Caseload Reporting'!M493)","v":""},{"$f":"IF('Caseload Reporting'!N493 = \"\",\"\",'Caseload Reporting'!N493)","v":""},{"$f":"IF('Caseload Reporting'!P493 = \"\",\"\",'Caseload Reporting'!P493)","v":""},{"$f":"IF('Caseload Reporting'!O493 = \"\",\"\",'Caseload Reporting'!O493)","v":""},{"$f":"IF('Caseload Reporting'!Q493 = \"\",\"\",'Caseload Reporting'!Q493)","v":""},{"$f":"IF('Caseload Reporting'!R493 = \"\",\"\",'Caseload Reporting'!R493)","v":""},{"$f":"IF('Caseload Reporting'!E493 = \"\",\"\",'Caseload Reporting'!E493)","v":""},{"$f":"IF('Caseload Reporting'!S493 = \"\",\"\",'Caseload Reporting'!S493)","v":""}]
[{"$f":"IF('Caseload Reporting'!A494 = \"\",\"\",'Caseload Reporting'!A494)","v":""},{"$f":"IF('Caseload Reporting'!B494 = \"\",\"\",'Caseload Reporting'!B494)","v":""},{"$f":"IF('Caseload Reporting'!C494 = \"\",\"\",'Caseload Reporting'!C494)","v":""},{"$f":"IF('Caseload Reporting'!D494 = \"\",\"\",'Caseload Reporting'!D494)","v":""},{"$f":"IF('Caseload Reporting'!G494 = \"\",\"\",'Caseload Reporting'!G494)","v":""},{"$f":"IF('Caseload Reporting'!H494 = \"\",\"\",'Caseload Reporting'!H494)","v":""},{"$f":"IF('Caseload Reporting'!I494 = \"\",\"\",'Caseload Reporting'!I494)","v":""},{"$f":"IF('Caseload Reporting'!J494 = \"\",\"\",'Caseload Reporting'!J494)","v":""},{"$f":"IF('Caseload Reporting'!K494 = \"\",\"\",'Caseload Reporting'!K494)","v":""},{"$f":"IF('Caseload Reporting'!L494 = \"\",\"\",'Caseload Reporting'!L494)","v":""},{"$f":"IF('Caseload Reporting'!M494 = \"\",\"\",'Caseload Reporting'!M494)","v":""},{"$f":"IF('Caseload Reporting'!N494 = \"\",\"\",'Caseload Reporting'!N494)","v":""},{"$f":"IF('Caseload Reporting'!P494 = \"\",\"\",'Caseload Reporting'!P494)","v":""},{"$f":"IF('Caseload Reporting'!O494 = \"\",\"\",'Caseload Reporting'!O494)","v":""},{"$f":"IF('Caseload Reporting'!Q494 = \"\",\"\",'Caseload Reporting'!Q494)","v":""},{"$f":"IF('Caseload Reporting'!R494 = \"\",\"\",'Caseload Reporting'!R494)","v":""},{"$f":"IF('Caseload Reporting'!E494 = \"\",\"\",'Caseload Reporting'!E494)","v":""},{"$f":"IF('Caseload Reporting'!S494 = \"\",\"\",'Caseload Reporting'!S494)","v":""}]
[{"$f":"IF('Caseload Reporting'!A495 = \"\",\"\",'Caseload Reporting'!A495)","v":""},{"$f":"IF('Caseload Reporting'!B495 = \"\",\"\",'Caseload Reporting'!B495)","v":""},{"$f":"IF('Caseload Reporting'!C495 = \"\",\"\",'Caseload Reporting'!C495)","v":""},{"$f":"IF('Caseload Reporting'!D495 = \"\",\"\",'Caseload Reporting'!D495)","v":""},{"$f":"IF('Caseload Reporting'!G495 = \"\",\"\",'Caseload Reporting'!G495)","v":""},{"$f":"IF('Caseload Reporting'!H495 = \"\",\"\",'Caseload Reporting'!H495)","v":""},{"$f":"IF('Caseload Reporting'!I495 = \"\",\"\",'Caseload Reporting'!I495)","v":""},{"$f":"IF('Caseload Reporting'!J495 = \"\",\"\",'Caseload Reporting'!J495)","v":""},{"$f":"IF('Caseload Reporting'!K495 = \"\",\"\",'Caseload Reporting'!K495)","v":""},{"$f":"IF('Caseload Reporting'!L495 = \"\",\"\",'Caseload Reporting'!L495)","v":""},{"$f":"IF('Caseload Reporting'!M495 = \"\",\"\",'Caseload Reporting'!M495)","v":""},{"$f":"IF('Caseload Reporting'!N495 = \"\",\"\",'Caseload Reporting'!N495)","v":""},{"$f":"IF('Caseload Reporting'!P495 = \"\",\"\",'Caseload Reporting'!P495)","v":""},{"$f":"IF('Caseload Reporting'!O495 = \"\",\"\",'Caseload Reporting'!O495)","v":""},{"$f":"IF('Caseload Reporting'!Q495 = \"\",\"\",'Caseload Reporting'!Q495)","v":""},{"$f":"IF('Caseload Reporting'!R495 = \"\",\"\",'Caseload Reporting'!R495)","v":""},{"$f":"IF('Caseload Reporting'!E495 = \"\",\"\",'Caseload Reporting'!E495)","v":""},{"$f":"IF('Caseload Reporting'!S495 = \"\",\"\",'Caseload Reporting'!S495)","v":""}]
[{"$f":"IF('Caseload Reporting'!A496 = \"\",\"\",'Caseload Reporting'!A496)","v":""},{"$f":"IF('Caseload Reporting'!B496 = \"\",\"\",'Caseload Reporting'!B496)","v":""},{"$f":"IF('Caseload Reporting'!C496 = \"\",\"\",'Caseload Reporting'!C496)","v":""},{"$f":"IF('Caseload Reporting'!D496 = \"\",\"\",'Caseload Reporting'!D496)","v":""},{"$f":"IF('Caseload Reporting'!G496 = \"\",\"\",'Caseload Reporting'!G496)","v":""},{"$f":"IF('Caseload Reporting'!H496 = \"\",\"\",'Caseload Reporting'!H496)","v":""},{"$f":"IF('Caseload Reporting'!I496 = \"\",\"\",'Caseload Reporting'!I496)","v":""},{"$f":"IF('Caseload Reporting'!J496 = \"\",\"\",'Caseload Reporting'!J496)","v":""},{"$f":"IF('Caseload Reporting'!K496 = \"\",\"\",'Caseload Reporting'!K496)","v":""},{"$f":"IF('Caseload Reporting'!L496 = \"\",\"\",'Caseload Reporting'!L496)","v":""},{"$f":"IF('Caseload Reporting'!M496 = \"\",\"\",'Caseload Reporting'!M496)","v":""},{"$f":"IF('Caseload Reporting'!N496 = \"\",\"\",'Caseload Reporting'!N496)","v":""},{"$f":"IF('Caseload Reporting'!P496 = \"\",\"\",'Caseload Reporting'!P496)","v":""},{"$f":"IF('Caseload Reporting'!O496 = \"\",\"\",'Caseload Reporting'!O496)","v":""},{"$f":"IF('Caseload Reporting'!Q496 = \"\",\"\",'Caseload Reporting'!Q496)","v":""},{"$f":"IF('Caseload Reporting'!R496 = \"\",\"\",'Caseload Reporting'!R496)","v":""},{"$f":"IF('Caseload Reporting'!E496 = \"\",\"\",'Caseload Reporting'!E496)","v":""},{"$f":"IF('Caseload Reporting'!S496 = \"\",\"\",'Caseload Reporting'!S496)","v":""}]
[{"$f":"IF('Caseload Reporting'!A497 = \"\",\"\",'Caseload Reporting'!A497)","v":""},{"$f":"IF('Caseload Reporting'!B497 = \"\",\"\",'Caseload Reporting'!B497)","v":""},{"$f":"IF('Caseload Reporting'!C497 = \"\",\"\",'Caseload Reporting'!C497)","v":""},{"$f":"IF('Caseload Reporting'!D497 = \"\",\"\",'Caseload Reporting'!D497)","v":""},{"$f":"IF('Caseload Reporting'!G497 = \"\",\"\",'Caseload Reporting'!G497)","v":""},{"$f":"IF('Caseload Reporting'!H497 = \"\",\"\",'Caseload Reporting'!H497)","v":""},{"$f":"IF('Caseload Reporting'!I497 = \"\",\"\",'Caseload Reporting'!I497)","v":""},{"$f":"IF('Caseload Reporting'!J497 = \"\",\"\",'Caseload Reporting'!J497)","v":""},{"$f":"IF('Caseload Reporting'!K497 = \"\",\"\",'Caseload Reporting'!K497)","v":""},{"$f":"IF('Caseload Reporting'!L497 = \"\",\"\",'Caseload Reporting'!L497)","v":""},{"$f":"IF('Caseload Reporting'!M497 = \"\",\"\",'Caseload Reporting'!M497)","v":""},{"$f":"IF('Caseload Reporting'!N497 = \"\",\"\",'Caseload Reporting'!N497)","v":""},{"$f":"IF('Caseload Reporting'!P497 = \"\",\"\",'Caseload Reporting'!P497)","v":""},{"$f":"IF('Caseload Reporting'!O497 = \"\",\"\",'Caseload Reporting'!O497)","v":""},{"$f":"IF('Caseload Reporting'!Q497 = \"\",\"\",'Caseload Reporting'!Q497)","v":""},{"$f":"IF('Caseload Reporting'!R497 = \"\",\"\",'Caseload Reporting'!R497)","v":""},{"$f":"IF('Caseload Reporting'!E497 = \"\",\"\",'Caseload Reporting'!E497)","v":""},{"$f":"IF('Caseload Reporting'!S497 = \"\",\"\",'Caseload Reporting'!S497)","v":""}]
[{"$f":"IF('Caseload Reporting'!A498 = \"\",\"\",'Caseload Reporting'!A498)","v":""},{"$f":"IF('Caseload Reporting'!B498 = \"\",\"\",'Caseload Reporting'!B498)","v":""},{"$f":"IF('Caseload Reporting'!C498 = \"\",\"\",'Caseload Reporting'!C498)","v":""},{"$f":"IF('Caseload Reporting'!D498 = \"\",\"\",'Caseload Reporting'!D498)","v":""},{"$f":"IF('Caseload Reporting'!G498 = \"\",\"\",'Caseload Reporting'!G498)","v":""},{"$f":"IF('Caseload Reporting'!H498 = \"\",\"\",'Caseload Reporting'!H498)","v":""},{"$f":"IF('Caseload Reporting'!I498 = \"\",\"\",'Caseload Reporting'!I498)","v":""},{"$f":"IF('Caseload Reporting'!J498 = \"\",\"\",'Caseload Reporting'!J498)","v":""},{"$f":"IF('Caseload Reporting'!K498 = \"\",\"\",'Caseload Reporting'!K498)","v":""},{"$f":"IF('Caseload Reporting'!L498 = \"\",\"\",'Caseload Reporting'!L498)","v":""},{"$f":"IF('Caseload Reporting'!M498 = \"\",\"\",'Caseload Reporting'!M498)","v":""},{"$f":"IF('Caseload Reporting'!N498 = \"\",\"\",'Caseload Reporting'!N498)","v":""},{"$f":"IF('Caseload Reporting'!P498 = \"\",\"\",'Caseload Reporting'!P498)","v":""},{"$f":"IF('Caseload Reporting'!O498 = \"\",\"\",'Caseload Reporting'!O498)","v":""},{"$f":"IF('Caseload Reporting'!Q498 = \"\",\"\",'Caseload Reporting'!Q498)","v":""},{"$f":"IF('Caseload Reporting'!R498 = \"\",\"\",'Caseload Reporting'!R498)","v":""},{"$f":"IF('Caseload Reporting'!E498 = \"\",\"\",'Caseload Reporting'!E498)","v":""},{"$f":"IF('Caseload Reporting'!S498 = \"\",\"\",'Caseload Reporting'!S498)","v":""}]
[{"$f":"IF('Caseload Reporting'!A499 = \"\",\"\",'Caseload Reporting'!A499)","v":""},{"$f":"IF('Caseload Reporting'!B499 = \"\",\"\",'Caseload Reporting'!B499)","v":""},{"$f":"IF('Caseload Reporting'!C499 = \"\",\"\",'Caseload Reporting'!C499)","v":""},{"$f":"IF('Caseload Reporting'!D499 = \"\",\"\",'Caseload Reporting'!D499)","v":""},{"$f":"IF('Caseload Reporting'!G499 = \"\",\"\",'Caseload Reporting'!G499)","v":""},{"$f":"IF('Caseload Reporting'!H499 = \"\",\"\",'Caseload Reporting'!H499)","v":""},{"$f":"IF('Caseload Reporting'!I499 = \"\",\"\",'Caseload Reporting'!I499)","v":""},{"$f":"IF('Caseload Reporting'!J499 = \"\",\"\",'Caseload Reporting'!J499)","v":""},{"$f":"IF('Caseload Reporting'!K499 = \"\",\"\",'Caseload Reporting'!K499)","v":""},{"$f":"IF('Caseload Reporting'!L499 = \"\",\"\",'Caseload Reporting'!L499)","v":""},{"$f":"IF('Caseload Reporting'!M499 = \"\",\"\",'Caseload Reporting'!M499)","v":""},{"$f":"IF('Caseload Reporting'!N499 = \"\",\"\",'Caseload Reporting'!N499)","v":""},{"$f":"IF('Caseload Reporting'!P499 = \"\",\"\",'Caseload Reporting'!P499)","v":""},{"$f":"IF('Caseload Reporting'!O499 = \"\",\"\",'Caseload Reporting'!O499)","v":""},{"$f":"IF('Caseload Reporting'!Q499 = \"\",\"\",'Caseload Reporting'!Q499)","v":""},{"$f":"IF('Caseload Reporting'!R499 = \"\",\"\",'Caseload Reporting'!R499)","v":""},{"$f":"IF('Caseload Reporting'!E499 = \"\",\"\",'Caseload Reporting'!E499)","v":""},{"$f":"IF('Caseload Reporting'!S499 = \"\",\"\",'Caseload Reporting'!S499)","v":""}]
[{"$f":"IF('Caseload Reporting'!A500 = \"\",\"\",'Caseload Reporting'!A500)","v":""},{"$f":"IF('Caseload Reporting'!B500 = \"\",\"\",'Caseload Reporting'!B500)","v":""},{"$f":"IF('Caseload Reporting'!C500 = \"\",\"\",'Caseload Reporting'!C500)","v":""},{"$f":"IF('Caseload Reporting'!D500 = \"\",\"\",'Caseload Reporting'!D500)","v":""},{"$f":"IF('Caseload Reporting'!G500 = \"\",\"\",'Caseload Reporting'!G500)","v":""},{"$f":"IF('Caseload Reporting'!H500 = \"\",\"\",'Caseload Reporting'!H500)","v":""},{"$f":"IF('Caseload Reporting'!I500 = \"\",\"\",'Caseload Reporting'!I500)","v":""},{"$f":"IF('Caseload Reporting'!J500 = \"\",\"\",'Caseload Reporting'!J500)","v":""},{"$f":"IF('Caseload Reporting'!K500 = \"\",\"\",'Caseload Reporting'!K500)","v":""},{"$f":"IF('Caseload Reporting'!L500 = \"\",\"\",'Caseload Reporting'!L500)","v":""},{"$f":"IF('Caseload Reporting'!M500 = \"\",\"\",'Caseload Reporting'!M500)","v":""},{"$f":"IF('Caseload Reporting'!N500 = \"\",\"\",'Caseload Reporting'!N500)","v":""},{"$f":"IF('Caseload Reporting'!P500 = \"\",\"\",'Caseload Reporting'!P500)","v":""},{"$f":"IF('Caseload Reporting'!O500 = \"\",\"\",'Caseload Reporting'!O500)","v":""},{"$f":"IF('Caseload Reporting'!Q500 = \"\",\"\",'Caseload Reporting'!Q500)","v":""},{"$f":"IF('Caseload Reporting'!R500 = \"\",\"\",'Caseload Reporting'!R500)","v":""},{"$f":"IF('Caseload Reporting'!E500 = \"\",\"\",'Caseload Reporting'!E500)","v":""},{"$f":"IF('Caseload Reporting'!S500 = \"\",\"\",'Caseload Reporting'!S500)","v":""}]
[{"$f":"IF('Caseload Reporting'!A501 = \"\",\"\",'Caseload Reporting'!A501)","v":""},{"$f":"IF('Caseload Reporting'!B501 = \"\",\"\",'Caseload Reporting'!B501)","v":""},{"$f":"IF('Caseload Reporting'!C501 = \"\",\"\",'Caseload Reporting'!C501)","v":""},{"$f":"IF('Caseload Reporting'!D501 = \"\",\"\",'Caseload Reporting'!D501)","v":""},{"$f":"IF('Caseload Reporting'!G501 = \"\",\"\",'Caseload Reporting'!G501)","v":""},{"$f":"IF('Caseload Reporting'!H501 = \"\",\"\",'Caseload Reporting'!H501)","v":""},{"$f":"IF('Caseload Reporting'!I501 = \"\",\"\",'Caseload Reporting'!I501)","v":""},{"$f":"IF('Caseload Reporting'!J501 = \"\",\"\",'Caseload Reporting'!J501)","v":""},{"$f":"IF('Caseload Reporting'!K501 = \"\",\"\",'Caseload Reporting'!K501)","v":""},{"$f":"IF('Caseload Reporting'!L501 = \"\",\"\",'Caseload Reporting'!L501)","v":""},{"$f":"IF('Caseload Reporting'!M501 = \"\",\"\",'Caseload Reporting'!M501)","v":""},{"$f":"IF('Caseload Reporting'!N501 = \"\",\"\",'Caseload Reporting'!N501)","v":""},{"$f":"IF('Caseload Reporting'!P501 = \"\",\"\",'Caseload Reporting'!P501)","v":""},{"$f":"IF('Caseload Reporting'!O501 = \"\",\"\",'Caseload Reporting'!O501)","v":""},{"$f":"IF('Caseload Reporting'!Q501 = \"\",\"\",'Caseload Reporting'!Q501)","v":""},{"$f":"IF('Caseload Reporting'!R501 = \"\",\"\",'Caseload Reporting'!R501)","v":""},{"$f":"IF('Caseload Reporting'!E501 = \"\",\"\",'Caseload Reporting'!E501)","v":""},{"$f":"IF('Caseload Reporting'!S501 = \"\",\"\",'Caseload Reporting'!S501)","v":""}]
[{"$f":"IF('Caseload Reporting'!A502 = \"\",\"\",'Caseload Reporting'!A502)","v":""},{"$f":"IF('Caseload Reporting'!B502 = \"\",\"\",'Caseload Reporting'!B502)","v":""},{"$f":"IF('Caseload Reporting'!C502 = \"\",\"\",'Caseload Reporting'!C502)","v":""},{"$f":"IF('Caseload Reporting'!D502 = \"\",\"\",'Caseload Reporting'!D502)","v":""},{"$f":"IF('Caseload Reporting'!G502 = \"\",\"\",'Caseload Reporting'!G502)","v":""},{"$f":"IF('Caseload Reporting'!H502 = \"\",\"\",'Caseload Reporting'!H502)","v":""},{"$f":"IF('Caseload Reporting'!I502 = \"\",\"\",'Caseload Reporting'!I502)","v":""},{"$f":"IF('Caseload Reporting'!J502 = \"\",\"\",'Caseload Reporting'!J502)","v":""},{"$f":"IF('Caseload Reporting'!K502 = \"\",\"\",'Caseload Reporting'!K502)","v":""},{"$f":"IF('Caseload Reporting'!L502 = \"\",\"\",'Caseload Reporting'!L502)","v":""},{"$f":"IF('Caseload Reporting'!M502 = \"\",\"\",'Caseload Reporting'!M502)","v":""},{"$f":"IF('Caseload Reporting'!N502 = \"\",\"\",'Caseload Reporting'!N502)","v":""},{"$f":"IF('Caseload Reporting'!P502 = \"\",\"\",'Caseload Reporting'!P502)","v":""},{"$f":"IF('Caseload Reporting'!O502 = \"\",\"\",'Caseload Reporting'!O502)","v":""},{"$f":"IF('Caseload Reporting'!Q502 = \"\",\"\",'Caseload Reporting'!Q502)","v":""},{"$f":"IF('Caseload Reporting'!R502 = \"\",\"\",'Caseload Reporting'!R502)","v":""},{"$f":"IF('Caseload Reporting'!E502 = \"\",\"\",'Caseload Reporting'!E502)","v":""},{"$f":"IF('Caseload Reporting'!S502 = \"\",\"\",'Caseload Reporting'!S502)","v":""}]
[{"$f":"IF('Caseload Reporting'!A503 = \"\",\"\",'Caseload Reporting'!A503)","v":""},{"$f":"IF('Caseload Reporting'!B503 = \"\",\"\",'Caseload Reporting'!B503)","v":""},{"$f":"IF('Caseload Reporting'!C503 = \"\",\"\",'Caseload Reporting'!C503)","v":""},{"$f":"IF('Caseload Reporting'!D503 = \"\",\"\",'Caseload Reporting'!D503)","v":""},{"$f":"IF('Caseload Reporting'!G503 = \"\",\"\",'Caseload Reporting'!G503)","v":""},{"$f":"IF('Caseload Reporting'!H503 = \"\",\"\",'Caseload Reporting'!H503)","v":""},{"$f":"IF('Caseload Reporting'!I503 = \"\",\"\",'Caseload Reporting'!I503)","v":""},{"$f":"IF('Caseload Reporting'!J503 = \"\",\"\",'Caseload Reporting'!J503)","v":""},{"$f":"IF('Caseload Reporting'!K503 = \"\",\"\",'Caseload Reporting'!K503)","v":""},{"$f":"IF('Caseload Reporting'!L503 = \"\",\"\",'Caseload Reporting'!L503)","v":""},{"$f":"IF('Caseload Reporting'!M503 = \"\",\"\",'Caseload Reporting'!M503)","v":""},{"$f":"IF('Caseload Reporting'!N503 = \"\",\"\",'Caseload Reporting'!N503)","v":""},{"$f":"IF('Caseload Reporting'!P503 = \"\",\"\",'Caseload Reporting'!P503)","v":""},{"$f":"IF('Caseload Reporting'!O503 = \"\",\"\",'Caseload Reporting'!O503)","v":""},{"$f":"IF('Caseload Reporting'!Q503 = \"\",\"\",'Caseload Reporting'!Q503)","v":""},{"$f":"IF('Caseload Reporting'!R503 = \"\",\"\",'Caseload Reporting'!R503)","v":""},{"$f":"IF('Caseload Reporting'!E503 = \"\",\"\",'Caseload Reporting'!E503)","v":""},{"$f":"IF('Caseload Reporting'!S503 = \"\",\"\",'Caseload Reporting'!S503)","v":""}]
[{"$f":"IF('Caseload Reporting'!A504 = \"\",\"\",'Caseload Reporting'!A504)","v":""},{"$f":"IF('Caseload Reporting'!B504 = \"\",\"\",'Caseload Reporting'!B504)","v":""},{"$f":"IF('Caseload Reporting'!C504 = \"\",\"\",'Caseload Reporting'!C504)","v":""},{"$f":"IF('Caseload Reporting'!D504 = \"\",\"\",'Caseload Reporting'!D504)","v":""},{"$f":"IF('Caseload Reporting'!G504 = \"\",\"\",'Caseload Reporting'!G504)","v":""},{"$f":"IF('Caseload Reporting'!H504 = \"\",\"\",'Caseload Reporting'!H504)","v":""},{"$f":"IF('Caseload Reporting'!I504 = \"\",\"\",'Caseload Reporting'!I504)","v":""},{"$f":"IF('Caseload Reporting'!J504 = \"\",\"\",'Caseload Reporting'!J504)","v":""},{"$f":"IF('Caseload Reporting'!K504 = \"\",\"\",'Caseload Reporting'!K504)","v":""},{"$f":"IF('Caseload Reporting'!L504 = \"\",\"\",'Caseload Reporting'!L504)","v":""},{"$f":"IF('Caseload Reporting'!M504 = \"\",\"\",'Caseload Reporting'!M504)","v":""},{"$f":"IF('Caseload Reporting'!N504 = \"\",\"\",'Caseload Reporting'!N504)","v":""},{"$f":"IF('Caseload Reporting'!P504 = \"\",\"\",'Caseload Reporting'!P504)","v":""},{"$f":"IF('Caseload Reporting'!O504 = \"\",\"\",'Caseload Reporting'!O504)","v":""},{"$f":"IF('Caseload Reporting'!Q504 = \"\",\"\",'Caseload Reporting'!Q504)","v":""},{"$f":"IF('Caseload Reporting'!R504 = \"\",\"\",'Caseload Reporting'!R504)","v":""},{"$f":"IF('Caseload Reporting'!E504 = \"\",\"\",'Caseload Reporting'!E504)","v":""},{"$f":"IF('Caseload Reporting'!S504 = \"\",\"\",'Caseload Reporting'!S504)","v":""}]
[{"$f":"IF('Caseload Reporting'!A505 = \"\",\"\",'Caseload Reporting'!A505)","v":""},{"$f":"IF('Caseload Reporting'!B505 = \"\",\"\",'Caseload Reporting'!B505)","v":""},{"$f":"IF('Caseload Reporting'!C505 = \"\",\"\",'Caseload Reporting'!C505)","v":""},{"$f":"IF('Caseload Reporting'!D505 = \"\",\"\",'Caseload Reporting'!D505)","v":""},{"$f":"IF('Caseload Reporting'!G505 = \"\",\"\",'Caseload Reporting'!G505)","v":""},{"$f":"IF('Caseload Reporting'!H505 = \"\",\"\",'Caseload Reporting'!H505)","v":""},{"$f":"IF('Caseload Reporting'!I505 = \"\",\"\",'Caseload Reporting'!I505)","v":""},{"$f":"IF('Caseload Reporting'!J505 = \"\",\"\",'Caseload Reporting'!J505)","v":""},{"$f":"IF('Caseload Reporting'!K505 = \"\",\"\",'Caseload Reporting'!K505)","v":""},{"$f":"IF('Caseload Reporting'!L505 = \"\",\"\",'Caseload Reporting'!L505)","v":""},{"$f":"IF('Caseload Reporting'!M505 = \"\",\"\",'Caseload Reporting'!M505)","v":""},{"$f":"IF('Caseload Reporting'!N505 = \"\",\"\",'Caseload Reporting'!N505)","v":""},{"$f":"IF('Caseload Reporting'!P505 = \"\",\"\",'Caseload Reporting'!P505)","v":""},{"$f":"IF('Caseload Reporting'!O505 = \"\",\"\",'Caseload Reporting'!O505)","v":""},{"$f":"IF('Caseload Reporting'!Q505 = \"\",\"\",'Caseload Reporting'!Q505)","v":""},{"$f":"IF('Caseload Reporting'!R505 = \"\",\"\",'Caseload Reporting'!R505)","v":""},{"$f":"IF('Caseload Reporting'!E505 = \"\",\"\",'Caseload Reporting'!E505)","v":""},{"$f":"IF('Caseload Reporting'!S505 = \"\",\"\",'Caseload Reporting'!S505)","v":""}]
[{"$f":"IF('Caseload Reporting'!A506 = \"\",\"\",'Caseload Reporting'!A506)","v":""},{"$f":"IF('Caseload Reporting'!B506 = \"\",\"\",'Caseload Reporting'!B506)","v":""},{"$f":"IF('Caseload Reporting'!C506 = \"\",\"\",'Caseload Reporting'!C506)","v":""},{"$f":"IF('Caseload Reporting'!D506 = \"\",\"\",'Caseload Reporting'!D506)","v":""},{"$f":"IF('Caseload Reporting'!G506 = \"\",\"\",'Caseload Reporting'!G506)","v":""},{"$f":"IF('Caseload Reporting'!H506 = \"\",\"\",'Caseload Reporting'!H506)","v":""},{"$f":"IF('Caseload Reporting'!I506 = \"\",\"\",'Caseload Reporting'!I506)","v":""},{"$f":"IF('Caseload Reporting'!J506 = \"\",\"\",'Caseload Reporting'!J506)","v":""},{"$f":"IF('Caseload Reporting'!K506 = \"\",\"\",'Caseload Reporting'!K506)","v":""},{"$f":"IF('Caseload Reporting'!L506 = \"\",\"\",'Caseload Reporting'!L506)","v":""},{"$f":"IF('Caseload Reporting'!M506 = \"\",\"\",'Caseload Reporting'!M506)","v":""},{"$f":"IF('Caseload Reporting'!N506 = \"\",\"\",'Caseload Reporting'!N506)","v":""},{"$f":"IF('Caseload Reporting'!P506 = \"\",\"\",'Caseload Reporting'!P506)","v":""},{"$f":"IF('Caseload Reporting'!O506 = \"\",\"\",'Caseload Reporting'!O506)","v":""},{"$f":"IF('Caseload Reporting'!Q506 = \"\",\"\",'Caseload Reporting'!Q506)","v":""},{"$f":"IF('Caseload Reporting'!R506 = \"\",\"\",'Caseload Reporting'!R506)","v":""},{"$f":"IF('Caseload Reporting'!E506 = \"\",\"\",'Caseload Reporting'!E506)","v":""},{"$f":"IF('Caseload Reporting'!S506 = \"\",\"\",'Caseload Reporting'!S506)","v":""}]
[{"$f":"IF('Caseload Reporting'!A507 = \"\",\"\",'Caseload Reporting'!A507)","v":""},{"$f":"IF('Caseload Reporting'!B507 = \"\",\"\",'Caseload Reporting'!B507)","v":""},{"$f":"IF('Caseload Reporting'!C507 = \"\",\"\",'Caseload Reporting'!C507)","v":""},{"$f":"IF('Caseload Reporting'!D507 = \"\",\"\",'Caseload Reporting'!D507)","v":""},{"$f":"IF('Caseload Reporting'!G507 = \"\",\"\",'Caseload Reporting'!G507)","v":""},{"$f":"IF('Caseload Reporting'!H507 = \"\",\"\",'Caseload Reporting'!H507)","v":""},{"$f":"IF('Caseload Reporting'!I507 = \"\",\"\",'Caseload Reporting'!I507)","v":""},{"$f":"IF('Caseload Reporting'!J507 = \"\",\"\",'Caseload Reporting'!J507)","v":""},{"$f":"IF('Caseload Reporting'!K507 = \"\",\"\",'Caseload Reporting'!K507)","v":""},{"$f":"IF('Caseload Reporting'!L507 = \"\",\"\",'Caseload Reporting'!L507)","v":""},{"$f":"IF('Caseload Reporting'!M507 = \"\",\"\",'Caseload Reporting'!M507)","v":""},{"$f":"IF('Caseload Reporting'!N507 = \"\",\"\",'Caseload Reporting'!N507)","v":""},{"$f":"IF('Caseload Reporting'!P507 = \"\",\"\",'Caseload Reporting'!P507)","v":""},{"$f":"IF('Caseload Reporting'!O507 = \"\",\"\",'Caseload Reporting'!O507)","v":""},{"$f":"IF('Caseload Reporting'!Q507 = \"\",\"\",'Caseload Reporting'!Q507)","v":""},{"$f":"IF('Caseload Reporting'!R507 = \"\",\"\",'Caseload Reporting'!R507)","v":""},{"$f":"IF('Caseload Reporting'!E507 = \"\",\"\",'Caseload Reporting'!E507)","v":""},{"$f":"IF('Caseload Reporting'!S507 = \"\",\"\",'Caseload Reporting'!S507)","v":""}]
[{"$f":"IF('Caseload Reporting'!A508 = \"\",\"\",'Caseload Reporting'!A508)","v":""},{"$f":"IF('Caseload Reporting'!B508 = \"\",\"\",'Caseload Reporting'!B508)","v":""},{"$f":"IF('Caseload Reporting'!C508 = \"\",\"\",'Caseload Reporting'!C508)","v":""},{"$f":"IF('Caseload Reporting'!D508 = \"\",\"\",'Caseload Reporting'!D508)","v":""},{"$f":"IF('Caseload Reporting'!G508 = \"\",\"\",'Caseload Reporting'!G508)","v":""},{"$f":"IF('Caseload Reporting'!H508 = \"\",\"\",'Caseload Reporting'!H508)","v":""},{"$f":"IF('Caseload Reporting'!I508 = \"\",\"\",'Caseload Reporting'!I508)","v":""},{"$f":"IF('Caseload Reporting'!J508 = \"\",\"\",'Caseload Reporting'!J508)","v":""},{"$f":"IF('Caseload Reporting'!K508 = \"\",\"\",'Caseload Reporting'!K508)","v":""},{"$f":"IF('Caseload Reporting'!L508 = \"\",\"\",'Caseload Reporting'!L508)","v":""},{"$f":"IF('Caseload Reporting'!M508 = \"\",\"\",'Caseload Reporting'!M508)","v":""},{"$f":"IF('Caseload Reporting'!N508 = \"\",\"\",'Caseload Reporting'!N508)","v":""},{"$f":"IF('Caseload Reporting'!P508 = \"\",\"\",'Caseload Reporting'!P508)","v":""},{"$f":"IF('Caseload Reporting'!O508 = \"\",\"\",'Caseload Reporting'!O508)","v":""},{"$f":"IF('Caseload Reporting'!Q508 = \"\",\"\",'Caseload Reporting'!Q508)","v":""},{"$f":"IF('Caseload Reporting'!R508 = \"\",\"\",'Caseload Reporting'!R508)","v":""},{"$f":"IF('Caseload Reporting'!E508 = \"\",\"\",'Caseload Reporting'!E508)","v":""},{"$f":"IF('Caseload Reporting'!S508 = \"\",\"\",'Caseload Reporting'!S508)","v":""}]
[{"$f":"IF('Caseload Reporting'!A509 = \"\",\"\",'Caseload Reporting'!A509)","v":""},{"$f":"IF('Caseload Reporting'!B509 = \"\",\"\",'Caseload Reporting'!B509)","v":""},{"$f":"IF('Caseload Reporting'!C509 = \"\",\"\",'Caseload Reporting'!C509)","v":""},{"$f":"IF('Caseload Reporting'!D509 = \"\",\"\",'Caseload Reporting'!D509)","v":""},{"$f":"IF('Caseload Reporting'!G509 = \"\",\"\",'Caseload Reporting'!G509)","v":""},{"$f":"IF('Caseload Reporting'!H509 = \"\",\"\",'Caseload Reporting'!H509)","v":""},{"$f":"IF('Caseload Reporting'!I509 = \"\",\"\",'Caseload Reporting'!I509)","v":""},{"$f":"IF('Caseload Reporting'!J509 = \"\",\"\",'Caseload Reporting'!J509)","v":""},{"$f":"IF('Caseload Reporting'!K509 = \"\",\"\",'Caseload Reporting'!K509)","v":""},{"$f":"IF('Caseload Reporting'!L509 = \"\",\"\",'Caseload Reporting'!L509)","v":""},{"$f":"IF('Caseload Reporting'!M509 = \"\",\"\",'Caseload Reporting'!M509)","v":""},{"$f":"IF('Caseload Reporting'!N509 = \"\",\"\",'Caseload Reporting'!N509)","v":""},{"$f":"IF('Caseload Reporting'!P509 = \"\",\"\",'Caseload Reporting'!P509)","v":""},{"$f":"IF('Caseload Reporting'!O509 = \"\",\"\",'Caseload Reporting'!O509)","v":""},{"$f":"IF('Caseload Reporting'!Q509 = \"\",\"\",'Caseload Reporting'!Q509)","v":""},{"$f":"IF('Caseload Reporting'!R509 = \"\",\"\",'Caseload Reporting'!R509)","v":""},{"$f":"IF('Caseload Reporting'!E509 = \"\",\"\",'Caseload Reporting'!E509)","v":""},{"$f":"IF('Caseload Reporting'!S509 = \"\",\"\",'Caseload Reporting'!S509)","v":""}]
[{"$f":"IF('Caseload Reporting'!A510 = \"\",\"\",'Caseload Reporting'!A510)","v":""},{"$f":"IF('Caseload Reporting'!B510 = \"\",\"\",'Caseload Reporting'!B510)","v":""},{"$f":"IF('Caseload Reporting'!C510 = \"\",\"\",'Caseload Reporting'!C510)","v":""},{"$f":"IF('Caseload Reporting'!D510 = \"\",\"\",'Caseload Reporting'!D510)","v":""},{"$f":"IF('Caseload Reporting'!G510 = \"\",\"\",'Caseload Reporting'!G510)","v":""},{"$f":"IF('Caseload Reporting'!H510 = \"\",\"\",'Caseload Reporting'!H510)","v":""},{"$f":"IF('Caseload Reporting'!I510 = \"\",\"\",'Caseload Reporting'!I510)","v":""},{"$f":"IF('Caseload Reporting'!J510 = \"\",\"\",'Caseload Reporting'!J510)","v":""},{"$f":"IF('Caseload Reporting'!K510 = \"\",\"\",'Caseload Reporting'!K510)","v":""},{"$f":"IF('Caseload Reporting'!L510 = \"\",\"\",'Caseload Reporting'!L510)","v":""},{"$f":"IF('Caseload Reporting'!M510 = \"\",\"\",'Caseload Reporting'!M510)","v":""},{"$f":"IF('Caseload Reporting'!N510 = \"\",\"\",'Caseload Reporting'!N510)","v":""},{"$f":"IF('Caseload Reporting'!P510 = \"\",\"\",'Caseload Reporting'!P510)","v":""},{"$f":"IF('Caseload Reporting'!O510 = \"\",\"\",'Caseload Reporting'!O510)","v":""},{"$f":"IF('Caseload Reporting'!Q510 = \"\",\"\",'Caseload Reporting'!Q510)","v":""},{"$f":"IF('Caseload Reporting'!R510 = \"\",\"\",'Caseload Reporting'!R510)","v":""},{"$f":"IF('Caseload Reporting'!E510 = \"\",\"\",'Caseload Reporting'!E510)","v":""},{"$f":"IF('Caseload Reporting'!S510 = \"\",\"\",'Caseload Reporting'!S510)","v":""}]
[{"$f":"IF('Caseload Reporting'!A511 = \"\",\"\",'Caseload Reporting'!A511)","v":""},{"$f":"IF('Caseload Reporting'!B511 = \"\",\"\",'Caseload Reporting'!B511)","v":""},{"$f":"IF('Caseload Reporting'!C511 = \"\",\"\",'Caseload Reporting'!C511)","v":""},{"$f":"IF('Caseload Reporting'!D511 = \"\",\"\",'Caseload Reporting'!D511)","v":""},{"$f":"IF('Caseload Reporting'!G511 = \"\",\"\",'Caseload Reporting'!G511)","v":""},{"$f":"IF('Caseload Reporting'!H511 = \"\",\"\",'Caseload Reporting'!H511)","v":""},{"$f":"IF('Caseload Reporting'!I511 = \"\",\"\",'Caseload Reporting'!I511)","v":""},{"$f":"IF('Caseload Reporting'!J511 = \"\",\"\",'Caseload Reporting'!J511)","v":""},{"$f":"IF('Caseload Reporting'!K511 = \"\",\"\",'Caseload Reporting'!K511)","v":""},{"$f":"IF('Caseload Reporting'!L511 = \"\",\"\",'Caseload Reporting'!L511)","v":""},{"$f":"IF('Caseload Reporting'!M511 = \"\",\"\",'Caseload Reporting'!M511)","v":""},{"$f":"IF('Caseload Reporting'!N511 = \"\",\"\",'Caseload Reporting'!N511)","v":""},{"$f":"IF('Caseload Reporting'!P511 = \"\",\"\",'Caseload Reporting'!P511)","v":""},{"$f":"IF('Caseload Reporting'!O511 = \"\",\"\",'Caseload Reporting'!O511)","v":""},{"$f":"IF('Caseload Reporting'!Q511 = \"\",\"\",'Caseload Reporting'!Q511)","v":""},{"$f":"IF('Caseload Reporting'!R511 = \"\",\"\",'Caseload Reporting'!R511)","v":""},{"$f":"IF('Caseload Reporting'!E511 = \"\",\"\",'Caseload Reporting'!E511)","v":""},{"$f":"IF('Caseload Reporting'!S511 = \"\",\"\",'Caseload Reporting'!S511)","v":""}]
[{"$f":"IF('Caseload Reporting'!A512 = \"\",\"\",'Caseload Reporting'!A512)","v":""},{"$f":"IF('Caseload Reporting'!B512 = \"\",\"\",'Caseload Reporting'!B512)","v":""},{"$f":"IF('Caseload Reporting'!C512 = \"\",\"\",'Caseload Reporting'!C512)","v":""},{"$f":"IF('Caseload Reporting'!D512 = \"\",\"\",'Caseload Reporting'!D512)","v":""},{"$f":"IF('Caseload Reporting'!G512 = \"\",\"\",'Caseload Reporting'!G512)","v":""},{"$f":"IF('Caseload Reporting'!H512 = \"\",\"\",'Caseload Reporting'!H512)","v":""},{"$f":"IF('Caseload Reporting'!I512 = \"\",\"\",'Caseload Reporting'!I512)","v":""},{"$f":"IF('Caseload Reporting'!J512 = \"\",\"\",'Caseload Reporting'!J512)","v":""},{"$f":"IF('Caseload Reporting'!K512 = \"\",\"\",'Caseload Reporting'!K512)","v":""},{"$f":"IF('Caseload Reporting'!L512 = \"\",\"\",'Caseload Reporting'!L512)","v":""},{"$f":"IF('Caseload Reporting'!M512 = \"\",\"\",'Caseload Reporting'!M512)","v":""},{"$f":"IF('Caseload Reporting'!N512 = \"\",\"\",'Caseload Reporting'!N512)","v":""},{"$f":"IF('Caseload Reporting'!P512 = \"\",\"\",'Caseload Reporting'!P512)","v":""},{"$f":"IF('Caseload Reporting'!O512 = \"\",\"\",'Caseload Reporting'!O512)","v":""},{"$f":"IF('Caseload Reporting'!Q512 = \"\",\"\",'Caseload Reporting'!Q512)","v":""},{"$f":"IF('Caseload Reporting'!R512 = \"\",\"\",'Caseload Reporting'!R512)","v":""},{"$f":"IF('Caseload Reporting'!E512 = \"\",\"\",'Caseload Reporting'!E512)","v":""},{"$f":"IF('Caseload Reporting'!S512 = \"\",\"\",'Caseload Reporting'!S512)","v":""}]
[{"$f":"IF('Caseload Reporting'!A513 = \"\",\"\",'Caseload Reporting'!A513)","v":""},{"$f":"IF('Caseload Reporting'!B513 = \"\",\"\",'Caseload Reporting'!B513)","v":""},{"$f":"IF('Caseload Reporting'!C513 = \"\",\"\",'Caseload Reporting'!C513)","v":""},{"$f":"IF('Caseload Reporting'!D513 = \"\",\"\",'Caseload Reporting'!D513)","v":""},{"$f":"IF('Caseload Reporting'!G513 = \"\",\"\",'Caseload Reporting'!G513)","v":""},{"$f":"IF('Caseload Reporting'!H513 = \"\",\"\",'Caseload Reporting'!H513)","v":""},{"$f":"IF('Caseload Reporting'!I513 = \"\",\"\",'Caseload Reporting'!I513)","v":""},{"$f":"IF('Caseload Reporting'!J513 = \"\",\"\",'Caseload Reporting'!J513)","v":""},{"$f":"IF('Caseload Reporting'!K513 = \"\",\"\",'Caseload Reporting'!K513)","v":""},{"$f":"IF('Caseload Reporting'!L513 = \"\",\"\",'Caseload Reporting'!L513)","v":""},{"$f":"IF('Caseload Reporting'!M513 = \"\",\"\",'Caseload Reporting'!M513)","v":""},{"$f":"IF('Caseload Reporting'!N513 = \"\",\"\",'Caseload Reporting'!N513)","v":""},{"$f":"IF('Caseload Reporting'!P513 = \"\",\"\",'Caseload Reporting'!P513)","v":""},{"$f":"IF('Caseload Reporting'!O513 = \"\",\"\",'Caseload Reporting'!O513)","v":""},{"$f":"IF('Caseload Reporting'!Q513 = \"\",\"\",'Caseload Reporting'!Q513)","v":""},{"$f":"IF('Caseload Reporting'!R513 = \"\",\"\",'Caseload Reporting'!R513)","v":""},{"$f":"IF('Caseload Reporting'!E513 = \"\",\"\",'Caseload Reporting'!E513)","v":""},{"$f":"IF('Caseload Reporting'!S513 = \"\",\"\",'Caseload Reporting'!S513)","v":""}]
[{"$f":"IF('Caseload Reporting'!A514 = \"\",\"\",'Caseload Reporting'!A514)","v":""},{"$f":"IF('Caseload Reporting'!B514 = \"\",\"\",'Caseload Reporting'!B514)","v":""},{"$f":"IF('Caseload Reporting'!C514 = \"\",\"\",'Caseload Reporting'!C514)","v":""},{"$f":"IF('Caseload Reporting'!D514 = \"\",\"\",'Caseload Reporting'!D514)","v":""},{"$f":"IF('Caseload Reporting'!G514 = \"\",\"\",'Caseload Reporting'!G514)","v":""},{"$f":"IF('Caseload Reporting'!H514 = \"\",\"\",'Caseload Reporting'!H514)","v":""},{"$f":"IF('Caseload Reporting'!I514 = \"\",\"\",'Caseload Reporting'!I514)","v":""},{"$f":"IF('Caseload Reporting'!J514 = \"\",\"\",'Caseload Reporting'!J514)","v":""},{"$f":"IF('Caseload Reporting'!K514 = \"\",\"\",'Caseload Reporting'!K514)","v":""},{"$f":"IF('Caseload Reporting'!L514 = \"\",\"\",'Caseload Reporting'!L514)","v":""},{"$f":"IF('Caseload Reporting'!M514 = \"\",\"\",'Caseload Reporting'!M514)","v":""},{"$f":"IF('Caseload Reporting'!N514 = \"\",\"\",'Caseload Reporting'!N514)","v":""},{"$f":"IF('Caseload Reporting'!P514 = \"\",\"\",'Caseload Reporting'!P514)","v":""},{"$f":"IF('Caseload Reporting'!O514 = \"\",\"\",'Caseload Reporting'!O514)","v":""},{"$f":"IF('Caseload Reporting'!Q514 = \"\",\"\",'Caseload Reporting'!Q514)","v":""},{"$f":"IF('Caseload Reporting'!R514 = \"\",\"\",'Caseload Reporting'!R514)","v":""},{"$f":"IF('Caseload Reporting'!E514 = \"\",\"\",'Caseload Reporting'!E514)","v":""},{"$f":"IF('Caseload Reporting'!S514 = \"\",\"\",'Caseload Reporting'!S514)","v":""}]
[{"$f":"IF('Caseload Reporting'!A515 = \"\",\"\",'Caseload Reporting'!A515)","v":""},{"$f":"IF('Caseload Reporting'!B515 = \"\",\"\",'Caseload Reporting'!B515)","v":""},{"$f":"IF('Caseload Reporting'!C515 = \"\",\"\",'Caseload Reporting'!C515)","v":""},{"$f":"IF('Caseload Reporting'!D515 = \"\",\"\",'Caseload Reporting'!D515)","v":""},{"$f":"IF('Caseload Reporting'!G515 = \"\",\"\",'Caseload Reporting'!G515)","v":""},{"$f":"IF('Caseload Reporting'!H515 = \"\",\"\",'Caseload Reporting'!H515)","v":""},{"$f":"IF('Caseload Reporting'!I515 = \"\",\"\",'Caseload Reporting'!I515)","v":""},{"$f":"IF('Caseload Reporting'!J515 = \"\",\"\",'Caseload Reporting'!J515)","v":""},{"$f":"IF('Caseload Reporting'!K515 = \"\",\"\",'Caseload Reporting'!K515)","v":""},{"$f":"IF('Caseload Reporting'!L515 = \"\",\"\",'Caseload Reporting'!L515)","v":""},{"$f":"IF('Caseload Reporting'!M515 = \"\",\"\",'Caseload Reporting'!M515)","v":""},{"$f":"IF('Caseload Reporting'!N515 = \"\",\"\",'Caseload Reporting'!N515)","v":""},{"$f":"IF('Caseload Reporting'!P515 = \"\",\"\",'Caseload Reporting'!P515)","v":""},{"$f":"IF('Caseload Reporting'!O515 = \"\",\"\",'Caseload Reporting'!O515)","v":""},{"$f":"IF('Caseload Reporting'!Q515 = \"\",\"\",'Caseload Reporting'!Q515)","v":""},{"$f":"IF('Caseload Reporting'!R515 = \"\",\"\",'Caseload Reporting'!R515)","v":""},{"$f":"IF('Caseload Reporting'!E515 = \"\",\"\",'Caseload Reporting'!E515)","v":""},{"$f":"IF('Caseload Reporting'!S515 = \"\",\"\",'Caseload Reporting'!S515)","v":""}]
[{"$f":"IF('Caseload Reporting'!A516 = \"\",\"\",'Caseload Reporting'!A516)","v":""},{"$f":"IF('Caseload Reporting'!B516 = \"\",\"\",'Caseload Reporting'!B516)","v":""},{"$f":"IF('Caseload Reporting'!C516 = \"\",\"\",'Caseload Reporting'!C516)","v":""},{"$f":"IF('Caseload Reporting'!D516 = \"\",\"\",'Caseload Reporting'!D516)","v":""},{"$f":"IF('Caseload Reporting'!G516 = \"\",\"\",'Caseload Reporting'!G516)","v":""},{"$f":"IF('Caseload Reporting'!H516 = \"\",\"\",'Caseload Reporting'!H516)","v":""},{"$f":"IF('Caseload Reporting'!I516 = \"\",\"\",'Caseload Reporting'!I516)","v":""},{"$f":"IF('Caseload Reporting'!J516 = \"\",\"\",'Caseload Reporting'!J516)","v":""},{"$f":"IF('Caseload Reporting'!K516 = \"\",\"\",'Caseload Reporting'!K516)","v":""},{"$f":"IF('Caseload Reporting'!L516 = \"\",\"\",'Caseload Reporting'!L516)","v":""},{"$f":"IF('Caseload Reporting'!M516 = \"\",\"\",'Caseload Reporting'!M516)","v":""},{"$f":"IF('Caseload Reporting'!N516 = \"\",\"\",'Caseload Reporting'!N516)","v":""},{"$f":"IF('Caseload Reporting'!P516 = \"\",\"\",'Caseload Reporting'!P516)","v":""},{"$f":"IF('Caseload Reporting'!O516 = \"\",\"\",'Caseload Reporting'!O516)","v":""},{"$f":"IF('Caseload Reporting'!Q516 = \"\",\"\",'Caseload Reporting'!Q516)","v":""},{"$f":"IF('Caseload Reporting'!R516 = \"\",\"\",'Caseload Reporting'!R516)","v":""},{"$f":"IF('Caseload Reporting'!E516 = \"\",\"\",'Caseload Reporting'!E516)","v":""},{"$f":"IF('Caseload Reporting'!S516 = \"\",\"\",'Caseload Reporting'!S516)","v":""}]
[{"$f":"IF('Caseload Reporting'!A517 = \"\",\"\",'Caseload Reporting'!A517)","v":""},{"$f":"IF('Caseload Reporting'!B517 = \"\",\"\",'Caseload Reporting'!B517)","v":""},{"$f":"IF('Caseload Reporting'!C517 = \"\",\"\",'Caseload Reporting'!C517)","v":""},{"$f":"IF('Caseload Reporting'!D517 = \"\",\"\",'Caseload Reporting'!D517)","v":""},{"$f":"IF('Caseload Reporting'!G517 = \"\",\"\",'Caseload Reporting'!G517)","v":""},{"$f":"IF('Caseload Reporting'!H517 = \"\",\"\",'Caseload Reporting'!H517)","v":""},{"$f":"IF('Caseload Reporting'!I517 = \"\",\"\",'Caseload Reporting'!I517)","v":""},{"$f":"IF('Caseload Reporting'!J517 = \"\",\"\",'Caseload Reporting'!J517)","v":""},{"$f":"IF('Caseload Reporting'!K517 = \"\",\"\",'Caseload Reporting'!K517)","v":""},{"$f":"IF('Caseload Reporting'!L517 = \"\",\"\",'Caseload Reporting'!L517)","v":""},{"$f":"IF('Caseload Reporting'!M517 = \"\",\"\",'Caseload Reporting'!M517)","v":""},{"$f":"IF('Caseload Reporting'!N517 = \"\",\"\",'Caseload Reporting'!N517)","v":""},{"$f":"IF('Caseload Reporting'!P517 = \"\",\"\",'Caseload Reporting'!P517)","v":""},{"$f":"IF('Caseload Reporting'!O517 = \"\",\"\",'Caseload Reporting'!O517)","v":""},{"$f":"IF('Caseload Reporting'!Q517 = \"\",\"\",'Caseload Reporting'!Q517)","v":""},{"$f":"IF('Caseload Reporting'!R517 = \"\",\"\",'Caseload Reporting'!R517)","v":""},{"$f":"IF('Caseload Reporting'!E517 = \"\",\"\",'Caseload Reporting'!E517)","v":""},{"$f":"IF('Caseload Reporting'!S517 = \"\",\"\",'Caseload Reporting'!S517)","v":""}]
[{"$f":"IF('Caseload Reporting'!A518 = \"\",\"\",'Caseload Reporting'!A518)","v":""},{"$f":"IF('Caseload Reporting'!B518 = \"\",\"\",'Caseload Reporting'!B518)","v":""},{"$f":"IF('Caseload Reporting'!C518 = \"\",\"\",'Caseload Reporting'!C518)","v":""},{"$f":"IF('Caseload Reporting'!D518 = \"\",\"\",'Caseload Reporting'!D518)","v":""},{"$f":"IF('Caseload Reporting'!G518 = \"\",\"\",'Caseload Reporting'!G518)","v":""},{"$f":"IF('Caseload Reporting'!H518 = \"\",\"\",'Caseload Reporting'!H518)","v":""},{"$f":"IF('Caseload Reporting'!I518 = \"\",\"\",'Caseload Reporting'!I518)","v":""},{"$f":"IF('Caseload Reporting'!J518 = \"\",\"\",'Caseload Reporting'!J518)","v":""},{"$f":"IF('Caseload Reporting'!K518 = \"\",\"\",'Caseload Reporting'!K518)","v":""},{"$f":"IF('Caseload Reporting'!L518 = \"\",\"\",'Caseload Reporting'!L518)","v":""},{"$f":"IF('Caseload Reporting'!M518 = \"\",\"\",'Caseload Reporting'!M518)","v":""},{"$f":"IF('Caseload Reporting'!N518 = \"\",\"\",'Caseload Reporting'!N518)","v":""},{"$f":"IF('Caseload Reporting'!P518 = \"\",\"\",'Caseload Reporting'!P518)","v":""},{"$f":"IF('Caseload Reporting'!O518 = \"\",\"\",'Caseload Reporting'!O518)","v":""},{"$f":"IF('Caseload Reporting'!Q518 = \"\",\"\",'Caseload Reporting'!Q518)","v":""},{"$f":"IF('Caseload Reporting'!R518 = \"\",\"\",'Caseload Reporting'!R518)","v":""},{"$f":"IF('Caseload Reporting'!E518 = \"\",\"\",'Caseload Reporting'!E518)","v":""},{"$f":"IF('Caseload Reporting'!S518 = \"\",\"\",'Caseload Reporting'!S518)","v":""}]
[{"$f":"IF('Caseload Reporting'!A519 = \"\",\"\",'Caseload Reporting'!A519)","v":""},{"$f":"IF('Caseload Reporting'!B519 = \"\",\"\",'Caseload Reporting'!B519)","v":""},{"$f":"IF('Caseload Reporting'!C519 = \"\",\"\",'Caseload Reporting'!C519)","v":""},{"$f":"IF('Caseload Reporting'!D519 = \"\",\"\",'Caseload Reporting'!D519)","v":""},{"$f":"IF('Caseload Reporting'!G519 = \"\",\"\",'Caseload Reporting'!G519)","v":""},{"$f":"IF('Caseload Reporting'!H519 = \"\",\"\",'Caseload Reporting'!H519)","v":""},{"$f":"IF('Caseload Reporting'!I519 = \"\",\"\",'Caseload Reporting'!I519)","v":""},{"$f":"IF('Caseload Reporting'!J519 = \"\",\"\",'Caseload Reporting'!J519)","v":""},{"$f":"IF('Caseload Reporting'!K519 = \"\",\"\",'Caseload Reporting'!K519)","v":""},{"$f":"IF('Caseload Reporting'!L519 = \"\",\"\",'Caseload Reporting'!L519)","v":""},{"$f":"IF('Caseload Reporting'!M519 = \"\",\"\",'Caseload Reporting'!M519)","v":""},{"$f":"IF('Caseload Reporting'!N519 = \"\",\"\",'Caseload Reporting'!N519)","v":""},{"$f":"IF('Caseload Reporting'!P519 = \"\",\"\",'Caseload Reporting'!P519)","v":""},{"$f":"IF('Caseload Reporting'!O519 = \"\",\"\",'Caseload Reporting'!O519)","v":""},{"$f":"IF('Caseload Reporting'!Q519 = \"\",\"\",'Caseload Reporting'!Q519)","v":""},{"$f":"IF('Caseload Reporting'!R519 = \"\",\"\",'Caseload Reporting'!R519)","v":""},{"$f":"IF('Caseload Reporting'!E519 = \"\",\"\",'Caseload Reporting'!E519)","v":""},{"$f":"IF('Caseload Reporting'!S519 = \"\",\"\",'Caseload Reporting'!S519)","v":""}]
[{"$f":"IF('Caseload Reporting'!A520 = \"\",\"\",'Caseload Reporting'!A520)","v":""},{"$f":"IF('Caseload Reporting'!B520 = \"\",\"\",'Caseload Reporting'!B520)","v":""},{"$f":"IF('Caseload Reporting'!C520 = \"\",\"\",'Caseload Reporting'!C520)","v":""},{"$f":"IF('Caseload Reporting'!D520 = \"\",\"\",'Caseload Reporting'!D520)","v":""},{"$f":"IF('Caseload Reporting'!G520 = \"\",\"\",'Caseload Reporting'!G520)","v":""},{"$f":"IF('Caseload Reporting'!H520 = \"\",\"\",'Caseload Reporting'!H520)","v":""},{"$f":"IF('Caseload Reporting'!I520 = \"\",\"\",'Caseload Reporting'!I520)","v":""},{"$f":"IF('Caseload Reporting'!J520 = \"\",\"\",'Caseload Reporting'!J520)","v":""},{"$f":"IF('Caseload Reporting'!K520 = \"\",\"\",'Caseload Reporting'!K520)","v":""},{"$f":"IF('Caseload Reporting'!L520 = \"\",\"\",'Caseload Reporting'!L520)","v":""},{"$f":"IF('Caseload Reporting'!M520 = \"\",\"\",'Caseload Reporting'!M520)","v":""},{"$f":"IF('Caseload Reporting'!N520 = \"\",\"\",'Caseload Reporting'!N520)","v":""},{"$f":"IF('Caseload Reporting'!P520 = \"\",\"\",'Caseload Reporting'!P520)","v":""},{"$f":"IF('Caseload Reporting'!O520 = \"\",\"\",'Caseload Reporting'!O520)","v":""},{"$f":"IF('Caseload Reporting'!Q520 = \"\",\"\",'Caseload Reporting'!Q520)","v":""},{"$f":"IF('Caseload Reporting'!R520 = \"\",\"\",'Caseload Reporting'!R520)","v":""},{"$f":"IF('Caseload Reporting'!E520 = \"\",\"\",'Caseload Reporting'!E520)","v":""},{"$f":"IF('Caseload Reporting'!S520 = \"\",\"\",'Caseload Reporting'!S520)","v":""}]
[{"$f":"IF('Caseload Reporting'!A521 = \"\",\"\",'Caseload Reporting'!A521)","v":""},{"$f":"IF('Caseload Reporting'!B521 = \"\",\"\",'Caseload Reporting'!B521)","v":""},{"$f":"IF('Caseload Reporting'!C521 = \"\",\"\",'Caseload Reporting'!C521)","v":""},{"$f":"IF('Caseload Reporting'!D521 = \"\",\"\",'Caseload Reporting'!D521)","v":""},{"$f":"IF('Caseload Reporting'!G521 = \"\",\"\",'Caseload Reporting'!G521)","v":""},{"$f":"IF('Caseload Reporting'!H521 = \"\",\"\",'Caseload Reporting'!H521)","v":""},{"$f":"IF('Caseload Reporting'!I521 = \"\",\"\",'Caseload Reporting'!I521)","v":""},{"$f":"IF('Caseload Reporting'!J521 = \"\",\"\",'Caseload Reporting'!J521)","v":""},{"$f":"IF('Caseload Reporting'!K521 = \"\",\"\",'Caseload Reporting'!K521)","v":""},{"$f":"IF('Caseload Reporting'!L521 = \"\",\"\",'Caseload Reporting'!L521)","v":""},{"$f":"IF('Caseload Reporting'!M521 = \"\",\"\",'Caseload Reporting'!M521)","v":""},{"$f":"IF('Caseload Reporting'!N521 = \"\",\"\",'Caseload Reporting'!N521)","v":""},{"$f":"IF('Caseload Reporting'!P521 = \"\",\"\",'Caseload Reporting'!P521)","v":""},{"$f":"IF('Caseload Reporting'!O521 = \"\",\"\",'Caseload Reporting'!O521)","v":""},{"$f":"IF('Caseload Reporting'!Q521 = \"\",\"\",'Caseload Reporting'!Q521)","v":""},{"$f":"IF('Caseload Reporting'!R521 = \"\",\"\",'Caseload Reporting'!R521)","v":""},{"$f":"IF('Caseload Reporting'!E521 = \"\",\"\",'Caseload Reporting'!E521)","v":""},{"$f":"IF('Caseload Reporting'!S521 = \"\",\"\",'Caseload Reporting'!S521)","v":""}]
[{"$f":"IF('Caseload Reporting'!A522 = \"\",\"\",'Caseload Reporting'!A522)","v":""},{"$f":"IF('Caseload Reporting'!B522 = \"\",\"\",'Caseload Reporting'!B522)","v":""},{"$f":"IF('Caseload Reporting'!C522 = \"\",\"\",'Caseload Reporting'!C522)","v":""},{"$f":"IF('Caseload Reporting'!D522 = \"\",\"\",'Caseload Reporting'!D522)","v":""},{"$f":"IF('Caseload Reporting'!G522 = \"\",\"\",'Caseload Reporting'!G522)","v":""},{"$f":"IF('Caseload Reporting'!H522 = \"\",\"\",'Caseload Reporting'!H522)","v":""},{"$f":"IF('Caseload Reporting'!I522 = \"\",\"\",'Caseload Reporting'!I522)","v":""},{"$f":"IF('Caseload Reporting'!J522 = \"\",\"\",'Caseload Reporting'!J522)","v":""},{"$f":"IF('Caseload Reporting'!K522 = \"\",\"\",'Caseload Reporting'!K522)","v":""},{"$f":"IF('Caseload Reporting'!L522 = \"\",\"\",'Caseload Reporting'!L522)","v":""},{"$f":"IF('Caseload Reporting'!M522 = \"\",\"\",'Caseload Reporting'!M522)","v":""},{"$f":"IF('Caseload Reporting'!N522 = \"\",\"\",'Caseload Reporting'!N522)","v":""},{"$f":"IF('Caseload Reporting'!P522 = \"\",\"\",'Caseload Reporting'!P522)","v":""},{"$f":"IF('Caseload Reporting'!O522 = \"\",\"\",'Caseload Reporting'!O522)","v":""},{"$f":"IF('Caseload Reporting'!Q522 = \"\",\"\",'Caseload Reporting'!Q522)","v":""},{"$f":"IF('Caseload Reporting'!R522 = \"\",\"\",'Caseload Reporting'!R522)","v":""},{"$f":"IF('Caseload Reporting'!E522 = \"\",\"\",'Caseload Reporting'!E522)","v":""},{"$f":"IF('Caseload Reporting'!S522 = \"\",\"\",'Caseload Reporting'!S522)","v":""}]
[{"$f":"IF('Caseload Reporting'!A523 = \"\",\"\",'Caseload Reporting'!A523)","v":""},{"$f":"IF('Caseload Reporting'!B523 = \"\",\"\",'Caseload Reporting'!B523)","v":""},{"$f":"IF('Caseload Reporting'!C523 = \"\",\"\",'Caseload Reporting'!C523)","v":""},{"$f":"IF('Caseload Reporting'!D523 = \"\",\"\",'Caseload Reporting'!D523)","v":""},{"$f":"IF('Caseload Reporting'!G523 = \"\",\"\",'Caseload Reporting'!G523)","v":""},{"$f":"IF('Caseload Reporting'!H523 = \"\",\"\",'Caseload Reporting'!H523)","v":""},{"$f":"IF('Caseload Reporting'!I523 = \"\",\"\",'Caseload Reporting'!I523)","v":""},{"$f":"IF('Caseload Reporting'!J523 = \"\",\"\",'Caseload Reporting'!J523)","v":""},{"$f":"IF('Caseload Reporting'!K523 = \"\",\"\",'Caseload Reporting'!K523)","v":""},{"$f":"IF('Caseload Reporting'!L523 = \"\",\"\",'Caseload Reporting'!L523)","v":""},{"$f":"IF('Caseload Reporting'!M523 = \"\",\"\",'Caseload Reporting'!M523)","v":""},{"$f":"IF('Caseload Reporting'!N523 = \"\",\"\",'Caseload Reporting'!N523)","v":""},{"$f":"IF('Caseload Reporting'!P523 = \"\",\"\",'Caseload Reporting'!P523)","v":""},{"$f":"IF('Caseload Reporting'!O523 = \"\",\"\",'Caseload Reporting'!O523)","v":""},{"$f":"IF('Caseload Reporting'!Q523 = \"\",\"\",'Caseload Reporting'!Q523)","v":""},{"$f":"IF('Caseload Reporting'!R523 = \"\",\"\",'Caseload Reporting'!R523)","v":""},{"$f":"IF('Caseload Reporting'!E523 = \"\",\"\",'Caseload Reporting'!E523)","v":""},{"$f":"IF('Caseload Reporting'!S523 = \"\",\"\",'Caseload Reporting'!S523)","v":""}]
[{"$f":"IF('Caseload Reporting'!A524 = \"\",\"\",'Caseload Reporting'!A524)","v":""},{"$f":"IF('Caseload Reporting'!B524 = \"\",\"\",'Caseload Reporting'!B524)","v":""},{"$f":"IF('Caseload Reporting'!C524 = \"\",\"\",'Caseload Reporting'!C524)","v":""},{"$f":"IF('Caseload Reporting'!D524 = \"\",\"\",'Caseload Reporting'!D524)","v":""},{"$f":"IF('Caseload Reporting'!G524 = \"\",\"\",'Caseload Reporting'!G524)","v":""},{"$f":"IF('Caseload Reporting'!H524 = \"\",\"\",'Caseload Reporting'!H524)","v":""},{"$f":"IF('Caseload Reporting'!I524 = \"\",\"\",'Caseload Reporting'!I524)","v":""},{"$f":"IF('Caseload Reporting'!J524 = \"\",\"\",'Caseload Reporting'!J524)","v":""},{"$f":"IF('Caseload Reporting'!K524 = \"\",\"\",'Caseload Reporting'!K524)","v":""},{"$f":"IF('Caseload Reporting'!L524 = \"\",\"\",'Caseload Reporting'!L524)","v":""},{"$f":"IF('Caseload Reporting'!M524 = \"\",\"\",'Caseload Reporting'!M524)","v":""},{"$f":"IF('Caseload Reporting'!N524 = \"\",\"\",'Caseload Reporting'!N524)","v":""},{"$f":"IF('Caseload Reporting'!P524 = \"\",\"\",'Caseload Reporting'!P524)","v":""},{"$f":"IF('Caseload Reporting'!O524 = \"\",\"\",'Caseload Reporting'!O524)","v":""},{"$f":"IF('Caseload Reporting'!Q524 = \"\",\"\",'Caseload Reporting'!Q524)","v":""},{"$f":"IF('Caseload Reporting'!R524 = \"\",\"\",'Caseload Reporting'!R524)","v":""},{"$f":"IF('Caseload Reporting'!E524 = \"\",\"\",'Caseload Reporting'!E524)","v":""},{"$f":"IF('Caseload Reporting'!S524 = \"\",\"\",'Caseload Reporting'!S524)","v":""}]
[{"$f":"IF('Caseload Reporting'!A525 = \"\",\"\",'Caseload Reporting'!A525)","v":""},{"$f":"IF('Caseload Reporting'!B525 = \"\",\"\",'Caseload Reporting'!B525)","v":""},{"$f":"IF('Caseload Reporting'!C525 = \"\",\"\",'Caseload Reporting'!C525)","v":""},{"$f":"IF('Caseload Reporting'!D525 = \"\",\"\",'Caseload Reporting'!D525)","v":""},{"$f":"IF('Caseload Reporting'!G525 = \"\",\"\",'Caseload Reporting'!G525)","v":""},{"$f":"IF('Caseload Reporting'!H525 = \"\",\"\",'Caseload Reporting'!H525)","v":""},{"$f":"IF('Caseload Reporting'!I525 = \"\",\"\",'Caseload Reporting'!I525)","v":""},{"$f":"IF('Caseload Reporting'!J525 = \"\",\"\",'Caseload Reporting'!J525)","v":""},{"$f":"IF('Caseload Reporting'!K525 = \"\",\"\",'Caseload Reporting'!K525)","v":""},{"$f":"IF('Caseload Reporting'!L525 = \"\",\"\",'Caseload Reporting'!L525)","v":""},{"$f":"IF('Caseload Reporting'!M525 = \"\",\"\",'Caseload Reporting'!M525)","v":""},{"$f":"IF('Caseload Reporting'!N525 = \"\",\"\",'Caseload Reporting'!N525)","v":""},{"$f":"IF('Caseload Reporting'!P525 = \"\",\"\",'Caseload Reporting'!P525)","v":""},{"$f":"IF('Caseload Reporting'!O525 = \"\",\"\",'Caseload Reporting'!O525)","v":""},{"$f":"IF('Caseload Reporting'!Q525 = \"\",\"\",'Caseload Reporting'!Q525)","v":""},{"$f":"IF('Caseload Reporting'!R525 = \"\",\"\",'Caseload Reporting'!R525)","v":""},{"$f":"IF('Caseload Reporting'!E525 = \"\",\"\",'Caseload Reporting'!E525)","v":""},{"$f":"IF('Caseload Reporting'!S525 = \"\",\"\",'Caseload Reporting'!S525)","v":""}]
[{"$f":"IF('Caseload Reporting'!A526 = \"\",\"\",'Caseload Reporting'!A526)","v":""},{"$f":"IF('Caseload Reporting'!B526 = \"\",\"\",'Caseload Reporting'!B526)","v":""},{"$f":"IF('Caseload Reporting'!C526 = \"\",\"\",'Caseload Reporting'!C526)","v":""},{"$f":"IF('Caseload Reporting'!D526 = \"\",\"\",'Caseload Reporting'!D526)","v":""},{"$f":"IF('Caseload Reporting'!G526 = \"\",\"\",'Caseload Reporting'!G526)","v":""},{"$f":"IF('Caseload Reporting'!H526 = \"\",\"\",'Caseload Reporting'!H526)","v":""},{"$f":"IF('Caseload Reporting'!I526 = \"\",\"\",'Caseload Reporting'!I526)","v":""},{"$f":"IF('Caseload Reporting'!J526 = \"\",\"\",'Caseload Reporting'!J526)","v":""},{"$f":"IF('Caseload Reporting'!K526 = \"\",\"\",'Caseload Reporting'!K526)","v":""},{"$f":"IF('Caseload Reporting'!L526 = \"\",\"\",'Caseload Reporting'!L526)","v":""},{"$f":"IF('Caseload Reporting'!M526 = \"\",\"\",'Caseload Reporting'!M526)","v":""},{"$f":"IF('Caseload Reporting'!N526 = \"\",\"\",'Caseload Reporting'!N526)","v":""},{"$f":"IF('Caseload Reporting'!P526 = \"\",\"\",'Caseload Reporting'!P526)","v":""},{"$f":"IF('Caseload Reporting'!O526 = \"\",\"\",'Caseload Reporting'!O526)","v":""},{"$f":"IF('Caseload Reporting'!Q526 = \"\",\"\",'Caseload Reporting'!Q526)","v":""},{"$f":"IF('Caseload Reporting'!R526 = \"\",\"\",'Caseload Reporting'!R526)","v":""},{"$f":"IF('Caseload Reporting'!E526 = \"\",\"\",'Caseload Reporting'!E526)","v":""},{"$f":"IF('Caseload Reporting'!S526 = \"\",\"\",'Caseload Reporting'!S526)","v":""}]
[{"$f":"IF('Caseload Reporting'!A527 = \"\",\"\",'Caseload Reporting'!A527)","v":""},{"$f":"IF('Caseload Reporting'!B527 = \"\",\"\",'Caseload Reporting'!B527)","v":""},{"$f":"IF('Caseload Reporting'!C527 = \"\",\"\",'Caseload Reporting'!C527)","v":""},{"$f":"IF('Caseload Reporting'!D527 = \"\",\"\",'Caseload Reporting'!D527)","v":""},{"$f":"IF('Caseload Reporting'!G527 = \"\",\"\",'Caseload Reporting'!G527)","v":""},{"$f":"IF('Caseload Reporting'!H527 = \"\",\"\",'Caseload Reporting'!H527)","v":""},{"$f":"IF('Caseload Reporting'!I527 = \"\",\"\",'Caseload Reporting'!I527)","v":""},{"$f":"IF('Caseload Reporting'!J527 = \"\",\"\",'Caseload Reporting'!J527)","v":""},{"$f":"IF('Caseload Reporting'!K527 = \"\",\"\",'Caseload Reporting'!K527)","v":""},{"$f":"IF('Caseload Reporting'!L527 = \"\",\"\",'Caseload Reporting'!L527)","v":""},{"$f":"IF('Caseload Reporting'!M527 = \"\",\"\",'Caseload Reporting'!M527)","v":""},{"$f":"IF('Caseload Reporting'!N527 = \"\",\"\",'Caseload Reporting'!N527)","v":""},{"$f":"IF('Caseload Reporting'!P527 = \"\",\"\",'Caseload Reporting'!P527)","v":""},{"$f":"IF('Caseload Reporting'!O527 = \"\",\"\",'Caseload Reporting'!O527)","v":""},{"$f":"IF('Caseload Reporting'!Q527 = \"\",\"\",'Caseload Reporting'!Q527)","v":""},{"$f":"IF('Caseload Reporting'!R527 = \"\",\"\",'Caseload Reporting'!R527)","v":""},{"$f":"IF('Caseload Reporting'!E527 = \"\",\"\",'Caseload Reporting'!E527)","v":""},{"$f":"IF('Caseload Reporting'!S527 = \"\",\"\",'Caseload Reporting'!S527)","v":""}]
[{"$f":"IF('Caseload Reporting'!A528 = \"\",\"\",'Caseload Reporting'!A528)","v":""},{"$f":"IF('Caseload Reporting'!B528 = \"\",\"\",'Caseload Reporting'!B528)","v":""},{"$f":"IF('Caseload Reporting'!C528 = \"\",\"\",'Caseload Reporting'!C528)","v":""},{"$f":"IF('Caseload Reporting'!D528 = \"\",\"\",'Caseload Reporting'!D528)","v":""},{"$f":"IF('Caseload Reporting'!G528 = \"\",\"\",'Caseload Reporting'!G528)","v":""},{"$f":"IF('Caseload Reporting'!H528 = \"\",\"\",'Caseload Reporting'!H528)","v":""},{"$f":"IF('Caseload Reporting'!I528 = \"\",\"\",'Caseload Reporting'!I528)","v":""},{"$f":"IF('Caseload Reporting'!J528 = \"\",\"\",'Caseload Reporting'!J528)","v":""},{"$f":"IF('Caseload Reporting'!K528 = \"\",\"\",'Caseload Reporting'!K528)","v":""},{"$f":"IF('Caseload Reporting'!L528 = \"\",\"\",'Caseload Reporting'!L528)","v":""},{"$f":"IF('Caseload Reporting'!M528 = \"\",\"\",'Caseload Reporting'!M528)","v":""},{"$f":"IF('Caseload Reporting'!N528 = \"\",\"\",'Caseload Reporting'!N528)","v":""},{"$f":"IF('Caseload Reporting'!P528 = \"\",\"\",'Caseload Reporting'!P528)","v":""},{"$f":"IF('Caseload Reporting'!O528 = \"\",\"\",'Caseload Reporting'!O528)","v":""},{"$f":"IF('Caseload Reporting'!Q528 = \"\",\"\",'Caseload Reporting'!Q528)","v":""},{"$f":"IF('Caseload Reporting'!R528 = \"\",\"\",'Caseload Reporting'!R528)","v":""},{"$f":"IF('Caseload Reporting'!E528 = \"\",\"\",'Caseload Reporting'!E528)","v":""},{"$f":"IF('Caseload Reporting'!S528 = \"\",\"\",'Caseload Reporting'!S528)","v":""}]
[{"$f":"IF('Caseload Reporting'!A529 = \"\",\"\",'Caseload Reporting'!A529)","v":""},{"$f":"IF('Caseload Reporting'!B529 = \"\",\"\",'Caseload Reporting'!B529)","v":""},{"$f":"IF('Caseload Reporting'!C529 = \"\",\"\",'Caseload Reporting'!C529)","v":""},{"$f":"IF('Caseload Reporting'!D529 = \"\",\"\",'Caseload Reporting'!D529)","v":""},{"$f":"IF('Caseload Reporting'!G529 = \"\",\"\",'Caseload Reporting'!G529)","v":""},{"$f":"IF('Caseload Reporting'!H529 = \"\",\"\",'Caseload Reporting'!H529)","v":""},{"$f":"IF('Caseload Reporting'!I529 = \"\",\"\",'Caseload Reporting'!I529)","v":""},{"$f":"IF('Caseload Reporting'!J529 = \"\",\"\",'Caseload Reporting'!J529)","v":""},{"$f":"IF('Caseload Reporting'!K529 = \"\",\"\",'Caseload Reporting'!K529)","v":""},{"$f":"IF('Caseload Reporting'!L529 = \"\",\"\",'Caseload Reporting'!L529)","v":""},{"$f":"IF('Caseload Reporting'!M529 = \"\",\"\",'Caseload Reporting'!M529)","v":""},{"$f":"IF('Caseload Reporting'!N529 = \"\",\"\",'Caseload Reporting'!N529)","v":""},{"$f":"IF('Caseload Reporting'!P529 = \"\",\"\",'Caseload Reporting'!P529)","v":""},{"$f":"IF('Caseload Reporting'!O529 = \"\",\"\",'Caseload Reporting'!O529)","v":""},{"$f":"IF('Caseload Reporting'!Q529 = \"\",\"\",'Caseload Reporting'!Q529)","v":""},{"$f":"IF('Caseload Reporting'!R529 = \"\",\"\",'Caseload Reporting'!R529)","v":""},{"$f":"IF('Caseload Reporting'!E529 = \"\",\"\",'Caseload Reporting'!E529)","v":""},{"$f":"IF('Caseload Reporting'!S529 = \"\",\"\",'Caseload Reporting'!S529)","v":""}]
[{"$f":"IF('Caseload Reporting'!A530 = \"\",\"\",'Caseload Reporting'!A530)","v":""},{"$f":"IF('Caseload Reporting'!B530 = \"\",\"\",'Caseload Reporting'!B530)","v":""},{"$f":"IF('Caseload Reporting'!C530 = \"\",\"\",'Caseload Reporting'!C530)","v":""},{"$f":"IF('Caseload Reporting'!D530 = \"\",\"\",'Caseload Reporting'!D530)","v":""},{"$f":"IF('Caseload Reporting'!G530 = \"\",\"\",'Caseload Reporting'!G530)","v":""},{"$f":"IF('Caseload Reporting'!H530 = \"\",\"\",'Caseload Reporting'!H530)","v":""},{"$f":"IF('Caseload Reporting'!I530 = \"\",\"\",'Caseload Reporting'!I530)","v":""},{"$f":"IF('Caseload Reporting'!J530 = \"\",\"\",'Caseload Reporting'!J530)","v":""},{"$f":"IF('Caseload Reporting'!K530 = \"\",\"\",'Caseload Reporting'!K530)","v":""},{"$f":"IF('Caseload Reporting'!L530 = \"\",\"\",'Caseload Reporting'!L530)","v":""},{"$f":"IF('Caseload Reporting'!M530 = \"\",\"\",'Caseload Reporting'!M530)","v":""},{"$f":"IF('Caseload Reporting'!N530 = \"\",\"\",'Caseload Reporting'!N530)","v":""},{"$f":"IF('Caseload Reporting'!P530 = \"\",\"\",'Caseload Reporting'!P530)","v":""},{"$f":"IF('Caseload Reporting'!O530 = \"\",\"\",'Caseload Reporting'!O530)","v":""},{"$f":"IF('Caseload Reporting'!Q530 = \"\",\"\",'Caseload Reporting'!Q530)","v":""},{"$f":"IF('Caseload Reporting'!R530 = \"\",\"\",'Caseload Reporting'!R530)","v":""},{"$f":"IF('Caseload Reporting'!E530 = \"\",\"\",'Caseload Reporting'!E530)","v":""},{"$f":"IF('Caseload Reporting'!S530 = \"\",\"\",'Caseload Reporting'!S530)","v":""}]
[{"$f":"IF('Caseload Reporting'!A531 = \"\",\"\",'Caseload Reporting'!A531)","v":""},{"$f":"IF('Caseload Reporting'!B531 = \"\",\"\",'Caseload Reporting'!B531)","v":""},{"$f":"IF('Caseload Reporting'!C531 = \"\",\"\",'Caseload Reporting'!C531)","v":""},{"$f":"IF('Caseload Reporting'!D531 = \"\",\"\",'Caseload Reporting'!D531)","v":""},{"$f":"IF('Caseload Reporting'!G531 = \"\",\"\",'Caseload Reporting'!G531)","v":""},{"$f":"IF('Caseload Reporting'!H531 = \"\",\"\",'Caseload Reporting'!H531)","v":""},{"$f":"IF('Caseload Reporting'!I531 = \"\",\"\",'Caseload Reporting'!I531)","v":""},{"$f":"IF('Caseload Reporting'!J531 = \"\",\"\",'Caseload Reporting'!J531)","v":""},{"$f":"IF('Caseload Reporting'!K531 = \"\",\"\",'Caseload Reporting'!K531)","v":""},{"$f":"IF('Caseload Reporting'!L531 = \"\",\"\",'Caseload Reporting'!L531)","v":""},{"$f":"IF('Caseload Reporting'!M531 = \"\",\"\",'Caseload Reporting'!M531)","v":""},{"$f":"IF('Caseload Reporting'!N531 = \"\",\"\",'Caseload Reporting'!N531)","v":""},{"$f":"IF('Caseload Reporting'!P531 = \"\",\"\",'Caseload Reporting'!P531)","v":""},{"$f":"IF('Caseload Reporting'!O531 = \"\",\"\",'Caseload Reporting'!O531)","v":""},{"$f":"IF('Caseload Reporting'!Q531 = \"\",\"\",'Caseload Reporting'!Q531)","v":""},{"$f":"IF('Caseload Reporting'!R531 = \"\",\"\",'Caseload Reporting'!R531)","v":""},{"$f":"IF('Caseload Reporting'!E531 = \"\",\"\",'Caseload Reporting'!E531)","v":""},{"$f":"IF('Caseload Reporting'!S531 = \"\",\"\",'Caseload Reporting'!S531)","v":""}]
[{"$f":"IF('Caseload Reporting'!A532 = \"\",\"\",'Caseload Reporting'!A532)","v":""},{"$f":"IF('Caseload Reporting'!B532 = \"\",\"\",'Caseload Reporting'!B532)","v":""},{"$f":"IF('Caseload Reporting'!C532 = \"\",\"\",'Caseload Reporting'!C532)","v":""},{"$f":"IF('Caseload Reporting'!D532 = \"\",\"\",'Caseload Reporting'!D532)","v":""},{"$f":"IF('Caseload Reporting'!G532 = \"\",\"\",'Caseload Reporting'!G532)","v":""},{"$f":"IF('Caseload Reporting'!H532 = \"\",\"\",'Caseload Reporting'!H532)","v":""},{"$f":"IF('Caseload Reporting'!I532 = \"\",\"\",'Caseload Reporting'!I532)","v":""},{"$f":"IF('Caseload Reporting'!J532 = \"\",\"\",'Caseload Reporting'!J532)","v":""},{"$f":"IF('Caseload Reporting'!K532 = \"\",\"\",'Caseload Reporting'!K532)","v":""},{"$f":"IF('Caseload Reporting'!L532 = \"\",\"\",'Caseload Reporting'!L532)","v":""},{"$f":"IF('Caseload Reporting'!M532 = \"\",\"\",'Caseload Reporting'!M532)","v":""},{"$f":"IF('Caseload Reporting'!N532 = \"\",\"\",'Caseload Reporting'!N532)","v":""},{"$f":"IF('Caseload Reporting'!P532 = \"\",\"\",'Caseload Reporting'!P532)","v":""},{"$f":"IF('Caseload Reporting'!O532 = \"\",\"\",'Caseload Reporting'!O532)","v":""},{"$f":"IF('Caseload Reporting'!Q532 = \"\",\"\",'Caseload Reporting'!Q532)","v":""},{"$f":"IF('Caseload Reporting'!R532 = \"\",\"\",'Caseload Reporting'!R532)","v":""},{"$f":"IF('Caseload Reporting'!E532 = \"\",\"\",'Caseload Reporting'!E532)","v":""},{"$f":"IF('Caseload Reporting'!S532 = \"\",\"\",'Caseload Reporting'!S532)","v":""}]
[{"$f":"IF('Caseload Reporting'!A533 = \"\",\"\",'Caseload Reporting'!A533)","v":""},{"$f":"IF('Caseload Reporting'!B533 = \"\",\"\",'Caseload Reporting'!B533)","v":""},{"$f":"IF('Caseload Reporting'!C533 = \"\",\"\",'Caseload Reporting'!C533)","v":""},{"$f":"IF('Caseload Reporting'!D533 = \"\",\"\",'Caseload Reporting'!D533)","v":""},{"$f":"IF('Caseload Reporting'!G533 = \"\",\"\",'Caseload Reporting'!G533)","v":""},{"$f":"IF('Caseload Reporting'!H533 = \"\",\"\",'Caseload Reporting'!H533)","v":""},{"$f":"IF('Caseload Reporting'!I533 = \"\",\"\",'Caseload Reporting'!I533)","v":""},{"$f":"IF('Caseload Reporting'!J533 = \"\",\"\",'Caseload Reporting'!J533)","v":""},{"$f":"IF('Caseload Reporting'!K533 = \"\",\"\",'Caseload Reporting'!K533)","v":""},{"$f":"IF('Caseload Reporting'!L533 = \"\",\"\",'Caseload Reporting'!L533)","v":""},{"$f":"IF('Caseload Reporting'!M533 = \"\",\"\",'Caseload Reporting'!M533)","v":""},{"$f":"IF('Caseload Reporting'!N533 = \"\",\"\",'Caseload Reporting'!N533)","v":""},{"$f":"IF('Caseload Reporting'!P533 = \"\",\"\",'Caseload Reporting'!P533)","v":""},{"$f":"IF('Caseload Reporting'!O533 = \"\",\"\",'Caseload Reporting'!O533)","v":""},{"$f":"IF('Caseload Reporting'!Q533 = \"\",\"\",'Caseload Reporting'!Q533)","v":""},{"$f":"IF('Caseload Reporting'!R533 = \"\",\"\",'Caseload Reporting'!R533)","v":""},{"$f":"IF('Caseload Reporting'!E533 = \"\",\"\",'Caseload Reporting'!E533)","v":""},{"$f":"IF('Caseload Reporting'!S533 = \"\",\"\",'Caseload Reporting'!S533)","v":""}]
[{"$f":"IF('Caseload Reporting'!A534 = \"\",\"\",'Caseload Reporting'!A534)","v":""},{"$f":"IF('Caseload Reporting'!B534 = \"\",\"\",'Caseload Reporting'!B534)","v":""},{"$f":"IF('Caseload Reporting'!C534 = \"\",\"\",'Caseload Reporting'!C534)","v":""},{"$f":"IF('Caseload Reporting'!D534 = \"\",\"\",'Caseload Reporting'!D534)","v":""},{"$f":"IF('Caseload Reporting'!G534 = \"\",\"\",'Caseload Reporting'!G534)","v":""},{"$f":"IF('Caseload Reporting'!H534 = \"\",\"\",'Caseload Reporting'!H534)","v":""},{"$f":"IF('Caseload Reporting'!I534 = \"\",\"\",'Caseload Reporting'!I534)","v":""},{"$f":"IF('Caseload Reporting'!J534 = \"\",\"\",'Caseload Reporting'!J534)","v":""},{"$f":"IF('Caseload Reporting'!K534 = \"\",\"\",'Caseload Reporting'!K534)","v":""},{"$f":"IF('Caseload Reporting'!L534 = \"\",\"\",'Caseload Reporting'!L534)","v":""},{"$f":"IF('Caseload Reporting'!M534 = \"\",\"\",'Caseload Reporting'!M534)","v":""},{"$f":"IF('Caseload Reporting'!N534 = \"\",\"\",'Caseload Reporting'!N534)","v":""},{"$f":"IF('Caseload Reporting'!P534 = \"\",\"\",'Caseload Reporting'!P534)","v":""},{"$f":"IF('Caseload Reporting'!O534 = \"\",\"\",'Caseload Reporting'!O534)","v":""},{"$f":"IF('Caseload Reporting'!Q534 = \"\",\"\",'Caseload Reporting'!Q534)","v":""},{"$f":"IF('Caseload Reporting'!R534 = \"\",\"\",'Caseload Reporting'!R534)","v":""},{"$f":"IF('Caseload Reporting'!E534 = \"\",\"\",'Caseload Reporting'!E534)","v":""},{"$f":"IF('Caseload Reporting'!S534 = \"\",\"\",'Caseload Reporting'!S534)","v":""}]
[{"$f":"IF('Caseload Reporting'!A535 = \"\",\"\",'Caseload Reporting'!A535)","v":""},{"$f":"IF('Caseload Reporting'!B535 = \"\",\"\",'Caseload Reporting'!B535)","v":""},{"$f":"IF('Caseload Reporting'!C535 = \"\",\"\",'Caseload Reporting'!C535)","v":""},{"$f":"IF('Caseload Reporting'!D535 = \"\",\"\",'Caseload Reporting'!D535)","v":""},{"$f":"IF('Caseload Reporting'!G535 = \"\",\"\",'Caseload Reporting'!G535)","v":""},{"$f":"IF('Caseload Reporting'!H535 = \"\",\"\",'Caseload Reporting'!H535)","v":""},{"$f":"IF('Caseload Reporting'!I535 = \"\",\"\",'Caseload Reporting'!I535)","v":""},{"$f":"IF('Caseload Reporting'!J535 = \"\",\"\",'Caseload Reporting'!J535)","v":""},{"$f":"IF('Caseload Reporting'!K535 = \"\",\"\",'Caseload Reporting'!K535)","v":""},{"$f":"IF('Caseload Reporting'!L535 = \"\",\"\",'Caseload Reporting'!L535)","v":""},{"$f":"IF('Caseload Reporting'!M535 = \"\",\"\",'Caseload Reporting'!M535)","v":""},{"$f":"IF('Caseload Reporting'!N535 = \"\",\"\",'Caseload Reporting'!N535)","v":""},{"$f":"IF('Caseload Reporting'!P535 = \"\",\"\",'Caseload Reporting'!P535)","v":""},{"$f":"IF('Caseload Reporting'!O535 = \"\",\"\",'Caseload Reporting'!O535)","v":""},{"$f":"IF('Caseload Reporting'!Q535 = \"\",\"\",'Caseload Reporting'!Q535)","v":""},{"$f":"IF('Caseload Reporting'!R535 = \"\",\"\",'Caseload Reporting'!R535)","v":""},{"$f":"IF('Caseload Reporting'!E535 = \"\",\"\",'Caseload Reporting'!E535)","v":""},{"$f":"IF('Caseload Reporting'!S535 = \"\",\"\",'Caseload Reporting'!S535)","v":""}]
[{"$f":"IF('Caseload Reporting'!A536 = \"\",\"\",'Caseload Reporting'!A536)","v":""},{"$f":"IF('Caseload Reporting'!B536 = \"\",\"\",'Caseload Reporting'!B536)","v":""},{"$f":"IF('Caseload Reporting'!C536 = \"\",\"\",'Caseload Reporting'!C536)","v":""},{"$f":"IF('Caseload Reporting'!D536 = \"\",\"\",'Caseload Reporting'!D536)","v":""},{"$f":"IF('Caseload Reporting'!G536 = \"\",\"\",'Caseload Reporting'!G536)","v":""},{"$f":"IF('Caseload Reporting'!H536 = \"\",\"\",'Caseload Reporting'!H536)","v":""},{"$f":"IF('Caseload Reporting'!I536 = \"\",\"\",'Caseload Reporting'!I536)","v":""},{"$f":"IF('Caseload Reporting'!J536 = \"\",\"\",'Caseload Reporting'!J536)","v":""},{"$f":"IF('Caseload Reporting'!K536 = \"\",\"\",'Caseload Reporting'!K536)","v":""},{"$f":"IF('Caseload Reporting'!L536 = \"\",\"\",'Caseload Reporting'!L536)","v":""},{"$f":"IF('Caseload Reporting'!M536 = \"\",\"\",'Caseload Reporting'!M536)","v":""},{"$f":"IF('Caseload Reporting'!N536 = \"\",\"\",'Caseload Reporting'!N536)","v":""},{"$f":"IF('Caseload Reporting'!P536 = \"\",\"\",'Caseload Reporting'!P536)","v":""},{"$f":"IF('Caseload Reporting'!O536 = \"\",\"\",'Caseload Reporting'!O536)","v":""},{"$f":"IF('Caseload Reporting'!Q536 = \"\",\"\",'Caseload Reporting'!Q536)","v":""},{"$f":"IF('Caseload Reporting'!R536 = \"\",\"\",'Caseload Reporting'!R536)","v":""},{"$f":"IF('Caseload Reporting'!E536 = \"\",\"\",'Caseload Reporting'!E536)","v":""},{"$f":"IF('Caseload Reporting'!S536 = \"\",\"\",'Caseload Reporting'!S536)","v":""}]
[{"$f":"IF('Caseload Reporting'!A537 = \"\",\"\",'Caseload Reporting'!A537)","v":""},{"$f":"IF('Caseload Reporting'!B537 = \"\",\"\",'Caseload Reporting'!B537)","v":""},{"$f":"IF('Caseload Reporting'!C537 = \"\",\"\",'Caseload Reporting'!C537)","v":""},{"$f":"IF('Caseload Reporting'!D537 = \"\",\"\",'Caseload Reporting'!D537)","v":""},{"$f":"IF('Caseload Reporting'!G537 = \"\",\"\",'Caseload Reporting'!G537)","v":""},{"$f":"IF('Caseload Reporting'!H537 = \"\",\"\",'Caseload Reporting'!H537)","v":""},{"$f":"IF('Caseload Reporting'!I537 = \"\",\"\",'Caseload Reporting'!I537)","v":""},{"$f":"IF('Caseload Reporting'!J537 = \"\",\"\",'Caseload Reporting'!J537)","v":""},{"$f":"IF('Caseload Reporting'!K537 = \"\",\"\",'Caseload Reporting'!K537)","v":""},{"$f":"IF('Caseload Reporting'!L537 = \"\",\"\",'Caseload Reporting'!L537)","v":""},{"$f":"IF('Caseload Reporting'!M537 = \"\",\"\",'Caseload Reporting'!M537)","v":""},{"$f":"IF('Caseload Reporting'!N537 = \"\",\"\",'Caseload Reporting'!N537)","v":""},{"$f":"IF('Caseload Reporting'!P537 = \"\",\"\",'Caseload Reporting'!P537)","v":""},{"$f":"IF('Caseload Reporting'!O537 = \"\",\"\",'Caseload Reporting'!O537)","v":""},{"$f":"IF('Caseload Reporting'!Q537 = \"\",\"\",'Caseload Reporting'!Q537)","v":""},{"$f":"IF('Caseload Reporting'!R537 = \"\",\"\",'Caseload Reporting'!R537)","v":""},{"$f":"IF('Caseload Reporting'!E537 = \"\",\"\",'Caseload Reporting'!E537)","v":""},{"$f":"IF('Caseload Reporting'!S537 = \"\",\"\",'Caseload Reporting'!S537)","v":""}]
[{"$f":"IF('Caseload Reporting'!A538 = \"\",\"\",'Caseload Reporting'!A538)","v":""},{"$f":"IF('Caseload Reporting'!B538 = \"\",\"\",'Caseload Reporting'!B538)","v":""},{"$f":"IF('Caseload Reporting'!C538 = \"\",\"\",'Caseload Reporting'!C538)","v":""},{"$f":"IF('Caseload Reporting'!D538 = \"\",\"\",'Caseload Reporting'!D538)","v":""},{"$f":"IF('Caseload Reporting'!G538 = \"\",\"\",'Caseload Reporting'!G538)","v":""},{"$f":"IF('Caseload Reporting'!H538 = \"\",\"\",'Caseload Reporting'!H538)","v":""},{"$f":"IF('Caseload Reporting'!I538 = \"\",\"\",'Caseload Reporting'!I538)","v":""},{"$f":"IF('Caseload Reporting'!J538 = \"\",\"\",'Caseload Reporting'!J538)","v":""},{"$f":"IF('Caseload Reporting'!K538 = \"\",\"\",'Caseload Reporting'!K538)","v":""},{"$f":"IF('Caseload Reporting'!L538 = \"\",\"\",'Caseload Reporting'!L538)","v":""},{"$f":"IF('Caseload Reporting'!M538 = \"\",\"\",'Caseload Reporting'!M538)","v":""},{"$f":"IF('Caseload Reporting'!N538 = \"\",\"\",'Caseload Reporting'!N538)","v":""},{"$f":"IF('Caseload Reporting'!P538 = \"\",\"\",'Caseload Reporting'!P538)","v":""},{"$f":"IF('Caseload Reporting'!O538 = \"\",\"\",'Caseload Reporting'!O538)","v":""},{"$f":"IF('Caseload Reporting'!Q538 = \"\",\"\",'Caseload Reporting'!Q538)","v":""},{"$f":"IF('Caseload Reporting'!R538 = \"\",\"\",'Caseload Reporting'!R538)","v":""},{"$f":"IF('Caseload Reporting'!E538 = \"\",\"\",'Caseload Reporting'!E538)","v":""},{"$f":"IF('Caseload Reporting'!S538 = \"\",\"\",'Caseload Reporting'!S538)","v":""}]
[{"$f":"IF('Caseload Reporting'!A539 = \"\",\"\",'Caseload Reporting'!A539)","v":""},{"$f":"IF('Caseload Reporting'!B539 = \"\",\"\",'Caseload Reporting'!B539)","v":""},{"$f":"IF('Caseload Reporting'!C539 = \"\",\"\",'Caseload Reporting'!C539)","v":""},{"$f":"IF('Caseload Reporting'!D539 = \"\",\"\",'Caseload Reporting'!D539)","v":""},{"$f":"IF('Caseload Reporting'!G539 = \"\",\"\",'Caseload Reporting'!G539)","v":""},{"$f":"IF('Caseload Reporting'!H539 = \"\",\"\",'Caseload Reporting'!H539)","v":""},{"$f":"IF('Caseload Reporting'!I539 = \"\",\"\",'Caseload Reporting'!I539)","v":""},{"$f":"IF('Caseload Reporting'!J539 = \"\",\"\",'Caseload Reporting'!J539)","v":""},{"$f":"IF('Caseload Reporting'!K539 = \"\",\"\",'Caseload Reporting'!K539)","v":""},{"$f":"IF('Caseload Reporting'!L539 = \"\",\"\",'Caseload Reporting'!L539)","v":""},{"$f":"IF('Caseload Reporting'!M539 = \"\",\"\",'Caseload Reporting'!M539)","v":""},{"$f":"IF('Caseload Reporting'!N539 = \"\",\"\",'Caseload Reporting'!N539)","v":""},{"$f":"IF('Caseload Reporting'!P539 = \"\",\"\",'Caseload Reporting'!P539)","v":""},{"$f":"IF('Caseload Reporting'!O539 = \"\",\"\",'Caseload Reporting'!O539)","v":""},{"$f":"IF('Caseload Reporting'!Q539 = \"\",\"\",'Caseload Reporting'!Q539)","v":""},{"$f":"IF('Caseload Reporting'!R539 = \"\",\"\",'Caseload Reporting'!R539)","v":""},{"$f":"IF('Caseload Reporting'!E539 = \"\",\"\",'Caseload Reporting'!E539)","v":""},{"$f":"IF('Caseload Reporting'!S539 = \"\",\"\",'Caseload Reporting'!S539)","v":""}]
[{"$f":"IF('Caseload Reporting'!A540 = \"\",\"\",'Caseload Reporting'!A540)","v":""},{"$f":"IF('Caseload Reporting'!B540 = \"\",\"\",'Caseload Reporting'!B540)","v":""},{"$f":"IF('Caseload Reporting'!C540 = \"\",\"\",'Caseload Reporting'!C540)","v":""},{"$f":"IF('Caseload Reporting'!D540 = \"\",\"\",'Caseload Reporting'!D540)","v":""},{"$f":"IF('Caseload Reporting'!G540 = \"\",\"\",'Caseload Reporting'!G540)","v":""},{"$f":"IF('Caseload Reporting'!H540 = \"\",\"\",'Caseload Reporting'!H540)","v":""},{"$f":"IF('Caseload Reporting'!I540 = \"\",\"\",'Caseload Reporting'!I540)","v":""},{"$f":"IF('Caseload Reporting'!J540 = \"\",\"\",'Caseload Reporting'!J540)","v":""},{"$f":"IF('Caseload Reporting'!K540 = \"\",\"\",'Caseload Reporting'!K540)","v":""},{"$f":"IF('Caseload Reporting'!L540 = \"\",\"\",'Caseload Reporting'!L540)","v":""},{"$f":"IF('Caseload Reporting'!M540 = \"\",\"\",'Caseload Reporting'!M540)","v":""},{"$f":"IF('Caseload Reporting'!N540 = \"\",\"\",'Caseload Reporting'!N540)","v":""},{"$f":"IF('Caseload Reporting'!P540 = \"\",\"\",'Caseload Reporting'!P540)","v":""},{"$f":"IF('Caseload Reporting'!O540 = \"\",\"\",'Caseload Reporting'!O540)","v":""},{"$f":"IF('Caseload Reporting'!Q540 = \"\",\"\",'Caseload Reporting'!Q540)","v":""},{"$f":"IF('Caseload Reporting'!R540 = \"\",\"\",'Caseload Reporting'!R540)","v":""},{"$f":"IF('Caseload Reporting'!E540 = \"\",\"\",'Caseload Reporting'!E540)","v":""},{"$f":"IF('Caseload Reporting'!S540 = \"\",\"\",'Caseload Reporting'!S540)","v":""}]
[{"$f":"IF('Caseload Reporting'!A541 = \"\",\"\",'Caseload Reporting'!A541)","v":""},{"$f":"IF('Caseload Reporting'!B541 = \"\",\"\",'Caseload Reporting'!B541)","v":""},{"$f":"IF('Caseload Reporting'!C541 = \"\",\"\",'Caseload Reporting'!C541)","v":""},{"$f":"IF('Caseload Reporting'!D541 = \"\",\"\",'Caseload Reporting'!D541)","v":""},{"$f":"IF('Caseload Reporting'!G541 = \"\",\"\",'Caseload Reporting'!G541)","v":""},{"$f":"IF('Caseload Reporting'!H541 = \"\",\"\",'Caseload Reporting'!H541)","v":""},{"$f":"IF('Caseload Reporting'!I541 = \"\",\"\",'Caseload Reporting'!I541)","v":""},{"$f":"IF('Caseload Reporting'!J541 = \"\",\"\",'Caseload Reporting'!J541)","v":""},{"$f":"IF('Caseload Reporting'!K541 = \"\",\"\",'Caseload Reporting'!K541)","v":""},{"$f":"IF('Caseload Reporting'!L541 = \"\",\"\",'Caseload Reporting'!L541)","v":""},{"$f":"IF('Caseload Reporting'!M541 = \"\",\"\",'Caseload Reporting'!M541)","v":""},{"$f":"IF('Caseload Reporting'!N541 = \"\",\"\",'Caseload Reporting'!N541)","v":""},{"$f":"IF('Caseload Reporting'!P541 = \"\",\"\",'Caseload Reporting'!P541)","v":""},{"$f":"IF('Caseload Reporting'!O541 = \"\",\"\",'Caseload Reporting'!O541)","v":""},{"$f":"IF('Caseload Reporting'!Q541 = \"\",\"\",'Caseload Reporting'!Q541)","v":""},{"$f":"IF('Caseload Reporting'!R541 = \"\",\"\",'Caseload Reporting'!R541)","v":""},{"$f":"IF('Caseload Reporting'!E541 = \"\",\"\",'Caseload Reporting'!E541)","v":""},{"$f":"IF('Caseload Reporting'!S541 = \"\",\"\",'Caseload Reporting'!S541)","v":""}]
[{"$f":"IF('Caseload Reporting'!A542 = \"\",\"\",'Caseload Reporting'!A542)","v":""},{"$f":"IF('Caseload Reporting'!B542 = \"\",\"\",'Caseload Reporting'!B542)","v":""},{"$f":"IF('Caseload Reporting'!C542 = \"\",\"\",'Caseload Reporting'!C542)","v":""},{"$f":"IF('Caseload Reporting'!D542 = \"\",\"\",'Caseload Reporting'!D542)","v":""},{"$f":"IF('Caseload Reporting'!G542 = \"\",\"\",'Caseload Reporting'!G542)","v":""},{"$f":"IF('Caseload Reporting'!H542 = \"\",\"\",'Caseload Reporting'!H542)","v":""},{"$f":"IF('Caseload Reporting'!I542 = \"\",\"\",'Caseload Reporting'!I542)","v":""},{"$f":"IF('Caseload Reporting'!J542 = \"\",\"\",'Caseload Reporting'!J542)","v":""},{"$f":"IF('Caseload Reporting'!K542 = \"\",\"\",'Caseload Reporting'!K542)","v":""},{"$f":"IF('Caseload Reporting'!L542 = \"\",\"\",'Caseload Reporting'!L542)","v":""},{"$f":"IF('Caseload Reporting'!M542 = \"\",\"\",'Caseload Reporting'!M542)","v":""},{"$f":"IF('Caseload Reporting'!N542 = \"\",\"\",'Caseload Reporting'!N542)","v":""},{"$f":"IF('Caseload Reporting'!P542 = \"\",\"\",'Caseload Reporting'!P542)","v":""},{"$f":"IF('Caseload Reporting'!O542 = \"\",\"\",'Caseload Reporting'!O542)","v":""},{"$f":"IF('Caseload Reporting'!Q542 = \"\",\"\",'Caseload Reporting'!Q542)","v":""},{"$f":"IF('Caseload Reporting'!R542 = \"\",\"\",'Caseload Reporting'!R542)","v":""},{"$f":"IF('Caseload Reporting'!E542 = \"\",\"\",'Caseload Reporting'!E542)","v":""},{"$f":"IF('Caseload Reporting'!S542 = \"\",\"\",'Caseload Reporting'!S542)","v":""}]
[{"$f":"IF('Caseload Reporting'!A543 = \"\",\"\",'Caseload Reporting'!A543)","v":""},{"$f":"IF('Caseload Reporting'!B543 = \"\",\"\",'Caseload Reporting'!B543)","v":""},{"$f":"IF('Caseload Reporting'!C543 = \"\",\"\",'Caseload Reporting'!C543)","v":""},{"$f":"IF('Caseload Reporting'!D543 = \"\",\"\",'Caseload Reporting'!D543)","v":""},{"$f":"IF('Caseload Reporting'!G543 = \"\",\"\",'Caseload Reporting'!G543)","v":""},{"$f":"IF('Caseload Reporting'!H543 = \"\",\"\",'Caseload Reporting'!H543)","v":""},{"$f":"IF('Caseload Reporting'!I543 = \"\",\"\",'Caseload Reporting'!I543)","v":""},{"$f":"IF('Caseload Reporting'!J543 = \"\",\"\",'Caseload Reporting'!J543)","v":""},{"$f":"IF('Caseload Reporting'!K543 = \"\",\"\",'Caseload Reporting'!K543)","v":""},{"$f":"IF('Caseload Reporting'!L543 = \"\",\"\",'Caseload Reporting'!L543)","v":""},{"$f":"IF('Caseload Reporting'!M543 = \"\",\"\",'Caseload Reporting'!M543)","v":""},{"$f":"IF('Caseload Reporting'!N543 = \"\",\"\",'Caseload Reporting'!N543)","v":""},{"$f":"IF('Caseload Reporting'!P543 = \"\",\"\",'Caseload Reporting'!P543)","v":""},{"$f":"IF('Caseload Reporting'!O543 = \"\",\"\",'Caseload Reporting'!O543)","v":""},{"$f":"IF('Caseload Reporting'!Q543 = \"\",\"\",'Caseload Reporting'!Q543)","v":""},{"$f":"IF('Caseload Reporting'!R543 = \"\",\"\",'Caseload Reporting'!R543)","v":""},{"$f":"IF('Caseload Reporting'!E543 = \"\",\"\",'Caseload Reporting'!E543)","v":""},{"$f":"IF('Caseload Reporting'!S543 = \"\",\"\",'Caseload Reporting'!S543)","v":""}]
[{"$f":"IF('Caseload Reporting'!A544 = \"\",\"\",'Caseload Reporting'!A544)","v":""},{"$f":"IF('Caseload Reporting'!B544 = \"\",\"\",'Caseload Reporting'!B544)","v":""},{"$f":"IF('Caseload Reporting'!C544 = \"\",\"\",'Caseload Reporting'!C544)","v":""},{"$f":"IF('Caseload Reporting'!D544 = \"\",\"\",'Caseload Reporting'!D544)","v":""},{"$f":"IF('Caseload Reporting'!G544 = \"\",\"\",'Caseload Reporting'!G544)","v":""},{"$f":"IF('Caseload Reporting'!H544 = \"\",\"\",'Caseload Reporting'!H544)","v":""},{"$f":"IF('Caseload Reporting'!I544 = \"\",\"\",'Caseload Reporting'!I544)","v":""},{"$f":"IF('Caseload Reporting'!J544 = \"\",\"\",'Caseload Reporting'!J544)","v":""},{"$f":"IF('Caseload Reporting'!K544 = \"\",\"\",'Caseload Reporting'!K544)","v":""},{"$f":"IF('Caseload Reporting'!L544 = \"\",\"\",'Caseload Reporting'!L544)","v":""},{"$f":"IF('Caseload Reporting'!M544 = \"\",\"\",'Caseload Reporting'!M544)","v":""},{"$f":"IF('Caseload Reporting'!N544 = \"\",\"\",'Caseload Reporting'!N544)","v":""},{"$f":"IF('Caseload Reporting'!P544 = \"\",\"\",'Caseload Reporting'!P544)","v":""},{"$f":"IF('Caseload Reporting'!O544 = \"\",\"\",'Caseload Reporting'!O544)","v":""},{"$f":"IF('Caseload Reporting'!Q544 = \"\",\"\",'Caseload Reporting'!Q544)","v":""},{"$f":"IF('Caseload Reporting'!R544 = \"\",\"\",'Caseload Reporting'!R544)","v":""},{"$f":"IF('Caseload Reporting'!E544 = \"\",\"\",'Caseload Reporting'!E544)","v":""},{"$f":"IF('Caseload Reporting'!S544 = \"\",\"\",'Caseload Reporting'!S544)","v":""}]
[{"$f":"IF('Caseload Reporting'!A545 = \"\",\"\",'Caseload Reporting'!A545)","v":""},{"$f":"IF('Caseload Reporting'!B545 = \"\",\"\",'Caseload Reporting'!B545)","v":""},{"$f":"IF('Caseload Reporting'!C545 = \"\",\"\",'Caseload Reporting'!C545)","v":""},{"$f":"IF('Caseload Reporting'!D545 = \"\",\"\",'Caseload Reporting'!D545)","v":""},{"$f":"IF('Caseload Reporting'!G545 = \"\",\"\",'Caseload Reporting'!G545)","v":""},{"$f":"IF('Caseload Reporting'!H545 = \"\",\"\",'Caseload Reporting'!H545)","v":""},{"$f":"IF('Caseload Reporting'!I545 = \"\",\"\",'Caseload Reporting'!I545)","v":""},{"$f":"IF('Caseload Reporting'!J545 = \"\",\"\",'Caseload Reporting'!J545)","v":""},{"$f":"IF('Caseload Reporting'!K545 = \"\",\"\",'Caseload Reporting'!K545)","v":""},{"$f":"IF('Caseload Reporting'!L545 = \"\",\"\",'Caseload Reporting'!L545)","v":""},{"$f":"IF('Caseload Reporting'!M545 = \"\",\"\",'Caseload Reporting'!M545)","v":""},{"$f":"IF('Caseload Reporting'!N545 = \"\",\"\",'Caseload Reporting'!N545)","v":""},{"$f":"IF('Caseload Reporting'!P545 = \"\",\"\",'Caseload Reporting'!P545)","v":""},{"$f":"IF('Caseload Reporting'!O545 = \"\",\"\",'Caseload Reporting'!O545)","v":""},{"$f":"IF('Caseload Reporting'!Q545 = \"\",\"\",'Caseload Reporting'!Q545)","v":""},{"$f":"IF('Caseload Reporting'!R545 = \"\",\"\",'Caseload Reporting'!R545)","v":""},{"$f":"IF('Caseload Reporting'!E545 = \"\",\"\",'Caseload Reporting'!E545)","v":""},{"$f":"IF('Caseload Reporting'!S545 = \"\",\"\",'Caseload Reporting'!S545)","v":""}]
[{"$f":"IF('Caseload Reporting'!A546 = \"\",\"\",'Caseload Reporting'!A546)","v":""},{"$f":"IF('Caseload Reporting'!B546 = \"\",\"\",'Caseload Reporting'!B546)","v":""},{"$f":"IF('Caseload Reporting'!C546 = \"\",\"\",'Caseload Reporting'!C546)","v":""},{"$f":"IF('Caseload Reporting'!D546 = \"\",\"\",'Caseload Reporting'!D546)","v":""},{"$f":"IF('Caseload Reporting'!G546 = \"\",\"\",'Caseload Reporting'!G546)","v":""},{"$f":"IF('Caseload Reporting'!H546 = \"\",\"\",'Caseload Reporting'!H546)","v":""},{"$f":"IF('Caseload Reporting'!I546 = \"\",\"\",'Caseload Reporting'!I546)","v":""},{"$f":"IF('Caseload Reporting'!J546 = \"\",\"\",'Caseload Reporting'!J546)","v":""},{"$f":"IF('Caseload Reporting'!K546 = \"\",\"\",'Caseload Reporting'!K546)","v":""},{"$f":"IF('Caseload Reporting'!L546 = \"\",\"\",'Caseload Reporting'!L546)","v":""},{"$f":"IF('Caseload Reporting'!M546 = \"\",\"\",'Caseload Reporting'!M546)","v":""},{"$f":"IF('Caseload Reporting'!N546 = \"\",\"\",'Caseload Reporting'!N546)","v":""},{"$f":"IF('Caseload Reporting'!P546 = \"\",\"\",'Caseload Reporting'!P546)","v":""},{"$f":"IF('Caseload Reporting'!O546 = \"\",\"\",'Caseload Reporting'!O546)","v":""},{"$f":"IF('Caseload Reporting'!Q546 = \"\",\"\",'Caseload Reporting'!Q546)","v":""},{"$f":"IF('Caseload Reporting'!R546 = \"\",\"\",'Caseload Reporting'!R546)","v":""},{"$f":"IF('Caseload Reporting'!E546 = \"\",\"\",'Caseload Reporting'!E546)","v":""},{"$f":"IF('Caseload Reporting'!S546 = \"\",\"\",'Caseload Reporting'!S546)","v":""}]
[{"$f":"IF('Caseload Reporting'!A547 = \"\",\"\",'Caseload Reporting'!A547)","v":""},{"$f":"IF('Caseload Reporting'!B547 = \"\",\"\",'Caseload Reporting'!B547)","v":""},{"$f":"IF('Caseload Reporting'!C547 = \"\",\"\",'Caseload Reporting'!C547)","v":""},{"$f":"IF('Caseload Reporting'!D547 = \"\",\"\",'Caseload Reporting'!D547)","v":""},{"$f":"IF('Caseload Reporting'!G547 = \"\",\"\",'Caseload Reporting'!G547)","v":""},{"$f":"IF('Caseload Reporting'!H547 = \"\",\"\",'Caseload Reporting'!H547)","v":""},{"$f":"IF('Caseload Reporting'!I547 = \"\",\"\",'Caseload Reporting'!I547)","v":""},{"$f":"IF('Caseload Reporting'!J547 = \"\",\"\",'Caseload Reporting'!J547)","v":""},{"$f":"IF('Caseload Reporting'!K547 = \"\",\"\",'Caseload Reporting'!K547)","v":""},{"$f":"IF('Caseload Reporting'!L547 = \"\",\"\",'Caseload Reporting'!L547)","v":""},{"$f":"IF('Caseload Reporting'!M547 = \"\",\"\",'Caseload Reporting'!M547)","v":""},{"$f":"IF('Caseload Reporting'!N547 = \"\",\"\",'Caseload Reporting'!N547)","v":""},{"$f":"IF('Caseload Reporting'!P547 = \"\",\"\",'Caseload Reporting'!P547)","v":""},{"$f":"IF('Caseload Reporting'!O547 = \"\",\"\",'Caseload Reporting'!O547)","v":""},{"$f":"IF('Caseload Reporting'!Q547 = \"\",\"\",'Caseload Reporting'!Q547)","v":""},{"$f":"IF('Caseload Reporting'!R547 = \"\",\"\",'Caseload Reporting'!R547)","v":""},{"$f":"IF('Caseload Reporting'!E547 = \"\",\"\",'Caseload Reporting'!E547)","v":""},{"$f":"IF('Caseload Reporting'!S547 = \"\",\"\",'Caseload Reporting'!S547)","v":""}]
[{"$f":"IF('Caseload Reporting'!A548 = \"\",\"\",'Caseload Reporting'!A548)","v":""},{"$f":"IF('Caseload Reporting'!B548 = \"\",\"\",'Caseload Reporting'!B548)","v":""},{"$f":"IF('Caseload Reporting'!C548 = \"\",\"\",'Caseload Reporting'!C548)","v":""},{"$f":"IF('Caseload Reporting'!D548 = \"\",\"\",'Caseload Reporting'!D548)","v":""},{"$f":"IF('Caseload Reporting'!G548 = \"\",\"\",'Caseload Reporting'!G548)","v":""},{"$f":"IF('Caseload Reporting'!H548 = \"\",\"\",'Caseload Reporting'!H548)","v":""},{"$f":"IF('Caseload Reporting'!I548 = \"\",\"\",'Caseload Reporting'!I548)","v":""},{"$f":"IF('Caseload Reporting'!J548 = \"\",\"\",'Caseload Reporting'!J548)","v":""},{"$f":"IF('Caseload Reporting'!K548 = \"\",\"\",'Caseload Reporting'!K548)","v":""},{"$f":"IF('Caseload Reporting'!L548 = \"\",\"\",'Caseload Reporting'!L548)","v":""},{"$f":"IF('Caseload Reporting'!M548 = \"\",\"\",'Caseload Reporting'!M548)","v":""},{"$f":"IF('Caseload Reporting'!N548 = \"\",\"\",'Caseload Reporting'!N548)","v":""},{"$f":"IF('Caseload Reporting'!P548 = \"\",\"\",'Caseload Reporting'!P548)","v":""},{"$f":"IF('Caseload Reporting'!O548 = \"\",\"\",'Caseload Reporting'!O548)","v":""},{"$f":"IF('Caseload Reporting'!Q548 = \"\",\"\",'Caseload Reporting'!Q548)","v":""},{"$f":"IF('Caseload Reporting'!R548 = \"\",\"\",'Caseload Reporting'!R548)","v":""},{"$f":"IF('Caseload Reporting'!E548 = \"\",\"\",'Caseload Reporting'!E548)","v":""},{"$f":"IF('Caseload Reporting'!S548 = \"\",\"\",'Caseload Reporting'!S548)","v":""}]
[{"$f":"IF('Caseload Reporting'!A549 = \"\",\"\",'Caseload Reporting'!A549)","v":""},{"$f":"IF('Caseload Reporting'!B549 = \"\",\"\",'Caseload Reporting'!B549)","v":""},{"$f":"IF('Caseload Reporting'!C549 = \"\",\"\",'Caseload Reporting'!C549)","v":""},{"$f":"IF('Caseload Reporting'!D549 = \"\",\"\",'Caseload Reporting'!D549)","v":""},{"$f":"IF('Caseload Reporting'!G549 = \"\",\"\",'Caseload Reporting'!G549)","v":""},{"$f":"IF('Caseload Reporting'!H549 = \"\",\"\",'Caseload Reporting'!H549)","v":""},{"$f":"IF('Caseload Reporting'!I549 = \"\",\"\",'Caseload Reporting'!I549)","v":""},{"$f":"IF('Caseload Reporting'!J549 = \"\",\"\",'Caseload Reporting'!J549)","v":""},{"$f":"IF('Caseload Reporting'!K549 = \"\",\"\",'Caseload Reporting'!K549)","v":""},{"$f":"IF('Caseload Reporting'!L549 = \"\",\"\",'Caseload Reporting'!L549)","v":""},{"$f":"IF('Caseload Reporting'!M549 = \"\",\"\",'Caseload Reporting'!M549)","v":""},{"$f":"IF('Caseload Reporting'!N549 = \"\",\"\",'Caseload Reporting'!N549)","v":""},{"$f":"IF('Caseload Reporting'!P549 = \"\",\"\",'Caseload Reporting'!P549)","v":""},{"$f":"IF('Caseload Reporting'!O549 = \"\",\"\",'Caseload Reporting'!O549)","v":""},{"$f":"IF('Caseload Reporting'!Q549 = \"\",\"\",'Caseload Reporting'!Q549)","v":""},{"$f":"IF('Caseload Reporting'!R549 = \"\",\"\",'Caseload Reporting'!R549)","v":""},{"$f":"IF('Caseload Reporting'!E549 = \"\",\"\",'Caseload Reporting'!E549)","v":""},{"$f":"IF('Caseload Reporting'!S549 = \"\",\"\",'Caseload Reporting'!S549)","v":""}]
[{"$f":"IF('Caseload Reporting'!A550 = \"\",\"\",'Caseload Reporting'!A550)","v":""},{"$f":"IF('Caseload Reporting'!B550 = \"\",\"\",'Caseload Reporting'!B550)","v":""},{"$f":"IF('Caseload Reporting'!C550 = \"\",\"\",'Caseload Reporting'!C550)","v":""},{"$f":"IF('Caseload Reporting'!D550 = \"\",\"\",'Caseload Reporting'!D550)","v":""},{"$f":"IF('Caseload Reporting'!G550 = \"\",\"\",'Caseload Reporting'!G550)","v":""},{"$f":"IF('Caseload Reporting'!H550 = \"\",\"\",'Caseload Reporting'!H550)","v":""},{"$f":"IF('Caseload Reporting'!I550 = \"\",\"\",'Caseload Reporting'!I550)","v":""},{"$f":"IF('Caseload Reporting'!J550 = \"\",\"\",'Caseload Reporting'!J550)","v":""},{"$f":"IF('Caseload Reporting'!K550 = \"\",\"\",'Caseload Reporting'!K550)","v":""},{"$f":"IF('Caseload Reporting'!L550 = \"\",\"\",'Caseload Reporting'!L550)","v":""},{"$f":"IF('Caseload Reporting'!M550 = \"\",\"\",'Caseload Reporting'!M550)","v":""},{"$f":"IF('Caseload Reporting'!N550 = \"\",\"\",'Caseload Reporting'!N550)","v":""},{"$f":"IF('Caseload Reporting'!P550 = \"\",\"\",'Caseload Reporting'!P550)","v":""},{"$f":"IF('Caseload Reporting'!O550 = \"\",\"\",'Caseload Reporting'!O550)","v":""},{"$f":"IF('Caseload Reporting'!Q550 = \"\",\"\",'Caseload Reporting'!Q550)","v":""},{"$f":"IF('Caseload Reporting'!R550 = \"\",\"\",'Caseload Reporting'!R550)","v":""},{"$f":"IF('Caseload Reporting'!E550 = \"\",\"\",'Caseload Reporting'!E550)","v":""},{"$f":"IF('Caseload Reporting'!S550 = \"\",\"\",'Caseload Reporting'!S550)","v":""}]
[{"$f":"IF('Caseload Reporting'!A551 = \"\",\"\",'Caseload Reporting'!A551)","v":""},{"$f":"IF('Caseload Reporting'!B551 = \"\",\"\",'Caseload Reporting'!B551)","v":""},{"$f":"IF('Caseload Reporting'!C551 = \"\",\"\",'Caseload Reporting'!C551)","v":""},{"$f":"IF('Caseload Reporting'!D551 = \"\",\"\",'Caseload Reporting'!D551)","v":""},{"$f":"IF('Caseload Reporting'!G551 = \"\",\"\",'Caseload Reporting'!G551)","v":""},{"$f":"IF('Caseload Reporting'!H551 = \"\",\"\",'Caseload Reporting'!H551)","v":""},{"$f":"IF('Caseload Reporting'!I551 = \"\",\"\",'Caseload Reporting'!I551)","v":""},{"$f":"IF('Caseload Reporting'!J551 = \"\",\"\",'Caseload Reporting'!J551)","v":""},{"$f":"IF('Caseload Reporting'!K551 = \"\",\"\",'Caseload Reporting'!K551)","v":""},{"$f":"IF('Caseload Reporting'!L551 = \"\",\"\",'Caseload Reporting'!L551)","v":""},{"$f":"IF('Caseload Reporting'!M551 = \"\",\"\",'Caseload Reporting'!M551)","v":""},{"$f":"IF('Caseload Reporting'!N551 = \"\",\"\",'Caseload Reporting'!N551)","v":""},{"$f":"IF('Caseload Reporting'!P551 = \"\",\"\",'Caseload Reporting'!P551)","v":""},{"$f":"IF('Caseload Reporting'!O551 = \"\",\"\",'Caseload Reporting'!O551)","v":""},{"$f":"IF('Caseload Reporting'!Q551 = \"\",\"\",'Caseload Reporting'!Q551)","v":""},{"$f":"IF('Caseload Reporting'!R551 = \"\",\"\",'Caseload Reporting'!R551)","v":""},{"$f":"IF('Caseload Reporting'!E551 = \"\",\"\",'Caseload Reporting'!E551)","v":""},{"$f":"IF('Caseload Reporting'!S551 = \"\",\"\",'Caseload Reporting'!S551)","v":""}]
[{"$f":"IF('Caseload Reporting'!A552 = \"\",\"\",'Caseload Reporting'!A552)","v":""},{"$f":"IF('Caseload Reporting'!B552 = \"\",\"\",'Caseload Reporting'!B552)","v":""},{"$f":"IF('Caseload Reporting'!C552 = \"\",\"\",'Caseload Reporting'!C552)","v":""},{"$f":"IF('Caseload Reporting'!D552 = \"\",\"\",'Caseload Reporting'!D552)","v":""},{"$f":"IF('Caseload Reporting'!G552 = \"\",\"\",'Caseload Reporting'!G552)","v":""},{"$f":"IF('Caseload Reporting'!H552 = \"\",\"\",'Caseload Reporting'!H552)","v":""},{"$f":"IF('Caseload Reporting'!I552 = \"\",\"\",'Caseload Reporting'!I552)","v":""},{"$f":"IF('Caseload Reporting'!J552 = \"\",\"\",'Caseload Reporting'!J552)","v":""},{"$f":"IF('Caseload Reporting'!K552 = \"\",\"\",'Caseload Reporting'!K552)","v":""},{"$f":"IF('Caseload Reporting'!L552 = \"\",\"\",'Caseload Reporting'!L552)","v":""},{"$f":"IF('Caseload Reporting'!M552 = \"\",\"\",'Caseload Reporting'!M552)","v":""},{"$f":"IF('Caseload Reporting'!N552 = \"\",\"\",'Caseload Reporting'!N552)","v":""},{"$f":"IF('Caseload Reporting'!P552 = \"\",\"\",'Caseload Reporting'!P552)","v":""},{"$f":"IF('Caseload Reporting'!O552 = \"\",\"\",'Caseload Reporting'!O552)","v":""},{"$f":"IF('Caseload Reporting'!Q552 = \"\",\"\",'Caseload Reporting'!Q552)","v":""},{"$f":"IF('Caseload Reporting'!R552 = \"\",\"\",'Caseload Reporting'!R552)","v":""},{"$f":"IF('Caseload Reporting'!E552 = \"\",\"\",'Caseload Reporting'!E552)","v":""},{"$f":"IF('Caseload Reporting'!S552 = \"\",\"\",'Caseload Reporting'!S552)","v":""}]
[{"$f":"IF('Caseload Reporting'!A553 = \"\",\"\",'Caseload Reporting'!A553)","v":""},{"$f":"IF('Caseload Reporting'!B553 = \"\",\"\",'Caseload Reporting'!B553)","v":""},{"$f":"IF('Caseload Reporting'!C553 = \"\",\"\",'Caseload Reporting'!C553)","v":""},{"$f":"IF('Caseload Reporting'!D553 = \"\",\"\",'Caseload Reporting'!D553)","v":""},{"$f":"IF('Caseload Reporting'!G553 = \"\",\"\",'Caseload Reporting'!G553)","v":""},{"$f":"IF('Caseload Reporting'!H553 = \"\",\"\",'Caseload Reporting'!H553)","v":""},{"$f":"IF('Caseload Reporting'!I553 = \"\",\"\",'Caseload Reporting'!I553)","v":""},{"$f":"IF('Caseload Reporting'!J553 = \"\",\"\",'Caseload Reporting'!J553)","v":""},{"$f":"IF('Caseload Reporting'!K553 = \"\",\"\",'Caseload Reporting'!K553)","v":""},{"$f":"IF('Caseload Reporting'!L553 = \"\",\"\",'Caseload Reporting'!L553)","v":""},{"$f":"IF('Caseload Reporting'!M553 = \"\",\"\",'Caseload Reporting'!M553)","v":""},{"$f":"IF('Caseload Reporting'!N553 = \"\",\"\",'Caseload Reporting'!N553)","v":""},{"$f":"IF('Caseload Reporting'!P553 = \"\",\"\",'Caseload Reporting'!P553)","v":""},{"$f":"IF('Caseload Reporting'!O553 = \"\",\"\",'Caseload Reporting'!O553)","v":""},{"$f":"IF('Caseload Reporting'!Q553 = \"\",\"\",'Caseload Reporting'!Q553)","v":""},{"$f":"IF('Caseload Reporting'!R553 = \"\",\"\",'Caseload Reporting'!R553)","v":""},{"$f":"IF('Caseload Reporting'!E553 = \"\",\"\",'Caseload Reporting'!E553)","v":""},{"$f":"IF('Caseload Reporting'!S553 = \"\",\"\",'Caseload Reporting'!S553)","v":""}]
[{"$f":"IF('Caseload Reporting'!A554 = \"\",\"\",'Caseload Reporting'!A554)","v":""},{"$f":"IF('Caseload Reporting'!B554 = \"\",\"\",'Caseload Reporting'!B554)","v":""},{"$f":"IF('Caseload Reporting'!C554 = \"\",\"\",'Caseload Reporting'!C554)","v":""},{"$f":"IF('Caseload Reporting'!D554 = \"\",\"\",'Caseload Reporting'!D554)","v":""},{"$f":"IF('Caseload Reporting'!G554 = \"\",\"\",'Caseload Reporting'!G554)","v":""},{"$f":"IF('Caseload Reporting'!H554 = \"\",\"\",'Caseload Reporting'!H554)","v":""},{"$f":"IF('Caseload Reporting'!I554 = \"\",\"\",'Caseload Reporting'!I554)","v":""},{"$f":"IF('Caseload Reporting'!J554 = \"\",\"\",'Caseload Reporting'!J554)","v":""},{"$f":"IF('Caseload Reporting'!K554 = \"\",\"\",'Caseload Reporting'!K554)","v":""},{"$f":"IF('Caseload Reporting'!L554 = \"\",\"\",'Caseload Reporting'!L554)","v":""},{"$f":"IF('Caseload Reporting'!M554 = \"\",\"\",'Caseload Reporting'!M554)","v":""},{"$f":"IF('Caseload Reporting'!N554 = \"\",\"\",'Caseload Reporting'!N554)","v":""},{"$f":"IF('Caseload Reporting'!P554 = \"\",\"\",'Caseload Reporting'!P554)","v":""},{"$f":"IF('Caseload Reporting'!O554 = \"\",\"\",'Caseload Reporting'!O554)","v":""},{"$f":"IF('Caseload Reporting'!Q554 = \"\",\"\",'Caseload Reporting'!Q554)","v":""},{"$f":"IF('Caseload Reporting'!R554 = \"\",\"\",'Caseload Reporting'!R554)","v":""},{"$f":"IF('Caseload Reporting'!E554 = \"\",\"\",'Caseload Reporting'!E554)","v":""},{"$f":"IF('Caseload Reporting'!S554 = \"\",\"\",'Caseload Reporting'!S554)","v":""}]
[{"$f":"IF('Caseload Reporting'!A555 = \"\",\"\",'Caseload Reporting'!A555)","v":""},{"$f":"IF('Caseload Reporting'!B555 = \"\",\"\",'Caseload Reporting'!B555)","v":""},{"$f":"IF('Caseload Reporting'!C555 = \"\",\"\",'Caseload Reporting'!C555)","v":""},{"$f":"IF('Caseload Reporting'!D555 = \"\",\"\",'Caseload Reporting'!D555)","v":""},{"$f":"IF('Caseload Reporting'!G555 = \"\",\"\",'Caseload Reporting'!G555)","v":""},{"$f":"IF('Caseload Reporting'!H555 = \"\",\"\",'Caseload Reporting'!H555)","v":""},{"$f":"IF('Caseload Reporting'!I555 = \"\",\"\",'Caseload Reporting'!I555)","v":""},{"$f":"IF('Caseload Reporting'!J555 = \"\",\"\",'Caseload Reporting'!J555)","v":""},{"$f":"IF('Caseload Reporting'!K555 = \"\",\"\",'Caseload Reporting'!K555)","v":""},{"$f":"IF('Caseload Reporting'!L555 = \"\",\"\",'Caseload Reporting'!L555)","v":""},{"$f":"IF('Caseload Reporting'!M555 = \"\",\"\",'Caseload Reporting'!M555)","v":""},{"$f":"IF('Caseload Reporting'!N555 = \"\",\"\",'Caseload Reporting'!N555)","v":""},{"$f":"IF('Caseload Reporting'!P555 = \"\",\"\",'Caseload Reporting'!P555)","v":""},{"$f":"IF('Caseload Reporting'!O555 = \"\",\"\",'Caseload Reporting'!O555)","v":""},{"$f":"IF('Caseload Reporting'!Q555 = \"\",\"\",'Caseload Reporting'!Q555)","v":""},{"$f":"IF('Caseload Reporting'!R555 = \"\",\"\",'Caseload Reporting'!R555)","v":""},{"$f":"IF('Caseload Reporting'!E555 = \"\",\"\",'Caseload Reporting'!E555)","v":""},{"$f":"IF('Caseload Reporting'!S555 = \"\",\"\",'Caseload Reporting'!S555)","v":""}]
[{"$f":"IF('Caseload Reporting'!A556 = \"\",\"\",'Caseload Reporting'!A556)","v":""},{"$f":"IF('Caseload Reporting'!B556 = \"\",\"\",'Caseload Reporting'!B556)","v":""},{"$f":"IF('Caseload Reporting'!C556 = \"\",\"\",'Caseload Reporting'!C556)","v":""},{"$f":"IF('Caseload Reporting'!D556 = \"\",\"\",'Caseload Reporting'!D556)","v":""},{"$f":"IF('Caseload Reporting'!G556 = \"\",\"\",'Caseload Reporting'!G556)","v":""},{"$f":"IF('Caseload Reporting'!H556 = \"\",\"\",'Caseload Reporting'!H556)","v":""},{"$f":"IF('Caseload Reporting'!I556 = \"\",\"\",'Caseload Reporting'!I556)","v":""},{"$f":"IF('Caseload Reporting'!J556 = \"\",\"\",'Caseload Reporting'!J556)","v":""},{"$f":"IF('Caseload Reporting'!K556 = \"\",\"\",'Caseload Reporting'!K556)","v":""},{"$f":"IF('Caseload Reporting'!L556 = \"\",\"\",'Caseload Reporting'!L556)","v":""},{"$f":"IF('Caseload Reporting'!M556 = \"\",\"\",'Caseload Reporting'!M556)","v":""},{"$f":"IF('Caseload Reporting'!N556 = \"\",\"\",'Caseload Reporting'!N556)","v":""},{"$f":"IF('Caseload Reporting'!P556 = \"\",\"\",'Caseload Reporting'!P556)","v":""},{"$f":"IF('Caseload Reporting'!O556 = \"\",\"\",'Caseload Reporting'!O556)","v":""},{"$f":"IF('Caseload Reporting'!Q556 = \"\",\"\",'Caseload Reporting'!Q556)","v":""},{"$f":"IF('Caseload Reporting'!R556 = \"\",\"\",'Caseload Reporting'!R556)","v":""},{"$f":"IF('Caseload Reporting'!E556 = \"\",\"\",'Caseload Reporting'!E556)","v":""},{"$f":"IF('Caseload Reporting'!S556 = \"\",\"\",'Caseload Reporting'!S556)","v":""}]
[{"$f":"IF('Caseload Reporting'!A557 = \"\",\"\",'Caseload Reporting'!A557)","v":""},{"$f":"IF('Caseload Reporting'!B557 = \"\",\"\",'Caseload Reporting'!B557)","v":""},{"$f":"IF('Caseload Reporting'!C557 = \"\",\"\",'Caseload Reporting'!C557)","v":""},{"$f":"IF('Caseload Reporting'!D557 = \"\",\"\",'Caseload Reporting'!D557)","v":""},{"$f":"IF('Caseload Reporting'!G557 = \"\",\"\",'Caseload Reporting'!G557)","v":""},{"$f":"IF('Caseload Reporting'!H557 = \"\",\"\",'Caseload Reporting'!H557)","v":""},{"$f":"IF('Caseload Reporting'!I557 = \"\",\"\",'Caseload Reporting'!I557)","v":""},{"$f":"IF('Caseload Reporting'!J557 = \"\",\"\",'Caseload Reporting'!J557)","v":""},{"$f":"IF('Caseload Reporting'!K557 = \"\",\"\",'Caseload Reporting'!K557)","v":""},{"$f":"IF('Caseload Reporting'!L557 = \"\",\"\",'Caseload Reporting'!L557)","v":""},{"$f":"IF('Caseload Reporting'!M557 = \"\",\"\",'Caseload Reporting'!M557)","v":""},{"$f":"IF('Caseload Reporting'!N557 = \"\",\"\",'Caseload Reporting'!N557)","v":""},{"$f":"IF('Caseload Reporting'!P557 = \"\",\"\",'Caseload Reporting'!P557)","v":""},{"$f":"IF('Caseload Reporting'!O557 = \"\",\"\",'Caseload Reporting'!O557)","v":""},{"$f":"IF('Caseload Reporting'!Q557 = \"\",\"\",'Caseload Reporting'!Q557)","v":""},{"$f":"IF('Caseload Reporting'!R557 = \"\",\"\",'Caseload Reporting'!R557)","v":""},{"$f":"IF('Caseload Reporting'!E557 = \"\",\"\",'Caseload Reporting'!E557)","v":""},{"$f":"IF('Caseload Reporting'!S557 = \"\",\"\",'Caseload Reporting'!S557)","v":""}]
[{"$f":"IF('Caseload Reporting'!A558 = \"\",\"\",'Caseload Reporting'!A558)","v":""},{"$f":"IF('Caseload Reporting'!B558 = \"\",\"\",'Caseload Reporting'!B558)","v":""},{"$f":"IF('Caseload Reporting'!C558 = \"\",\"\",'Caseload Reporting'!C558)","v":""},{"$f":"IF('Caseload Reporting'!D558 = \"\",\"\",'Caseload Reporting'!D558)","v":""},{"$f":"IF('Caseload Reporting'!G558 = \"\",\"\",'Caseload Reporting'!G558)","v":""},{"$f":"IF('Caseload Reporting'!H558 = \"\",\"\",'Caseload Reporting'!H558)","v":""},{"$f":"IF('Caseload Reporting'!I558 = \"\",\"\",'Caseload Reporting'!I558)","v":""},{"$f":"IF('Caseload Reporting'!J558 = \"\",\"\",'Caseload Reporting'!J558)","v":""},{"$f":"IF('Caseload Reporting'!K558 = \"\",\"\",'Caseload Reporting'!K558)","v":""},{"$f":"IF('Caseload Reporting'!L558 = \"\",\"\",'Caseload Reporting'!L558)","v":""},{"$f":"IF('Caseload Reporting'!M558 = \"\",\"\",'Caseload Reporting'!M558)","v":""},{"$f":"IF('Caseload Reporting'!N558 = \"\",\"\",'Caseload Reporting'!N558)","v":""},{"$f":"IF('Caseload Reporting'!P558 = \"\",\"\",'Caseload Reporting'!P558)","v":""},{"$f":"IF('Caseload Reporting'!O558 = \"\",\"\",'Caseload Reporting'!O558)","v":""},{"$f":"IF('Caseload Reporting'!Q558 = \"\",\"\",'Caseload Reporting'!Q558)","v":""},{"$f":"IF('Caseload Reporting'!R558 = \"\",\"\",'Caseload Reporting'!R558)","v":""},{"$f":"IF('Caseload Reporting'!E558 = \"\",\"\",'Caseload Reporting'!E558)","v":""},{"$f":"IF('Caseload Reporting'!S558 = \"\",\"\",'Caseload Reporting'!S558)","v":""}]
[{"$f":"IF('Caseload Reporting'!A559 = \"\",\"\",'Caseload Reporting'!A559)","v":""},{"$f":"IF('Caseload Reporting'!B559 = \"\",\"\",'Caseload Reporting'!B559)","v":""},{"$f":"IF('Caseload Reporting'!C559 = \"\",\"\",'Caseload Reporting'!C559)","v":""},{"$f":"IF('Caseload Reporting'!D559 = \"\",\"\",'Caseload Reporting'!D559)","v":""},{"$f":"IF('Caseload Reporting'!G559 = \"\",\"\",'Caseload Reporting'!G559)","v":""},{"$f":"IF('Caseload Reporting'!H559 = \"\",\"\",'Caseload Reporting'!H559)","v":""},{"$f":"IF('Caseload Reporting'!I559 = \"\",\"\",'Caseload Reporting'!I559)","v":""},{"$f":"IF('Caseload Reporting'!J559 = \"\",\"\",'Caseload Reporting'!J559)","v":""},{"$f":"IF('Caseload Reporting'!K559 = \"\",\"\",'Caseload Reporting'!K559)","v":""},{"$f":"IF('Caseload Reporting'!L559 = \"\",\"\",'Caseload Reporting'!L559)","v":""},{"$f":"IF('Caseload Reporting'!M559 = \"\",\"\",'Caseload Reporting'!M559)","v":""},{"$f":"IF('Caseload Reporting'!N559 = \"\",\"\",'Caseload Reporting'!N559)","v":""},{"$f":"IF('Caseload Reporting'!P559 = \"\",\"\",'Caseload Reporting'!P559)","v":""},{"$f":"IF('Caseload Reporting'!O559 = \"\",\"\",'Caseload Reporting'!O559)","v":""},{"$f":"IF('Caseload Reporting'!Q559 = \"\",\"\",'Caseload Reporting'!Q559)","v":""},{"$f":"IF('Caseload Reporting'!R559 = \"\",\"\",'Caseload Reporting'!R559)","v":""},{"$f":"IF('Caseload Reporting'!E559 = \"\",\"\",'Caseload Reporting'!E559)","v":""},{"$f":"IF('Caseload Reporting'!S559 = \"\",\"\",'Caseload Reporting'!S559)","v":""}]
[{"$f":"IF('Caseload Reporting'!A560 = \"\",\"\",'Caseload Reporting'!A560)","v":""},{"$f":"IF('Caseload Reporting'!B560 = \"\",\"\",'Caseload Reporting'!B560)","v":""},{"$f":"IF('Caseload Reporting'!C560 = \"\",\"\",'Caseload Reporting'!C560)","v":""},{"$f":"IF('Caseload Reporting'!D560 = \"\",\"\",'Caseload Reporting'!D560)","v":""},{"$f":"IF('Caseload Reporting'!G560 = \"\",\"\",'Caseload Reporting'!G560)","v":""},{"$f":"IF('Caseload Reporting'!H560 = \"\",\"\",'Caseload Reporting'!H560)","v":""},{"$f":"IF('Caseload Reporting'!I560 = \"\",\"\",'Caseload Reporting'!I560)","v":""},{"$f":"IF('Caseload Reporting'!J560 = \"\",\"\",'Caseload Reporting'!J560)","v":""},{"$f":"IF('Caseload Reporting'!K560 = \"\",\"\",'Caseload Reporting'!K560)","v":""},{"$f":"IF('Caseload Reporting'!L560 = \"\",\"\",'Caseload Reporting'!L560)","v":""},{"$f":"IF('Caseload Reporting'!M560 = \"\",\"\",'Caseload Reporting'!M560)","v":""},{"$f":"IF('Caseload Reporting'!N560 = \"\",\"\",'Caseload Reporting'!N560)","v":""},{"$f":"IF('Caseload Reporting'!P560 = \"\",\"\",'Caseload Reporting'!P560)","v":""},{"$f":"IF('Caseload Reporting'!O560 = \"\",\"\",'Caseload Reporting'!O560)","v":""},{"$f":"IF('Caseload Reporting'!Q560 = \"\",\"\",'Caseload Reporting'!Q560)","v":""},{"$f":"IF('Caseload Reporting'!R560 = \"\",\"\",'Caseload Reporting'!R560)","v":""},{"$f":"IF('Caseload Reporting'!E560 = \"\",\"\",'Caseload Reporting'!E560)","v":""},{"$f":"IF('Caseload Reporting'!S560 = \"\",\"\",'Caseload Reporting'!S560)","v":""}]
[{"$f":"IF('Caseload Reporting'!A561 = \"\",\"\",'Caseload Reporting'!A561)","v":""},{"$f":"IF('Caseload Reporting'!B561 = \"\",\"\",'Caseload Reporting'!B561)","v":""},{"$f":"IF('Caseload Reporting'!C561 = \"\",\"\",'Caseload Reporting'!C561)","v":""},{"$f":"IF('Caseload Reporting'!D561 = \"\",\"\",'Caseload Reporting'!D561)","v":""},{"$f":"IF('Caseload Reporting'!G561 = \"\",\"\",'Caseload Reporting'!G561)","v":""},{"$f":"IF('Caseload Reporting'!H561 = \"\",\"\",'Caseload Reporting'!H561)","v":""},{"$f":"IF('Caseload Reporting'!I561 = \"\",\"\",'Caseload Reporting'!I561)","v":""},{"$f":"IF('Caseload Reporting'!J561 = \"\",\"\",'Caseload Reporting'!J561)","v":""},{"$f":"IF('Caseload Reporting'!K561 = \"\",\"\",'Caseload Reporting'!K561)","v":""},{"$f":"IF('Caseload Reporting'!L561 = \"\",\"\",'Caseload Reporting'!L561)","v":""},{"$f":"IF('Caseload Reporting'!M561 = \"\",\"\",'Caseload Reporting'!M561)","v":""},{"$f":"IF('Caseload Reporting'!N561 = \"\",\"\",'Caseload Reporting'!N561)","v":""},{"$f":"IF('Caseload Reporting'!P561 = \"\",\"\",'Caseload Reporting'!P561)","v":""},{"$f":"IF('Caseload Reporting'!O561 = \"\",\"\",'Caseload Reporting'!O561)","v":""},{"$f":"IF('Caseload Reporting'!Q561 = \"\",\"\",'Caseload Reporting'!Q561)","v":""},{"$f":"IF('Caseload Reporting'!R561 = \"\",\"\",'Caseload Reporting'!R561)","v":""},{"$f":"IF('Caseload Reporting'!E561 = \"\",\"\",'Caseload Reporting'!E561)","v":""},{"$f":"IF('Caseload Reporting'!S561 = \"\",\"\",'Caseload Reporting'!S561)","v":""}]
[{"$f":"IF('Caseload Reporting'!A562 = \"\",\"\",'Caseload Reporting'!A562)","v":""},{"$f":"IF('Caseload Reporting'!B562 = \"\",\"\",'Caseload Reporting'!B562)","v":""},{"$f":"IF('Caseload Reporting'!C562 = \"\",\"\",'Caseload Reporting'!C562)","v":""},{"$f":"IF('Caseload Reporting'!D562 = \"\",\"\",'Caseload Reporting'!D562)","v":""},{"$f":"IF('Caseload Reporting'!G562 = \"\",\"\",'Caseload Reporting'!G562)","v":""},{"$f":"IF('Caseload Reporting'!H562 = \"\",\"\",'Caseload Reporting'!H562)","v":""},{"$f":"IF('Caseload Reporting'!I562 = \"\",\"\",'Caseload Reporting'!I562)","v":""},{"$f":"IF('Caseload Reporting'!J562 = \"\",\"\",'Caseload Reporting'!J562)","v":""},{"$f":"IF('Caseload Reporting'!K562 = \"\",\"\",'Caseload Reporting'!K562)","v":""},{"$f":"IF('Caseload Reporting'!L562 = \"\",\"\",'Caseload Reporting'!L562)","v":""},{"$f":"IF('Caseload Reporting'!M562 = \"\",\"\",'Caseload Reporting'!M562)","v":""},{"$f":"IF('Caseload Reporting'!N562 = \"\",\"\",'Caseload Reporting'!N562)","v":""},{"$f":"IF('Caseload Reporting'!P562 = \"\",\"\",'Caseload Reporting'!P562)","v":""},{"$f":"IF('Caseload Reporting'!O562 = \"\",\"\",'Caseload Reporting'!O562)","v":""},{"$f":"IF('Caseload Reporting'!Q562 = \"\",\"\",'Caseload Reporting'!Q562)","v":""},{"$f":"IF('Caseload Reporting'!R562 = \"\",\"\",'Caseload Reporting'!R562)","v":""},{"$f":"IF('Caseload Reporting'!E562 = \"\",\"\",'Caseload Reporting'!E562)","v":""},{"$f":"IF('Caseload Reporting'!S562 = \"\",\"\",'Caseload Reporting'!S562)","v":""}]
[{"$f":"IF('Caseload Reporting'!A563 = \"\",\"\",'Caseload Reporting'!A563)","v":""},{"$f":"IF('Caseload Reporting'!B563 = \"\",\"\",'Caseload Reporting'!B563)","v":""},{"$f":"IF('Caseload Reporting'!C563 = \"\",\"\",'Caseload Reporting'!C563)","v":""},{"$f":"IF('Caseload Reporting'!D563 = \"\",\"\",'Caseload Reporting'!D563)","v":""},{"$f":"IF('Caseload Reporting'!G563 = \"\",\"\",'Caseload Reporting'!G563)","v":""},{"$f":"IF('Caseload Reporting'!H563 = \"\",\"\",'Caseload Reporting'!H563)","v":""},{"$f":"IF('Caseload Reporting'!I563 = \"\",\"\",'Caseload Reporting'!I563)","v":""},{"$f":"IF('Caseload Reporting'!J563 = \"\",\"\",'Caseload Reporting'!J563)","v":""},{"$f":"IF('Caseload Reporting'!K563 = \"\",\"\",'Caseload Reporting'!K563)","v":""},{"$f":"IF('Caseload Reporting'!L563 = \"\",\"\",'Caseload Reporting'!L563)","v":""},{"$f":"IF('Caseload Reporting'!M563 = \"\",\"\",'Caseload Reporting'!M563)","v":""},{"$f":"IF('Caseload Reporting'!N563 = \"\",\"\",'Caseload Reporting'!N563)","v":""},{"$f":"IF('Caseload Reporting'!P563 = \"\",\"\",'Caseload Reporting'!P563)","v":""},{"$f":"IF('Caseload Reporting'!O563 = \"\",\"\",'Caseload Reporting'!O563)","v":""},{"$f":"IF('Caseload Reporting'!Q563 = \"\",\"\",'Caseload Reporting'!Q563)","v":""},{"$f":"IF('Caseload Reporting'!R563 = \"\",\"\",'Caseload Reporting'!R563)","v":""},{"$f":"IF('Caseload Reporting'!E563 = \"\",\"\",'Caseload Reporting'!E563)","v":""},{"$f":"IF('Caseload Reporting'!S563 = \"\",\"\",'Caseload Reporting'!S563)","v":""}]
[{"$f":"IF('Caseload Reporting'!A564 = \"\",\"\",'Caseload Reporting'!A564)","v":""},{"$f":"IF('Caseload Reporting'!B564 = \"\",\"\",'Caseload Reporting'!B564)","v":""},{"$f":"IF('Caseload Reporting'!C564 = \"\",\"\",'Caseload Reporting'!C564)","v":""},{"$f":"IF('Caseload Reporting'!D564 = \"\",\"\",'Caseload Reporting'!D564)","v":""},{"$f":"IF('Caseload Reporting'!G564 = \"\",\"\",'Caseload Reporting'!G564)","v":""},{"$f":"IF('Caseload Reporting'!H564 = \"\",\"\",'Caseload Reporting'!H564)","v":""},{"$f":"IF('Caseload Reporting'!I564 = \"\",\"\",'Caseload Reporting'!I564)","v":""},{"$f":"IF('Caseload Reporting'!J564 = \"\",\"\",'Caseload Reporting'!J564)","v":""},{"$f":"IF('Caseload Reporting'!K564 = \"\",\"\",'Caseload Reporting'!K564)","v":""},{"$f":"IF('Caseload Reporting'!L564 = \"\",\"\",'Caseload Reporting'!L564)","v":""},{"$f":"IF('Caseload Reporting'!M564 = \"\",\"\",'Caseload Reporting'!M564)","v":""},{"$f":"IF('Caseload Reporting'!N564 = \"\",\"\",'Caseload Reporting'!N564)","v":""},{"$f":"IF('Caseload Reporting'!P564 = \"\",\"\",'Caseload Reporting'!P564)","v":""},{"$f":"IF('Caseload Reporting'!O564 = \"\",\"\",'Caseload Reporting'!O564)","v":""},{"$f":"IF('Caseload Reporting'!Q564 = \"\",\"\",'Caseload Reporting'!Q564)","v":""},{"$f":"IF('Caseload Reporting'!R564 = \"\",\"\",'Caseload Reporting'!R564)","v":""},{"$f":"IF('Caseload Reporting'!E564 = \"\",\"\",'Caseload Reporting'!E564)","v":""},{"$f":"IF('Caseload Reporting'!S564 = \"\",\"\",'Caseload Reporting'!S564)","v":""}]
[{"$f":"IF('Caseload Reporting'!A565 = \"\",\"\",'Caseload Reporting'!A565)","v":""},{"$f":"IF('Caseload Reporting'!B565 = \"\",\"\",'Caseload Reporting'!B565)","v":""},{"$f":"IF('Caseload Reporting'!C565 = \"\",\"\",'Caseload Reporting'!C565)","v":""},{"$f":"IF('Caseload Reporting'!D565 = \"\",\"\",'Caseload Reporting'!D565)","v":""},{"$f":"IF('Caseload Reporting'!G565 = \"\",\"\",'Caseload Reporting'!G565)","v":""},{"$f":"IF('Caseload Reporting'!H565 = \"\",\"\",'Caseload Reporting'!H565)","v":""},{"$f":"IF('Caseload Reporting'!I565 = \"\",\"\",'Caseload Reporting'!I565)","v":""},{"$f":"IF('Caseload Reporting'!J565 = \"\",\"\",'Caseload Reporting'!J565)","v":""},{"$f":"IF('Caseload Reporting'!K565 = \"\",\"\",'Caseload Reporting'!K565)","v":""},{"$f":"IF('Caseload Reporting'!L565 = \"\",\"\",'Caseload Reporting'!L565)","v":""},{"$f":"IF('Caseload Reporting'!M565 = \"\",\"\",'Caseload Reporting'!M565)","v":""},{"$f":"IF('Caseload Reporting'!N565 = \"\",\"\",'Caseload Reporting'!N565)","v":""},{"$f":"IF('Caseload Reporting'!P565 = \"\",\"\",'Caseload Reporting'!P565)","v":""},{"$f":"IF('Caseload Reporting'!O565 = \"\",\"\",'Caseload Reporting'!O565)","v":""},{"$f":"IF('Caseload Reporting'!Q565 = \"\",\"\",'Caseload Reporting'!Q565)","v":""},{"$f":"IF('Caseload Reporting'!R565 = \"\",\"\",'Caseload Reporting'!R565)","v":""},{"$f":"IF('Caseload Reporting'!E565 = \"\",\"\",'Caseload Reporting'!E565)","v":""},{"$f":"IF('Caseload Reporting'!S565 = \"\",\"\",'Caseload Reporting'!S565)","v":""}]
[{"$f":"IF('Caseload Reporting'!A566 = \"\",\"\",'Caseload Reporting'!A566)","v":""},{"$f":"IF('Caseload Reporting'!B566 = \"\",\"\",'Caseload Reporting'!B566)","v":""},{"$f":"IF('Caseload Reporting'!C566 = \"\",\"\",'Caseload Reporting'!C566)","v":""},{"$f":"IF('Caseload Reporting'!D566 = \"\",\"\",'Caseload Reporting'!D566)","v":""},{"$f":"IF('Caseload Reporting'!G566 = \"\",\"\",'Caseload Reporting'!G566)","v":""},{"$f":"IF('Caseload Reporting'!H566 = \"\",\"\",'Caseload Reporting'!H566)","v":""},{"$f":"IF('Caseload Reporting'!I566 = \"\",\"\",'Caseload Reporting'!I566)","v":""},{"$f":"IF('Caseload Reporting'!J566 = \"\",\"\",'Caseload Reporting'!J566)","v":""},{"$f":"IF('Caseload Reporting'!K566 = \"\",\"\",'Caseload Reporting'!K566)","v":""},{"$f":"IF('Caseload Reporting'!L566 = \"\",\"\",'Caseload Reporting'!L566)","v":""},{"$f":"IF('Caseload Reporting'!M566 = \"\",\"\",'Caseload Reporting'!M566)","v":""},{"$f":"IF('Caseload Reporting'!N566 = \"\",\"\",'Caseload Reporting'!N566)","v":""},{"$f":"IF('Caseload Reporting'!P566 = \"\",\"\",'Caseload Reporting'!P566)","v":""},{"$f":"IF('Caseload Reporting'!O566 = \"\",\"\",'Caseload Reporting'!O566)","v":""},{"$f":"IF('Caseload Reporting'!Q566 = \"\",\"\",'Caseload Reporting'!Q566)","v":""},{"$f":"IF('Caseload Reporting'!R566 = \"\",\"\",'Caseload Reporting'!R566)","v":""},{"$f":"IF('Caseload Reporting'!E566 = \"\",\"\",'Caseload Reporting'!E566)","v":""},{"$f":"IF('Caseload Reporting'!S566 = \"\",\"\",'Caseload Reporting'!S566)","v":""}]
[{"$f":"IF('Caseload Reporting'!A567 = \"\",\"\",'Caseload Reporting'!A567)","v":""},{"$f":"IF('Caseload Reporting'!B567 = \"\",\"\",'Caseload Reporting'!B567)","v":""},{"$f":"IF('Caseload Reporting'!C567 = \"\",\"\",'Caseload Reporting'!C567)","v":""},{"$f":"IF('Caseload Reporting'!D567 = \"\",\"\",'Caseload Reporting'!D567)","v":""},{"$f":"IF('Caseload Reporting'!G567 = \"\",\"\",'Caseload Reporting'!G567)","v":""},{"$f":"IF('Caseload Reporting'!H567 = \"\",\"\",'Caseload Reporting'!H567)","v":""},{"$f":"IF('Caseload Reporting'!I567 = \"\",\"\",'Caseload Reporting'!I567)","v":""},{"$f":"IF('Caseload Reporting'!J567 = \"\",\"\",'Caseload Reporting'!J567)","v":""},{"$f":"IF('Caseload Reporting'!K567 = \"\",\"\",'Caseload Reporting'!K567)","v":""},{"$f":"IF('Caseload Reporting'!L567 = \"\",\"\",'Caseload Reporting'!L567)","v":""},{"$f":"IF('Caseload Reporting'!M567 = \"\",\"\",'Caseload Reporting'!M567)","v":""},{"$f":"IF('Caseload Reporting'!N567 = \"\",\"\",'Caseload Reporting'!N567)","v":""},{"$f":"IF('Caseload Reporting'!P567 = \"\",\"\",'Caseload Reporting'!P567)","v":""},{"$f":"IF('Caseload Reporting'!O567 = \"\",\"\",'Caseload Reporting'!O567)","v":""},{"$f":"IF('Caseload Reporting'!Q567 = \"\",\"\",'Caseload Reporting'!Q567)","v":""},{"$f":"IF('Caseload Reporting'!R567 = \"\",\"\",'Caseload Reporting'!R567)","v":""},{"$f":"IF('Caseload Reporting'!E567 = \"\",\"\",'Caseload Reporting'!E567)","v":""},{"$f":"IF('Caseload Reporting'!S567 = \"\",\"\",'Caseload Reporting'!S567)","v":""}]
[{"$f":"IF('Caseload Reporting'!A568 = \"\",\"\",'Caseload Reporting'!A568)","v":""},{"$f":"IF('Caseload Reporting'!B568 = \"\",\"\",'Caseload Reporting'!B568)","v":""},{"$f":"IF('Caseload Reporting'!C568 = \"\",\"\",'Caseload Reporting'!C568)","v":""},{"$f":"IF('Caseload Reporting'!D568 = \"\",\"\",'Caseload Reporting'!D568)","v":""},{"$f":"IF('Caseload Reporting'!G568 = \"\",\"\",'Caseload Reporting'!G568)","v":""},{"$f":"IF('Caseload Reporting'!H568 = \"\",\"\",'Caseload Reporting'!H568)","v":""},{"$f":"IF('Caseload Reporting'!I568 = \"\",\"\",'Caseload Reporting'!I568)","v":""},{"$f":"IF('Caseload Reporting'!J568 = \"\",\"\",'Caseload Reporting'!J568)","v":""},{"$f":"IF('Caseload Reporting'!K568 = \"\",\"\",'Caseload Reporting'!K568)","v":""},{"$f":"IF('Caseload Reporting'!L568 = \"\",\"\",'Caseload Reporting'!L568)","v":""},{"$f":"IF('Caseload Reporting'!M568 = \"\",\"\",'Caseload Reporting'!M568)","v":""},{"$f":"IF('Caseload Reporting'!N568 = \"\",\"\",'Caseload Reporting'!N568)","v":""},{"$f":"IF('Caseload Reporting'!P568 = \"\",\"\",'Caseload Reporting'!P568)","v":""},{"$f":"IF('Caseload Reporting'!O568 = \"\",\"\",'Caseload Reporting'!O568)","v":""},{"$f":"IF('Caseload Reporting'!Q568 = \"\",\"\",'Caseload Reporting'!Q568)","v":""},{"$f":"IF('Caseload Reporting'!R568 = \"\",\"\",'Caseload Reporting'!R568)","v":""},{"$f":"IF('Caseload Reporting'!E568 = \"\",\"\",'Caseload Reporting'!E568)","v":""},{"$f":"IF('Caseload Reporting'!S568 = \"\",\"\",'Caseload Reporting'!S568)","v":""}]
[{"$f":"IF('Caseload Reporting'!A569 = \"\",\"\",'Caseload Reporting'!A569)","v":""},{"$f":"IF('Caseload Reporting'!B569 = \"\",\"\",'Caseload Reporting'!B569)","v":""},{"$f":"IF('Caseload Reporting'!C569 = \"\",\"\",'Caseload Reporting'!C569)","v":""},{"$f":"IF('Caseload Reporting'!D569 = \"\",\"\",'Caseload Reporting'!D569)","v":""},{"$f":"IF('Caseload Reporting'!G569 = \"\",\"\",'Caseload Reporting'!G569)","v":""},{"$f":"IF('Caseload Reporting'!H569 = \"\",\"\",'Caseload Reporting'!H569)","v":""},{"$f":"IF('Caseload Reporting'!I569 = \"\",\"\",'Caseload Reporting'!I569)","v":""},{"$f":"IF('Caseload Reporting'!J569 = \"\",\"\",'Caseload Reporting'!J569)","v":""},{"$f":"IF('Caseload Reporting'!K569 = \"\",\"\",'Caseload Reporting'!K569)","v":""},{"$f":"IF('Caseload Reporting'!L569 = \"\",\"\",'Caseload Reporting'!L569)","v":""},{"$f":"IF('Caseload Reporting'!M569 = \"\",\"\",'Caseload Reporting'!M569)","v":""},{"$f":"IF('Caseload Reporting'!N569 = \"\",\"\",'Caseload Reporting'!N569)","v":""},{"$f":"IF('Caseload Reporting'!P569 = \"\",\"\",'Caseload Reporting'!P569)","v":""},{"$f":"IF('Caseload Reporting'!O569 = \"\",\"\",'Caseload Reporting'!O569)","v":""},{"$f":"IF('Caseload Reporting'!Q569 = \"\",\"\",'Caseload Reporting'!Q569)","v":""},{"$f":"IF('Caseload Reporting'!R569 = \"\",\"\",'Caseload Reporting'!R569)","v":""},{"$f":"IF('Caseload Reporting'!E569 = \"\",\"\",'Caseload Reporting'!E569)","v":""},{"$f":"IF('Caseload Reporting'!S569 = \"\",\"\",'Caseload Reporting'!S569)","v":""}]
[{"$f":"IF('Caseload Reporting'!A570 = \"\",\"\",'Caseload Reporting'!A570)","v":""},{"$f":"IF('Caseload Reporting'!B570 = \"\",\"\",'Caseload Reporting'!B570)","v":""},{"$f":"IF('Caseload Reporting'!C570 = \"\",\"\",'Caseload Reporting'!C570)","v":""},{"$f":"IF('Caseload Reporting'!D570 = \"\",\"\",'Caseload Reporting'!D570)","v":""},{"$f":"IF('Caseload Reporting'!G570 = \"\",\"\",'Caseload Reporting'!G570)","v":""},{"$f":"IF('Caseload Reporting'!H570 = \"\",\"\",'Caseload Reporting'!H570)","v":""},{"$f":"IF('Caseload Reporting'!I570 = \"\",\"\",'Caseload Reporting'!I570)","v":""},{"$f":"IF('Caseload Reporting'!J570 = \"\",\"\",'Caseload Reporting'!J570)","v":""},{"$f":"IF('Caseload Reporting'!K570 = \"\",\"\",'Caseload Reporting'!K570)","v":""},{"$f":"IF('Caseload Reporting'!L570 = \"\",\"\",'Caseload Reporting'!L570)","v":""},{"$f":"IF('Caseload Reporting'!M570 = \"\",\"\",'Caseload Reporting'!M570)","v":""},{"$f":"IF('Caseload Reporting'!N570 = \"\",\"\",'Caseload Reporting'!N570)","v":""},{"$f":"IF('Caseload Reporting'!P570 = \"\",\"\",'Caseload Reporting'!P570)","v":""},{"$f":"IF('Caseload Reporting'!O570 = \"\",\"\",'Caseload Reporting'!O570)","v":""},{"$f":"IF('Caseload Reporting'!Q570 = \"\",\"\",'Caseload Reporting'!Q570)","v":""},{"$f":"IF('Caseload Reporting'!R570 = \"\",\"\",'Caseload Reporting'!R570)","v":""},{"$f":"IF('Caseload Reporting'!E570 = \"\",\"\",'Caseload Reporting'!E570)","v":""},{"$f":"IF('Caseload Reporting'!S570 = \"\",\"\",'Caseload Reporting'!S570)","v":""}]
[{"$f":"IF('Caseload Reporting'!A571 = \"\",\"\",'Caseload Reporting'!A571)","v":""},{"$f":"IF('Caseload Reporting'!B571 = \"\",\"\",'Caseload Reporting'!B571)","v":""},{"$f":"IF('Caseload Reporting'!C571 = \"\",\"\",'Caseload Reporting'!C571)","v":""},{"$f":"IF('Caseload Reporting'!D571 = \"\",\"\",'Caseload Reporting'!D571)","v":""},{"$f":"IF('Caseload Reporting'!G571 = \"\",\"\",'Caseload Reporting'!G571)","v":""},{"$f":"IF('Caseload Reporting'!H571 = \"\",\"\",'Caseload Reporting'!H571)","v":""},{"$f":"IF('Caseload Reporting'!I571 = \"\",\"\",'Caseload Reporting'!I571)","v":""},{"$f":"IF('Caseload Reporting'!J571 = \"\",\"\",'Caseload Reporting'!J571)","v":""},{"$f":"IF('Caseload Reporting'!K571 = \"\",\"\",'Caseload Reporting'!K571)","v":""},{"$f":"IF('Caseload Reporting'!L571 = \"\",\"\",'Caseload Reporting'!L571)","v":""},{"$f":"IF('Caseload Reporting'!M571 = \"\",\"\",'Caseload Reporting'!M571)","v":""},{"$f":"IF('Caseload Reporting'!N571 = \"\",\"\",'Caseload Reporting'!N571)","v":""},{"$f":"IF('Caseload Reporting'!P571 = \"\",\"\",'Caseload Reporting'!P571)","v":""},{"$f":"IF('Caseload Reporting'!O571 = \"\",\"\",'Caseload Reporting'!O571)","v":""},{"$f":"IF('Caseload Reporting'!Q571 = \"\",\"\",'Caseload Reporting'!Q571)","v":""},{"$f":"IF('Caseload Reporting'!R571 = \"\",\"\",'Caseload Reporting'!R571)","v":""},{"$f":"IF('Caseload Reporting'!E571 = \"\",\"\",'Caseload Reporting'!E571)","v":""},{"$f":"IF('Caseload Reporting'!S571 = \"\",\"\",'Caseload Reporting'!S571)","v":""}]
[{"$f":"IF('Caseload Reporting'!A572 = \"\",\"\",'Caseload Reporting'!A572)","v":""},{"$f":"IF('Caseload Reporting'!B572 = \"\",\"\",'Caseload Reporting'!B572)","v":""},{"$f":"IF('Caseload Reporting'!C572 = \"\",\"\",'Caseload Reporting'!C572)","v":""},{"$f":"IF('Caseload Reporting'!D572 = \"\",\"\",'Caseload Reporting'!D572)","v":""},{"$f":"IF('Caseload Reporting'!G572 = \"\",\"\",'Caseload Reporting'!G572)","v":""},{"$f":"IF('Caseload Reporting'!H572 = \"\",\"\",'Caseload Reporting'!H572)","v":""},{"$f":"IF('Caseload Reporting'!I572 = \"\",\"\",'Caseload Reporting'!I572)","v":""},{"$f":"IF('Caseload Reporting'!J572 = \"\",\"\",'Caseload Reporting'!J572)","v":""},{"$f":"IF('Caseload Reporting'!K572 = \"\",\"\",'Caseload Reporting'!K572)","v":""},{"$f":"IF('Caseload Reporting'!L572 = \"\",\"\",'Caseload Reporting'!L572)","v":""},{"$f":"IF('Caseload Reporting'!M572 = \"\",\"\",'Caseload Reporting'!M572)","v":""},{"$f":"IF('Caseload Reporting'!N572 = \"\",\"\",'Caseload Reporting'!N572)","v":""},{"$f":"IF('Caseload Reporting'!P572 = \"\",\"\",'Caseload Reporting'!P572)","v":""},{"$f":"IF('Caseload Reporting'!O572 = \"\",\"\",'Caseload Reporting'!O572)","v":""},{"$f":"IF('Caseload Reporting'!Q572 = \"\",\"\",'Caseload Reporting'!Q572)","v":""},{"$f":"IF('Caseload Reporting'!R572 = \"\",\"\",'Caseload Reporting'!R572)","v":""},{"$f":"IF('Caseload Reporting'!E572 = \"\",\"\",'Caseload Reporting'!E572)","v":""},{"$f":"IF('Caseload Reporting'!S572 = \"\",\"\",'Caseload Reporting'!S572)","v":""}]
[{"$f":"IF('Caseload Reporting'!A573 = \"\",\"\",'Caseload Reporting'!A573)","v":""},{"$f":"IF('Caseload Reporting'!B573 = \"\",\"\",'Caseload Reporting'!B573)","v":""},{"$f":"IF('Caseload Reporting'!C573 = \"\",\"\",'Caseload Reporting'!C573)","v":""},{"$f":"IF('Caseload Reporting'!D573 = \"\",\"\",'Caseload Reporting'!D573)","v":""},{"$f":"IF('Caseload Reporting'!G573 = \"\",\"\",'Caseload Reporting'!G573)","v":""},{"$f":"IF('Caseload Reporting'!H573 = \"\",\"\",'Caseload Reporting'!H573)","v":""},{"$f":"IF('Caseload Reporting'!I573 = \"\",\"\",'Caseload Reporting'!I573)","v":""},{"$f":"IF('Caseload Reporting'!J573 = \"\",\"\",'Caseload Reporting'!J573)","v":""},{"$f":"IF('Caseload Reporting'!K573 = \"\",\"\",'Caseload Reporting'!K573)","v":""},{"$f":"IF('Caseload Reporting'!L573 = \"\",\"\",'Caseload Reporting'!L573)","v":""},{"$f":"IF('Caseload Reporting'!M573 = \"\",\"\",'Caseload Reporting'!M573)","v":""},{"$f":"IF('Caseload Reporting'!N573 = \"\",\"\",'Caseload Reporting'!N573)","v":""},{"$f":"IF('Caseload Reporting'!P573 = \"\",\"\",'Caseload Reporting'!P573)","v":""},{"$f":"IF('Caseload Reporting'!O573 = \"\",\"\",'Caseload Reporting'!O573)","v":""},{"$f":"IF('Caseload Reporting'!Q573 = \"\",\"\",'Caseload Reporting'!Q573)","v":""},{"$f":"IF('Caseload Reporting'!R573 = \"\",\"\",'Caseload Reporting'!R573)","v":""},{"$f":"IF('Caseload Reporting'!E573 = \"\",\"\",'Caseload Reporting'!E573)","v":""},{"$f":"IF('Caseload Reporting'!S573 = \"\",\"\",'Caseload Reporting'!S573)","v":""}]
[{"$f":"IF('Caseload Reporting'!A574 = \"\",\"\",'Caseload Reporting'!A574)","v":""},{"$f":"IF('Caseload Reporting'!B574 = \"\",\"\",'Caseload Reporting'!B574)","v":""},{"$f":"IF('Caseload Reporting'!C574 = \"\",\"\",'Caseload Reporting'!C574)","v":""},{"$f":"IF('Caseload Reporting'!D574 = \"\",\"\",'Caseload Reporting'!D574)","v":""},{"$f":"IF('Caseload Reporting'!G574 = \"\",\"\",'Caseload Reporting'!G574)","v":""},{"$f":"IF('Caseload Reporting'!H574 = \"\",\"\",'Caseload Reporting'!H574)","v":""},{"$f":"IF('Caseload Reporting'!I574 = \"\",\"\",'Caseload Reporting'!I574)","v":""},{"$f":"IF('Caseload Reporting'!J574 = \"\",\"\",'Caseload Reporting'!J574)","v":""},{"$f":"IF('Caseload Reporting'!K574 = \"\",\"\",'Caseload Reporting'!K574)","v":""},{"$f":"IF('Caseload Reporting'!L574 = \"\",\"\",'Caseload Reporting'!L574)","v":""},{"$f":"IF('Caseload Reporting'!M574 = \"\",\"\",'Caseload Reporting'!M574)","v":""},{"$f":"IF('Caseload Reporting'!N574 = \"\",\"\",'Caseload Reporting'!N574)","v":""},{"$f":"IF('Caseload Reporting'!P574 = \"\",\"\",'Caseload Reporting'!P574)","v":""},{"$f":"IF('Caseload Reporting'!O574 = \"\",\"\",'Caseload Reporting'!O574)","v":""},{"$f":"IF('Caseload Reporting'!Q574 = \"\",\"\",'Caseload Reporting'!Q574)","v":""},{"$f":"IF('Caseload Reporting'!R574 = \"\",\"\",'Caseload Reporting'!R574)","v":""},{"$f":"IF('Caseload Reporting'!E574 = \"\",\"\",'Caseload Reporting'!E574)","v":""},{"$f":"IF('Caseload Reporting'!S574 = \"\",\"\",'Caseload Reporting'!S574)","v":""}]
[{"$f":"IF('Caseload Reporting'!A575 = \"\",\"\",'Caseload Reporting'!A575)","v":""},{"$f":"IF('Caseload Reporting'!B575 = \"\",\"\",'Caseload Reporting'!B575)","v":""},{"$f":"IF('Caseload Reporting'!C575 = \"\",\"\",'Caseload Reporting'!C575)","v":""},{"$f":"IF('Caseload Reporting'!D575 = \"\",\"\",'Caseload Reporting'!D575)","v":""},{"$f":"IF('Caseload Reporting'!G575 = \"\",\"\",'Caseload Reporting'!G575)","v":""},{"$f":"IF('Caseload Reporting'!H575 = \"\",\"\",'Caseload Reporting'!H575)","v":""},{"$f":"IF('Caseload Reporting'!I575 = \"\",\"\",'Caseload Reporting'!I575)","v":""},{"$f":"IF('Caseload Reporting'!J575 = \"\",\"\",'Caseload Reporting'!J575)","v":""},{"$f":"IF('Caseload Reporting'!K575 = \"\",\"\",'Caseload Reporting'!K575)","v":""},{"$f":"IF('Caseload Reporting'!L575 = \"\",\"\",'Caseload Reporting'!L575)","v":""},{"$f":"IF('Caseload Reporting'!M575 = \"\",\"\",'Caseload Reporting'!M575)","v":""},{"$f":"IF('Caseload Reporting'!N575 = \"\",\"\",'Caseload Reporting'!N575)","v":""},{"$f":"IF('Caseload Reporting'!P575 = \"\",\"\",'Caseload Reporting'!P575)","v":""},{"$f":"IF('Caseload Reporting'!O575 = \"\",\"\",'Caseload Reporting'!O575)","v":""},{"$f":"IF('Caseload Reporting'!Q575 = \"\",\"\",'Caseload Reporting'!Q575)","v":""},{"$f":"IF('Caseload Reporting'!R575 = \"\",\"\",'Caseload Reporting'!R575)","v":""},{"$f":"IF('Caseload Reporting'!E575 = \"\",\"\",'Caseload Reporting'!E575)","v":""},{"$f":"IF('Caseload Reporting'!S575 = \"\",\"\",'Caseload Reporting'!S575)","v":""}]
[{"$f":"IF('Caseload Reporting'!A576 = \"\",\"\",'Caseload Reporting'!A576)","v":""},{"$f":"IF('Caseload Reporting'!B576 = \"\",\"\",'Caseload Reporting'!B576)","v":""},{"$f":"IF('Caseload Reporting'!C576 = \"\",\"\",'Caseload Reporting'!C576)","v":""},{"$f":"IF('Caseload Reporting'!D576 = \"\",\"\",'Caseload Reporting'!D576)","v":""},{"$f":"IF('Caseload Reporting'!G576 = \"\",\"\",'Caseload Reporting'!G576)","v":""},{"$f":"IF('Caseload Reporting'!H576 = \"\",\"\",'Caseload Reporting'!H576)","v":""},{"$f":"IF('Caseload Reporting'!I576 = \"\",\"\",'Caseload Reporting'!I576)","v":""},{"$f":"IF('Caseload Reporting'!J576 = \"\",\"\",'Caseload Reporting'!J576)","v":""},{"$f":"IF('Caseload Reporting'!K576 = \"\",\"\",'Caseload Reporting'!K576)","v":""},{"$f":"IF('Caseload Reporting'!L576 = \"\",\"\",'Caseload Reporting'!L576)","v":""},{"$f":"IF('Caseload Reporting'!M576 = \"\",\"\",'Caseload Reporting'!M576)","v":""},{"$f":"IF('Caseload Reporting'!N576 = \"\",\"\",'Caseload Reporting'!N576)","v":""},{"$f":"IF('Caseload Reporting'!P576 = \"\",\"\",'Caseload Reporting'!P576)","v":""},{"$f":"IF('Caseload Reporting'!O576 = \"\",\"\",'Caseload Reporting'!O576)","v":""},{"$f":"IF('Caseload Reporting'!Q576 = \"\",\"\",'Caseload Reporting'!Q576)","v":""},{"$f":"IF('Caseload Reporting'!R576 = \"\",\"\",'Caseload Reporting'!R576)","v":""},{"$f":"IF('Caseload Reporting'!E576 = \"\",\"\",'Caseload Reporting'!E576)","v":""},{"$f":"IF('Caseload Reporting'!S576 = \"\",\"\",'Caseload Reporting'!S576)","v":""}]
[{"$f":"IF('Caseload Reporting'!A577 = \"\",\"\",'Caseload Reporting'!A577)","v":""},{"$f":"IF('Caseload Reporting'!B577 = \"\",\"\",'Caseload Reporting'!B577)","v":""},{"$f":"IF('Caseload Reporting'!C577 = \"\",\"\",'Caseload Reporting'!C577)","v":""},{"$f":"IF('Caseload Reporting'!D577 = \"\",\"\",'Caseload Reporting'!D577)","v":""},{"$f":"IF('Caseload Reporting'!G577 = \"\",\"\",'Caseload Reporting'!G577)","v":""},{"$f":"IF('Caseload Reporting'!H577 = \"\",\"\",'Caseload Reporting'!H577)","v":""},{"$f":"IF('Caseload Reporting'!I577 = \"\",\"\",'Caseload Reporting'!I577)","v":""},{"$f":"IF('Caseload Reporting'!J577 = \"\",\"\",'Caseload Reporting'!J577)","v":""},{"$f":"IF('Caseload Reporting'!K577 = \"\",\"\",'Caseload Reporting'!K577)","v":""},{"$f":"IF('Caseload Reporting'!L577 = \"\",\"\",'Caseload Reporting'!L577)","v":""},{"$f":"IF('Caseload Reporting'!M577 = \"\",\"\",'Caseload Reporting'!M577)","v":""},{"$f":"IF('Caseload Reporting'!N577 = \"\",\"\",'Caseload Reporting'!N577)","v":""},{"$f":"IF('Caseload Reporting'!P577 = \"\",\"\",'Caseload Reporting'!P577)","v":""},{"$f":"IF('Caseload Reporting'!O577 = \"\",\"\",'Caseload Reporting'!O577)","v":""},{"$f":"IF('Caseload Reporting'!Q577 = \"\",\"\",'Caseload Reporting'!Q577)","v":""},{"$f":"IF('Caseload Reporting'!R577 = \"\",\"\",'Caseload Reporting'!R577)","v":""},{"$f":"IF('Caseload Reporting'!E577 = \"\",\"\",'Caseload Reporting'!E577)","v":""},{"$f":"IF('Caseload Reporting'!S577 = \"\",\"\",'Caseload Reporting'!S577)","v":""}]
[{"$f":"IF('Caseload Reporting'!A578 = \"\",\"\",'Caseload Reporting'!A578)","v":""},{"$f":"IF('Caseload Reporting'!B578 = \"\",\"\",'Caseload Reporting'!B578)","v":""},{"$f":"IF('Caseload Reporting'!C578 = \"\",\"\",'Caseload Reporting'!C578)","v":""},{"$f":"IF('Caseload Reporting'!D578 = \"\",\"\",'Caseload Reporting'!D578)","v":""},{"$f":"IF('Caseload Reporting'!G578 = \"\",\"\",'Caseload Reporting'!G578)","v":""},{"$f":"IF('Caseload Reporting'!H578 = \"\",\"\",'Caseload Reporting'!H578)","v":""},{"$f":"IF('Caseload Reporting'!I578 = \"\",\"\",'Caseload Reporting'!I578)","v":""},{"$f":"IF('Caseload Reporting'!J578 = \"\",\"\",'Caseload Reporting'!J578)","v":""},{"$f":"IF('Caseload Reporting'!K578 = \"\",\"\",'Caseload Reporting'!K578)","v":""},{"$f":"IF('Caseload Reporting'!L578 = \"\",\"\",'Caseload Reporting'!L578)","v":""},{"$f":"IF('Caseload Reporting'!M578 = \"\",\"\",'Caseload Reporting'!M578)","v":""},{"$f":"IF('Caseload Reporting'!N578 = \"\",\"\",'Caseload Reporting'!N578)","v":""},{"$f":"IF('Caseload Reporting'!P578 = \"\",\"\",'Caseload Reporting'!P578)","v":""},{"$f":"IF('Caseload Reporting'!O578 = \"\",\"\",'Caseload Reporting'!O578)","v":""},{"$f":"IF('Caseload Reporting'!Q578 = \"\",\"\",'Caseload Reporting'!Q578)","v":""},{"$f":"IF('Caseload Reporting'!R578 = \"\",\"\",'Caseload Reporting'!R578)","v":""},{"$f":"IF('Caseload Reporting'!E578 = \"\",\"\",'Caseload Reporting'!E578)","v":""},{"$f":"IF('Caseload Reporting'!S578 = \"\",\"\",'Caseload Reporting'!S578)","v":""}]
[{"$f":"IF('Caseload Reporting'!A579 = \"\",\"\",'Caseload Reporting'!A579)","v":""},{"$f":"IF('Caseload Reporting'!B579 = \"\",\"\",'Caseload Reporting'!B579)","v":""},{"$f":"IF('Caseload Reporting'!C579 = \"\",\"\",'Caseload Reporting'!C579)","v":""},{"$f":"IF('Caseload Reporting'!D579 = \"\",\"\",'Caseload Reporting'!D579)","v":""},{"$f":"IF('Caseload Reporting'!G579 = \"\",\"\",'Caseload Reporting'!G579)","v":""},{"$f":"IF('Caseload Reporting'!H579 = \"\",\"\",'Caseload Reporting'!H579)","v":""},{"$f":"IF('Caseload Reporting'!I579 = \"\",\"\",'Caseload Reporting'!I579)","v":""},{"$f":"IF('Caseload Reporting'!J579 = \"\",\"\",'Caseload Reporting'!J579)","v":""},{"$f":"IF('Caseload Reporting'!K579 = \"\",\"\",'Caseload Reporting'!K579)","v":""},{"$f":"IF('Caseload Reporting'!L579 = \"\",\"\",'Caseload Reporting'!L579)","v":""},{"$f":"IF('Caseload Reporting'!M579 = \"\",\"\",'Caseload Reporting'!M579)","v":""},{"$f":"IF('Caseload Reporting'!N579 = \"\",\"\",'Caseload Reporting'!N579)","v":""},{"$f":"IF('Caseload Reporting'!P579 = \"\",\"\",'Caseload Reporting'!P579)","v":""},{"$f":"IF('Caseload Reporting'!O579 = \"\",\"\",'Caseload Reporting'!O579)","v":""},{"$f":"IF('Caseload Reporting'!Q579 = \"\",\"\",'Caseload Reporting'!Q579)","v":""},{"$f":"IF('Caseload Reporting'!R579 = \"\",\"\",'Caseload Reporting'!R579)","v":""},{"$f":"IF('Caseload Reporting'!E579 = \"\",\"\",'Caseload Reporting'!E579)","v":""},{"$f":"IF('Caseload Reporting'!S579 = \"\",\"\",'Caseload Reporting'!S579)","v":""}]
[{"$f":"IF('Caseload Reporting'!A580 = \"\",\"\",'Caseload Reporting'!A580)","v":""},{"$f":"IF('Caseload Reporting'!B580 = \"\",\"\",'Caseload Reporting'!B580)","v":""},{"$f":"IF('Caseload Reporting'!C580 = \"\",\"\",'Caseload Reporting'!C580)","v":""},{"$f":"IF('Caseload Reporting'!D580 = \"\",\"\",'Caseload Reporting'!D580)","v":""},{"$f":"IF('Caseload Reporting'!G580 = \"\",\"\",'Caseload Reporting'!G580)","v":""},{"$f":"IF('Caseload Reporting'!H580 = \"\",\"\",'Caseload Reporting'!H580)","v":""},{"$f":"IF('Caseload Reporting'!I580 = \"\",\"\",'Caseload Reporting'!I580)","v":""},{"$f":"IF('Caseload Reporting'!J580 = \"\",\"\",'Caseload Reporting'!J580)","v":""},{"$f":"IF('Caseload Reporting'!K580 = \"\",\"\",'Caseload Reporting'!K580)","v":""},{"$f":"IF('Caseload Reporting'!L580 = \"\",\"\",'Caseload Reporting'!L580)","v":""},{"$f":"IF('Caseload Reporting'!M580 = \"\",\"\",'Caseload Reporting'!M580)","v":""},{"$f":"IF('Caseload Reporting'!N580 = \"\",\"\",'Caseload Reporting'!N580)","v":""},{"$f":"IF('Caseload Reporting'!P580 = \"\",\"\",'Caseload Reporting'!P580)","v":""},{"$f":"IF('Caseload Reporting'!O580 = \"\",\"\",'Caseload Reporting'!O580)","v":""},{"$f":"IF('Caseload Reporting'!Q580 = \"\",\"\",'Caseload Reporting'!Q580)","v":""},{"$f":"IF('Caseload Reporting'!R580 = \"\",\"\",'Caseload Reporting'!R580)","v":""},{"$f":"IF('Caseload Reporting'!E580 = \"\",\"\",'Caseload Reporting'!E580)","v":""},{"$f":"IF('Caseload Reporting'!S580 = \"\",\"\",'Caseload Reporting'!S580)","v":""}]
[{"$f":"IF('Caseload Reporting'!A581 = \"\",\"\",'Caseload Reporting'!A581)","v":""},{"$f":"IF('Caseload Reporting'!B581 = \"\",\"\",'Caseload Reporting'!B581)","v":""},{"$f":"IF('Caseload Reporting'!C581 = \"\",\"\",'Caseload Reporting'!C581)","v":""},{"$f":"IF('Caseload Reporting'!D581 = \"\",\"\",'Caseload Reporting'!D581)","v":""},{"$f":"IF('Caseload Reporting'!G581 = \"\",\"\",'Caseload Reporting'!G581)","v":""},{"$f":"IF('Caseload Reporting'!H581 = \"\",\"\",'Caseload Reporting'!H581)","v":""},{"$f":"IF('Caseload Reporting'!I581 = \"\",\"\",'Caseload Reporting'!I581)","v":""},{"$f":"IF('Caseload Reporting'!J581 = \"\",\"\",'Caseload Reporting'!J581)","v":""},{"$f":"IF('Caseload Reporting'!K581 = \"\",\"\",'Caseload Reporting'!K581)","v":""},{"$f":"IF('Caseload Reporting'!L581 = \"\",\"\",'Caseload Reporting'!L581)","v":""},{"$f":"IF('Caseload Reporting'!M581 = \"\",\"\",'Caseload Reporting'!M581)","v":""},{"$f":"IF('Caseload Reporting'!N581 = \"\",\"\",'Caseload Reporting'!N581)","v":""},{"$f":"IF('Caseload Reporting'!P581 = \"\",\"\",'Caseload Reporting'!P581)","v":""},{"$f":"IF('Caseload Reporting'!O581 = \"\",\"\",'Caseload Reporting'!O581)","v":""},{"$f":"IF('Caseload Reporting'!Q581 = \"\",\"\",'Caseload Reporting'!Q581)","v":""},{"$f":"IF('Caseload Reporting'!R581 = \"\",\"\",'Caseload Reporting'!R581)","v":""},{"$f":"IF('Caseload Reporting'!E581 = \"\",\"\",'Caseload Reporting'!E581)","v":""},{"$f":"IF('Caseload Reporting'!S581 = \"\",\"\",'Caseload Reporting'!S581)","v":""}]
[{"$f":"IF('Caseload Reporting'!A582 = \"\",\"\",'Caseload Reporting'!A582)","v":""},{"$f":"IF('Caseload Reporting'!B582 = \"\",\"\",'Caseload Reporting'!B582)","v":""},{"$f":"IF('Caseload Reporting'!C582 = \"\",\"\",'Caseload Reporting'!C582)","v":""},{"$f":"IF('Caseload Reporting'!D582 = \"\",\"\",'Caseload Reporting'!D582)","v":""},{"$f":"IF('Caseload Reporting'!G582 = \"\",\"\",'Caseload Reporting'!G582)","v":""},{"$f":"IF('Caseload Reporting'!H582 = \"\",\"\",'Caseload Reporting'!H582)","v":""},{"$f":"IF('Caseload Reporting'!I582 = \"\",\"\",'Caseload Reporting'!I582)","v":""},{"$f":"IF('Caseload Reporting'!J582 = \"\",\"\",'Caseload Reporting'!J582)","v":""},{"$f":"IF('Caseload Reporting'!K582 = \"\",\"\",'Caseload Reporting'!K582)","v":""},{"$f":"IF('Caseload Reporting'!L582 = \"\",\"\",'Caseload Reporting'!L582)","v":""},{"$f":"IF('Caseload Reporting'!M582 = \"\",\"\",'Caseload Reporting'!M582)","v":""},{"$f":"IF('Caseload Reporting'!N582 = \"\",\"\",'Caseload Reporting'!N582)","v":""},{"$f":"IF('Caseload Reporting'!P582 = \"\",\"\",'Caseload Reporting'!P582)","v":""},{"$f":"IF('Caseload Reporting'!O582 = \"\",\"\",'Caseload Reporting'!O582)","v":""},{"$f":"IF('Caseload Reporting'!Q582 = \"\",\"\",'Caseload Reporting'!Q582)","v":""},{"$f":"IF('Caseload Reporting'!R582 = \"\",\"\",'Caseload Reporting'!R582)","v":""},{"$f":"IF('Caseload Reporting'!E582 = \"\",\"\",'Caseload Reporting'!E582)","v":""},{"$f":"IF('Caseload Reporting'!S582 = \"\",\"\",'Caseload Reporting'!S582)","v":""}]
[{"$f":"IF('Caseload Reporting'!A583 = \"\",\"\",'Caseload Reporting'!A583)","v":""},{"$f":"IF('Caseload Reporting'!B583 = \"\",\"\",'Caseload Reporting'!B583)","v":""},{"$f":"IF('Caseload Reporting'!C583 = \"\",\"\",'Caseload Reporting'!C583)","v":""},{"$f":"IF('Caseload Reporting'!D583 = \"\",\"\",'Caseload Reporting'!D583)","v":""},{"$f":"IF('Caseload Reporting'!G583 = \"\",\"\",'Caseload Reporting'!G583)","v":""},{"$f":"IF('Caseload Reporting'!H583 = \"\",\"\",'Caseload Reporting'!H583)","v":""},{"$f":"IF('Caseload Reporting'!I583 = \"\",\"\",'Caseload Reporting'!I583)","v":""},{"$f":"IF('Caseload Reporting'!J583 = \"\",\"\",'Caseload Reporting'!J583)","v":""},{"$f":"IF('Caseload Reporting'!K583 = \"\",\"\",'Caseload Reporting'!K583)","v":""},{"$f":"IF('Caseload Reporting'!L583 = \"\",\"\",'Caseload Reporting'!L583)","v":""},{"$f":"IF('Caseload Reporting'!M583 = \"\",\"\",'Caseload Reporting'!M583)","v":""},{"$f":"IF('Caseload Reporting'!N583 = \"\",\"\",'Caseload Reporting'!N583)","v":""},{"$f":"IF('Caseload Reporting'!P583 = \"\",\"\",'Caseload Reporting'!P583)","v":""},{"$f":"IF('Caseload Reporting'!O583 = \"\",\"\",'Caseload Reporting'!O583)","v":""},{"$f":"IF('Caseload Reporting'!Q583 = \"\",\"\",'Caseload Reporting'!Q583)","v":""},{"$f":"IF('Caseload Reporting'!R583 = \"\",\"\",'Caseload Reporting'!R583)","v":""},{"$f":"IF('Caseload Reporting'!E583 = \"\",\"\",'Caseload Reporting'!E583)","v":""},{"$f":"IF('Caseload Reporting'!S583 = \"\",\"\",'Caseload Reporting'!S583)","v":""}]
[{"$f":"IF('Caseload Reporting'!A584 = \"\",\"\",'Caseload Reporting'!A584)","v":""},{"$f":"IF('Caseload Reporting'!B584 = \"\",\"\",'Caseload Reporting'!B584)","v":""},{"$f":"IF('Caseload Reporting'!C584 = \"\",\"\",'Caseload Reporting'!C584)","v":""},{"$f":"IF('Caseload Reporting'!D584 = \"\",\"\",'Caseload Reporting'!D584)","v":""},{"$f":"IF('Caseload Reporting'!G584 = \"\",\"\",'Caseload Reporting'!G584)","v":""},{"$f":"IF('Caseload Reporting'!H584 = \"\",\"\",'Caseload Reporting'!H584)","v":""},{"$f":"IF('Caseload Reporting'!I584 = \"\",\"\",'Caseload Reporting'!I584)","v":""},{"$f":"IF('Caseload Reporting'!J584 = \"\",\"\",'Caseload Reporting'!J584)","v":""},{"$f":"IF('Caseload Reporting'!K584 = \"\",\"\",'Caseload Reporting'!K584)","v":""},{"$f":"IF('Caseload Reporting'!L584 = \"\",\"\",'Caseload Reporting'!L584)","v":""},{"$f":"IF('Caseload Reporting'!M584 = \"\",\"\",'Caseload Reporting'!M584)","v":""},{"$f":"IF('Caseload Reporting'!N584 = \"\",\"\",'Caseload Reporting'!N584)","v":""},{"$f":"IF('Caseload Reporting'!P584 = \"\",\"\",'Caseload Reporting'!P584)","v":""},{"$f":"IF('Caseload Reporting'!O584 = \"\",\"\",'Caseload Reporting'!O584)","v":""},{"$f":"IF('Caseload Reporting'!Q584 = \"\",\"\",'Caseload Reporting'!Q584)","v":""},{"$f":"IF('Caseload Reporting'!R584 = \"\",\"\",'Caseload Reporting'!R584)","v":""},{"$f":"IF('Caseload Reporting'!E584 = \"\",\"\",'Caseload Reporting'!E584)","v":""},{"$f":"IF('Caseload Reporting'!S584 = \"\",\"\",'Caseload Reporting'!S584)","v":""}]
[{"$f":"IF('Caseload Reporting'!A585 = \"\",\"\",'Caseload Reporting'!A585)","v":""},{"$f":"IF('Caseload Reporting'!B585 = \"\",\"\",'Caseload Reporting'!B585)","v":""},{"$f":"IF('Caseload Reporting'!C585 = \"\",\"\",'Caseload Reporting'!C585)","v":""},{"$f":"IF('Caseload Reporting'!D585 = \"\",\"\",'Caseload Reporting'!D585)","v":""},{"$f":"IF('Caseload Reporting'!G585 = \"\",\"\",'Caseload Reporting'!G585)","v":""},{"$f":"IF('Caseload Reporting'!H585 = \"\",\"\",'Caseload Reporting'!H585)","v":""},{"$f":"IF('Caseload Reporting'!I585 = \"\",\"\",'Caseload Reporting'!I585)","v":""},{"$f":"IF('Caseload Reporting'!J585 = \"\",\"\",'Caseload Reporting'!J585)","v":""},{"$f":"IF('Caseload Reporting'!K585 = \"\",\"\",'Caseload Reporting'!K585)","v":""},{"$f":"IF('Caseload Reporting'!L585 = \"\",\"\",'Caseload Reporting'!L585)","v":""},{"$f":"IF('Caseload Reporting'!M585 = \"\",\"\",'Caseload Reporting'!M585)","v":""},{"$f":"IF('Caseload Reporting'!N585 = \"\",\"\",'Caseload Reporting'!N585)","v":""},{"$f":"IF('Caseload Reporting'!P585 = \"\",\"\",'Caseload Reporting'!P585)","v":""},{"$f":"IF('Caseload Reporting'!O585 = \"\",\"\",'Caseload Reporting'!O585)","v":""},{"$f":"IF('Caseload Reporting'!Q585 = \"\",\"\",'Caseload Reporting'!Q585)","v":""},{"$f":"IF('Caseload Reporting'!R585 = \"\",\"\",'Caseload Reporting'!R585)","v":""},{"$f":"IF('Caseload Reporting'!E585 = \"\",\"\",'Caseload Reporting'!E585)","v":""},{"$f":"IF('Caseload Reporting'!S585 = \"\",\"\",'Caseload Reporting'!S585)","v":""}]
[{"$f":"IF('Caseload Reporting'!A586 = \"\",\"\",'Caseload Reporting'!A586)","v":""},{"$f":"IF('Caseload Reporting'!B586 = \"\",\"\",'Caseload Reporting'!B586)","v":""},{"$f":"IF('Caseload Reporting'!C586 = \"\",\"\",'Caseload Reporting'!C586)","v":""},{"$f":"IF('Caseload Reporting'!D586 = \"\",\"\",'Caseload Reporting'!D586)","v":""},{"$f":"IF('Caseload Reporting'!G586 = \"\",\"\",'Caseload Reporting'!G586)","v":""},{"$f":"IF('Caseload Reporting'!H586 = \"\",\"\",'Caseload Reporting'!H586)","v":""},{"$f":"IF('Caseload Reporting'!I586 = \"\",\"\",'Caseload Reporting'!I586)","v":""},{"$f":"IF('Caseload Reporting'!J586 = \"\",\"\",'Caseload Reporting'!J586)","v":""},{"$f":"IF('Caseload Reporting'!K586 = \"\",\"\",'Caseload Reporting'!K586)","v":""},{"$f":"IF('Caseload Reporting'!L586 = \"\",\"\",'Caseload Reporting'!L586)","v":""},{"$f":"IF('Caseload Reporting'!M586 = \"\",\"\",'Caseload Reporting'!M586)","v":""},{"$f":"IF('Caseload Reporting'!N586 = \"\",\"\",'Caseload Reporting'!N586)","v":""},{"$f":"IF('Caseload Reporting'!P586 = \"\",\"\",'Caseload Reporting'!P586)","v":""},{"$f":"IF('Caseload Reporting'!O586 = \"\",\"\",'Caseload Reporting'!O586)","v":""},{"$f":"IF('Caseload Reporting'!Q586 = \"\",\"\",'Caseload Reporting'!Q586)","v":""},{"$f":"IF('Caseload Reporting'!R586 = \"\",\"\",'Caseload Reporting'!R586)","v":""},{"$f":"IF('Caseload Reporting'!E586 = \"\",\"\",'Caseload Reporting'!E586)","v":""},{"$f":"IF('Caseload Reporting'!S586 = \"\",\"\",'Caseload Reporting'!S586)","v":""}]
[{"$f":"IF('Caseload Reporting'!A587 = \"\",\"\",'Caseload Reporting'!A587)","v":""},{"$f":"IF('Caseload Reporting'!B587 = \"\",\"\",'Caseload Reporting'!B587)","v":""},{"$f":"IF('Caseload Reporting'!C587 = \"\",\"\",'Caseload Reporting'!C587)","v":""},{"$f":"IF('Caseload Reporting'!D587 = \"\",\"\",'Caseload Reporting'!D587)","v":""},{"$f":"IF('Caseload Reporting'!G587 = \"\",\"\",'Caseload Reporting'!G587)","v":""},{"$f":"IF('Caseload Reporting'!H587 = \"\",\"\",'Caseload Reporting'!H587)","v":""},{"$f":"IF('Caseload Reporting'!I587 = \"\",\"\",'Caseload Reporting'!I587)","v":""},{"$f":"IF('Caseload Reporting'!J587 = \"\",\"\",'Caseload Reporting'!J587)","v":""},{"$f":"IF('Caseload Reporting'!K587 = \"\",\"\",'Caseload Reporting'!K587)","v":""},{"$f":"IF('Caseload Reporting'!L587 = \"\",\"\",'Caseload Reporting'!L587)","v":""},{"$f":"IF('Caseload Reporting'!M587 = \"\",\"\",'Caseload Reporting'!M587)","v":""},{"$f":"IF('Caseload Reporting'!N587 = \"\",\"\",'Caseload Reporting'!N587)","v":""},{"$f":"IF('Caseload Reporting'!P587 = \"\",\"\",'Caseload Reporting'!P587)","v":""},{"$f":"IF('Caseload Reporting'!O587 = \"\",\"\",'Caseload Reporting'!O587)","v":""},{"$f":"IF('Caseload Reporting'!Q587 = \"\",\"\",'Caseload Reporting'!Q587)","v":""},{"$f":"IF('Caseload Reporting'!R587 = \"\",\"\",'Caseload Reporting'!R587)","v":""},{"$f":"IF('Caseload Reporting'!E587 = \"\",\"\",'Caseload Reporting'!E587)","v":""},{"$f":"IF('Caseload Reporting'!S587 = \"\",\"\",'Caseload Reporting'!S587)","v":""}]
[{"$f":"IF('Caseload Reporting'!A588 = \"\",\"\",'Caseload Reporting'!A588)","v":""},{"$f":"IF('Caseload Reporting'!B588 = \"\",\"\",'Caseload Reporting'!B588)","v":""},{"$f":"IF('Caseload Reporting'!C588 = \"\",\"\",'Caseload Reporting'!C588)","v":""},{"$f":"IF('Caseload Reporting'!D588 = \"\",\"\",'Caseload Reporting'!D588)","v":""},{"$f":"IF('Caseload Reporting'!G588 = \"\",\"\",'Caseload Reporting'!G588)","v":""},{"$f":"IF('Caseload Reporting'!H588 = \"\",\"\",'Caseload Reporting'!H588)","v":""},{"$f":"IF('Caseload Reporting'!I588 = \"\",\"\",'Caseload Reporting'!I588)","v":""},{"$f":"IF('Caseload Reporting'!J588 = \"\",\"\",'Caseload Reporting'!J588)","v":""},{"$f":"IF('Caseload Reporting'!K588 = \"\",\"\",'Caseload Reporting'!K588)","v":""},{"$f":"IF('Caseload Reporting'!L588 = \"\",\"\",'Caseload Reporting'!L588)","v":""},{"$f":"IF('Caseload Reporting'!M588 = \"\",\"\",'Caseload Reporting'!M588)","v":""},{"$f":"IF('Caseload Reporting'!N588 = \"\",\"\",'Caseload Reporting'!N588)","v":""},{"$f":"IF('Caseload Reporting'!P588 = \"\",\"\",'Caseload Reporting'!P588)","v":""},{"$f":"IF('Caseload Reporting'!O588 = \"\",\"\",'Caseload Reporting'!O588)","v":""},{"$f":"IF('Caseload Reporting'!Q588 = \"\",\"\",'Caseload Reporting'!Q588)","v":""},{"$f":"IF('Caseload Reporting'!R588 = \"\",\"\",'Caseload Reporting'!R588)","v":""},{"$f":"IF('Caseload Reporting'!E588 = \"\",\"\",'Caseload Reporting'!E588)","v":""},{"$f":"IF('Caseload Reporting'!S588 = \"\",\"\",'Caseload Reporting'!S588)","v":""}]
[{"$f":"IF('Caseload Reporting'!A589 = \"\",\"\",'Caseload Reporting'!A589)","v":""},{"$f":"IF('Caseload Reporting'!B589 = \"\",\"\",'Caseload Reporting'!B589)","v":""},{"$f":"IF('Caseload Reporting'!C589 = \"\",\"\",'Caseload Reporting'!C589)","v":""},{"$f":"IF('Caseload Reporting'!D589 = \"\",\"\",'Caseload Reporting'!D589)","v":""},{"$f":"IF('Caseload Reporting'!G589 = \"\",\"\",'Caseload Reporting'!G589)","v":""},{"$f":"IF('Caseload Reporting'!H589 = \"\",\"\",'Caseload Reporting'!H589)","v":""},{"$f":"IF('Caseload Reporting'!I589 = \"\",\"\",'Caseload Reporting'!I589)","v":""},{"$f":"IF('Caseload Reporting'!J589 = \"\",\"\",'Caseload Reporting'!J589)","v":""},{"$f":"IF('Caseload Reporting'!K589 = \"\",\"\",'Caseload Reporting'!K589)","v":""},{"$f":"IF('Caseload Reporting'!L589 = \"\",\"\",'Caseload Reporting'!L589)","v":""},{"$f":"IF('Caseload Reporting'!M589 = \"\",\"\",'Caseload Reporting'!M589)","v":""},{"$f":"IF('Caseload Reporting'!N589 = \"\",\"\",'Caseload Reporting'!N589)","v":""},{"$f":"IF('Caseload Reporting'!P589 = \"\",\"\",'Caseload Reporting'!P589)","v":""},{"$f":"IF('Caseload Reporting'!O589 = \"\",\"\",'Caseload Reporting'!O589)","v":""},{"$f":"IF('Caseload Reporting'!Q589 = \"\",\"\",'Caseload Reporting'!Q589)","v":""},{"$f":"IF('Caseload Reporting'!R589 = \"\",\"\",'Caseload Reporting'!R589)","v":""},{"$f":"IF('Caseload Reporting'!E589 = \"\",\"\",'Caseload Reporting'!E589)","v":""},{"$f":"IF('Caseload Reporting'!S589 = \"\",\"\",'Caseload Reporting'!S589)","v":""}]
[{"$f":"IF('Caseload Reporting'!A590 = \"\",\"\",'Caseload Reporting'!A590)","v":""},{"$f":"IF('Caseload Reporting'!B590 = \"\",\"\",'Caseload Reporting'!B590)","v":""},{"$f":"IF('Caseload Reporting'!C590 = \"\",\"\",'Caseload Reporting'!C590)","v":""},{"$f":"IF('Caseload Reporting'!D590 = \"\",\"\",'Caseload Reporting'!D590)","v":""},{"$f":"IF('Caseload Reporting'!G590 = \"\",\"\",'Caseload Reporting'!G590)","v":""},{"$f":"IF('Caseload Reporting'!H590 = \"\",\"\",'Caseload Reporting'!H590)","v":""},{"$f":"IF('Caseload Reporting'!I590 = \"\",\"\",'Caseload Reporting'!I590)","v":""},{"$f":"IF('Caseload Reporting'!J590 = \"\",\"\",'Caseload Reporting'!J590)","v":""},{"$f":"IF('Caseload Reporting'!K590 = \"\",\"\",'Caseload Reporting'!K590)","v":""},{"$f":"IF('Caseload Reporting'!L590 = \"\",\"\",'Caseload Reporting'!L590)","v":""},{"$f":"IF('Caseload Reporting'!M590 = \"\",\"\",'Caseload Reporting'!M590)","v":""},{"$f":"IF('Caseload Reporting'!N590 = \"\",\"\",'Caseload Reporting'!N590)","v":""},{"$f":"IF('Caseload Reporting'!P590 = \"\",\"\",'Caseload Reporting'!P590)","v":""},{"$f":"IF('Caseload Reporting'!O590 = \"\",\"\",'Caseload Reporting'!O590)","v":""},{"$f":"IF('Caseload Reporting'!Q590 = \"\",\"\",'Caseload Reporting'!Q590)","v":""},{"$f":"IF('Caseload Reporting'!R590 = \"\",\"\",'Caseload Reporting'!R590)","v":""},{"$f":"IF('Caseload Reporting'!E590 = \"\",\"\",'Caseload Reporting'!E590)","v":""},{"$f":"IF('Caseload Reporting'!S590 = \"\",\"\",'Caseload Reporting'!S590)","v":""}]
[{"$f":"IF('Caseload Reporting'!A591 = \"\",\"\",'Caseload Reporting'!A591)","v":""},{"$f":"IF('Caseload Reporting'!B591 = \"\",\"\",'Caseload Reporting'!B591)","v":""},{"$f":"IF('Caseload Reporting'!C591 = \"\",\"\",'Caseload Reporting'!C591)","v":""},{"$f":"IF('Caseload Reporting'!D591 = \"\",\"\",'Caseload Reporting'!D591)","v":""},{"$f":"IF('Caseload Reporting'!G591 = \"\",\"\",'Caseload Reporting'!G591)","v":""},{"$f":"IF('Caseload Reporting'!H591 = \"\",\"\",'Caseload Reporting'!H591)","v":""},{"$f":"IF('Caseload Reporting'!I591 = \"\",\"\",'Caseload Reporting'!I591)","v":""},{"$f":"IF('Caseload Reporting'!J591 = \"\",\"\",'Caseload Reporting'!J591)","v":""},{"$f":"IF('Caseload Reporting'!K591 = \"\",\"\",'Caseload Reporting'!K591)","v":""},{"$f":"IF('Caseload Reporting'!L591 = \"\",\"\",'Caseload Reporting'!L591)","v":""},{"$f":"IF('Caseload Reporting'!M591 = \"\",\"\",'Caseload Reporting'!M591)","v":""},{"$f":"IF('Caseload Reporting'!N591 = \"\",\"\",'Caseload Reporting'!N591)","v":""},{"$f":"IF('Caseload Reporting'!P591 = \"\",\"\",'Caseload Reporting'!P591)","v":""},{"$f":"IF('Caseload Reporting'!O591 = \"\",\"\",'Caseload Reporting'!O591)","v":""},{"$f":"IF('Caseload Reporting'!Q591 = \"\",\"\",'Caseload Reporting'!Q591)","v":""},{"$f":"IF('Caseload Reporting'!R591 = \"\",\"\",'Caseload Reporting'!R591)","v":""},{"$f":"IF('Caseload Reporting'!E591 = \"\",\"\",'Caseload Reporting'!E591)","v":""},{"$f":"IF('Caseload Reporting'!S591 = \"\",\"\",'Caseload Reporting'!S591)","v":""}]
[{"$f":"IF('Caseload Reporting'!A592 = \"\",\"\",'Caseload Reporting'!A592)","v":""},{"$f":"IF('Caseload Reporting'!B592 = \"\",\"\",'Caseload Reporting'!B592)","v":""},{"$f":"IF('Caseload Reporting'!C592 = \"\",\"\",'Caseload Reporting'!C592)","v":""},{"$f":"IF('Caseload Reporting'!D592 = \"\",\"\",'Caseload Reporting'!D592)","v":""},{"$f":"IF('Caseload Reporting'!G592 = \"\",\"\",'Caseload Reporting'!G592)","v":""},{"$f":"IF('Caseload Reporting'!H592 = \"\",\"\",'Caseload Reporting'!H592)","v":""},{"$f":"IF('Caseload Reporting'!I592 = \"\",\"\",'Caseload Reporting'!I592)","v":""},{"$f":"IF('Caseload Reporting'!J592 = \"\",\"\",'Caseload Reporting'!J592)","v":""},{"$f":"IF('Caseload Reporting'!K592 = \"\",\"\",'Caseload Reporting'!K592)","v":""},{"$f":"IF('Caseload Reporting'!L592 = \"\",\"\",'Caseload Reporting'!L592)","v":""},{"$f":"IF('Caseload Reporting'!M592 = \"\",\"\",'Caseload Reporting'!M592)","v":""},{"$f":"IF('Caseload Reporting'!N592 = \"\",\"\",'Caseload Reporting'!N592)","v":""},{"$f":"IF('Caseload Reporting'!P592 = \"\",\"\",'Caseload Reporting'!P592)","v":""},{"$f":"IF('Caseload Reporting'!O592 = \"\",\"\",'Caseload Reporting'!O592)","v":""},{"$f":"IF('Caseload Reporting'!Q592 = \"\",\"\",'Caseload Reporting'!Q592)","v":""},{"$f":"IF('Caseload Reporting'!R592 = \"\",\"\",'Caseload Reporting'!R592)","v":""},{"$f":"IF('Caseload Reporting'!E592 = \"\",\"\",'Caseload Reporting'!E592)","v":""},{"$f":"IF('Caseload Reporting'!S592 = \"\",\"\",'Caseload Reporting'!S592)","v":""}]
[{"$f":"IF('Caseload Reporting'!A593 = \"\",\"\",'Caseload Reporting'!A593)","v":""},{"$f":"IF('Caseload Reporting'!B593 = \"\",\"\",'Caseload Reporting'!B593)","v":""},{"$f":"IF('Caseload Reporting'!C593 = \"\",\"\",'Caseload Reporting'!C593)","v":""},{"$f":"IF('Caseload Reporting'!D593 = \"\",\"\",'Caseload Reporting'!D593)","v":""},{"$f":"IF('Caseload Reporting'!G593 = \"\",\"\",'Caseload Reporting'!G593)","v":""},{"$f":"IF('Caseload Reporting'!H593 = \"\",\"\",'Caseload Reporting'!H593)","v":""},{"$f":"IF('Caseload Reporting'!I593 = \"\",\"\",'Caseload Reporting'!I593)","v":""},{"$f":"IF('Caseload Reporting'!J593 = \"\",\"\",'Caseload Reporting'!J593)","v":""},{"$f":"IF('Caseload Reporting'!K593 = \"\",\"\",'Caseload Reporting'!K593)","v":""},{"$f":"IF('Caseload Reporting'!L593 = \"\",\"\",'Caseload Reporting'!L593)","v":""},{"$f":"IF('Caseload Reporting'!M593 = \"\",\"\",'Caseload Reporting'!M593)","v":""},{"$f":"IF('Caseload Reporting'!N593 = \"\",\"\",'Caseload Reporting'!N593)","v":""},{"$f":"IF('Caseload Reporting'!P593 = \"\",\"\",'Caseload Reporting'!P593)","v":""},{"$f":"IF('Caseload Reporting'!O593 = \"\",\"\",'Caseload Reporting'!O593)","v":""},{"$f":"IF('Caseload Reporting'!Q593 = \"\",\"\",'Caseload Reporting'!Q593)","v":""},{"$f":"IF('Caseload Reporting'!R593 = \"\",\"\",'Caseload Reporting'!R593)","v":""},{"$f":"IF('Caseload Reporting'!E593 = \"\",\"\",'Caseload Reporting'!E593)","v":""},{"$f":"IF('Caseload Reporting'!S593 = \"\",\"\",'Caseload Reporting'!S593)","v":""}]
[{"$f":"IF('Caseload Reporting'!A594 = \"\",\"\",'Caseload Reporting'!A594)","v":""},{"$f":"IF('Caseload Reporting'!B594 = \"\",\"\",'Caseload Reporting'!B594)","v":""},{"$f":"IF('Caseload Reporting'!C594 = \"\",\"\",'Caseload Reporting'!C594)","v":""},{"$f":"IF('Caseload Reporting'!D594 = \"\",\"\",'Caseload Reporting'!D594)","v":""},{"$f":"IF('Caseload Reporting'!G594 = \"\",\"\",'Caseload Reporting'!G594)","v":""},{"$f":"IF('Caseload Reporting'!H594 = \"\",\"\",'Caseload Reporting'!H594)","v":""},{"$f":"IF('Caseload Reporting'!I594 = \"\",\"\",'Caseload Reporting'!I594)","v":""},{"$f":"IF('Caseload Reporting'!J594 = \"\",\"\",'Caseload Reporting'!J594)","v":""},{"$f":"IF('Caseload Reporting'!K594 = \"\",\"\",'Caseload Reporting'!K594)","v":""},{"$f":"IF('Caseload Reporting'!L594 = \"\",\"\",'Caseload Reporting'!L594)","v":""},{"$f":"IF('Caseload Reporting'!M594 = \"\",\"\",'Caseload Reporting'!M594)","v":""},{"$f":"IF('Caseload Reporting'!N594 = \"\",\"\",'Caseload Reporting'!N594)","v":""},{"$f":"IF('Caseload Reporting'!P594 = \"\",\"\",'Caseload Reporting'!P594)","v":""},{"$f":"IF('Caseload Reporting'!O594 = \"\",\"\",'Caseload Reporting'!O594)","v":""},{"$f":"IF('Caseload Reporting'!Q594 = \"\",\"\",'Caseload Reporting'!Q594)","v":""},{"$f":"IF('Caseload Reporting'!R594 = \"\",\"\",'Caseload Reporting'!R594)","v":""},{"$f":"IF('Caseload Reporting'!E594 = \"\",\"\",'Caseload Reporting'!E594)","v":""},{"$f":"IF('Caseload Reporting'!S594 = \"\",\"\",'Caseload Reporting'!S594)","v":""}]
[{"$f":"IF('Caseload Reporting'!A595 = \"\",\"\",'Caseload Reporting'!A595)","v":""},{"$f":"IF('Caseload Reporting'!B595 = \"\",\"\",'Caseload Reporting'!B595)","v":""},{"$f":"IF('Caseload Reporting'!C595 = \"\",\"\",'Caseload Reporting'!C595)","v":""},{"$f":"IF('Caseload Reporting'!D595 = \"\",\"\",'Caseload Reporting'!D595)","v":""},{"$f":"IF('Caseload Reporting'!G595 = \"\",\"\",'Caseload Reporting'!G595)","v":""},{"$f":"IF('Caseload Reporting'!H595 = \"\",\"\",'Caseload Reporting'!H595)","v":""},{"$f":"IF('Caseload Reporting'!I595 = \"\",\"\",'Caseload Reporting'!I595)","v":""},{"$f":"IF('Caseload Reporting'!J595 = \"\",\"\",'Caseload Reporting'!J595)","v":""},{"$f":"IF('Caseload Reporting'!K595 = \"\",\"\",'Caseload Reporting'!K595)","v":""},{"$f":"IF('Caseload Reporting'!L595 = \"\",\"\",'Caseload Reporting'!L595)","v":""},{"$f":"IF('Caseload Reporting'!M595 = \"\",\"\",'Caseload Reporting'!M595)","v":""},{"$f":"IF('Caseload Reporting'!N595 = \"\",\"\",'Caseload Reporting'!N595)","v":""},{"$f":"IF('Caseload Reporting'!P595 = \"\",\"\",'Caseload Reporting'!P595)","v":""},{"$f":"IF('Caseload Reporting'!O595 = \"\",\"\",'Caseload Reporting'!O595)","v":""},{"$f":"IF('Caseload Reporting'!Q595 = \"\",\"\",'Caseload Reporting'!Q595)","v":""},{"$f":"IF('Caseload Reporting'!R595 = \"\",\"\",'Caseload Reporting'!R595)","v":""},{"$f":"IF('Caseload Reporting'!E595 = \"\",\"\",'Caseload Reporting'!E595)","v":""},{"$f":"IF('Caseload Reporting'!S595 = \"\",\"\",'Caseload Reporting'!S595)","v":""}]
[{"$f":"IF('Caseload Reporting'!A596 = \"\",\"\",'Caseload Reporting'!A596)","v":""},{"$f":"IF('Caseload Reporting'!B596 = \"\",\"\",'Caseload Reporting'!B596)","v":""},{"$f":"IF('Caseload Reporting'!C596 = \"\",\"\",'Caseload Reporting'!C596)","v":""},{"$f":"IF('Caseload Reporting'!D596 = \"\",\"\",'Caseload Reporting'!D596)","v":""},{"$f":"IF('Caseload Reporting'!G596 = \"\",\"\",'Caseload Reporting'!G596)","v":""},{"$f":"IF('Caseload Reporting'!H596 = \"\",\"\",'Caseload Reporting'!H596)","v":""},{"$f":"IF('Caseload Reporting'!I596 = \"\",\"\",'Caseload Reporting'!I596)","v":""},{"$f":"IF('Caseload Reporting'!J596 = \"\",\"\",'Caseload Reporting'!J596)","v":""},{"$f":"IF('Caseload Reporting'!K596 = \"\",\"\",'Caseload Reporting'!K596)","v":""},{"$f":"IF('Caseload Reporting'!L596 = \"\",\"\",'Caseload Reporting'!L596)","v":""},{"$f":"IF('Caseload Reporting'!M596 = \"\",\"\",'Caseload Reporting'!M596)","v":""},{"$f":"IF('Caseload Reporting'!N596 = \"\",\"\",'Caseload Reporting'!N596)","v":""},{"$f":"IF('Caseload Reporting'!P596 = \"\",\"\",'Caseload Reporting'!P596)","v":""},{"$f":"IF('Caseload Reporting'!O596 = \"\",\"\",'Caseload Reporting'!O596)","v":""},{"$f":"IF('Caseload Reporting'!Q596 = \"\",\"\",'Caseload Reporting'!Q596)","v":""},{"$f":"IF('Caseload Reporting'!R596 = \"\",\"\",'Caseload Reporting'!R596)","v":""},{"$f":"IF('Caseload Reporting'!E596 = \"\",\"\",'Caseload Reporting'!E596)","v":""},{"$f":"IF('Caseload Reporting'!S596 = \"\",\"\",'Caseload Reporting'!S596)","v":""}]
[{"$f":"IF('Caseload Reporting'!A597 = \"\",\"\",'Caseload Reporting'!A597)","v":""},{"$f":"IF('Caseload Reporting'!B597 = \"\",\"\",'Caseload Reporting'!B597)","v":""},{"$f":"IF('Caseload Reporting'!C597 = \"\",\"\",'Caseload Reporting'!C597)","v":""},{"$f":"IF('Caseload Reporting'!D597 = \"\",\"\",'Caseload Reporting'!D597)","v":""},{"$f":"IF('Caseload Reporting'!G597 = \"\",\"\",'Caseload Reporting'!G597)","v":""},{"$f":"IF('Caseload Reporting'!H597 = \"\",\"\",'Caseload Reporting'!H597)","v":""},{"$f":"IF('Caseload Reporting'!I597 = \"\",\"\",'Caseload Reporting'!I597)","v":""},{"$f":"IF('Caseload Reporting'!J597 = \"\",\"\",'Caseload Reporting'!J597)","v":""},{"$f":"IF('Caseload Reporting'!K597 = \"\",\"\",'Caseload Reporting'!K597)","v":""},{"$f":"IF('Caseload Reporting'!L597 = \"\",\"\",'Caseload Reporting'!L597)","v":""},{"$f":"IF('Caseload Reporting'!M597 = \"\",\"\",'Caseload Reporting'!M597)","v":""},{"$f":"IF('Caseload Reporting'!N597 = \"\",\"\",'Caseload Reporting'!N597)","v":""},{"$f":"IF('Caseload Reporting'!P597 = \"\",\"\",'Caseload Reporting'!P597)","v":""},{"$f":"IF('Caseload Reporting'!O597 = \"\",\"\",'Caseload Reporting'!O597)","v":""},{"$f":"IF('Caseload Reporting'!Q597 = \"\",\"\",'Caseload Reporting'!Q597)","v":""},{"$f":"IF('Caseload Reporting'!R597 = \"\",\"\",'Caseload Reporting'!R597)","v":""},{"$f":"IF('Caseload Reporting'!E597 = \"\",\"\",'Caseload Reporting'!E597)","v":""},{"$f":"IF('Caseload Reporting'!S597 = \"\",\"\",'Caseload Reporting'!S597)","v":""}]
[{"$f":"IF('Caseload Reporting'!A598 = \"\",\"\",'Caseload Reporting'!A598)","v":""},{"$f":"IF('Caseload Reporting'!B598 = \"\",\"\",'Caseload Reporting'!B598)","v":""},{"$f":"IF('Caseload Reporting'!C598 = \"\",\"\",'Caseload Reporting'!C598)","v":""},{"$f":"IF('Caseload Reporting'!D598 = \"\",\"\",'Caseload Reporting'!D598)","v":""},{"$f":"IF('Caseload Reporting'!G598 = \"\",\"\",'Caseload Reporting'!G598)","v":""},{"$f":"IF('Caseload Reporting'!H598 = \"\",\"\",'Caseload Reporting'!H598)","v":""},{"$f":"IF('Caseload Reporting'!I598 = \"\",\"\",'Caseload Reporting'!I598)","v":""},{"$f":"IF('Caseload Reporting'!J598 = \"\",\"\",'Caseload Reporting'!J598)","v":""},{"$f":"IF('Caseload Reporting'!K598 = \"\",\"\",'Caseload Reporting'!K598)","v":""},{"$f":"IF('Caseload Reporting'!L598 = \"\",\"\",'Caseload Reporting'!L598)","v":""},{"$f":"IF('Caseload Reporting'!M598 = \"\",\"\",'Caseload Reporting'!M598)","v":""},{"$f":"IF('Caseload Reporting'!N598 = \"\",\"\",'Caseload Reporting'!N598)","v":""},{"$f":"IF('Caseload Reporting'!P598 = \"\",\"\",'Caseload Reporting'!P598)","v":""},{"$f":"IF('Caseload Reporting'!O598 = \"\",\"\",'Caseload Reporting'!O598)","v":""},{"$f":"IF('Caseload Reporting'!Q598 = \"\",\"\",'Caseload Reporting'!Q598)","v":""},{"$f":"IF('Caseload Reporting'!R598 = \"\",\"\",'Caseload Reporting'!R598)","v":""},{"$f":"IF('Caseload Reporting'!E598 = \"\",\"\",'Caseload Reporting'!E598)","v":""},{"$f":"IF('Caseload Reporting'!S598 = \"\",\"\",'Caseload Reporting'!S598)","v":""}]
[{"$f":"IF('Caseload Reporting'!A599 = \"\",\"\",'Caseload Reporting'!A599)","v":""},{"$f":"IF('Caseload Reporting'!B599 = \"\",\"\",'Caseload Reporting'!B599)","v":""},{"$f":"IF('Caseload Reporting'!C599 = \"\",\"\",'Caseload Reporting'!C599)","v":""},{"$f":"IF('Caseload Reporting'!D599 = \"\",\"\",'Caseload Reporting'!D599)","v":""},{"$f":"IF('Caseload Reporting'!G599 = \"\",\"\",'Caseload Reporting'!G599)","v":""},{"$f":"IF('Caseload Reporting'!H599 = \"\",\"\",'Caseload Reporting'!H599)","v":""},{"$f":"IF('Caseload Reporting'!I599 = \"\",\"\",'Caseload Reporting'!I599)","v":""},{"$f":"IF('Caseload Reporting'!J599 = \"\",\"\",'Caseload Reporting'!J599)","v":""},{"$f":"IF('Caseload Reporting'!K599 = \"\",\"\",'Caseload Reporting'!K599)","v":""},{"$f":"IF('Caseload Reporting'!L599 = \"\",\"\",'Caseload Reporting'!L599)","v":""},{"$f":"IF('Caseload Reporting'!M599 = \"\",\"\",'Caseload Reporting'!M599)","v":""},{"$f":"IF('Caseload Reporting'!N599 = \"\",\"\",'Caseload Reporting'!N599)","v":""},{"$f":"IF('Caseload Reporting'!P599 = \"\",\"\",'Caseload Reporting'!P599)","v":""},{"$f":"IF('Caseload Reporting'!O599 = \"\",\"\",'Caseload Reporting'!O599)","v":""},{"$f":"IF('Caseload Reporting'!Q599 = \"\",\"\",'Caseload Reporting'!Q599)","v":""},{"$f":"IF('Caseload Reporting'!R599 = \"\",\"\",'Caseload Reporting'!R599)","v":""},{"$f":"IF('Caseload Reporting'!E599 = \"\",\"\",'Caseload Reporting'!E599)","v":""},{"$f":"IF('Caseload Reporting'!S599 = \"\",\"\",'Caseload Reporting'!S599)","v":""}]
[{"$f":"IF('Caseload Reporting'!A600 = \"\",\"\",'Caseload Reporting'!A600)","v":""},{"$f":"IF('Caseload Reporting'!B600 = \"\",\"\",'Caseload Reporting'!B600)","v":""},{"$f":"IF('Caseload Reporting'!C600 = \"\",\"\",'Caseload Reporting'!C600)","v":""},{"$f":"IF('Caseload Reporting'!D600 = \"\",\"\",'Caseload Reporting'!D600)","v":""},{"$f":"IF('Caseload Reporting'!G600 = \"\",\"\",'Caseload Reporting'!G600)","v":""},{"$f":"IF('Caseload Reporting'!H600 = \"\",\"\",'Caseload Reporting'!H600)","v":""},{"$f":"IF('Caseload Reporting'!I600 = \"\",\"\",'Caseload Reporting'!I600)","v":""},{"$f":"IF('Caseload Reporting'!J600 = \"\",\"\",'Caseload Reporting'!J600)","v":""},{"$f":"IF('Caseload Reporting'!K600 = \"\",\"\",'Caseload Reporting'!K600)","v":""},{"$f":"IF('Caseload Reporting'!L600 = \"\",\"\",'Caseload Reporting'!L600)","v":""},{"$f":"IF('Caseload Reporting'!M600 = \"\",\"\",'Caseload Reporting'!M600)","v":""},{"$f":"IF('Caseload Reporting'!N600 = \"\",\"\",'Caseload Reporting'!N600)","v":""},{"$f":"IF('Caseload Reporting'!P600 = \"\",\"\",'Caseload Reporting'!P600)","v":""},{"$f":"IF('Caseload Reporting'!O600 = \"\",\"\",'Caseload Reporting'!O600)","v":""},{"$f":"IF('Caseload Reporting'!Q600 = \"\",\"\",'Caseload Reporting'!Q600)","v":""},{"$f":"IF('Caseload Reporting'!R600 = \"\",\"\",'Caseload Reporting'!R600)","v":""},{"$f":"IF('Caseload Reporting'!E600 = \"\",\"\",'Caseload Reporting'!E600)","v":""},{"$f":"IF('Caseload Reporting'!S600 = \"\",\"\",'Caseload Reporting'!S600)","v":""}]
[{"$f":"IF('Caseload Reporting'!A601 = \"\",\"\",'Caseload Reporting'!A601)","v":""},{"$f":"IF('Caseload Reporting'!B601 = \"\",\"\",'Caseload Reporting'!B601)","v":""},{"$f":"IF('Caseload Reporting'!C601 = \"\",\"\",'Caseload Reporting'!C601)","v":""},{"$f":"IF('Caseload Reporting'!D601 = \"\",\"\",'Caseload Reporting'!D601)","v":""},{"$f":"IF('Caseload Reporting'!G601 = \"\",\"\",'Caseload Reporting'!G601)","v":""},{"$f":"IF('Caseload Reporting'!H601 = \"\",\"\",'Caseload Reporting'!H601)","v":""},{"$f":"IF('Caseload Reporting'!I601 = \"\",\"\",'Caseload Reporting'!I601)","v":""},{"$f":"IF('Caseload Reporting'!J601 = \"\",\"\",'Caseload Reporting'!J601)","v":""},{"$f":"IF('Caseload Reporting'!K601 = \"\",\"\",'Caseload Reporting'!K601)","v":""},{"$f":"IF('Caseload Reporting'!L601 = \"\",\"\",'Caseload Reporting'!L601)","v":""},{"$f":"IF('Caseload Reporting'!M601 = \"\",\"\",'Caseload Reporting'!M601)","v":""},{"$f":"IF('Caseload Reporting'!N601 = \"\",\"\",'Caseload Reporting'!N601)","v":""},{"$f":"IF('Caseload Reporting'!P601 = \"\",\"\",'Caseload Reporting'!P601)","v":""},{"$f":"IF('Caseload Reporting'!O601 = \"\",\"\",'Caseload Reporting'!O601)","v":""},{"$f":"IF('Caseload Reporting'!Q601 = \"\",\"\",'Caseload Reporting'!Q601)","v":""},{"$f":"IF('Caseload Reporting'!R601 = \"\",\"\",'Caseload Reporting'!R601)","v":""},{"$f":"IF('Caseload Reporting'!E601 = \"\",\"\",'Caseload Reporting'!E601)","v":""},{"$f":"IF('Caseload Reporting'!S601 = \"\",\"\",'Caseload Reporting'!S601)","v":""}]
[{"$f":"IF('Caseload Reporting'!A602 = \"\",\"\",'Caseload Reporting'!A602)","v":""},{"$f":"IF('Caseload Reporting'!B602 = \"\",\"\",'Caseload Reporting'!B602)","v":""},{"$f":"IF('Caseload Reporting'!C602 = \"\",\"\",'Caseload Reporting'!C602)","v":""},{"$f":"IF('Caseload Reporting'!D602 = \"\",\"\",'Caseload Reporting'!D602)","v":""},{"$f":"IF('Caseload Reporting'!G602 = \"\",\"\",'Caseload Reporting'!G602)","v":""},{"$f":"IF('Caseload Reporting'!H602 = \"\",\"\",'Caseload Reporting'!H602)","v":""},{"$f":"IF('Caseload Reporting'!I602 = \"\",\"\",'Caseload Reporting'!I602)","v":""},{"$f":"IF('Caseload Reporting'!J602 = \"\",\"\",'Caseload Reporting'!J602)","v":""},{"$f":"IF('Caseload Reporting'!K602 = \"\",\"\",'Caseload Reporting'!K602)","v":""},{"$f":"IF('Caseload Reporting'!L602 = \"\",\"\",'Caseload Reporting'!L602)","v":""},{"$f":"IF('Caseload Reporting'!M602 = \"\",\"\",'Caseload Reporting'!M602)","v":""},{"$f":"IF('Caseload Reporting'!N602 = \"\",\"\",'Caseload Reporting'!N602)","v":""},{"$f":"IF('Caseload Reporting'!P602 = \"\",\"\",'Caseload Reporting'!P602)","v":""},{"$f":"IF('Caseload Reporting'!O602 = \"\",\"\",'Caseload Reporting'!O602)","v":""},{"$f":"IF('Caseload Reporting'!Q602 = \"\",\"\",'Caseload Reporting'!Q602)","v":""},{"$f":"IF('Caseload Reporting'!R602 = \"\",\"\",'Caseload Reporting'!R602)","v":""},{"$f":"IF('Caseload Reporting'!E602 = \"\",\"\",'Caseload Reporting'!E602)","v":""},{"$f":"IF('Caseload Reporting'!S602 = \"\",\"\",'Caseload Reporting'!S602)","v":""}]
[{"$f":"IF('Caseload Reporting'!A603 = \"\",\"\",'Caseload Reporting'!A603)","v":""},{"$f":"IF('Caseload Reporting'!B603 = \"\",\"\",'Caseload Reporting'!B603)","v":""},{"$f":"IF('Caseload Reporting'!C603 = \"\",\"\",'Caseload Reporting'!C603)","v":""},{"$f":"IF('Caseload Reporting'!D603 = \"\",\"\",'Caseload Reporting'!D603)","v":""},{"$f":"IF('Caseload Reporting'!G603 = \"\",\"\",'Caseload Reporting'!G603)","v":""},{"$f":"IF('Caseload Reporting'!H603 = \"\",\"\",'Caseload Reporting'!H603)","v":""},{"$f":"IF('Caseload Reporting'!I603 = \"\",\"\",'Caseload Reporting'!I603)","v":""},{"$f":"IF('Caseload Reporting'!J603 = \"\",\"\",'Caseload Reporting'!J603)","v":""},{"$f":"IF('Caseload Reporting'!K603 = \"\",\"\",'Caseload Reporting'!K603)","v":""},{"$f":"IF('Caseload Reporting'!L603 = \"\",\"\",'Caseload Reporting'!L603)","v":""},{"$f":"IF('Caseload Reporting'!M603 = \"\",\"\",'Caseload Reporting'!M603)","v":""},{"$f":"IF('Caseload Reporting'!N603 = \"\",\"\",'Caseload Reporting'!N603)","v":""},{"$f":"IF('Caseload Reporting'!P603 = \"\",\"\",'Caseload Reporting'!P603)","v":""},{"$f":"IF('Caseload Reporting'!O603 = \"\",\"\",'Caseload Reporting'!O603)","v":""},{"$f":"IF('Caseload Reporting'!Q603 = \"\",\"\",'Caseload Reporting'!Q603)","v":""},{"$f":"IF('Caseload Reporting'!R603 = \"\",\"\",'Caseload Reporting'!R603)","v":""},{"$f":"IF('Caseload Reporting'!E603 = \"\",\"\",'Caseload Reporting'!E603)","v":""},{"$f":"IF('Caseload Reporting'!S603 = \"\",\"\",'Caseload Reporting'!S603)","v":""}]
[{"$f":"IF('Caseload Reporting'!A604 = \"\",\"\",'Caseload Reporting'!A604)","v":""},{"$f":"IF('Caseload Reporting'!B604 = \"\",\"\",'Caseload Reporting'!B604)","v":""},{"$f":"IF('Caseload Reporting'!C604 = \"\",\"\",'Caseload Reporting'!C604)","v":""},{"$f":"IF('Caseload Reporting'!D604 = \"\",\"\",'Caseload Reporting'!D604)","v":""},{"$f":"IF('Caseload Reporting'!G604 = \"\",\"\",'Caseload Reporting'!G604)","v":""},{"$f":"IF('Caseload Reporting'!H604 = \"\",\"\",'Caseload Reporting'!H604)","v":""},{"$f":"IF('Caseload Reporting'!I604 = \"\",\"\",'Caseload Reporting'!I604)","v":""},{"$f":"IF('Caseload Reporting'!J604 = \"\",\"\",'Caseload Reporting'!J604)","v":""},{"$f":"IF('Caseload Reporting'!K604 = \"\",\"\",'Caseload Reporting'!K604)","v":""},{"$f":"IF('Caseload Reporting'!L604 = \"\",\"\",'Caseload Reporting'!L604)","v":""},{"$f":"IF('Caseload Reporting'!M604 = \"\",\"\",'Caseload Reporting'!M604)","v":""},{"$f":"IF('Caseload Reporting'!N604 = \"\",\"\",'Caseload Reporting'!N604)","v":""},{"$f":"IF('Caseload Reporting'!P604 = \"\",\"\",'Caseload Reporting'!P604)","v":""},{"$f":"IF('Caseload Reporting'!O604 = \"\",\"\",'Caseload Reporting'!O604)","v":""},{"$f":"IF('Caseload Reporting'!Q604 = \"\",\"\",'Caseload Reporting'!Q604)","v":""},{"$f":"IF('Caseload Reporting'!R604 = \"\",\"\",'Caseload Reporting'!R604)","v":""},{"$f":"IF('Caseload Reporting'!E604 = \"\",\"\",'Caseload Reporting'!E604)","v":""},{"$f":"IF('Caseload Reporting'!S604 = \"\",\"\",'Caseload Reporting'!S604)","v":""}]
[{"$f":"IF('Caseload Reporting'!A605 = \"\",\"\",'Caseload Reporting'!A605)","v":""},{"$f":"IF('Caseload Reporting'!B605 = \"\",\"\",'Caseload Reporting'!B605)","v":""},{"$f":"IF('Caseload Reporting'!C605 = \"\",\"\",'Caseload Reporting'!C605)","v":""},{"$f":"IF('Caseload Reporting'!D605 = \"\",\"\",'Caseload Reporting'!D605)","v":""},{"$f":"IF('Caseload Reporting'!G605 = \"\",\"\",'Caseload Reporting'!G605)","v":""},{"$f":"IF('Caseload Reporting'!H605 = \"\",\"\",'Caseload Reporting'!H605)","v":""},{"$f":"IF('Caseload Reporting'!I605 = \"\",\"\",'Caseload Reporting'!I605)","v":""},{"$f":"IF('Caseload Reporting'!J605 = \"\",\"\",'Caseload Reporting'!J605)","v":""},{"$f":"IF('Caseload Reporting'!K605 = \"\",\"\",'Caseload Reporting'!K605)","v":""},{"$f":"IF('Caseload Reporting'!L605 = \"\",\"\",'Caseload Reporting'!L605)","v":""},{"$f":"IF('Caseload Reporting'!M605 = \"\",\"\",'Caseload Reporting'!M605)","v":""},{"$f":"IF('Caseload Reporting'!N605 = \"\",\"\",'Caseload Reporting'!N605)","v":""},{"$f":"IF('Caseload Reporting'!P605 = \"\",\"\",'Caseload Reporting'!P605)","v":""},{"$f":"IF('Caseload Reporting'!O605 = \"\",\"\",'Caseload Reporting'!O605)","v":""},{"$f":"IF('Caseload Reporting'!Q605 = \"\",\"\",'Caseload Reporting'!Q605)","v":""},{"$f":"IF('Caseload Reporting'!R605 = \"\",\"\",'Caseload Reporting'!R605)","v":""},{"$f":"IF('Caseload Reporting'!E605 = \"\",\"\",'Caseload Reporting'!E605)","v":""},{"$f":"IF('Caseload Reporting'!S605 = \"\",\"\",'Caseload Reporting'!S605)","v":""}]
[{"$f":"IF('Caseload Reporting'!A606 = \"\",\"\",'Caseload Reporting'!A606)","v":""},{"$f":"IF('Caseload Reporting'!B606 = \"\",\"\",'Caseload Reporting'!B606)","v":""},{"$f":"IF('Caseload Reporting'!C606 = \"\",\"\",'Caseload Reporting'!C606)","v":""},{"$f":"IF('Caseload Reporting'!D606 = \"\",\"\",'Caseload Reporting'!D606)","v":""},{"$f":"IF('Caseload Reporting'!G606 = \"\",\"\",'Caseload Reporting'!G606)","v":""},{"$f":"IF('Caseload Reporting'!H606 = \"\",\"\",'Caseload Reporting'!H606)","v":""},{"$f":"IF('Caseload Reporting'!I606 = \"\",\"\",'Caseload Reporting'!I606)","v":""},{"$f":"IF('Caseload Reporting'!J606 = \"\",\"\",'Caseload Reporting'!J606)","v":""},{"$f":"IF('Caseload Reporting'!K606 = \"\",\"\",'Caseload Reporting'!K606)","v":""},{"$f":"IF('Caseload Reporting'!L606 = \"\",\"\",'Caseload Reporting'!L606)","v":""},{"$f":"IF('Caseload Reporting'!M606 = \"\",\"\",'Caseload Reporting'!M606)","v":""},{"$f":"IF('Caseload Reporting'!N606 = \"\",\"\",'Caseload Reporting'!N606)","v":""},{"$f":"IF('Caseload Reporting'!P606 = \"\",\"\",'Caseload Reporting'!P606)","v":""},{"$f":"IF('Caseload Reporting'!O606 = \"\",\"\",'Caseload Reporting'!O606)","v":""},{"$f":"IF('Caseload Reporting'!Q606 = \"\",\"\",'Caseload Reporting'!Q606)","v":""},{"$f":"IF('Caseload Reporting'!R606 = \"\",\"\",'Caseload Reporting'!R606)","v":""},{"$f":"IF('Caseload Reporting'!E606 = \"\",\"\",'Caseload Reporting'!E606)","v":""},{"$f":"IF('Caseload Reporting'!S606 = \"\",\"\",'Caseload Reporting'!S606)","v":""}]
[{"$f":"IF('Caseload Reporting'!A607 = \"\",\"\",'Caseload Reporting'!A607)","v":""},{"$f":"IF('Caseload Reporting'!B607 = \"\",\"\",'Caseload Reporting'!B607)","v":""},{"$f":"IF('Caseload Reporting'!C607 = \"\",\"\",'Caseload Reporting'!C607)","v":""},{"$f":"IF('Caseload Reporting'!D607 = \"\",\"\",'Caseload Reporting'!D607)","v":""},{"$f":"IF('Caseload Reporting'!G607 = \"\",\"\",'Caseload Reporting'!G607)","v":""},{"$f":"IF('Caseload Reporting'!H607 = \"\",\"\",'Caseload Reporting'!H607)","v":""},{"$f":"IF('Caseload Reporting'!I607 = \"\",\"\",'Caseload Reporting'!I607)","v":""},{"$f":"IF('Caseload Reporting'!J607 = \"\",\"\",'Caseload Reporting'!J607)","v":""},{"$f":"IF('Caseload Reporting'!K607 = \"\",\"\",'Caseload Reporting'!K607)","v":""},{"$f":"IF('Caseload Reporting'!L607 = \"\",\"\",'Caseload Reporting'!L607)","v":""},{"$f":"IF('Caseload Reporting'!M607 = \"\",\"\",'Caseload Reporting'!M607)","v":""},{"$f":"IF('Caseload Reporting'!N607 = \"\",\"\",'Caseload Reporting'!N607)","v":""},{"$f":"IF('Caseload Reporting'!P607 = \"\",\"\",'Caseload Reporting'!P607)","v":""},{"$f":"IF('Caseload Reporting'!O607 = \"\",\"\",'Caseload Reporting'!O607)","v":""},{"$f":"IF('Caseload Reporting'!Q607 = \"\",\"\",'Caseload Reporting'!Q607)","v":""},{"$f":"IF('Caseload Reporting'!R607 = \"\",\"\",'Caseload Reporting'!R607)","v":""},{"$f":"IF('Caseload Reporting'!E607 = \"\",\"\",'Caseload Reporting'!E607)","v":""},{"$f":"IF('Caseload Reporting'!S607 = \"\",\"\",'Caseload Reporting'!S607)","v":""}]
[{"$f":"IF('Caseload Reporting'!A608 = \"\",\"\",'Caseload Reporting'!A608)","v":""},{"$f":"IF('Caseload Reporting'!B608 = \"\",\"\",'Caseload Reporting'!B608)","v":""},{"$f":"IF('Caseload Reporting'!C608 = \"\",\"\",'Caseload Reporting'!C608)","v":""},{"$f":"IF('Caseload Reporting'!D608 = \"\",\"\",'Caseload Reporting'!D608)","v":""},{"$f":"IF('Caseload Reporting'!G608 = \"\",\"\",'Caseload Reporting'!G608)","v":""},{"$f":"IF('Caseload Reporting'!H608 = \"\",\"\",'Caseload Reporting'!H608)","v":""},{"$f":"IF('Caseload Reporting'!I608 = \"\",\"\",'Caseload Reporting'!I608)","v":""},{"$f":"IF('Caseload Reporting'!J608 = \"\",\"\",'Caseload Reporting'!J608)","v":""},{"$f":"IF('Caseload Reporting'!K608 = \"\",\"\",'Caseload Reporting'!K608)","v":""},{"$f":"IF('Caseload Reporting'!L608 = \"\",\"\",'Caseload Reporting'!L608)","v":""},{"$f":"IF('Caseload Reporting'!M608 = \"\",\"\",'Caseload Reporting'!M608)","v":""},{"$f":"IF('Caseload Reporting'!N608 = \"\",\"\",'Caseload Reporting'!N608)","v":""},{"$f":"IF('Caseload Reporting'!P608 = \"\",\"\",'Caseload Reporting'!P608)","v":""},{"$f":"IF('Caseload Reporting'!O608 = \"\",\"\",'Caseload Reporting'!O608)","v":""},{"$f":"IF('Caseload Reporting'!Q608 = \"\",\"\",'Caseload Reporting'!Q608)","v":""},{"$f":"IF('Caseload Reporting'!R608 = \"\",\"\",'Caseload Reporting'!R608)","v":""},{"$f":"IF('Caseload Reporting'!E608 = \"\",\"\",'Caseload Reporting'!E608)","v":""},{"$f":"IF('Caseload Reporting'!S608 = \"\",\"\",'Caseload Reporting'!S608)","v":""}]
[{"$f":"IF('Caseload Reporting'!A609 = \"\",\"\",'Caseload Reporting'!A609)","v":""},{"$f":"IF('Caseload Reporting'!B609 = \"\",\"\",'Caseload Reporting'!B609)","v":""},{"$f":"IF('Caseload Reporting'!C609 = \"\",\"\",'Caseload Reporting'!C609)","v":""},{"$f":"IF('Caseload Reporting'!D609 = \"\",\"\",'Caseload Reporting'!D609)","v":""},{"$f":"IF('Caseload Reporting'!G609 = \"\",\"\",'Caseload Reporting'!G609)","v":""},{"$f":"IF('Caseload Reporting'!H609 = \"\",\"\",'Caseload Reporting'!H609)","v":""},{"$f":"IF('Caseload Reporting'!I609 = \"\",\"\",'Caseload Reporting'!I609)","v":""},{"$f":"IF('Caseload Reporting'!J609 = \"\",\"\",'Caseload Reporting'!J609)","v":""},{"$f":"IF('Caseload Reporting'!K609 = \"\",\"\",'Caseload Reporting'!K609)","v":""},{"$f":"IF('Caseload Reporting'!L609 = \"\",\"\",'Caseload Reporting'!L609)","v":""},{"$f":"IF('Caseload Reporting'!M609 = \"\",\"\",'Caseload Reporting'!M609)","v":""},{"$f":"IF('Caseload Reporting'!N609 = \"\",\"\",'Caseload Reporting'!N609)","v":""},{"$f":"IF('Caseload Reporting'!P609 = \"\",\"\",'Caseload Reporting'!P609)","v":""},{"$f":"IF('Caseload Reporting'!O609 = \"\",\"\",'Caseload Reporting'!O609)","v":""},{"$f":"IF('Caseload Reporting'!Q609 = \"\",\"\",'Caseload Reporting'!Q609)","v":""},{"$f":"IF('Caseload Reporting'!R609 = \"\",\"\",'Caseload Reporting'!R609)","v":""},{"$f":"IF('Caseload Reporting'!E609 = \"\",\"\",'Caseload Reporting'!E609)","v":""},{"$f":"IF('Caseload Reporting'!S609 = \"\",\"\",'Caseload Reporting'!S609)","v":""}]
[{"$f":"IF('Caseload Reporting'!A610 = \"\",\"\",'Caseload Reporting'!A610)","v":""},{"$f":"IF('Caseload Reporting'!B610 = \"\",\"\",'Caseload Reporting'!B610)","v":""},{"$f":"IF('Caseload Reporting'!C610 = \"\",\"\",'Caseload Reporting'!C610)","v":""},{"$f":"IF('Caseload Reporting'!D610 = \"\",\"\",'Caseload Reporting'!D610)","v":""},{"$f":"IF('Caseload Reporting'!G610 = \"\",\"\",'Caseload Reporting'!G610)","v":""},{"$f":"IF('Caseload Reporting'!H610 = \"\",\"\",'Caseload Reporting'!H610)","v":""},{"$f":"IF('Caseload Reporting'!I610 = \"\",\"\",'Caseload Reporting'!I610)","v":""},{"$f":"IF('Caseload Reporting'!J610 = \"\",\"\",'Caseload Reporting'!J610)","v":""},{"$f":"IF('Caseload Reporting'!K610 = \"\",\"\",'Caseload Reporting'!K610)","v":""},{"$f":"IF('Caseload Reporting'!L610 = \"\",\"\",'Caseload Reporting'!L610)","v":""},{"$f":"IF('Caseload Reporting'!M610 = \"\",\"\",'Caseload Reporting'!M610)","v":""},{"$f":"IF('Caseload Reporting'!N610 = \"\",\"\",'Caseload Reporting'!N610)","v":""},{"$f":"IF('Caseload Reporting'!P610 = \"\",\"\",'Caseload Reporting'!P610)","v":""},{"$f":"IF('Caseload Reporting'!O610 = \"\",\"\",'Caseload Reporting'!O610)","v":""},{"$f":"IF('Caseload Reporting'!Q610 = \"\",\"\",'Caseload Reporting'!Q610)","v":""},{"$f":"IF('Caseload Reporting'!R610 = \"\",\"\",'Caseload Reporting'!R610)","v":""},{"$f":"IF('Caseload Reporting'!E610 = \"\",\"\",'Caseload Reporting'!E610)","v":""},{"$f":"IF('Caseload Reporting'!S610 = \"\",\"\",'Caseload Reporting'!S610)","v":""}]
[{"$f":"IF('Caseload Reporting'!A611 = \"\",\"\",'Caseload Reporting'!A611)","v":""},{"$f":"IF('Caseload Reporting'!B611 = \"\",\"\",'Caseload Reporting'!B611)","v":""},{"$f":"IF('Caseload Reporting'!C611 = \"\",\"\",'Caseload Reporting'!C611)","v":""},{"$f":"IF('Caseload Reporting'!D611 = \"\",\"\",'Caseload Reporting'!D611)","v":""},{"$f":"IF('Caseload Reporting'!G611 = \"\",\"\",'Caseload Reporting'!G611)","v":""},{"$f":"IF('Caseload Reporting'!H611 = \"\",\"\",'Caseload Reporting'!H611)","v":""},{"$f":"IF('Caseload Reporting'!I611 = \"\",\"\",'Caseload Reporting'!I611)","v":""},{"$f":"IF('Caseload Reporting'!J611 = \"\",\"\",'Caseload Reporting'!J611)","v":""},{"$f":"IF('Caseload Reporting'!K611 = \"\",\"\",'Caseload Reporting'!K611)","v":""},{"$f":"IF('Caseload Reporting'!L611 = \"\",\"\",'Caseload Reporting'!L611)","v":""},{"$f":"IF('Caseload Reporting'!M611 = \"\",\"\",'Caseload Reporting'!M611)","v":""},{"$f":"IF('Caseload Reporting'!N611 = \"\",\"\",'Caseload Reporting'!N611)","v":""},{"$f":"IF('Caseload Reporting'!P611 = \"\",\"\",'Caseload Reporting'!P611)","v":""},{"$f":"IF('Caseload Reporting'!O611 = \"\",\"\",'Caseload Reporting'!O611)","v":""},{"$f":"IF('Caseload Reporting'!Q611 = \"\",\"\",'Caseload Reporting'!Q611)","v":""},{"$f":"IF('Caseload Reporting'!R611 = \"\",\"\",'Caseload Reporting'!R611)","v":""},{"$f":"IF('Caseload Reporting'!E611 = \"\",\"\",'Caseload Reporting'!E611)","v":""},{"$f":"IF('Caseload Reporting'!S611 = \"\",\"\",'Caseload Reporting'!S611)","v":""}]
[{"$f":"IF('Caseload Reporting'!A612 = \"\",\"\",'Caseload Reporting'!A612)","v":""},{"$f":"IF('Caseload Reporting'!B612 = \"\",\"\",'Caseload Reporting'!B612)","v":""},{"$f":"IF('Caseload Reporting'!C612 = \"\",\"\",'Caseload Reporting'!C612)","v":""},{"$f":"IF('Caseload Reporting'!D612 = \"\",\"\",'Caseload Reporting'!D612)","v":""},{"$f":"IF('Caseload Reporting'!G612 = \"\",\"\",'Caseload Reporting'!G612)","v":""},{"$f":"IF('Caseload Reporting'!H612 = \"\",\"\",'Caseload Reporting'!H612)","v":""},{"$f":"IF('Caseload Reporting'!I612 = \"\",\"\",'Caseload Reporting'!I612)","v":""},{"$f":"IF('Caseload Reporting'!J612 = \"\",\"\",'Caseload Reporting'!J612)","v":""},{"$f":"IF('Caseload Reporting'!K612 = \"\",\"\",'Caseload Reporting'!K612)","v":""},{"$f":"IF('Caseload Reporting'!L612 = \"\",\"\",'Caseload Reporting'!L612)","v":""},{"$f":"IF('Caseload Reporting'!M612 = \"\",\"\",'Caseload Reporting'!M612)","v":""},{"$f":"IF('Caseload Reporting'!N612 = \"\",\"\",'Caseload Reporting'!N612)","v":""},{"$f":"IF('Caseload Reporting'!P612 = \"\",\"\",'Caseload Reporting'!P612)","v":""},{"$f":"IF('Caseload Reporting'!O612 = \"\",\"\",'Caseload Reporting'!O612)","v":""},{"$f":"IF('Caseload Reporting'!Q612 = \"\",\"\",'Caseload Reporting'!Q612)","v":""},{"$f":"IF('Caseload Reporting'!R612 = \"\",\"\",'Caseload Reporting'!R612)","v":""},{"$f":"IF('Caseload Reporting'!E612 = \"\",\"\",'Caseload Reporting'!E612)","v":""},{"$f":"IF('Caseload Reporting'!S612 = \"\",\"\",'Caseload Reporting'!S612)","v":""}]
[{"$f":"IF('Caseload Reporting'!A613 = \"\",\"\",'Caseload Reporting'!A613)","v":""},{"$f":"IF('Caseload Reporting'!B613 = \"\",\"\",'Caseload Reporting'!B613)","v":""},{"$f":"IF('Caseload Reporting'!C613 = \"\",\"\",'Caseload Reporting'!C613)","v":""},{"$f":"IF('Caseload Reporting'!D613 = \"\",\"\",'Caseload Reporting'!D613)","v":""},{"$f":"IF('Caseload Reporting'!G613 = \"\",\"\",'Caseload Reporting'!G613)","v":""},{"$f":"IF('Caseload Reporting'!H613 = \"\",\"\",'Caseload Reporting'!H613)","v":""},{"$f":"IF('Caseload Reporting'!I613 = \"\",\"\",'Caseload Reporting'!I613)","v":""},{"$f":"IF('Caseload Reporting'!J613 = \"\",\"\",'Caseload Reporting'!J613)","v":""},{"$f":"IF('Caseload Reporting'!K613 = \"\",\"\",'Caseload Reporting'!K613)","v":""},{"$f":"IF('Caseload Reporting'!L613 = \"\",\"\",'Caseload Reporting'!L613)","v":""},{"$f":"IF('Caseload Reporting'!M613 = \"\",\"\",'Caseload Reporting'!M613)","v":""},{"$f":"IF('Caseload Reporting'!N613 = \"\",\"\",'Caseload Reporting'!N613)","v":""},{"$f":"IF('Caseload Reporting'!P613 = \"\",\"\",'Caseload Reporting'!P613)","v":""},{"$f":"IF('Caseload Reporting'!O613 = \"\",\"\",'Caseload Reporting'!O613)","v":""},{"$f":"IF('Caseload Reporting'!Q613 = \"\",\"\",'Caseload Reporting'!Q613)","v":""},{"$f":"IF('Caseload Reporting'!R613 = \"\",\"\",'Caseload Reporting'!R613)","v":""},{"$f":"IF('Caseload Reporting'!E613 = \"\",\"\",'Caseload Reporting'!E613)","v":""},{"$f":"IF('Caseload Reporting'!S613 = \"\",\"\",'Caseload Reporting'!S613)","v":""}]
[{"$f":"IF('Caseload Reporting'!A614 = \"\",\"\",'Caseload Reporting'!A614)","v":""},{"$f":"IF('Caseload Reporting'!B614 = \"\",\"\",'Caseload Reporting'!B614)","v":""},{"$f":"IF('Caseload Reporting'!C614 = \"\",\"\",'Caseload Reporting'!C614)","v":""},{"$f":"IF('Caseload Reporting'!D614 = \"\",\"\",'Caseload Reporting'!D614)","v":""},{"$f":"IF('Caseload Reporting'!G614 = \"\",\"\",'Caseload Reporting'!G614)","v":""},{"$f":"IF('Caseload Reporting'!H614 = \"\",\"\",'Caseload Reporting'!H614)","v":""},{"$f":"IF('Caseload Reporting'!I614 = \"\",\"\",'Caseload Reporting'!I614)","v":""},{"$f":"IF('Caseload Reporting'!J614 = \"\",\"\",'Caseload Reporting'!J614)","v":""},{"$f":"IF('Caseload Reporting'!K614 = \"\",\"\",'Caseload Reporting'!K614)","v":""},{"$f":"IF('Caseload Reporting'!L614 = \"\",\"\",'Caseload Reporting'!L614)","v":""},{"$f":"IF('Caseload Reporting'!M614 = \"\",\"\",'Caseload Reporting'!M614)","v":""},{"$f":"IF('Caseload Reporting'!N614 = \"\",\"\",'Caseload Reporting'!N614)","v":""},{"$f":"IF('Caseload Reporting'!P614 = \"\",\"\",'Caseload Reporting'!P614)","v":""},{"$f":"IF('Caseload Reporting'!O614 = \"\",\"\",'Caseload Reporting'!O614)","v":""},{"$f":"IF('Caseload Reporting'!Q614 = \"\",\"\",'Caseload Reporting'!Q614)","v":""},{"$f":"IF('Caseload Reporting'!R614 = \"\",\"\",'Caseload Reporting'!R614)","v":""},{"$f":"IF('Caseload Reporting'!E614 = \"\",\"\",'Caseload Reporting'!E614)","v":""},{"$f":"IF('Caseload Reporting'!S614 = \"\",\"\",'Caseload Reporting'!S614)","v":""}]
[{"$f":"IF('Caseload Reporting'!A615 = \"\",\"\",'Caseload Reporting'!A615)","v":""},{"$f":"IF('Caseload Reporting'!B615 = \"\",\"\",'Caseload Reporting'!B615)","v":""},{"$f":"IF('Caseload Reporting'!C615 = \"\",\"\",'Caseload Reporting'!C615)","v":""},{"$f":"IF('Caseload Reporting'!D615 = \"\",\"\",'Caseload Reporting'!D615)","v":""},{"$f":"IF('Caseload Reporting'!G615 = \"\",\"\",'Caseload Reporting'!G615)","v":""},{"$f":"IF('Caseload Reporting'!H615 = \"\",\"\",'Caseload Reporting'!H615)","v":""},{"$f":"IF('Caseload Reporting'!I615 = \"\",\"\",'Caseload Reporting'!I615)","v":""},{"$f":"IF('Caseload Reporting'!J615 = \"\",\"\",'Caseload Reporting'!J615)","v":""},{"$f":"IF('Caseload Reporting'!K615 = \"\",\"\",'Caseload Reporting'!K615)","v":""},{"$f":"IF('Caseload Reporting'!L615 = \"\",\"\",'Caseload Reporting'!L615)","v":""},{"$f":"IF('Caseload Reporting'!M615 = \"\",\"\",'Caseload Reporting'!M615)","v":""},{"$f":"IF('Caseload Reporting'!N615 = \"\",\"\",'Caseload Reporting'!N615)","v":""},{"$f":"IF('Caseload Reporting'!P615 = \"\",\"\",'Caseload Reporting'!P615)","v":""},{"$f":"IF('Caseload Reporting'!O615 = \"\",\"\",'Caseload Reporting'!O615)","v":""},{"$f":"IF('Caseload Reporting'!Q615 = \"\",\"\",'Caseload Reporting'!Q615)","v":""},{"$f":"IF('Caseload Reporting'!R615 = \"\",\"\",'Caseload Reporting'!R615)","v":""},{"$f":"IF('Caseload Reporting'!E615 = \"\",\"\",'Caseload Reporting'!E615)","v":""},{"$f":"IF('Caseload Reporting'!S615 = \"\",\"\",'Caseload Reporting'!S615)","v":""}]
[{"$f":"IF('Caseload Reporting'!A616 = \"\",\"\",'Caseload Reporting'!A616)","v":""},{"$f":"IF('Caseload Reporting'!B616 = \"\",\"\",'Caseload Reporting'!B616)","v":""},{"$f":"IF('Caseload Reporting'!C616 = \"\",\"\",'Caseload Reporting'!C616)","v":""},{"$f":"IF('Caseload Reporting'!D616 = \"\",\"\",'Caseload Reporting'!D616)","v":""},{"$f":"IF('Caseload Reporting'!G616 = \"\",\"\",'Caseload Reporting'!G616)","v":""},{"$f":"IF('Caseload Reporting'!H616 = \"\",\"\",'Caseload Reporting'!H616)","v":""},{"$f":"IF('Caseload Reporting'!I616 = \"\",\"\",'Caseload Reporting'!I616)","v":""},{"$f":"IF('Caseload Reporting'!J616 = \"\",\"\",'Caseload Reporting'!J616)","v":""},{"$f":"IF('Caseload Reporting'!K616 = \"\",\"\",'Caseload Reporting'!K616)","v":""},{"$f":"IF('Caseload Reporting'!L616 = \"\",\"\",'Caseload Reporting'!L616)","v":""},{"$f":"IF('Caseload Reporting'!M616 = \"\",\"\",'Caseload Reporting'!M616)","v":""},{"$f":"IF('Caseload Reporting'!N616 = \"\",\"\",'Caseload Reporting'!N616)","v":""},{"$f":"IF('Caseload Reporting'!P616 = \"\",\"\",'Caseload Reporting'!P616)","v":""},{"$f":"IF('Caseload Reporting'!O616 = \"\",\"\",'Caseload Reporting'!O616)","v":""},{"$f":"IF('Caseload Reporting'!Q616 = \"\",\"\",'Caseload Reporting'!Q616)","v":""},{"$f":"IF('Caseload Reporting'!R616 = \"\",\"\",'Caseload Reporting'!R616)","v":""},{"$f":"IF('Caseload Reporting'!E616 = \"\",\"\",'Caseload Reporting'!E616)","v":""},{"$f":"IF('Caseload Reporting'!S616 = \"\",\"\",'Caseload Reporting'!S616)","v":""}]
[{"$f":"IF('Caseload Reporting'!A617 = \"\",\"\",'Caseload Reporting'!A617)","v":""},{"$f":"IF('Caseload Reporting'!B617 = \"\",\"\",'Caseload Reporting'!B617)","v":""},{"$f":"IF('Caseload Reporting'!C617 = \"\",\"\",'Caseload Reporting'!C617)","v":""},{"$f":"IF('Caseload Reporting'!D617 = \"\",\"\",'Caseload Reporting'!D617)","v":""},{"$f":"IF('Caseload Reporting'!G617 = \"\",\"\",'Caseload Reporting'!G617)","v":""},{"$f":"IF('Caseload Reporting'!H617 = \"\",\"\",'Caseload Reporting'!H617)","v":""},{"$f":"IF('Caseload Reporting'!I617 = \"\",\"\",'Caseload Reporting'!I617)","v":""},{"$f":"IF('Caseload Reporting'!J617 = \"\",\"\",'Caseload Reporting'!J617)","v":""},{"$f":"IF('Caseload Reporting'!K617 = \"\",\"\",'Caseload Reporting'!K617)","v":""},{"$f":"IF('Caseload Reporting'!L617 = \"\",\"\",'Caseload Reporting'!L617)","v":""},{"$f":"IF('Caseload Reporting'!M617 = \"\",\"\",'Caseload Reporting'!M617)","v":""},{"$f":"IF('Caseload Reporting'!N617 = \"\",\"\",'Caseload Reporting'!N617)","v":""},{"$f":"IF('Caseload Reporting'!P617 = \"\",\"\",'Caseload Reporting'!P617)","v":""},{"$f":"IF('Caseload Reporting'!O617 = \"\",\"\",'Caseload Reporting'!O617)","v":""},{"$f":"IF('Caseload Reporting'!Q617 = \"\",\"\",'Caseload Reporting'!Q617)","v":""},{"$f":"IF('Caseload Reporting'!R617 = \"\",\"\",'Caseload Reporting'!R617)","v":""},{"$f":"IF('Caseload Reporting'!E617 = \"\",\"\",'Caseload Reporting'!E617)","v":""},{"$f":"IF('Caseload Reporting'!S617 = \"\",\"\",'Caseload Reporting'!S617)","v":""}]
[{"$f":"IF('Caseload Reporting'!A618 = \"\",\"\",'Caseload Reporting'!A618)","v":""},{"$f":"IF('Caseload Reporting'!B618 = \"\",\"\",'Caseload Reporting'!B618)","v":""},{"$f":"IF('Caseload Reporting'!C618 = \"\",\"\",'Caseload Reporting'!C618)","v":""},{"$f":"IF('Caseload Reporting'!D618 = \"\",\"\",'Caseload Reporting'!D618)","v":""},{"$f":"IF('Caseload Reporting'!G618 = \"\",\"\",'Caseload Reporting'!G618)","v":""},{"$f":"IF('Caseload Reporting'!H618 = \"\",\"\",'Caseload Reporting'!H618)","v":""},{"$f":"IF('Caseload Reporting'!I618 = \"\",\"\",'Caseload Reporting'!I618)","v":""},{"$f":"IF('Caseload Reporting'!J618 = \"\",\"\",'Caseload Reporting'!J618)","v":""},{"$f":"IF('Caseload Reporting'!K618 = \"\",\"\",'Caseload Reporting'!K618)","v":""},{"$f":"IF('Caseload Reporting'!L618 = \"\",\"\",'Caseload Reporting'!L618)","v":""},{"$f":"IF('Caseload Reporting'!M618 = \"\",\"\",'Caseload Reporting'!M618)","v":""},{"$f":"IF('Caseload Reporting'!N618 = \"\",\"\",'Caseload Reporting'!N618)","v":""},{"$f":"IF('Caseload Reporting'!P618 = \"\",\"\",'Caseload Reporting'!P618)","v":""},{"$f":"IF('Caseload Reporting'!O618 = \"\",\"\",'Caseload Reporting'!O618)","v":""},{"$f":"IF('Caseload Reporting'!Q618 = \"\",\"\",'Caseload Reporting'!Q618)","v":""},{"$f":"IF('Caseload Reporting'!R618 = \"\",\"\",'Caseload Reporting'!R618)","v":""},{"$f":"IF('Caseload Reporting'!E618 = \"\",\"\",'Caseload Reporting'!E618)","v":""},{"$f":"IF('Caseload Reporting'!S618 = \"\",\"\",'Caseload Reporting'!S618)","v":""}]
[{"$f":"IF('Caseload Reporting'!A619 = \"\",\"\",'Caseload Reporting'!A619)","v":""},{"$f":"IF('Caseload Reporting'!B619 = \"\",\"\",'Caseload Reporting'!B619)","v":""},{"$f":"IF('Caseload Reporting'!C619 = \"\",\"\",'Caseload Reporting'!C619)","v":""},{"$f":"IF('Caseload Reporting'!D619 = \"\",\"\",'Caseload Reporting'!D619)","v":""},{"$f":"IF('Caseload Reporting'!G619 = \"\",\"\",'Caseload Reporting'!G619)","v":""},{"$f":"IF('Caseload Reporting'!H619 = \"\",\"\",'Caseload Reporting'!H619)","v":""},{"$f":"IF('Caseload Reporting'!I619 = \"\",\"\",'Caseload Reporting'!I619)","v":""},{"$f":"IF('Caseload Reporting'!J619 = \"\",\"\",'Caseload Reporting'!J619)","v":""},{"$f":"IF('Caseload Reporting'!K619 = \"\",\"\",'Caseload Reporting'!K619)","v":""},{"$f":"IF('Caseload Reporting'!L619 = \"\",\"\",'Caseload Reporting'!L619)","v":""},{"$f":"IF('Caseload Reporting'!M619 = \"\",\"\",'Caseload Reporting'!M619)","v":""},{"$f":"IF('Caseload Reporting'!N619 = \"\",\"\",'Caseload Reporting'!N619)","v":""},{"$f":"IF('Caseload Reporting'!P619 = \"\",\"\",'Caseload Reporting'!P619)","v":""},{"$f":"IF('Caseload Reporting'!O619 = \"\",\"\",'Caseload Reporting'!O619)","v":""},{"$f":"IF('Caseload Reporting'!Q619 = \"\",\"\",'Caseload Reporting'!Q619)","v":""},{"$f":"IF('Caseload Reporting'!R619 = \"\",\"\",'Caseload Reporting'!R619)","v":""},{"$f":"IF('Caseload Reporting'!E619 = \"\",\"\",'Caseload Reporting'!E619)","v":""},{"$f":"IF('Caseload Reporting'!S619 = \"\",\"\",'Caseload Reporting'!S619)","v":""}]
[{"$f":"IF('Caseload Reporting'!A620 = \"\",\"\",'Caseload Reporting'!A620)","v":""},{"$f":"IF('Caseload Reporting'!B620 = \"\",\"\",'Caseload Reporting'!B620)","v":""},{"$f":"IF('Caseload Reporting'!C620 = \"\",\"\",'Caseload Reporting'!C620)","v":""},{"$f":"IF('Caseload Reporting'!D620 = \"\",\"\",'Caseload Reporting'!D620)","v":""},{"$f":"IF('Caseload Reporting'!G620 = \"\",\"\",'Caseload Reporting'!G620)","v":""},{"$f":"IF('Caseload Reporting'!H620 = \"\",\"\",'Caseload Reporting'!H620)","v":""},{"$f":"IF('Caseload Reporting'!I620 = \"\",\"\",'Caseload Reporting'!I620)","v":""},{"$f":"IF('Caseload Reporting'!J620 = \"\",\"\",'Caseload Reporting'!J620)","v":""},{"$f":"IF('Caseload Reporting'!K620 = \"\",\"\",'Caseload Reporting'!K620)","v":""},{"$f":"IF('Caseload Reporting'!L620 = \"\",\"\",'Caseload Reporting'!L620)","v":""},{"$f":"IF('Caseload Reporting'!M620 = \"\",\"\",'Caseload Reporting'!M620)","v":""},{"$f":"IF('Caseload Reporting'!N620 = \"\",\"\",'Caseload Reporting'!N620)","v":""},{"$f":"IF('Caseload Reporting'!P620 = \"\",\"\",'Caseload Reporting'!P620)","v":""},{"$f":"IF('Caseload Reporting'!O620 = \"\",\"\",'Caseload Reporting'!O620)","v":""},{"$f":"IF('Caseload Reporting'!Q620 = \"\",\"\",'Caseload Reporting'!Q620)","v":""},{"$f":"IF('Caseload Reporting'!R620 = \"\",\"\",'Caseload Reporting'!R620)","v":""},{"$f":"IF('Caseload Reporting'!E620 = \"\",\"\",'Caseload Reporting'!E620)","v":""},{"$f":"IF('Caseload Reporting'!S620 = \"\",\"\",'Caseload Reporting'!S620)","v":""}]
[{"$f":"IF('Caseload Reporting'!A621 = \"\",\"\",'Caseload Reporting'!A621)","v":""},{"$f":"IF('Caseload Reporting'!B621 = \"\",\"\",'Caseload Reporting'!B621)","v":""},{"$f":"IF('Caseload Reporting'!C621 = \"\",\"\",'Caseload Reporting'!C621)","v":""},{"$f":"IF('Caseload Reporting'!D621 = \"\",\"\",'Caseload Reporting'!D621)","v":""},{"$f":"IF('Caseload Reporting'!G621 = \"\",\"\",'Caseload Reporting'!G621)","v":""},{"$f":"IF('Caseload Reporting'!H621 = \"\",\"\",'Caseload Reporting'!H621)","v":""},{"$f":"IF('Caseload Reporting'!I621 = \"\",\"\",'Caseload Reporting'!I621)","v":""},{"$f":"IF('Caseload Reporting'!J621 = \"\",\"\",'Caseload Reporting'!J621)","v":""},{"$f":"IF('Caseload Reporting'!K621 = \"\",\"\",'Caseload Reporting'!K621)","v":""},{"$f":"IF('Caseload Reporting'!L621 = \"\",\"\",'Caseload Reporting'!L621)","v":""},{"$f":"IF('Caseload Reporting'!M621 = \"\",\"\",'Caseload Reporting'!M621)","v":""},{"$f":"IF('Caseload Reporting'!N621 = \"\",\"\",'Caseload Reporting'!N621)","v":""},{"$f":"IF('Caseload Reporting'!P621 = \"\",\"\",'Caseload Reporting'!P621)","v":""},{"$f":"IF('Caseload Reporting'!O621 = \"\",\"\",'Caseload Reporting'!O621)","v":""},{"$f":"IF('Caseload Reporting'!Q621 = \"\",\"\",'Caseload Reporting'!Q621)","v":""},{"$f":"IF('Caseload Reporting'!R621 = \"\",\"\",'Caseload Reporting'!R621)","v":""},{"$f":"IF('Caseload Reporting'!E621 = \"\",\"\",'Caseload Reporting'!E621)","v":""},{"$f":"IF('Caseload Reporting'!S621 = \"\",\"\",'Caseload Reporting'!S621)","v":""}]
[{"$f":"IF('Caseload Reporting'!A622 = \"\",\"\",'Caseload Reporting'!A622)","v":""},{"$f":"IF('Caseload Reporting'!B622 = \"\",\"\",'Caseload Reporting'!B622)","v":""},{"$f":"IF('Caseload Reporting'!C622 = \"\",\"\",'Caseload Reporting'!C622)","v":""},{"$f":"IF('Caseload Reporting'!D622 = \"\",\"\",'Caseload Reporting'!D622)","v":""},{"$f":"IF('Caseload Reporting'!G622 = \"\",\"\",'Caseload Reporting'!G622)","v":""},{"$f":"IF('Caseload Reporting'!H622 = \"\",\"\",'Caseload Reporting'!H622)","v":""},{"$f":"IF('Caseload Reporting'!I622 = \"\",\"\",'Caseload Reporting'!I622)","v":""},{"$f":"IF('Caseload Reporting'!J622 = \"\",\"\",'Caseload Reporting'!J622)","v":""},{"$f":"IF('Caseload Reporting'!K622 = \"\",\"\",'Caseload Reporting'!K622)","v":""},{"$f":"IF('Caseload Reporting'!L622 = \"\",\"\",'Caseload Reporting'!L622)","v":""},{"$f":"IF('Caseload Reporting'!M622 = \"\",\"\",'Caseload Reporting'!M622)","v":""},{"$f":"IF('Caseload Reporting'!N622 = \"\",\"\",'Caseload Reporting'!N622)","v":""},{"$f":"IF('Caseload Reporting'!P622 = \"\",\"\",'Caseload Reporting'!P622)","v":""},{"$f":"IF('Caseload Reporting'!O622 = \"\",\"\",'Caseload Reporting'!O622)","v":""},{"$f":"IF('Caseload Reporting'!Q622 = \"\",\"\",'Caseload Reporting'!Q622)","v":""},{"$f":"IF('Caseload Reporting'!R622 = \"\",\"\",'Caseload Reporting'!R622)","v":""},{"$f":"IF('Caseload Reporting'!E622 = \"\",\"\",'Caseload Reporting'!E622)","v":""},{"$f":"IF('Caseload Reporting'!S622 = \"\",\"\",'Caseload Reporting'!S622)","v":""}]
[{"$f":"IF('Caseload Reporting'!A623 = \"\",\"\",'Caseload Reporting'!A623)","v":""},{"$f":"IF('Caseload Reporting'!B623 = \"\",\"\",'Caseload Reporting'!B623)","v":""},{"$f":"IF('Caseload Reporting'!C623 = \"\",\"\",'Caseload Reporting'!C623)","v":""},{"$f":"IF('Caseload Reporting'!D623 = \"\",\"\",'Caseload Reporting'!D623)","v":""},{"$f":"IF('Caseload Reporting'!G623 = \"\",\"\",'Caseload Reporting'!G623)","v":""},{"$f":"IF('Caseload Reporting'!H623 = \"\",\"\",'Caseload Reporting'!H623)","v":""},{"$f":"IF('Caseload Reporting'!I623 = \"\",\"\",'Caseload Reporting'!I623)","v":""},{"$f":"IF('Caseload Reporting'!J623 = \"\",\"\",'Caseload Reporting'!J623)","v":""},{"$f":"IF('Caseload Reporting'!K623 = \"\",\"\",'Caseload Reporting'!K623)","v":""},{"$f":"IF('Caseload Reporting'!L623 = \"\",\"\",'Caseload Reporting'!L623)","v":""},{"$f":"IF('Caseload Reporting'!M623 = \"\",\"\",'Caseload Reporting'!M623)","v":""},{"$f":"IF('Caseload Reporting'!N623 = \"\",\"\",'Caseload Reporting'!N623)","v":""},{"$f":"IF('Caseload Reporting'!P623 = \"\",\"\",'Caseload Reporting'!P623)","v":""},{"$f":"IF('Caseload Reporting'!O623 = \"\",\"\",'Caseload Reporting'!O623)","v":""},{"$f":"IF('Caseload Reporting'!Q623 = \"\",\"\",'Caseload Reporting'!Q623)","v":""},{"$f":"IF('Caseload Reporting'!R623 = \"\",\"\",'Caseload Reporting'!R623)","v":""},{"$f":"IF('Caseload Reporting'!E623 = \"\",\"\",'Caseload Reporting'!E623)","v":""},{"$f":"IF('Caseload Reporting'!S623 = \"\",\"\",'Caseload Reporting'!S623)","v":""}]
[{"$f":"IF('Caseload Reporting'!A624 = \"\",\"\",'Caseload Reporting'!A624)","v":""},{"$f":"IF('Caseload Reporting'!B624 = \"\",\"\",'Caseload Reporting'!B624)","v":""},{"$f":"IF('Caseload Reporting'!C624 = \"\",\"\",'Caseload Reporting'!C624)","v":""},{"$f":"IF('Caseload Reporting'!D624 = \"\",\"\",'Caseload Reporting'!D624)","v":""},{"$f":"IF('Caseload Reporting'!G624 = \"\",\"\",'Caseload Reporting'!G624)","v":""},{"$f":"IF('Caseload Reporting'!H624 = \"\",\"\",'Caseload Reporting'!H624)","v":""},{"$f":"IF('Caseload Reporting'!I624 = \"\",\"\",'Caseload Reporting'!I624)","v":""},{"$f":"IF('Caseload Reporting'!J624 = \"\",\"\",'Caseload Reporting'!J624)","v":""},{"$f":"IF('Caseload Reporting'!K624 = \"\",\"\",'Caseload Reporting'!K624)","v":""},{"$f":"IF('Caseload Reporting'!L624 = \"\",\"\",'Caseload Reporting'!L624)","v":""},{"$f":"IF('Caseload Reporting'!M624 = \"\",\"\",'Caseload Reporting'!M624)","v":""},{"$f":"IF('Caseload Reporting'!N624 = \"\",\"\",'Caseload Reporting'!N624)","v":""},{"$f":"IF('Caseload Reporting'!P624 = \"\",\"\",'Caseload Reporting'!P624)","v":""},{"$f":"IF('Caseload Reporting'!O624 = \"\",\"\",'Caseload Reporting'!O624)","v":""},{"$f":"IF('Caseload Reporting'!Q624 = \"\",\"\",'Caseload Reporting'!Q624)","v":""},{"$f":"IF('Caseload Reporting'!R624 = \"\",\"\",'Caseload Reporting'!R624)","v":""},{"$f":"IF('Caseload Reporting'!E624 = \"\",\"\",'Caseload Reporting'!E624)","v":""},{"$f":"IF('Caseload Reporting'!S624 = \"\",\"\",'Caseload Reporting'!S624)","v":""}]
[{"$f":"IF('Caseload Reporting'!A625 = \"\",\"\",'Caseload Reporting'!A625)","v":""},{"$f":"IF('Caseload Reporting'!B625 = \"\",\"\",'Caseload Reporting'!B625)","v":""},{"$f":"IF('Caseload Reporting'!C625 = \"\",\"\",'Caseload Reporting'!C625)","v":""},{"$f":"IF('Caseload Reporting'!D625 = \"\",\"\",'Caseload Reporting'!D625)","v":""},{"$f":"IF('Caseload Reporting'!G625 = \"\",\"\",'Caseload Reporting'!G625)","v":""},{"$f":"IF('Caseload Reporting'!H625 = \"\",\"\",'Caseload Reporting'!H625)","v":""},{"$f":"IF('Caseload Reporting'!I625 = \"\",\"\",'Caseload Reporting'!I625)","v":""},{"$f":"IF('Caseload Reporting'!J625 = \"\",\"\",'Caseload Reporting'!J625)","v":""},{"$f":"IF('Caseload Reporting'!K625 = \"\",\"\",'Caseload Reporting'!K625)","v":""},{"$f":"IF('Caseload Reporting'!L625 = \"\",\"\",'Caseload Reporting'!L625)","v":""},{"$f":"IF('Caseload Reporting'!M625 = \"\",\"\",'Caseload Reporting'!M625)","v":""},{"$f":"IF('Caseload Reporting'!N625 = \"\",\"\",'Caseload Reporting'!N625)","v":""},{"$f":"IF('Caseload Reporting'!P625 = \"\",\"\",'Caseload Reporting'!P625)","v":""},{"$f":"IF('Caseload Reporting'!O625 = \"\",\"\",'Caseload Reporting'!O625)","v":""},{"$f":"IF('Caseload Reporting'!Q625 = \"\",\"\",'Caseload Reporting'!Q625)","v":""},{"$f":"IF('Caseload Reporting'!R625 = \"\",\"\",'Caseload Reporting'!R625)","v":""},{"$f":"IF('Caseload Reporting'!E625 = \"\",\"\",'Caseload Reporting'!E625)","v":""},{"$f":"IF('Caseload Reporting'!S625 = \"\",\"\",'Caseload Reporting'!S625)","v":""}]
[{"$f":"IF('Caseload Reporting'!A626 = \"\",\"\",'Caseload Reporting'!A626)","v":""},{"$f":"IF('Caseload Reporting'!B626 = \"\",\"\",'Caseload Reporting'!B626)","v":""},{"$f":"IF('Caseload Reporting'!C626 = \"\",\"\",'Caseload Reporting'!C626)","v":""},{"$f":"IF('Caseload Reporting'!D626 = \"\",\"\",'Caseload Reporting'!D626)","v":""},{"$f":"IF('Caseload Reporting'!G626 = \"\",\"\",'Caseload Reporting'!G626)","v":""},{"$f":"IF('Caseload Reporting'!H626 = \"\",\"\",'Caseload Reporting'!H626)","v":""},{"$f":"IF('Caseload Reporting'!I626 = \"\",\"\",'Caseload Reporting'!I626)","v":""},{"$f":"IF('Caseload Reporting'!J626 = \"\",\"\",'Caseload Reporting'!J626)","v":""},{"$f":"IF('Caseload Reporting'!K626 = \"\",\"\",'Caseload Reporting'!K626)","v":""},{"$f":"IF('Caseload Reporting'!L626 = \"\",\"\",'Caseload Reporting'!L626)","v":""},{"$f":"IF('Caseload Reporting'!M626 = \"\",\"\",'Caseload Reporting'!M626)","v":""},{"$f":"IF('Caseload Reporting'!N626 = \"\",\"\",'Caseload Reporting'!N626)","v":""},{"$f":"IF('Caseload Reporting'!P626 = \"\",\"\",'Caseload Reporting'!P626)","v":""},{"$f":"IF('Caseload Reporting'!O626 = \"\",\"\",'Caseload Reporting'!O626)","v":""},{"$f":"IF('Caseload Reporting'!Q626 = \"\",\"\",'Caseload Reporting'!Q626)","v":""},{"$f":"IF('Caseload Reporting'!R626 = \"\",\"\",'Caseload Reporting'!R626)","v":""},{"$f":"IF('Caseload Reporting'!E626 = \"\",\"\",'Caseload Reporting'!E626)","v":""},{"$f":"IF('Caseload Reporting'!S626 = \"\",\"\",'Caseload Reporting'!S626)","v":""}]
[{"$f":"IF('Caseload Reporting'!A627 = \"\",\"\",'Caseload Reporting'!A627)","v":""},{"$f":"IF('Caseload Reporting'!B627 = \"\",\"\",'Caseload Reporting'!B627)","v":""},{"$f":"IF('Caseload Reporting'!C627 = \"\",\"\",'Caseload Reporting'!C627)","v":""},{"$f":"IF('Caseload Reporting'!D627 = \"\",\"\",'Caseload Reporting'!D627)","v":""},{"$f":"IF('Caseload Reporting'!G627 = \"\",\"\",'Caseload Reporting'!G627)","v":""},{"$f":"IF('Caseload Reporting'!H627 = \"\",\"\",'Caseload Reporting'!H627)","v":""},{"$f":"IF('Caseload Reporting'!I627 = \"\",\"\",'Caseload Reporting'!I627)","v":""},{"$f":"IF('Caseload Reporting'!J627 = \"\",\"\",'Caseload Reporting'!J627)","v":""},{"$f":"IF('Caseload Reporting'!K627 = \"\",\"\",'Caseload Reporting'!K627)","v":""},{"$f":"IF('Caseload Reporting'!L627 = \"\",\"\",'Caseload Reporting'!L627)","v":""},{"$f":"IF('Caseload Reporting'!M627 = \"\",\"\",'Caseload Reporting'!M627)","v":""},{"$f":"IF('Caseload Reporting'!N627 = \"\",\"\",'Caseload Reporting'!N627)","v":""},{"$f":"IF('Caseload Reporting'!P627 = \"\",\"\",'Caseload Reporting'!P627)","v":""},{"$f":"IF('Caseload Reporting'!O627 = \"\",\"\",'Caseload Reporting'!O627)","v":""},{"$f":"IF('Caseload Reporting'!Q627 = \"\",\"\",'Caseload Reporting'!Q627)","v":""},{"$f":"IF('Caseload Reporting'!R627 = \"\",\"\",'Caseload Reporting'!R627)","v":""},{"$f":"IF('Caseload Reporting'!E627 = \"\",\"\",'Caseload Reporting'!E627)","v":""},{"$f":"IF('Caseload Reporting'!S627 = \"\",\"\",'Caseload Reporting'!S627)","v":""}]
[{"$f":"IF('Caseload Reporting'!A628 = \"\",\"\",'Caseload Reporting'!A628)","v":""},{"$f":"IF('Caseload Reporting'!B628 = \"\",\"\",'Caseload Reporting'!B628)","v":""},{"$f":"IF('Caseload Reporting'!C628 = \"\",\"\",'Caseload Reporting'!C628)","v":""},{"$f":"IF('Caseload Reporting'!D628 = \"\",\"\",'Caseload Reporting'!D628)","v":""},{"$f":"IF('Caseload Reporting'!G628 = \"\",\"\",'Caseload Reporting'!G628)","v":""},{"$f":"IF('Caseload Reporting'!H628 = \"\",\"\",'Caseload Reporting'!H628)","v":""},{"$f":"IF('Caseload Reporting'!I628 = \"\",\"\",'Caseload Reporting'!I628)","v":""},{"$f":"IF('Caseload Reporting'!J628 = \"\",\"\",'Caseload Reporting'!J628)","v":""},{"$f":"IF('Caseload Reporting'!K628 = \"\",\"\",'Caseload Reporting'!K628)","v":""},{"$f":"IF('Caseload Reporting'!L628 = \"\",\"\",'Caseload Reporting'!L628)","v":""},{"$f":"IF('Caseload Reporting'!M628 = \"\",\"\",'Caseload Reporting'!M628)","v":""},{"$f":"IF('Caseload Reporting'!N628 = \"\",\"\",'Caseload Reporting'!N628)","v":""},{"$f":"IF('Caseload Reporting'!P628 = \"\",\"\",'Caseload Reporting'!P628)","v":""},{"$f":"IF('Caseload Reporting'!O628 = \"\",\"\",'Caseload Reporting'!O628)","v":""},{"$f":"IF('Caseload Reporting'!Q628 = \"\",\"\",'Caseload Reporting'!Q628)","v":""},{"$f":"IF('Caseload Reporting'!R628 = \"\",\"\",'Caseload Reporting'!R628)","v":""},{"$f":"IF('Caseload Reporting'!E628 = \"\",\"\",'Caseload Reporting'!E628)","v":""},{"$f":"IF('Caseload Reporting'!S628 = \"\",\"\",'Caseload Reporting'!S628)","v":""}]
[{"$f":"IF('Caseload Reporting'!A629 = \"\",\"\",'Caseload Reporting'!A629)","v":""},{"$f":"IF('Caseload Reporting'!B629 = \"\",\"\",'Caseload Reporting'!B629)","v":""},{"$f":"IF('Caseload Reporting'!C629 = \"\",\"\",'Caseload Reporting'!C629)","v":""},{"$f":"IF('Caseload Reporting'!D629 = \"\",\"\",'Caseload Reporting'!D629)","v":""},{"$f":"IF('Caseload Reporting'!G629 = \"\",\"\",'Caseload Reporting'!G629)","v":""},{"$f":"IF('Caseload Reporting'!H629 = \"\",\"\",'Caseload Reporting'!H629)","v":""},{"$f":"IF('Caseload Reporting'!I629 = \"\",\"\",'Caseload Reporting'!I629)","v":""},{"$f":"IF('Caseload Reporting'!J629 = \"\",\"\",'Caseload Reporting'!J629)","v":""},{"$f":"IF('Caseload Reporting'!K629 = \"\",\"\",'Caseload Reporting'!K629)","v":""},{"$f":"IF('Caseload Reporting'!L629 = \"\",\"\",'Caseload Reporting'!L629)","v":""},{"$f":"IF('Caseload Reporting'!M629 = \"\",\"\",'Caseload Reporting'!M629)","v":""},{"$f":"IF('Caseload Reporting'!N629 = \"\",\"\",'Caseload Reporting'!N629)","v":""},{"$f":"IF('Caseload Reporting'!P629 = \"\",\"\",'Caseload Reporting'!P629)","v":""},{"$f":"IF('Caseload Reporting'!O629 = \"\",\"\",'Caseload Reporting'!O629)","v":""},{"$f":"IF('Caseload Reporting'!Q629 = \"\",\"\",'Caseload Reporting'!Q629)","v":""},{"$f":"IF('Caseload Reporting'!R629 = \"\",\"\",'Caseload Reporting'!R629)","v":""},{"$f":"IF('Caseload Reporting'!E629 = \"\",\"\",'Caseload Reporting'!E629)","v":""},{"$f":"IF('Caseload Reporting'!S629 = \"\",\"\",'Caseload Reporting'!S629)","v":""}]
[{"$f":"IF('Caseload Reporting'!A630 = \"\",\"\",'Caseload Reporting'!A630)","v":""},{"$f":"IF('Caseload Reporting'!B630 = \"\",\"\",'Caseload Reporting'!B630)","v":""},{"$f":"IF('Caseload Reporting'!C630 = \"\",\"\",'Caseload Reporting'!C630)","v":""},{"$f":"IF('Caseload Reporting'!D630 = \"\",\"\",'Caseload Reporting'!D630)","v":""},{"$f":"IF('Caseload Reporting'!G630 = \"\",\"\",'Caseload Reporting'!G630)","v":""},{"$f":"IF('Caseload Reporting'!H630 = \"\",\"\",'Caseload Reporting'!H630)","v":""},{"$f":"IF('Caseload Reporting'!I630 = \"\",\"\",'Caseload Reporting'!I630)","v":""},{"$f":"IF('Caseload Reporting'!J630 = \"\",\"\",'Caseload Reporting'!J630)","v":""},{"$f":"IF('Caseload Reporting'!K630 = \"\",\"\",'Caseload Reporting'!K630)","v":""},{"$f":"IF('Caseload Reporting'!L630 = \"\",\"\",'Caseload Reporting'!L630)","v":""},{"$f":"IF('Caseload Reporting'!M630 = \"\",\"\",'Caseload Reporting'!M630)","v":""},{"$f":"IF('Caseload Reporting'!N630 = \"\",\"\",'Caseload Reporting'!N630)","v":""},{"$f":"IF('Caseload Reporting'!P630 = \"\",\"\",'Caseload Reporting'!P630)","v":""},{"$f":"IF('Caseload Reporting'!O630 = \"\",\"\",'Caseload Reporting'!O630)","v":""},{"$f":"IF('Caseload Reporting'!Q630 = \"\",\"\",'Caseload Reporting'!Q630)","v":""},{"$f":"IF('Caseload Reporting'!R630 = \"\",\"\",'Caseload Reporting'!R630)","v":""},{"$f":"IF('Caseload Reporting'!E630 = \"\",\"\",'Caseload Reporting'!E630)","v":""},{"$f":"IF('Caseload Reporting'!S630 = \"\",\"\",'Caseload Reporting'!S630)","v":""}]
[{"$f":"IF('Caseload Reporting'!A631 = \"\",\"\",'Caseload Reporting'!A631)","v":""},{"$f":"IF('Caseload Reporting'!B631 = \"\",\"\",'Caseload Reporting'!B631)","v":""},{"$f":"IF('Caseload Reporting'!C631 = \"\",\"\",'Caseload Reporting'!C631)","v":""},{"$f":"IF('Caseload Reporting'!D631 = \"\",\"\",'Caseload Reporting'!D631)","v":""},{"$f":"IF('Caseload Reporting'!G631 = \"\",\"\",'Caseload Reporting'!G631)","v":""},{"$f":"IF('Caseload Reporting'!H631 = \"\",\"\",'Caseload Reporting'!H631)","v":""},{"$f":"IF('Caseload Reporting'!I631 = \"\",\"\",'Caseload Reporting'!I631)","v":""},{"$f":"IF('Caseload Reporting'!J631 = \"\",\"\",'Caseload Reporting'!J631)","v":""},{"$f":"IF('Caseload Reporting'!K631 = \"\",\"\",'Caseload Reporting'!K631)","v":""},{"$f":"IF('Caseload Reporting'!L631 = \"\",\"\",'Caseload Reporting'!L631)","v":""},{"$f":"IF('Caseload Reporting'!M631 = \"\",\"\",'Caseload Reporting'!M631)","v":""},{"$f":"IF('Caseload Reporting'!N631 = \"\",\"\",'Caseload Reporting'!N631)","v":""},{"$f":"IF('Caseload Reporting'!P631 = \"\",\"\",'Caseload Reporting'!P631)","v":""},{"$f":"IF('Caseload Reporting'!O631 = \"\",\"\",'Caseload Reporting'!O631)","v":""},{"$f":"IF('Caseload Reporting'!Q631 = \"\",\"\",'Caseload Reporting'!Q631)","v":""},{"$f":"IF('Caseload Reporting'!R631 = \"\",\"\",'Caseload Reporting'!R631)","v":""},{"$f":"IF('Caseload Reporting'!E631 = \"\",\"\",'Caseload Reporting'!E631)","v":""},{"$f":"IF('Caseload Reporting'!S631 = \"\",\"\",'Caseload Reporting'!S631)","v":""}]
[{"$f":"IF('Caseload Reporting'!A632 = \"\",\"\",'Caseload Reporting'!A632)","v":""},{"$f":"IF('Caseload Reporting'!B632 = \"\",\"\",'Caseload Reporting'!B632)","v":""},{"$f":"IF('Caseload Reporting'!C632 = \"\",\"\",'Caseload Reporting'!C632)","v":""},{"$f":"IF('Caseload Reporting'!D632 = \"\",\"\",'Caseload Reporting'!D632)","v":""},{"$f":"IF('Caseload Reporting'!G632 = \"\",\"\",'Caseload Reporting'!G632)","v":""},{"$f":"IF('Caseload Reporting'!H632 = \"\",\"\",'Caseload Reporting'!H632)","v":""},{"$f":"IF('Caseload Reporting'!I632 = \"\",\"\",'Caseload Reporting'!I632)","v":""},{"$f":"IF('Caseload Reporting'!J632 = \"\",\"\",'Caseload Reporting'!J632)","v":""},{"$f":"IF('Caseload Reporting'!K632 = \"\",\"\",'Caseload Reporting'!K632)","v":""},{"$f":"IF('Caseload Reporting'!L632 = \"\",\"\",'Caseload Reporting'!L632)","v":""},{"$f":"IF('Caseload Reporting'!M632 = \"\",\"\",'Caseload Reporting'!M632)","v":""},{"$f":"IF('Caseload Reporting'!N632 = \"\",\"\",'Caseload Reporting'!N632)","v":""},{"$f":"IF('Caseload Reporting'!P632 = \"\",\"\",'Caseload Reporting'!P632)","v":""},{"$f":"IF('Caseload Reporting'!O632 = \"\",\"\",'Caseload Reporting'!O632)","v":""},{"$f":"IF('Caseload Reporting'!Q632 = \"\",\"\",'Caseload Reporting'!Q632)","v":""},{"$f":"IF('Caseload Reporting'!R632 = \"\",\"\",'Caseload Reporting'!R632)","v":""},{"$f":"IF('Caseload Reporting'!E632 = \"\",\"\",'Caseload Reporting'!E632)","v":""},{"$f":"IF('Caseload Reporting'!S632 = \"\",\"\",'Caseload Reporting'!S632)","v":""}]
[{"$f":"IF('Caseload Reporting'!A633 = \"\",\"\",'Caseload Reporting'!A633)","v":""},{"$f":"IF('Caseload Reporting'!B633 = \"\",\"\",'Caseload Reporting'!B633)","v":""},{"$f":"IF('Caseload Reporting'!C633 = \"\",\"\",'Caseload Reporting'!C633)","v":""},{"$f":"IF('Caseload Reporting'!D633 = \"\",\"\",'Caseload Reporting'!D633)","v":""},{"$f":"IF('Caseload Reporting'!G633 = \"\",\"\",'Caseload Reporting'!G633)","v":""},{"$f":"IF('Caseload Reporting'!H633 = \"\",\"\",'Caseload Reporting'!H633)","v":""},{"$f":"IF('Caseload Reporting'!I633 = \"\",\"\",'Caseload Reporting'!I633)","v":""},{"$f":"IF('Caseload Reporting'!J633 = \"\",\"\",'Caseload Reporting'!J633)","v":""},{"$f":"IF('Caseload Reporting'!K633 = \"\",\"\",'Caseload Reporting'!K633)","v":""},{"$f":"IF('Caseload Reporting'!L633 = \"\",\"\",'Caseload Reporting'!L633)","v":""},{"$f":"IF('Caseload Reporting'!M633 = \"\",\"\",'Caseload Reporting'!M633)","v":""},{"$f":"IF('Caseload Reporting'!N633 = \"\",\"\",'Caseload Reporting'!N633)","v":""},{"$f":"IF('Caseload Reporting'!P633 = \"\",\"\",'Caseload Reporting'!P633)","v":""},{"$f":"IF('Caseload Reporting'!O633 = \"\",\"\",'Caseload Reporting'!O633)","v":""},{"$f":"IF('Caseload Reporting'!Q633 = \"\",\"\",'Caseload Reporting'!Q633)","v":""},{"$f":"IF('Caseload Reporting'!R633 = \"\",\"\",'Caseload Reporting'!R633)","v":""},{"$f":"IF('Caseload Reporting'!E633 = \"\",\"\",'Caseload Reporting'!E633)","v":""},{"$f":"IF('Caseload Reporting'!S633 = \"\",\"\",'Caseload Reporting'!S633)","v":""}]
[{"$f":"IF('Caseload Reporting'!A634 = \"\",\"\",'Caseload Reporting'!A634)","v":""},{"$f":"IF('Caseload Reporting'!B634 = \"\",\"\",'Caseload Reporting'!B634)","v":""},{"$f":"IF('Caseload Reporting'!C634 = \"\",\"\",'Caseload Reporting'!C634)","v":""},{"$f":"IF('Caseload Reporting'!D634 = \"\",\"\",'Caseload Reporting'!D634)","v":""},{"$f":"IF('Caseload Reporting'!G634 = \"\",\"\",'Caseload Reporting'!G634)","v":""},{"$f":"IF('Caseload Reporting'!H634 = \"\",\"\",'Caseload Reporting'!H634)","v":""},{"$f":"IF('Caseload Reporting'!I634 = \"\",\"\",'Caseload Reporting'!I634)","v":""},{"$f":"IF('Caseload Reporting'!J634 = \"\",\"\",'Caseload Reporting'!J634)","v":""},{"$f":"IF('Caseload Reporting'!K634 = \"\",\"\",'Caseload Reporting'!K634)","v":""},{"$f":"IF('Caseload Reporting'!L634 = \"\",\"\",'Caseload Reporting'!L634)","v":""},{"$f":"IF('Caseload Reporting'!M634 = \"\",\"\",'Caseload Reporting'!M634)","v":""},{"$f":"IF('Caseload Reporting'!N634 = \"\",\"\",'Caseload Reporting'!N634)","v":""},{"$f":"IF('Caseload Reporting'!P634 = \"\",\"\",'Caseload Reporting'!P634)","v":""},{"$f":"IF('Caseload Reporting'!O634 = \"\",\"\",'Caseload Reporting'!O634)","v":""},{"$f":"IF('Caseload Reporting'!Q634 = \"\",\"\",'Caseload Reporting'!Q634)","v":""},{"$f":"IF('Caseload Reporting'!R634 = \"\",\"\",'Caseload Reporting'!R634)","v":""},{"$f":"IF('Caseload Reporting'!E634 = \"\",\"\",'Caseload Reporting'!E634)","v":""},{"$f":"IF('Caseload Reporting'!S634 = \"\",\"\",'Caseload Reporting'!S634)","v":""}]
[{"$f":"IF('Caseload Reporting'!A635 = \"\",\"\",'Caseload Reporting'!A635)","v":""},{"$f":"IF('Caseload Reporting'!B635 = \"\",\"\",'Caseload Reporting'!B635)","v":""},{"$f":"IF('Caseload Reporting'!C635 = \"\",\"\",'Caseload Reporting'!C635)","v":""},{"$f":"IF('Caseload Reporting'!D635 = \"\",\"\",'Caseload Reporting'!D635)","v":""},{"$f":"IF('Caseload Reporting'!G635 = \"\",\"\",'Caseload Reporting'!G635)","v":""},{"$f":"IF('Caseload Reporting'!H635 = \"\",\"\",'Caseload Reporting'!H635)","v":""},{"$f":"IF('Caseload Reporting'!I635 = \"\",\"\",'Caseload Reporting'!I635)","v":""},{"$f":"IF('Caseload Reporting'!J635 = \"\",\"\",'Caseload Reporting'!J635)","v":""},{"$f":"IF('Caseload Reporting'!K635 = \"\",\"\",'Caseload Reporting'!K635)","v":""},{"$f":"IF('Caseload Reporting'!L635 = \"\",\"\",'Caseload Reporting'!L635)","v":""},{"$f":"IF('Caseload Reporting'!M635 = \"\",\"\",'Caseload Reporting'!M635)","v":""},{"$f":"IF('Caseload Reporting'!N635 = \"\",\"\",'Caseload Reporting'!N635)","v":""},{"$f":"IF('Caseload Reporting'!P635 = \"\",\"\",'Caseload Reporting'!P635)","v":""},{"$f":"IF('Caseload Reporting'!O635 = \"\",\"\",'Caseload Reporting'!O635)","v":""},{"$f":"IF('Caseload Reporting'!Q635 = \"\",\"\",'Caseload Reporting'!Q635)","v":""},{"$f":"IF('Caseload Reporting'!R635 = \"\",\"\",'Caseload Reporting'!R635)","v":""},{"$f":"IF('Caseload Reporting'!E635 = \"\",\"\",'Caseload Reporting'!E635)","v":""},{"$f":"IF('Caseload Reporting'!S635 = \"\",\"\",'Caseload Reporting'!S635)","v":""}]
[{"$f":"IF('Caseload Reporting'!A636 = \"\",\"\",'Caseload Reporting'!A636)","v":""},{"$f":"IF('Caseload Reporting'!B636 = \"\",\"\",'Caseload Reporting'!B636)","v":""},{"$f":"IF('Caseload Reporting'!C636 = \"\",\"\",'Caseload Reporting'!C636)","v":""},{"$f":"IF('Caseload Reporting'!D636 = \"\",\"\",'Caseload Reporting'!D636)","v":""},{"$f":"IF('Caseload Reporting'!G636 = \"\",\"\",'Caseload Reporting'!G636)","v":""},{"$f":"IF('Caseload Reporting'!H636 = \"\",\"\",'Caseload Reporting'!H636)","v":""},{"$f":"IF('Caseload Reporting'!I636 = \"\",\"\",'Caseload Reporting'!I636)","v":""},{"$f":"IF('Caseload Reporting'!J636 = \"\",\"\",'Caseload Reporting'!J636)","v":""},{"$f":"IF('Caseload Reporting'!K636 = \"\",\"\",'Caseload Reporting'!K636)","v":""},{"$f":"IF('Caseload Reporting'!L636 = \"\",\"\",'Caseload Reporting'!L636)","v":""},{"$f":"IF('Caseload Reporting'!M636 = \"\",\"\",'Caseload Reporting'!M636)","v":""},{"$f":"IF('Caseload Reporting'!N636 = \"\",\"\",'Caseload Reporting'!N636)","v":""},{"$f":"IF('Caseload Reporting'!P636 = \"\",\"\",'Caseload Reporting'!P636)","v":""},{"$f":"IF('Caseload Reporting'!O636 = \"\",\"\",'Caseload Reporting'!O636)","v":""},{"$f":"IF('Caseload Reporting'!Q636 = \"\",\"\",'Caseload Reporting'!Q636)","v":""},{"$f":"IF('Caseload Reporting'!R636 = \"\",\"\",'Caseload Reporting'!R636)","v":""},{"$f":"IF('Caseload Reporting'!E636 = \"\",\"\",'Caseload Reporting'!E636)","v":""},{"$f":"IF('Caseload Reporting'!S636 = \"\",\"\",'Caseload Reporting'!S636)","v":""}]
[{"$f":"IF('Caseload Reporting'!A637 = \"\",\"\",'Caseload Reporting'!A637)","v":""},{"$f":"IF('Caseload Reporting'!B637 = \"\",\"\",'Caseload Reporting'!B637)","v":""},{"$f":"IF('Caseload Reporting'!C637 = \"\",\"\",'Caseload Reporting'!C637)","v":""},{"$f":"IF('Caseload Reporting'!D637 = \"\",\"\",'Caseload Reporting'!D637)","v":""},{"$f":"IF('Caseload Reporting'!G637 = \"\",\"\",'Caseload Reporting'!G637)","v":""},{"$f":"IF('Caseload Reporting'!H637 = \"\",\"\",'Caseload Reporting'!H637)","v":""},{"$f":"IF('Caseload Reporting'!I637 = \"\",\"\",'Caseload Reporting'!I637)","v":""},{"$f":"IF('Caseload Reporting'!J637 = \"\",\"\",'Caseload Reporting'!J637)","v":""},{"$f":"IF('Caseload Reporting'!K637 = \"\",\"\",'Caseload Reporting'!K637)","v":""},{"$f":"IF('Caseload Reporting'!L637 = \"\",\"\",'Caseload Reporting'!L637)","v":""},{"$f":"IF('Caseload Reporting'!M637 = \"\",\"\",'Caseload Reporting'!M637)","v":""},{"$f":"IF('Caseload Reporting'!N637 = \"\",\"\",'Caseload Reporting'!N637)","v":""},{"$f":"IF('Caseload Reporting'!P637 = \"\",\"\",'Caseload Reporting'!P637)","v":""},{"$f":"IF('Caseload Reporting'!O637 = \"\",\"\",'Caseload Reporting'!O637)","v":""},{"$f":"IF('Caseload Reporting'!Q637 = \"\",\"\",'Caseload Reporting'!Q637)","v":""},{"$f":"IF('Caseload Reporting'!R637 = \"\",\"\",'Caseload Reporting'!R637)","v":""},{"$f":"IF('Caseload Reporting'!E637 = \"\",\"\",'Caseload Reporting'!E637)","v":""},{"$f":"IF('Caseload Reporting'!S637 = \"\",\"\",'Caseload Reporting'!S637)","v":""}]
[{"$f":"IF('Caseload Reporting'!A638 = \"\",\"\",'Caseload Reporting'!A638)","v":""},{"$f":"IF('Caseload Reporting'!B638 = \"\",\"\",'Caseload Reporting'!B638)","v":""},{"$f":"IF('Caseload Reporting'!C638 = \"\",\"\",'Caseload Reporting'!C638)","v":""},{"$f":"IF('Caseload Reporting'!D638 = \"\",\"\",'Caseload Reporting'!D638)","v":""},{"$f":"IF('Caseload Reporting'!G638 = \"\",\"\",'Caseload Reporting'!G638)","v":""},{"$f":"IF('Caseload Reporting'!H638 = \"\",\"\",'Caseload Reporting'!H638)","v":""},{"$f":"IF('Caseload Reporting'!I638 = \"\",\"\",'Caseload Reporting'!I638)","v":""},{"$f":"IF('Caseload Reporting'!J638 = \"\",\"\",'Caseload Reporting'!J638)","v":""},{"$f":"IF('Caseload Reporting'!K638 = \"\",\"\",'Caseload Reporting'!K638)","v":""},{"$f":"IF('Caseload Reporting'!L638 = \"\",\"\",'Caseload Reporting'!L638)","v":""},{"$f":"IF('Caseload Reporting'!M638 = \"\",\"\",'Caseload Reporting'!M638)","v":""},{"$f":"IF('Caseload Reporting'!N638 = \"\",\"\",'Caseload Reporting'!N638)","v":""},{"$f":"IF('Caseload Reporting'!P638 = \"\",\"\",'Caseload Reporting'!P638)","v":""},{"$f":"IF('Caseload Reporting'!O638 = \"\",\"\",'Caseload Reporting'!O638)","v":""},{"$f":"IF('Caseload Reporting'!Q638 = \"\",\"\",'Caseload Reporting'!Q638)","v":""},{"$f":"IF('Caseload Reporting'!R638 = \"\",\"\",'Caseload Reporting'!R638)","v":""},{"$f":"IF('Caseload Reporting'!E638 = \"\",\"\",'Caseload Reporting'!E638)","v":""},{"$f":"IF('Caseload Reporting'!S638 = \"\",\"\",'Caseload Reporting'!S638)","v":""}]
[{"$f":"IF('Caseload Reporting'!A639 = \"\",\"\",'Caseload Reporting'!A639)","v":""},{"$f":"IF('Caseload Reporting'!B639 = \"\",\"\",'Caseload Reporting'!B639)","v":""},{"$f":"IF('Caseload Reporting'!C639 = \"\",\"\",'Caseload Reporting'!C639)","v":""},{"$f":"IF('Caseload Reporting'!D639 = \"\",\"\",'Caseload Reporting'!D639)","v":""},{"$f":"IF('Caseload Reporting'!G639 = \"\",\"\",'Caseload Reporting'!G639)","v":""},{"$f":"IF('Caseload Reporting'!H639 = \"\",\"\",'Caseload Reporting'!H639)","v":""},{"$f":"IF('Caseload Reporting'!I639 = \"\",\"\",'Caseload Reporting'!I639)","v":""},{"$f":"IF('Caseload Reporting'!J639 = \"\",\"\",'Caseload Reporting'!J639)","v":""},{"$f":"IF('Caseload Reporting'!K639 = \"\",\"\",'Caseload Reporting'!K639)","v":""},{"$f":"IF('Caseload Reporting'!L639 = \"\",\"\",'Caseload Reporting'!L639)","v":""},{"$f":"IF('Caseload Reporting'!M639 = \"\",\"\",'Caseload Reporting'!M639)","v":""},{"$f":"IF('Caseload Reporting'!N639 = \"\",\"\",'Caseload Reporting'!N639)","v":""},{"$f":"IF('Caseload Reporting'!P639 = \"\",\"\",'Caseload Reporting'!P639)","v":""},{"$f":"IF('Caseload Reporting'!O639 = \"\",\"\",'Caseload Reporting'!O639)","v":""},{"$f":"IF('Caseload Reporting'!Q639 = \"\",\"\",'Caseload Reporting'!Q639)","v":""},{"$f":"IF('Caseload Reporting'!R639 = \"\",\"\",'Caseload Reporting'!R639)","v":""},{"$f":"IF('Caseload Reporting'!E639 = \"\",\"\",'Caseload Reporting'!E639)","v":""},{"$f":"IF('Caseload Reporting'!S639 = \"\",\"\",'Caseload Reporting'!S639)","v":""}]
[{"$f":"IF('Caseload Reporting'!A640 = \"\",\"\",'Caseload Reporting'!A640)","v":""},{"$f":"IF('Caseload Reporting'!B640 = \"\",\"\",'Caseload Reporting'!B640)","v":""},{"$f":"IF('Caseload Reporting'!C640 = \"\",\"\",'Caseload Reporting'!C640)","v":""},{"$f":"IF('Caseload Reporting'!D640 = \"\",\"\",'Caseload Reporting'!D640)","v":""},{"$f":"IF('Caseload Reporting'!G640 = \"\",\"\",'Caseload Reporting'!G640)","v":""},{"$f":"IF('Caseload Reporting'!H640 = \"\",\"\",'Caseload Reporting'!H640)","v":""},{"$f":"IF('Caseload Reporting'!I640 = \"\",\"\",'Caseload Reporting'!I640)","v":""},{"$f":"IF('Caseload Reporting'!J640 = \"\",\"\",'Caseload Reporting'!J640)","v":""},{"$f":"IF('Caseload Reporting'!K640 = \"\",\"\",'Caseload Reporting'!K640)","v":""},{"$f":"IF('Caseload Reporting'!L640 = \"\",\"\",'Caseload Reporting'!L640)","v":""},{"$f":"IF('Caseload Reporting'!M640 = \"\",\"\",'Caseload Reporting'!M640)","v":""},{"$f":"IF('Caseload Reporting'!N640 = \"\",\"\",'Caseload Reporting'!N640)","v":""},{"$f":"IF('Caseload Reporting'!P640 = \"\",\"\",'Caseload Reporting'!P640)","v":""},{"$f":"IF('Caseload Reporting'!O640 = \"\",\"\",'Caseload Reporting'!O640)","v":""},{"$f":"IF('Caseload Reporting'!Q640 = \"\",\"\",'Caseload Reporting'!Q640)","v":""},{"$f":"IF('Caseload Reporting'!R640 = \"\",\"\",'Caseload Reporting'!R640)","v":""},{"$f":"IF('Caseload Reporting'!E640 = \"\",\"\",'Caseload Reporting'!E640)","v":""},{"$f":"IF('Caseload Reporting'!S640 = \"\",\"\",'Caseload Reporting'!S640)","v":""}]
[{"$f":"IF('Caseload Reporting'!A641 = \"\",\"\",'Caseload Reporting'!A641)","v":""},{"$f":"IF('Caseload Reporting'!B641 = \"\",\"\",'Caseload Reporting'!B641)","v":""},{"$f":"IF('Caseload Reporting'!C641 = \"\",\"\",'Caseload Reporting'!C641)","v":""},{"$f":"IF('Caseload Reporting'!D641 = \"\",\"\",'Caseload Reporting'!D641)","v":""},{"$f":"IF('Caseload Reporting'!G641 = \"\",\"\",'Caseload Reporting'!G641)","v":""},{"$f":"IF('Caseload Reporting'!H641 = \"\",\"\",'Caseload Reporting'!H641)","v":""},{"$f":"IF('Caseload Reporting'!I641 = \"\",\"\",'Caseload Reporting'!I641)","v":""},{"$f":"IF('Caseload Reporting'!J641 = \"\",\"\",'Caseload Reporting'!J641)","v":""},{"$f":"IF('Caseload Reporting'!K641 = \"\",\"\",'Caseload Reporting'!K641)","v":""},{"$f":"IF('Caseload Reporting'!L641 = \"\",\"\",'Caseload Reporting'!L641)","v":""},{"$f":"IF('Caseload Reporting'!M641 = \"\",\"\",'Caseload Reporting'!M641)","v":""},{"$f":"IF('Caseload Reporting'!N641 = \"\",\"\",'Caseload Reporting'!N641)","v":""},{"$f":"IF('Caseload Reporting'!P641 = \"\",\"\",'Caseload Reporting'!P641)","v":""},{"$f":"IF('Caseload Reporting'!O641 = \"\",\"\",'Caseload Reporting'!O641)","v":""},{"$f":"IF('Caseload Reporting'!Q641 = \"\",\"\",'Caseload Reporting'!Q641)","v":""},{"$f":"IF('Caseload Reporting'!R641 = \"\",\"\",'Caseload Reporting'!R641)","v":""},{"$f":"IF('Caseload Reporting'!E641 = \"\",\"\",'Caseload Reporting'!E641)","v":""},{"$f":"IF('Caseload Reporting'!S641 = \"\",\"\",'Caseload Reporting'!S641)","v":""}]
[{"$f":"IF('Caseload Reporting'!A642 = \"\",\"\",'Caseload Reporting'!A642)","v":""},{"$f":"IF('Caseload Reporting'!B642 = \"\",\"\",'Caseload Reporting'!B642)","v":""},{"$f":"IF('Caseload Reporting'!C642 = \"\",\"\",'Caseload Reporting'!C642)","v":""},{"$f":"IF('Caseload Reporting'!D642 = \"\",\"\",'Caseload Reporting'!D642)","v":""},{"$f":"IF('Caseload Reporting'!G642 = \"\",\"\",'Caseload Reporting'!G642)","v":""},{"$f":"IF('Caseload Reporting'!H642 = \"\",\"\",'Caseload Reporting'!H642)","v":""},{"$f":"IF('Caseload Reporting'!I642 = \"\",\"\",'Caseload Reporting'!I642)","v":""},{"$f":"IF('Caseload Reporting'!J642 = \"\",\"\",'Caseload Reporting'!J642)","v":""},{"$f":"IF('Caseload Reporting'!K642 = \"\",\"\",'Caseload Reporting'!K642)","v":""},{"$f":"IF('Caseload Reporting'!L642 = \"\",\"\",'Caseload Reporting'!L642)","v":""},{"$f":"IF('Caseload Reporting'!M642 = \"\",\"\",'Caseload Reporting'!M642)","v":""},{"$f":"IF('Caseload Reporting'!N642 = \"\",\"\",'Caseload Reporting'!N642)","v":""},{"$f":"IF('Caseload Reporting'!P642 = \"\",\"\",'Caseload Reporting'!P642)","v":""},{"$f":"IF('Caseload Reporting'!O642 = \"\",\"\",'Caseload Reporting'!O642)","v":""},{"$f":"IF('Caseload Reporting'!Q642 = \"\",\"\",'Caseload Reporting'!Q642)","v":""},{"$f":"IF('Caseload Reporting'!R642 = \"\",\"\",'Caseload Reporting'!R642)","v":""},{"$f":"IF('Caseload Reporting'!E642 = \"\",\"\",'Caseload Reporting'!E642)","v":""},{"$f":"IF('Caseload Reporting'!S642 = \"\",\"\",'Caseload Reporting'!S642)","v":""}]
[{"$f":"IF('Caseload Reporting'!A643 = \"\",\"\",'Caseload Reporting'!A643)","v":""},{"$f":"IF('Caseload Reporting'!B643 = \"\",\"\",'Caseload Reporting'!B643)","v":""},{"$f":"IF('Caseload Reporting'!C643 = \"\",\"\",'Caseload Reporting'!C643)","v":""},{"$f":"IF('Caseload Reporting'!D643 = \"\",\"\",'Caseload Reporting'!D643)","v":""},{"$f":"IF('Caseload Reporting'!G643 = \"\",\"\",'Caseload Reporting'!G643)","v":""},{"$f":"IF('Caseload Reporting'!H643 = \"\",\"\",'Caseload Reporting'!H643)","v":""},{"$f":"IF('Caseload Reporting'!I643 = \"\",\"\",'Caseload Reporting'!I643)","v":""},{"$f":"IF('Caseload Reporting'!J643 = \"\",\"\",'Caseload Reporting'!J643)","v":""},{"$f":"IF('Caseload Reporting'!K643 = \"\",\"\",'Caseload Reporting'!K643)","v":""},{"$f":"IF('Caseload Reporting'!L643 = \"\",\"\",'Caseload Reporting'!L643)","v":""},{"$f":"IF('Caseload Reporting'!M643 = \"\",\"\",'Caseload Reporting'!M643)","v":""},{"$f":"IF('Caseload Reporting'!N643 = \"\",\"\",'Caseload Reporting'!N643)","v":""},{"$f":"IF('Caseload Reporting'!P643 = \"\",\"\",'Caseload Reporting'!P643)","v":""},{"$f":"IF('Caseload Reporting'!O643 = \"\",\"\",'Caseload Reporting'!O643)","v":""},{"$f":"IF('Caseload Reporting'!Q643 = \"\",\"\",'Caseload Reporting'!Q643)","v":""},{"$f":"IF('Caseload Reporting'!R643 = \"\",\"\",'Caseload Reporting'!R643)","v":""},{"$f":"IF('Caseload Reporting'!E643 = \"\",\"\",'Caseload Reporting'!E643)","v":""},{"$f":"IF('Caseload Reporting'!S643 = \"\",\"\",'Caseload Reporting'!S643)","v":""}]
[{"$f":"IF('Caseload Reporting'!A644 = \"\",\"\",'Caseload Reporting'!A644)","v":""},{"$f":"IF('Caseload Reporting'!B644 = \"\",\"\",'Caseload Reporting'!B644)","v":""},{"$f":"IF('Caseload Reporting'!C644 = \"\",\"\",'Caseload Reporting'!C644)","v":""},{"$f":"IF('Caseload Reporting'!D644 = \"\",\"\",'Caseload Reporting'!D644)","v":""},{"$f":"IF('Caseload Reporting'!G644 = \"\",\"\",'Caseload Reporting'!G644)","v":""},{"$f":"IF('Caseload Reporting'!H644 = \"\",\"\",'Caseload Reporting'!H644)","v":""},{"$f":"IF('Caseload Reporting'!I644 = \"\",\"\",'Caseload Reporting'!I644)","v":""},{"$f":"IF('Caseload Reporting'!J644 = \"\",\"\",'Caseload Reporting'!J644)","v":""},{"$f":"IF('Caseload Reporting'!K644 = \"\",\"\",'Caseload Reporting'!K644)","v":""},{"$f":"IF('Caseload Reporting'!L644 = \"\",\"\",'Caseload Reporting'!L644)","v":""},{"$f":"IF('Caseload Reporting'!M644 = \"\",\"\",'Caseload Reporting'!M644)","v":""},{"$f":"IF('Caseload Reporting'!N644 = \"\",\"\",'Caseload Reporting'!N644)","v":""},{"$f":"IF('Caseload Reporting'!P644 = \"\",\"\",'Caseload Reporting'!P644)","v":""},{"$f":"IF('Caseload Reporting'!O644 = \"\",\"\",'Caseload Reporting'!O644)","v":""},{"$f":"IF('Caseload Reporting'!Q644 = \"\",\"\",'Caseload Reporting'!Q644)","v":""},{"$f":"IF('Caseload Reporting'!R644 = \"\",\"\",'Caseload Reporting'!R644)","v":""},{"$f":"IF('Caseload Reporting'!E644 = \"\",\"\",'Caseload Reporting'!E644)","v":""},{"$f":"IF('Caseload Reporting'!S644 = \"\",\"\",'Caseload Reporting'!S644)","v":""}]
[{"$f":"IF('Caseload Reporting'!A645 = \"\",\"\",'Caseload Reporting'!A645)","v":""},{"$f":"IF('Caseload Reporting'!B645 = \"\",\"\",'Caseload Reporting'!B645)","v":""},{"$f":"IF('Caseload Reporting'!C645 = \"\",\"\",'Caseload Reporting'!C645)","v":""},{"$f":"IF('Caseload Reporting'!D645 = \"\",\"\",'Caseload Reporting'!D645)","v":""},{"$f":"IF('Caseload Reporting'!G645 = \"\",\"\",'Caseload Reporting'!G645)","v":""},{"$f":"IF('Caseload Reporting'!H645 = \"\",\"\",'Caseload Reporting'!H645)","v":""},{"$f":"IF('Caseload Reporting'!I645 = \"\",\"\",'Caseload Reporting'!I645)","v":""},{"$f":"IF('Caseload Reporting'!J645 = \"\",\"\",'Caseload Reporting'!J645)","v":""},{"$f":"IF('Caseload Reporting'!K645 = \"\",\"\",'Caseload Reporting'!K645)","v":""},{"$f":"IF('Caseload Reporting'!L645 = \"\",\"\",'Caseload Reporting'!L645)","v":""},{"$f":"IF('Caseload Reporting'!M645 = \"\",\"\",'Caseload Reporting'!M645)","v":""},{"$f":"IF('Caseload Reporting'!N645 = \"\",\"\",'Caseload Reporting'!N645)","v":""},{"$f":"IF('Caseload Reporting'!P645 = \"\",\"\",'Caseload Reporting'!P645)","v":""},{"$f":"IF('Caseload Reporting'!O645 = \"\",\"\",'Caseload Reporting'!O645)","v":""},{"$f":"IF('Caseload Reporting'!Q645 = \"\",\"\",'Caseload Reporting'!Q645)","v":""},{"$f":"IF('Caseload Reporting'!R645 = \"\",\"\",'Caseload Reporting'!R645)","v":""},{"$f":"IF('Caseload Reporting'!E645 = \"\",\"\",'Caseload Reporting'!E645)","v":""},{"$f":"IF('Caseload Reporting'!S645 = \"\",\"\",'Caseload Reporting'!S645)","v":""}]
[{"$f":"IF('Caseload Reporting'!A646 = \"\",\"\",'Caseload Reporting'!A646)","v":""},{"$f":"IF('Caseload Reporting'!B646 = \"\",\"\",'Caseload Reporting'!B646)","v":""},{"$f":"IF('Caseload Reporting'!C646 = \"\",\"\",'Caseload Reporting'!C646)","v":""},{"$f":"IF('Caseload Reporting'!D646 = \"\",\"\",'Caseload Reporting'!D646)","v":""},{"$f":"IF('Caseload Reporting'!G646 = \"\",\"\",'Caseload Reporting'!G646)","v":""},{"$f":"IF('Caseload Reporting'!H646 = \"\",\"\",'Caseload Reporting'!H646)","v":""},{"$f":"IF('Caseload Reporting'!I646 = \"\",\"\",'Caseload Reporting'!I646)","v":""},{"$f":"IF('Caseload Reporting'!J646 = \"\",\"\",'Caseload Reporting'!J646)","v":""},{"$f":"IF('Caseload Reporting'!K646 = \"\",\"\",'Caseload Reporting'!K646)","v":""},{"$f":"IF('Caseload Reporting'!L646 = \"\",\"\",'Caseload Reporting'!L646)","v":""},{"$f":"IF('Caseload Reporting'!M646 = \"\",\"\",'Caseload Reporting'!M646)","v":""},{"$f":"IF('Caseload Reporting'!N646 = \"\",\"\",'Caseload Reporting'!N646)","v":""},{"$f":"IF('Caseload Reporting'!P646 = \"\",\"\",'Caseload Reporting'!P646)","v":""},{"$f":"IF('Caseload Reporting'!O646 = \"\",\"\",'Caseload Reporting'!O646)","v":""},{"$f":"IF('Caseload Reporting'!Q646 = \"\",\"\",'Caseload Reporting'!Q646)","v":""},{"$f":"IF('Caseload Reporting'!R646 = \"\",\"\",'Caseload Reporting'!R646)","v":""},{"$f":"IF('Caseload Reporting'!E646 = \"\",\"\",'Caseload Reporting'!E646)","v":""},{"$f":"IF('Caseload Reporting'!S646 = \"\",\"\",'Caseload Reporting'!S646)","v":""}]
[{"$f":"IF('Caseload Reporting'!A647 = \"\",\"\",'Caseload Reporting'!A647)","v":""},{"$f":"IF('Caseload Reporting'!B647 = \"\",\"\",'Caseload Reporting'!B647)","v":""},{"$f":"IF('Caseload Reporting'!C647 = \"\",\"\",'Caseload Reporting'!C647)","v":""},{"$f":"IF('Caseload Reporting'!D647 = \"\",\"\",'Caseload Reporting'!D647)","v":""},{"$f":"IF('Caseload Reporting'!G647 = \"\",\"\",'Caseload Reporting'!G647)","v":""},{"$f":"IF('Caseload Reporting'!H647 = \"\",\"\",'Caseload Reporting'!H647)","v":""},{"$f":"IF('Caseload Reporting'!I647 = \"\",\"\",'Caseload Reporting'!I647)","v":""},{"$f":"IF('Caseload Reporting'!J647 = \"\",\"\",'Caseload Reporting'!J647)","v":""},{"$f":"IF('Caseload Reporting'!K647 = \"\",\"\",'Caseload Reporting'!K647)","v":""},{"$f":"IF('Caseload Reporting'!L647 = \"\",\"\",'Caseload Reporting'!L647)","v":""},{"$f":"IF('Caseload Reporting'!M647 = \"\",\"\",'Caseload Reporting'!M647)","v":""},{"$f":"IF('Caseload Reporting'!N647 = \"\",\"\",'Caseload Reporting'!N647)","v":""},{"$f":"IF('Caseload Reporting'!P647 = \"\",\"\",'Caseload Reporting'!P647)","v":""},{"$f":"IF('Caseload Reporting'!O647 = \"\",\"\",'Caseload Reporting'!O647)","v":""},{"$f":"IF('Caseload Reporting'!Q647 = \"\",\"\",'Caseload Reporting'!Q647)","v":""},{"$f":"IF('Caseload Reporting'!R647 = \"\",\"\",'Caseload Reporting'!R647)","v":""},{"$f":"IF('Caseload Reporting'!E647 = \"\",\"\",'Caseload Reporting'!E647)","v":""},{"$f":"IF('Caseload Reporting'!S647 = \"\",\"\",'Caseload Reporting'!S647)","v":""}]
[{"$f":"IF('Caseload Reporting'!A648 = \"\",\"\",'Caseload Reporting'!A648)","v":""},{"$f":"IF('Caseload Reporting'!B648 = \"\",\"\",'Caseload Reporting'!B648)","v":""},{"$f":"IF('Caseload Reporting'!C648 = \"\",\"\",'Caseload Reporting'!C648)","v":""},{"$f":"IF('Caseload Reporting'!D648 = \"\",\"\",'Caseload Reporting'!D648)","v":""},{"$f":"IF('Caseload Reporting'!G648 = \"\",\"\",'Caseload Reporting'!G648)","v":""},{"$f":"IF('Caseload Reporting'!H648 = \"\",\"\",'Caseload Reporting'!H648)","v":""},{"$f":"IF('Caseload Reporting'!I648 = \"\",\"\",'Caseload Reporting'!I648)","v":""},{"$f":"IF('Caseload Reporting'!J648 = \"\",\"\",'Caseload Reporting'!J648)","v":""},{"$f":"IF('Caseload Reporting'!K648 = \"\",\"\",'Caseload Reporting'!K648)","v":""},{"$f":"IF('Caseload Reporting'!L648 = \"\",\"\",'Caseload Reporting'!L648)","v":""},{"$f":"IF('Caseload Reporting'!M648 = \"\",\"\",'Caseload Reporting'!M648)","v":""},{"$f":"IF('Caseload Reporting'!N648 = \"\",\"\",'Caseload Reporting'!N648)","v":""},{"$f":"IF('Caseload Reporting'!P648 = \"\",\"\",'Caseload Reporting'!P648)","v":""},{"$f":"IF('Caseload Reporting'!O648 = \"\",\"\",'Caseload Reporting'!O648)","v":""},{"$f":"IF('Caseload Reporting'!Q648 = \"\",\"\",'Caseload Reporting'!Q648)","v":""},{"$f":"IF('Caseload Reporting'!R648 = \"\",\"\",'Caseload Reporting'!R648)","v":""},{"$f":"IF('Caseload Reporting'!E648 = \"\",\"\",'Caseload Reporting'!E648)","v":""},{"$f":"IF('Caseload Reporting'!S648 = \"\",\"\",'Caseload Reporting'!S648)","v":""}]
[{"$f":"IF('Caseload Reporting'!A649 = \"\",\"\",'Caseload Reporting'!A649)","v":""},{"$f":"IF('Caseload Reporting'!B649 = \"\",\"\",'Caseload Reporting'!B649)","v":""},{"$f":"IF('Caseload Reporting'!C649 = \"\",\"\",'Caseload Reporting'!C649)","v":""},{"$f":"IF('Caseload Reporting'!D649 = \"\",\"\",'Caseload Reporting'!D649)","v":""},{"$f":"IF('Caseload Reporting'!G649 = \"\",\"\",'Caseload Reporting'!G649)","v":""},{"$f":"IF('Caseload Reporting'!H649 = \"\",\"\",'Caseload Reporting'!H649)","v":""},{"$f":"IF('Caseload Reporting'!I649 = \"\",\"\",'Caseload Reporting'!I649)","v":""},{"$f":"IF('Caseload Reporting'!J649 = \"\",\"\",'Caseload Reporting'!J649)","v":""},{"$f":"IF('Caseload Reporting'!K649 = \"\",\"\",'Caseload Reporting'!K649)","v":""},{"$f":"IF('Caseload Reporting'!L649 = \"\",\"\",'Caseload Reporting'!L649)","v":""},{"$f":"IF('Caseload Reporting'!M649 = \"\",\"\",'Caseload Reporting'!M649)","v":""},{"$f":"IF('Caseload Reporting'!N649 = \"\",\"\",'Caseload Reporting'!N649)","v":""},{"$f":"IF('Caseload Reporting'!P649 = \"\",\"\",'Caseload Reporting'!P649)","v":""},{"$f":"IF('Caseload Reporting'!O649 = \"\",\"\",'Caseload Reporting'!O649)","v":""},{"$f":"IF('Caseload Reporting'!Q649 = \"\",\"\",'Caseload Reporting'!Q649)","v":""},{"$f":"IF('Caseload Reporting'!R649 = \"\",\"\",'Caseload Reporting'!R649)","v":""},{"$f":"IF('Caseload Reporting'!E649 = \"\",\"\",'Caseload Reporting'!E649)","v":""},{"$f":"IF('Caseload Reporting'!S649 = \"\",\"\",'Caseload Reporting'!S649)","v":""}]
[{"$f":"IF('Caseload Reporting'!A650 = \"\",\"\",'Caseload Reporting'!A650)","v":""},{"$f":"IF('Caseload Reporting'!B650 = \"\",\"\",'Caseload Reporting'!B650)","v":""},{"$f":"IF('Caseload Reporting'!C650 = \"\",\"\",'Caseload Reporting'!C650)","v":""},{"$f":"IF('Caseload Reporting'!D650 = \"\",\"\",'Caseload Reporting'!D650)","v":""},{"$f":"IF('Caseload Reporting'!G650 = \"\",\"\",'Caseload Reporting'!G650)","v":""},{"$f":"IF('Caseload Reporting'!H650 = \"\",\"\",'Caseload Reporting'!H650)","v":""},{"$f":"IF('Caseload Reporting'!I650 = \"\",\"\",'Caseload Reporting'!I650)","v":""},{"$f":"IF('Caseload Reporting'!J650 = \"\",\"\",'Caseload Reporting'!J650)","v":""},{"$f":"IF('Caseload Reporting'!K650 = \"\",\"\",'Caseload Reporting'!K650)","v":""},{"$f":"IF('Caseload Reporting'!L650 = \"\",\"\",'Caseload Reporting'!L650)","v":""},{"$f":"IF('Caseload Reporting'!M650 = \"\",\"\",'Caseload Reporting'!M650)","v":""},{"$f":"IF('Caseload Reporting'!N650 = \"\",\"\",'Caseload Reporting'!N650)","v":""},{"$f":"IF('Caseload Reporting'!P650 = \"\",\"\",'Caseload Reporting'!P650)","v":""},{"$f":"IF('Caseload Reporting'!O650 = \"\",\"\",'Caseload Reporting'!O650)","v":""},{"$f":"IF('Caseload Reporting'!Q650 = \"\",\"\",'Caseload Reporting'!Q650)","v":""},{"$f":"IF('Caseload Reporting'!R650 = \"\",\"\",'Caseload Reporting'!R650)","v":""},{"$f":"IF('Caseload Reporting'!E650 = \"\",\"\",'Caseload Reporting'!E650)","v":""},{"$f":"IF('Caseload Reporting'!S650 = \"\",\"\",'Caseload Reporting'!S650)","v":""}]
[{"$f":"IF('Caseload Reporting'!A651 = \"\",\"\",'Caseload Reporting'!A651)","v":""},{"$f":"IF('Caseload Reporting'!B651 = \"\",\"\",'Caseload Reporting'!B651)","v":""},{"$f":"IF('Caseload Reporting'!C651 = \"\",\"\",'Caseload Reporting'!C651)","v":""},{"$f":"IF('Caseload Reporting'!D651 = \"\",\"\",'Caseload Reporting'!D651)","v":""},{"$f":"IF('Caseload Reporting'!G651 = \"\",\"\",'Caseload Reporting'!G651)","v":""},{"$f":"IF('Caseload Reporting'!H651 = \"\",\"\",'Caseload Reporting'!H651)","v":""},{"$f":"IF('Caseload Reporting'!I651 = \"\",\"\",'Caseload Reporting'!I651)","v":""},{"$f":"IF('Caseload Reporting'!J651 = \"\",\"\",'Caseload Reporting'!J651)","v":""},{"$f":"IF('Caseload Reporting'!K651 = \"\",\"\",'Caseload Reporting'!K651)","v":""},{"$f":"IF('Caseload Reporting'!L651 = \"\",\"\",'Caseload Reporting'!L651)","v":""},{"$f":"IF('Caseload Reporting'!M651 = \"\",\"\",'Caseload Reporting'!M651)","v":""},{"$f":"IF('Caseload Reporting'!N651 = \"\",\"\",'Caseload Reporting'!N651)","v":""},{"$f":"IF('Caseload Reporting'!P651 = \"\",\"\",'Caseload Reporting'!P651)","v":""},{"$f":"IF('Caseload Reporting'!O651 = \"\",\"\",'Caseload Reporting'!O651)","v":""},{"$f":"IF('Caseload Reporting'!Q651 = \"\",\"\",'Caseload Reporting'!Q651)","v":""},{"$f":"IF('Caseload Reporting'!R651 = \"\",\"\",'Caseload Reporting'!R651)","v":""},{"$f":"IF('Caseload Reporting'!E651 = \"\",\"\",'Caseload Reporting'!E651)","v":""},{"$f":"IF('Caseload Reporting'!S651 = \"\",\"\",'Caseload Reporting'!S651)","v":""}]
[{"$f":"IF('Caseload Reporting'!A652 = \"\",\"\",'Caseload Reporting'!A652)","v":""},{"$f":"IF('Caseload Reporting'!B652 = \"\",\"\",'Caseload Reporting'!B652)","v":""},{"$f":"IF('Caseload Reporting'!C652 = \"\",\"\",'Caseload Reporting'!C652)","v":""},{"$f":"IF('Caseload Reporting'!D652 = \"\",\"\",'Caseload Reporting'!D652)","v":""},{"$f":"IF('Caseload Reporting'!G652 = \"\",\"\",'Caseload Reporting'!G652)","v":""},{"$f":"IF('Caseload Reporting'!H652 = \"\",\"\",'Caseload Reporting'!H652)","v":""},{"$f":"IF('Caseload Reporting'!I652 = \"\",\"\",'Caseload Reporting'!I652)","v":""},{"$f":"IF('Caseload Reporting'!J652 = \"\",\"\",'Caseload Reporting'!J652)","v":""},{"$f":"IF('Caseload Reporting'!K652 = \"\",\"\",'Caseload Reporting'!K652)","v":""},{"$f":"IF('Caseload Reporting'!L652 = \"\",\"\",'Caseload Reporting'!L652)","v":""},{"$f":"IF('Caseload Reporting'!M652 = \"\",\"\",'Caseload Reporting'!M652)","v":""},{"$f":"IF('Caseload Reporting'!N652 = \"\",\"\",'Caseload Reporting'!N652)","v":""},{"$f":"IF('Caseload Reporting'!P652 = \"\",\"\",'Caseload Reporting'!P652)","v":""},{"$f":"IF('Caseload Reporting'!O652 = \"\",\"\",'Caseload Reporting'!O652)","v":""},{"$f":"IF('Caseload Reporting'!Q652 = \"\",\"\",'Caseload Reporting'!Q652)","v":""},{"$f":"IF('Caseload Reporting'!R652 = \"\",\"\",'Caseload Reporting'!R652)","v":""},{"$f":"IF('Caseload Reporting'!E652 = \"\",\"\",'Caseload Reporting'!E652)","v":""},{"$f":"IF('Caseload Reporting'!S652 = \"\",\"\",'Caseload Reporting'!S652)","v":""}]
[{"$f":"IF('Caseload Reporting'!A653 = \"\",\"\",'Caseload Reporting'!A653)","v":""},{"$f":"IF('Caseload Reporting'!B653 = \"\",\"\",'Caseload Reporting'!B653)","v":""},{"$f":"IF('Caseload Reporting'!C653 = \"\",\"\",'Caseload Reporting'!C653)","v":""},{"$f":"IF('Caseload Reporting'!D653 = \"\",\"\",'Caseload Reporting'!D653)","v":""},{"$f":"IF('Caseload Reporting'!G653 = \"\",\"\",'Caseload Reporting'!G653)","v":""},{"$f":"IF('Caseload Reporting'!H653 = \"\",\"\",'Caseload Reporting'!H653)","v":""},{"$f":"IF('Caseload Reporting'!I653 = \"\",\"\",'Caseload Reporting'!I653)","v":""},{"$f":"IF('Caseload Reporting'!J653 = \"\",\"\",'Caseload Reporting'!J653)","v":""},{"$f":"IF('Caseload Reporting'!K653 = \"\",\"\",'Caseload Reporting'!K653)","v":""},{"$f":"IF('Caseload Reporting'!L653 = \"\",\"\",'Caseload Reporting'!L653)","v":""},{"$f":"IF('Caseload Reporting'!M653 = \"\",\"\",'Caseload Reporting'!M653)","v":""},{"$f":"IF('Caseload Reporting'!N653 = \"\",\"\",'Caseload Reporting'!N653)","v":""},{"$f":"IF('Caseload Reporting'!P653 = \"\",\"\",'Caseload Reporting'!P653)","v":""},{"$f":"IF('Caseload Reporting'!O653 = \"\",\"\",'Caseload Reporting'!O653)","v":""},{"$f":"IF('Caseload Reporting'!Q653 = \"\",\"\",'Caseload Reporting'!Q653)","v":""},{"$f":"IF('Caseload Reporting'!R653 = \"\",\"\",'Caseload Reporting'!R653)","v":""},{"$f":"IF('Caseload Reporting'!E653 = \"\",\"\",'Caseload Reporting'!E653)","v":""},{"$f":"IF('Caseload Reporting'!S653 = \"\",\"\",'Caseload Reporting'!S653)","v":""}]
[{"$f":"IF('Caseload Reporting'!A654 = \"\",\"\",'Caseload Reporting'!A654)","v":""},{"$f":"IF('Caseload Reporting'!B654 = \"\",\"\",'Caseload Reporting'!B654)","v":""},{"$f":"IF('Caseload Reporting'!C654 = \"\",\"\",'Caseload Reporting'!C654)","v":""},{"$f":"IF('Caseload Reporting'!D654 = \"\",\"\",'Caseload Reporting'!D654)","v":""},{"$f":"IF('Caseload Reporting'!G654 = \"\",\"\",'Caseload Reporting'!G654)","v":""},{"$f":"IF('Caseload Reporting'!H654 = \"\",\"\",'Caseload Reporting'!H654)","v":""},{"$f":"IF('Caseload Reporting'!I654 = \"\",\"\",'Caseload Reporting'!I654)","v":""},{"$f":"IF('Caseload Reporting'!J654 = \"\",\"\",'Caseload Reporting'!J654)","v":""},{"$f":"IF('Caseload Reporting'!K654 = \"\",\"\",'Caseload Reporting'!K654)","v":""},{"$f":"IF('Caseload Reporting'!L654 = \"\",\"\",'Caseload Reporting'!L654)","v":""},{"$f":"IF('Caseload Reporting'!M654 = \"\",\"\",'Caseload Reporting'!M654)","v":""},{"$f":"IF('Caseload Reporting'!N654 = \"\",\"\",'Caseload Reporting'!N654)","v":""},{"$f":"IF('Caseload Reporting'!P654 = \"\",\"\",'Caseload Reporting'!P654)","v":""},{"$f":"IF('Caseload Reporting'!O654 = \"\",\"\",'Caseload Reporting'!O654)","v":""},{"$f":"IF('Caseload Reporting'!Q654 = \"\",\"\",'Caseload Reporting'!Q654)","v":""},{"$f":"IF('Caseload Reporting'!R654 = \"\",\"\",'Caseload Reporting'!R654)","v":""},{"$f":"IF('Caseload Reporting'!E654 = \"\",\"\",'Caseload Reporting'!E654)","v":""},{"$f":"IF('Caseload Reporting'!S654 = \"\",\"\",'Caseload Reporting'!S654)","v":""}]
[{"$f":"IF('Caseload Reporting'!A655 = \"\",\"\",'Caseload Reporting'!A655)","v":""},{"$f":"IF('Caseload Reporting'!B655 = \"\",\"\",'Caseload Reporting'!B655)","v":""},{"$f":"IF('Caseload Reporting'!C655 = \"\",\"\",'Caseload Reporting'!C655)","v":""},{"$f":"IF('Caseload Reporting'!D655 = \"\",\"\",'Caseload Reporting'!D655)","v":""},{"$f":"IF('Caseload Reporting'!G655 = \"\",\"\",'Caseload Reporting'!G655)","v":""},{"$f":"IF('Caseload Reporting'!H655 = \"\",\"\",'Caseload Reporting'!H655)","v":""},{"$f":"IF('Caseload Reporting'!I655 = \"\",\"\",'Caseload Reporting'!I655)","v":""},{"$f":"IF('Caseload Reporting'!J655 = \"\",\"\",'Caseload Reporting'!J655)","v":""},{"$f":"IF('Caseload Reporting'!K655 = \"\",\"\",'Caseload Reporting'!K655)","v":""},{"$f":"IF('Caseload Reporting'!L655 = \"\",\"\",'Caseload Reporting'!L655)","v":""},{"$f":"IF('Caseload Reporting'!M655 = \"\",\"\",'Caseload Reporting'!M655)","v":""},{"$f":"IF('Caseload Reporting'!N655 = \"\",\"\",'Caseload Reporting'!N655)","v":""},{"$f":"IF('Caseload Reporting'!P655 = \"\",\"\",'Caseload Reporting'!P655)","v":""},{"$f":"IF('Caseload Reporting'!O655 = \"\",\"\",'Caseload Reporting'!O655)","v":""},{"$f":"IF('Caseload Reporting'!Q655 = \"\",\"\",'Caseload Reporting'!Q655)","v":""},{"$f":"IF('Caseload Reporting'!R655 = \"\",\"\",'Caseload Reporting'!R655)","v":""},{"$f":"IF('Caseload Reporting'!E655 = \"\",\"\",'Caseload Reporting'!E655)","v":""},{"$f":"IF('Caseload Reporting'!S655 = \"\",\"\",'Caseload Reporting'!S655)","v":""}]
[{"$f":"IF('Caseload Reporting'!A656 = \"\",\"\",'Caseload Reporting'!A656)","v":""},{"$f":"IF('Caseload Reporting'!B656 = \"\",\"\",'Caseload Reporting'!B656)","v":""},{"$f":"IF('Caseload Reporting'!C656 = \"\",\"\",'Caseload Reporting'!C656)","v":""},{"$f":"IF('Caseload Reporting'!D656 = \"\",\"\",'Caseload Reporting'!D656)","v":""},{"$f":"IF('Caseload Reporting'!G656 = \"\",\"\",'Caseload Reporting'!G656)","v":""},{"$f":"IF('Caseload Reporting'!H656 = \"\",\"\",'Caseload Reporting'!H656)","v":""},{"$f":"IF('Caseload Reporting'!I656 = \"\",\"\",'Caseload Reporting'!I656)","v":""},{"$f":"IF('Caseload Reporting'!J656 = \"\",\"\",'Caseload Reporting'!J656)","v":""},{"$f":"IF('Caseload Reporting'!K656 = \"\",\"\",'Caseload Reporting'!K656)","v":""},{"$f":"IF('Caseload Reporting'!L656 = \"\",\"\",'Caseload Reporting'!L656)","v":""},{"$f":"IF('Caseload Reporting'!M656 = \"\",\"\",'Caseload Reporting'!M656)","v":""},{"$f":"IF('Caseload Reporting'!N656 = \"\",\"\",'Caseload Reporting'!N656)","v":""},{"$f":"IF('Caseload Reporting'!P656 = \"\",\"\",'Caseload Reporting'!P656)","v":""},{"$f":"IF('Caseload Reporting'!O656 = \"\",\"\",'Caseload Reporting'!O656)","v":""},{"$f":"IF('Caseload Reporting'!Q656 = \"\",\"\",'Caseload Reporting'!Q656)","v":""},{"$f":"IF('Caseload Reporting'!R656 = \"\",\"\",'Caseload Reporting'!R656)","v":""},{"$f":"IF('Caseload Reporting'!E656 = \"\",\"\",'Caseload Reporting'!E656)","v":""},{"$f":"IF('Caseload Reporting'!S656 = \"\",\"\",'Caseload Reporting'!S656)","v":""}]
[{"$f":"IF('Caseload Reporting'!A657 = \"\",\"\",'Caseload Reporting'!A657)","v":""},{"$f":"IF('Caseload Reporting'!B657 = \"\",\"\",'Caseload Reporting'!B657)","v":""},{"$f":"IF('Caseload Reporting'!C657 = \"\",\"\",'Caseload Reporting'!C657)","v":""},{"$f":"IF('Caseload Reporting'!D657 = \"\",\"\",'Caseload Reporting'!D657)","v":""},{"$f":"IF('Caseload Reporting'!G657 = \"\",\"\",'Caseload Reporting'!G657)","v":""},{"$f":"IF('Caseload Reporting'!H657 = \"\",\"\",'Caseload Reporting'!H657)","v":""},{"$f":"IF('Caseload Reporting'!I657 = \"\",\"\",'Caseload Reporting'!I657)","v":""},{"$f":"IF('Caseload Reporting'!J657 = \"\",\"\",'Caseload Reporting'!J657)","v":""},{"$f":"IF('Caseload Reporting'!K657 = \"\",\"\",'Caseload Reporting'!K657)","v":""},{"$f":"IF('Caseload Reporting'!L657 = \"\",\"\",'Caseload Reporting'!L657)","v":""},{"$f":"IF('Caseload Reporting'!M657 = \"\",\"\",'Caseload Reporting'!M657)","v":""},{"$f":"IF('Caseload Reporting'!N657 = \"\",\"\",'Caseload Reporting'!N657)","v":""},{"$f":"IF('Caseload Reporting'!P657 = \"\",\"\",'Caseload Reporting'!P657)","v":""},{"$f":"IF('Caseload Reporting'!O657 = \"\",\"\",'Caseload Reporting'!O657)","v":""},{"$f":"IF('Caseload Reporting'!Q657 = \"\",\"\",'Caseload Reporting'!Q657)","v":""},{"$f":"IF('Caseload Reporting'!R657 = \"\",\"\",'Caseload Reporting'!R657)","v":""},{"$f":"IF('Caseload Reporting'!E657 = \"\",\"\",'Caseload Reporting'!E657)","v":""},{"$f":"IF('Caseload Reporting'!S657 = \"\",\"\",'Caseload Reporting'!S657)","v":""}]
[{"$f":"IF('Caseload Reporting'!A658 = \"\",\"\",'Caseload Reporting'!A658)","v":""},{"$f":"IF('Caseload Reporting'!B658 = \"\",\"\",'Caseload Reporting'!B658)","v":""},{"$f":"IF('Caseload Reporting'!C658 = \"\",\"\",'Caseload Reporting'!C658)","v":""},{"$f":"IF('Caseload Reporting'!D658 = \"\",\"\",'Caseload Reporting'!D658)","v":""},{"$f":"IF('Caseload Reporting'!G658 = \"\",\"\",'Caseload Reporting'!G658)","v":""},{"$f":"IF('Caseload Reporting'!H658 = \"\",\"\",'Caseload Reporting'!H658)","v":""},{"$f":"IF('Caseload Reporting'!I658 = \"\",\"\",'Caseload Reporting'!I658)","v":""},{"$f":"IF('Caseload Reporting'!J658 = \"\",\"\",'Caseload Reporting'!J658)","v":""},{"$f":"IF('Caseload Reporting'!K658 = \"\",\"\",'Caseload Reporting'!K658)","v":""},{"$f":"IF('Caseload Reporting'!L658 = \"\",\"\",'Caseload Reporting'!L658)","v":""},{"$f":"IF('Caseload Reporting'!M658 = \"\",\"\",'Caseload Reporting'!M658)","v":""},{"$f":"IF('Caseload Reporting'!N658 = \"\",\"\",'Caseload Reporting'!N658)","v":""},{"$f":"IF('Caseload Reporting'!P658 = \"\",\"\",'Caseload Reporting'!P658)","v":""},{"$f":"IF('Caseload Reporting'!O658 = \"\",\"\",'Caseload Reporting'!O658)","v":""},{"$f":"IF('Caseload Reporting'!Q658 = \"\",\"\",'Caseload Reporting'!Q658)","v":""},{"$f":"IF('Caseload Reporting'!R658 = \"\",\"\",'Caseload Reporting'!R658)","v":""},{"$f":"IF('Caseload Reporting'!E658 = \"\",\"\",'Caseload Reporting'!E658)","v":""},{"$f":"IF('Caseload Reporting'!S658 = \"\",\"\",'Caseload Reporting'!S658)","v":""}]
[{"$f":"IF('Caseload Reporting'!A659 = \"\",\"\",'Caseload Reporting'!A659)","v":""},{"$f":"IF('Caseload Reporting'!B659 = \"\",\"\",'Caseload Reporting'!B659)","v":""},{"$f":"IF('Caseload Reporting'!C659 = \"\",\"\",'Caseload Reporting'!C659)","v":""},{"$f":"IF('Caseload Reporting'!D659 = \"\",\"\",'Caseload Reporting'!D659)","v":""},{"$f":"IF('Caseload Reporting'!G659 = \"\",\"\",'Caseload Reporting'!G659)","v":""},{"$f":"IF('Caseload Reporting'!H659 = \"\",\"\",'Caseload Reporting'!H659)","v":""},{"$f":"IF('Caseload Reporting'!I659 = \"\",\"\",'Caseload Reporting'!I659)","v":""},{"$f":"IF('Caseload Reporting'!J659 = \"\",\"\",'Caseload Reporting'!J659)","v":""},{"$f":"IF('Caseload Reporting'!K659 = \"\",\"\",'Caseload Reporting'!K659)","v":""},{"$f":"IF('Caseload Reporting'!L659 = \"\",\"\",'Caseload Reporting'!L659)","v":""},{"$f":"IF('Caseload Reporting'!M659 = \"\",\"\",'Caseload Reporting'!M659)","v":""},{"$f":"IF('Caseload Reporting'!N659 = \"\",\"\",'Caseload Reporting'!N659)","v":""},{"$f":"IF('Caseload Reporting'!P659 = \"\",\"\",'Caseload Reporting'!P659)","v":""},{"$f":"IF('Caseload Reporting'!O659 = \"\",\"\",'Caseload Reporting'!O659)","v":""},{"$f":"IF('Caseload Reporting'!Q659 = \"\",\"\",'Caseload Reporting'!Q659)","v":""},{"$f":"IF('Caseload Reporting'!R659 = \"\",\"\",'Caseload Reporting'!R659)","v":""},{"$f":"IF('Caseload Reporting'!E659 = \"\",\"\",'Caseload Reporting'!E659)","v":""},{"$f":"IF('Caseload Reporting'!S659 = \"\",\"\",'Caseload Reporting'!S659)","v":""}]
[{"$f":"IF('Caseload Reporting'!A660 = \"\",\"\",'Caseload Reporting'!A660)","v":""},{"$f":"IF('Caseload Reporting'!B660 = \"\",\"\",'Caseload Reporting'!B660)","v":""},{"$f":"IF('Caseload Reporting'!C660 = \"\",\"\",'Caseload Reporting'!C660)","v":""},{"$f":"IF('Caseload Reporting'!D660 = \"\",\"\",'Caseload Reporting'!D660)","v":""},{"$f":"IF('Caseload Reporting'!G660 = \"\",\"\",'Caseload Reporting'!G660)","v":""},{"$f":"IF('Caseload Reporting'!H660 = \"\",\"\",'Caseload Reporting'!H660)","v":""},{"$f":"IF('Caseload Reporting'!I660 = \"\",\"\",'Caseload Reporting'!I660)","v":""},{"$f":"IF('Caseload Reporting'!J660 = \"\",\"\",'Caseload Reporting'!J660)","v":""},{"$f":"IF('Caseload Reporting'!K660 = \"\",\"\",'Caseload Reporting'!K660)","v":""},{"$f":"IF('Caseload Reporting'!L660 = \"\",\"\",'Caseload Reporting'!L660)","v":""},{"$f":"IF('Caseload Reporting'!M660 = \"\",\"\",'Caseload Reporting'!M660)","v":""},{"$f":"IF('Caseload Reporting'!N660 = \"\",\"\",'Caseload Reporting'!N660)","v":""},{"$f":"IF('Caseload Reporting'!P660 = \"\",\"\",'Caseload Reporting'!P660)","v":""},{"$f":"IF('Caseload Reporting'!O660 = \"\",\"\",'Caseload Reporting'!O660)","v":""},{"$f":"IF('Caseload Reporting'!Q660 = \"\",\"\",'Caseload Reporting'!Q660)","v":""},{"$f":"IF('Caseload Reporting'!R660 = \"\",\"\",'Caseload Reporting'!R660)","v":""},{"$f":"IF('Caseload Reporting'!E660 = \"\",\"\",'Caseload Reporting'!E660)","v":""},{"$f":"IF('Caseload Reporting'!S660 = \"\",\"\",'Caseload Reporting'!S660)","v":""}]
[{"$f":"IF('Caseload Reporting'!A661 = \"\",\"\",'Caseload Reporting'!A661)","v":""},{"$f":"IF('Caseload Reporting'!B661 = \"\",\"\",'Caseload Reporting'!B661)","v":""},{"$f":"IF('Caseload Reporting'!C661 = \"\",\"\",'Caseload Reporting'!C661)","v":""},{"$f":"IF('Caseload Reporting'!D661 = \"\",\"\",'Caseload Reporting'!D661)","v":""},{"$f":"IF('Caseload Reporting'!G661 = \"\",\"\",'Caseload Reporting'!G661)","v":""},{"$f":"IF('Caseload Reporting'!H661 = \"\",\"\",'Caseload Reporting'!H661)","v":""},{"$f":"IF('Caseload Reporting'!I661 = \"\",\"\",'Caseload Reporting'!I661)","v":""},{"$f":"IF('Caseload Reporting'!J661 = \"\",\"\",'Caseload Reporting'!J661)","v":""},{"$f":"IF('Caseload Reporting'!K661 = \"\",\"\",'Caseload Reporting'!K661)","v":""},{"$f":"IF('Caseload Reporting'!L661 = \"\",\"\",'Caseload Reporting'!L661)","v":""},{"$f":"IF('Caseload Reporting'!M661 = \"\",\"\",'Caseload Reporting'!M661)","v":""},{"$f":"IF('Caseload Reporting'!N661 = \"\",\"\",'Caseload Reporting'!N661)","v":""},{"$f":"IF('Caseload Reporting'!P661 = \"\",\"\",'Caseload Reporting'!P661)","v":""},{"$f":"IF('Caseload Reporting'!O661 = \"\",\"\",'Caseload Reporting'!O661)","v":""},{"$f":"IF('Caseload Reporting'!Q661 = \"\",\"\",'Caseload Reporting'!Q661)","v":""},{"$f":"IF('Caseload Reporting'!R661 = \"\",\"\",'Caseload Reporting'!R661)","v":""},{"$f":"IF('Caseload Reporting'!E661 = \"\",\"\",'Caseload Reporting'!E661)","v":""},{"$f":"IF('Caseload Reporting'!S661 = \"\",\"\",'Caseload Reporting'!S661)","v":""}]
[{"$f":"IF('Caseload Reporting'!A662 = \"\",\"\",'Caseload Reporting'!A662)","v":""},{"$f":"IF('Caseload Reporting'!B662 = \"\",\"\",'Caseload Reporting'!B662)","v":""},{"$f":"IF('Caseload Reporting'!C662 = \"\",\"\",'Caseload Reporting'!C662)","v":""},{"$f":"IF('Caseload Reporting'!D662 = \"\",\"\",'Caseload Reporting'!D662)","v":""},{"$f":"IF('Caseload Reporting'!G662 = \"\",\"\",'Caseload Reporting'!G662)","v":""},{"$f":"IF('Caseload Reporting'!H662 = \"\",\"\",'Caseload Reporting'!H662)","v":""},{"$f":"IF('Caseload Reporting'!I662 = \"\",\"\",'Caseload Reporting'!I662)","v":""},{"$f":"IF('Caseload Reporting'!J662 = \"\",\"\",'Caseload Reporting'!J662)","v":""},{"$f":"IF('Caseload Reporting'!K662 = \"\",\"\",'Caseload Reporting'!K662)","v":""},{"$f":"IF('Caseload Reporting'!L662 = \"\",\"\",'Caseload Reporting'!L662)","v":""},{"$f":"IF('Caseload Reporting'!M662 = \"\",\"\",'Caseload Reporting'!M662)","v":""},{"$f":"IF('Caseload Reporting'!N662 = \"\",\"\",'Caseload Reporting'!N662)","v":""},{"$f":"IF('Caseload Reporting'!P662 = \"\",\"\",'Caseload Reporting'!P662)","v":""},{"$f":"IF('Caseload Reporting'!O662 = \"\",\"\",'Caseload Reporting'!O662)","v":""},{"$f":"IF('Caseload Reporting'!Q662 = \"\",\"\",'Caseload Reporting'!Q662)","v":""},{"$f":"IF('Caseload Reporting'!R662 = \"\",\"\",'Caseload Reporting'!R662)","v":""},{"$f":"IF('Caseload Reporting'!E662 = \"\",\"\",'Caseload Reporting'!E662)","v":""},{"$f":"IF('Caseload Reporting'!S662 = \"\",\"\",'Caseload Reporting'!S662)","v":""}]
[{"$f":"IF('Caseload Reporting'!A663 = \"\",\"\",'Caseload Reporting'!A663)","v":""},{"$f":"IF('Caseload Reporting'!B663 = \"\",\"\",'Caseload Reporting'!B663)","v":""},{"$f":"IF('Caseload Reporting'!C663 = \"\",\"\",'Caseload Reporting'!C663)","v":""},{"$f":"IF('Caseload Reporting'!D663 = \"\",\"\",'Caseload Reporting'!D663)","v":""},{"$f":"IF('Caseload Reporting'!G663 = \"\",\"\",'Caseload Reporting'!G663)","v":""},{"$f":"IF('Caseload Reporting'!H663 = \"\",\"\",'Caseload Reporting'!H663)","v":""},{"$f":"IF('Caseload Reporting'!I663 = \"\",\"\",'Caseload Reporting'!I663)","v":""},{"$f":"IF('Caseload Reporting'!J663 = \"\",\"\",'Caseload Reporting'!J663)","v":""},{"$f":"IF('Caseload Reporting'!K663 = \"\",\"\",'Caseload Reporting'!K663)","v":""},{"$f":"IF('Caseload Reporting'!L663 = \"\",\"\",'Caseload Reporting'!L663)","v":""},{"$f":"IF('Caseload Reporting'!M663 = \"\",\"\",'Caseload Reporting'!M663)","v":""},{"$f":"IF('Caseload Reporting'!N663 = \"\",\"\",'Caseload Reporting'!N663)","v":""},{"$f":"IF('Caseload Reporting'!P663 = \"\",\"\",'Caseload Reporting'!P663)","v":""},{"$f":"IF('Caseload Reporting'!O663 = \"\",\"\",'Caseload Reporting'!O663)","v":""},{"$f":"IF('Caseload Reporting'!Q663 = \"\",\"\",'Caseload Reporting'!Q663)","v":""},{"$f":"IF('Caseload Reporting'!R663 = \"\",\"\",'Caseload Reporting'!R663)","v":""},{"$f":"IF('Caseload Reporting'!E663 = \"\",\"\",'Caseload Reporting'!E663)","v":""},{"$f":"IF('Caseload Reporting'!S663 = \"\",\"\",'Caseload Reporting'!S663)","v":""}]
[{"$f":"IF('Caseload Reporting'!A664 = \"\",\"\",'Caseload Reporting'!A664)","v":""},{"$f":"IF('Caseload Reporting'!B664 = \"\",\"\",'Caseload Reporting'!B664)","v":""},{"$f":"IF('Caseload Reporting'!C664 = \"\",\"\",'Caseload Reporting'!C664)","v":""},{"$f":"IF('Caseload Reporting'!D664 = \"\",\"\",'Caseload Reporting'!D664)","v":""},{"$f":"IF('Caseload Reporting'!G664 = \"\",\"\",'Caseload Reporting'!G664)","v":""},{"$f":"IF('Caseload Reporting'!H664 = \"\",\"\",'Caseload Reporting'!H664)","v":""},{"$f":"IF('Caseload Reporting'!I664 = \"\",\"\",'Caseload Reporting'!I664)","v":""},{"$f":"IF('Caseload Reporting'!J664 = \"\",\"\",'Caseload Reporting'!J664)","v":""},{"$f":"IF('Caseload Reporting'!K664 = \"\",\"\",'Caseload Reporting'!K664)","v":""},{"$f":"IF('Caseload Reporting'!L664 = \"\",\"\",'Caseload Reporting'!L664)","v":""},{"$f":"IF('Caseload Reporting'!M664 = \"\",\"\",'Caseload Reporting'!M664)","v":""},{"$f":"IF('Caseload Reporting'!N664 = \"\",\"\",'Caseload Reporting'!N664)","v":""},{"$f":"IF('Caseload Reporting'!P664 = \"\",\"\",'Caseload Reporting'!P664)","v":""},{"$f":"IF('Caseload Reporting'!O664 = \"\",\"\",'Caseload Reporting'!O664)","v":""},{"$f":"IF('Caseload Reporting'!Q664 = \"\",\"\",'Caseload Reporting'!Q664)","v":""},{"$f":"IF('Caseload Reporting'!R664 = \"\",\"\",'Caseload Reporting'!R664)","v":""},{"$f":"IF('Caseload Reporting'!E664 = \"\",\"\",'Caseload Reporting'!E664)","v":""},{"$f":"IF('Caseload Reporting'!S664 = \"\",\"\",'Caseload Reporting'!S664)","v":""}]
[{"$f":"IF('Caseload Reporting'!A665 = \"\",\"\",'Caseload Reporting'!A665)","v":""},{"$f":"IF('Caseload Reporting'!B665 = \"\",\"\",'Caseload Reporting'!B665)","v":""},{"$f":"IF('Caseload Reporting'!C665 = \"\",\"\",'Caseload Reporting'!C665)","v":""},{"$f":"IF('Caseload Reporting'!D665 = \"\",\"\",'Caseload Reporting'!D665)","v":""},{"$f":"IF('Caseload Reporting'!G665 = \"\",\"\",'Caseload Reporting'!G665)","v":""},{"$f":"IF('Caseload Reporting'!H665 = \"\",\"\",'Caseload Reporting'!H665)","v":""},{"$f":"IF('Caseload Reporting'!I665 = \"\",\"\",'Caseload Reporting'!I665)","v":""},{"$f":"IF('Caseload Reporting'!J665 = \"\",\"\",'Caseload Reporting'!J665)","v":""},{"$f":"IF('Caseload Reporting'!K665 = \"\",\"\",'Caseload Reporting'!K665)","v":""},{"$f":"IF('Caseload Reporting'!L665 = \"\",\"\",'Caseload Reporting'!L665)","v":""},{"$f":"IF('Caseload Reporting'!M665 = \"\",\"\",'Caseload Reporting'!M665)","v":""},{"$f":"IF('Caseload Reporting'!N665 = \"\",\"\",'Caseload Reporting'!N665)","v":""},{"$f":"IF('Caseload Reporting'!P665 = \"\",\"\",'Caseload Reporting'!P665)","v":""},{"$f":"IF('Caseload Reporting'!O665 = \"\",\"\",'Caseload Reporting'!O665)","v":""},{"$f":"IF('Caseload Reporting'!Q665 = \"\",\"\",'Caseload Reporting'!Q665)","v":""},{"$f":"IF('Caseload Reporting'!R665 = \"\",\"\",'Caseload Reporting'!R665)","v":""},{"$f":"IF('Caseload Reporting'!E665 = \"\",\"\",'Caseload Reporting'!E665)","v":""},{"$f":"IF('Caseload Reporting'!S665 = \"\",\"\",'Caseload Reporting'!S665)","v":""}]
[{"$f":"IF('Caseload Reporting'!A666 = \"\",\"\",'Caseload Reporting'!A666)","v":""},{"$f":"IF('Caseload Reporting'!B666 = \"\",\"\",'Caseload Reporting'!B666)","v":""},{"$f":"IF('Caseload Reporting'!C666 = \"\",\"\",'Caseload Reporting'!C666)","v":""},{"$f":"IF('Caseload Reporting'!D666 = \"\",\"\",'Caseload Reporting'!D666)","v":""},{"$f":"IF('Caseload Reporting'!G666 = \"\",\"\",'Caseload Reporting'!G666)","v":""},{"$f":"IF('Caseload Reporting'!H666 = \"\",\"\",'Caseload Reporting'!H666)","v":""},{"$f":"IF('Caseload Reporting'!I666 = \"\",\"\",'Caseload Reporting'!I666)","v":""},{"$f":"IF('Caseload Reporting'!J666 = \"\",\"\",'Caseload Reporting'!J666)","v":""},{"$f":"IF('Caseload Reporting'!K666 = \"\",\"\",'Caseload Reporting'!K666)","v":""},{"$f":"IF('Caseload Reporting'!L666 = \"\",\"\",'Caseload Reporting'!L666)","v":""},{"$f":"IF('Caseload Reporting'!M666 = \"\",\"\",'Caseload Reporting'!M666)","v":""},{"$f":"IF('Caseload Reporting'!N666 = \"\",\"\",'Caseload Reporting'!N666)","v":""},{"$f":"IF('Caseload Reporting'!P666 = \"\",\"\",'Caseload Reporting'!P666)","v":""},{"$f":"IF('Caseload Reporting'!O666 = \"\",\"\",'Caseload Reporting'!O666)","v":""},{"$f":"IF('Caseload Reporting'!Q666 = \"\",\"\",'Caseload Reporting'!Q666)","v":""},{"$f":"IF('Caseload Reporting'!R666 = \"\",\"\",'Caseload Reporting'!R666)","v":""},{"$f":"IF('Caseload Reporting'!E666 = \"\",\"\",'Caseload Reporting'!E666)","v":""},{"$f":"IF('Caseload Reporting'!S666 = \"\",\"\",'Caseload Reporting'!S666)","v":""}]
[{"$f":"IF('Caseload Reporting'!A667 = \"\",\"\",'Caseload Reporting'!A667)","v":""},{"$f":"IF('Caseload Reporting'!B667 = \"\",\"\",'Caseload Reporting'!B667)","v":""},{"$f":"IF('Caseload Reporting'!C667 = \"\",\"\",'Caseload Reporting'!C667)","v":""},{"$f":"IF('Caseload Reporting'!D667 = \"\",\"\",'Caseload Reporting'!D667)","v":""},{"$f":"IF('Caseload Reporting'!G667 = \"\",\"\",'Caseload Reporting'!G667)","v":""},{"$f":"IF('Caseload Reporting'!H667 = \"\",\"\",'Caseload Reporting'!H667)","v":""},{"$f":"IF('Caseload Reporting'!I667 = \"\",\"\",'Caseload Reporting'!I667)","v":""},{"$f":"IF('Caseload Reporting'!J667 = \"\",\"\",'Caseload Reporting'!J667)","v":""},{"$f":"IF('Caseload Reporting'!K667 = \"\",\"\",'Caseload Reporting'!K667)","v":""},{"$f":"IF('Caseload Reporting'!L667 = \"\",\"\",'Caseload Reporting'!L667)","v":""},{"$f":"IF('Caseload Reporting'!M667 = \"\",\"\",'Caseload Reporting'!M667)","v":""},{"$f":"IF('Caseload Reporting'!N667 = \"\",\"\",'Caseload Reporting'!N667)","v":""},{"$f":"IF('Caseload Reporting'!P667 = \"\",\"\",'Caseload Reporting'!P667)","v":""},{"$f":"IF('Caseload Reporting'!O667 = \"\",\"\",'Caseload Reporting'!O667)","v":""},{"$f":"IF('Caseload Reporting'!Q667 = \"\",\"\",'Caseload Reporting'!Q667)","v":""},{"$f":"IF('Caseload Reporting'!R667 = \"\",\"\",'Caseload Reporting'!R667)","v":""},{"$f":"IF('Caseload Reporting'!E667 = \"\",\"\",'Caseload Reporting'!E667)","v":""},{"$f":"IF('Caseload Reporting'!S667 = \"\",\"\",'Caseload Reporting'!S667)","v":""}]
[{"$f":"IF('Caseload Reporting'!A668 = \"\",\"\",'Caseload Reporting'!A668)","v":""},{"$f":"IF('Caseload Reporting'!B668 = \"\",\"\",'Caseload Reporting'!B668)","v":""},{"$f":"IF('Caseload Reporting'!C668 = \"\",\"\",'Caseload Reporting'!C668)","v":""},{"$f":"IF('Caseload Reporting'!D668 = \"\",\"\",'Caseload Reporting'!D668)","v":""},{"$f":"IF('Caseload Reporting'!G668 = \"\",\"\",'Caseload Reporting'!G668)","v":""},{"$f":"IF('Caseload Reporting'!H668 = \"\",\"\",'Caseload Reporting'!H668)","v":""},{"$f":"IF('Caseload Reporting'!I668 = \"\",\"\",'Caseload Reporting'!I668)","v":""},{"$f":"IF('Caseload Reporting'!J668 = \"\",\"\",'Caseload Reporting'!J668)","v":""},{"$f":"IF('Caseload Reporting'!K668 = \"\",\"\",'Caseload Reporting'!K668)","v":""},{"$f":"IF('Caseload Reporting'!L668 = \"\",\"\",'Caseload Reporting'!L668)","v":""},{"$f":"IF('Caseload Reporting'!M668 = \"\",\"\",'Caseload Reporting'!M668)","v":""},{"$f":"IF('Caseload Reporting'!N668 = \"\",\"\",'Caseload Reporting'!N668)","v":""},{"$f":"IF('Caseload Reporting'!P668 = \"\",\"\",'Caseload Reporting'!P668)","v":""},{"$f":"IF('Caseload Reporting'!O668 = \"\",\"\",'Caseload Reporting'!O668)","v":""},{"$f":"IF('Caseload Reporting'!Q668 = \"\",\"\",'Caseload Reporting'!Q668)","v":""},{"$f":"IF('Caseload Reporting'!R668 = \"\",\"\",'Caseload Reporting'!R668)","v":""},{"$f":"IF('Caseload Reporting'!E668 = \"\",\"\",'Caseload Reporting'!E668)","v":""},{"$f":"IF('Caseload Reporting'!S668 = \"\",\"\",'Caseload Reporting'!S668)","v":""}]
[{"$f":"IF('Caseload Reporting'!A669 = \"\",\"\",'Caseload Reporting'!A669)","v":""},{"$f":"IF('Caseload Reporting'!B669 = \"\",\"\",'Caseload Reporting'!B669)","v":""},{"$f":"IF('Caseload Reporting'!C669 = \"\",\"\",'Caseload Reporting'!C669)","v":""},{"$f":"IF('Caseload Reporting'!D669 = \"\",\"\",'Caseload Reporting'!D669)","v":""},{"$f":"IF('Caseload Reporting'!G669 = \"\",\"\",'Caseload Reporting'!G669)","v":""},{"$f":"IF('Caseload Reporting'!H669 = \"\",\"\",'Caseload Reporting'!H669)","v":""},{"$f":"IF('Caseload Reporting'!I669 = \"\",\"\",'Caseload Reporting'!I669)","v":""},{"$f":"IF('Caseload Reporting'!J669 = \"\",\"\",'Caseload Reporting'!J669)","v":""},{"$f":"IF('Caseload Reporting'!K669 = \"\",\"\",'Caseload Reporting'!K669)","v":""},{"$f":"IF('Caseload Reporting'!L669 = \"\",\"\",'Caseload Reporting'!L669)","v":""},{"$f":"IF('Caseload Reporting'!M669 = \"\",\"\",'Caseload Reporting'!M669)","v":""},{"$f":"IF('Caseload Reporting'!N669 = \"\",\"\",'Caseload Reporting'!N669)","v":""},{"$f":"IF('Caseload Reporting'!P669 = \"\",\"\",'Caseload Reporting'!P669)","v":""},{"$f":"IF('Caseload Reporting'!O669 = \"\",\"\",'Caseload Reporting'!O669)","v":""},{"$f":"IF('Caseload Reporting'!Q669 = \"\",\"\",'Caseload Reporting'!Q669)","v":""},{"$f":"IF('Caseload Reporting'!R669 = \"\",\"\",'Caseload Reporting'!R669)","v":""},{"$f":"IF('Caseload Reporting'!E669 = \"\",\"\",'Caseload Reporting'!E669)","v":""},{"$f":"IF('Caseload Reporting'!S669 = \"\",\"\",'Caseload Reporting'!S669)","v":""}]
[{"$f":"IF('Caseload Reporting'!A670 = \"\",\"\",'Caseload Reporting'!A670)","v":""},{"$f":"IF('Caseload Reporting'!B670 = \"\",\"\",'Caseload Reporting'!B670)","v":""},{"$f":"IF('Caseload Reporting'!C670 = \"\",\"\",'Caseload Reporting'!C670)","v":""},{"$f":"IF('Caseload Reporting'!D670 = \"\",\"\",'Caseload Reporting'!D670)","v":""},{"$f":"IF('Caseload Reporting'!G670 = \"\",\"\",'Caseload Reporting'!G670)","v":""},{"$f":"IF('Caseload Reporting'!H670 = \"\",\"\",'Caseload Reporting'!H670)","v":""},{"$f":"IF('Caseload Reporting'!I670 = \"\",\"\",'Caseload Reporting'!I670)","v":""},{"$f":"IF('Caseload Reporting'!J670 = \"\",\"\",'Caseload Reporting'!J670)","v":""},{"$f":"IF('Caseload Reporting'!K670 = \"\",\"\",'Caseload Reporting'!K670)","v":""},{"$f":"IF('Caseload Reporting'!L670 = \"\",\"\",'Caseload Reporting'!L670)","v":""},{"$f":"IF('Caseload Reporting'!M670 = \"\",\"\",'Caseload Reporting'!M670)","v":""},{"$f":"IF('Caseload Reporting'!N670 = \"\",\"\",'Caseload Reporting'!N670)","v":""},{"$f":"IF('Caseload Reporting'!P670 = \"\",\"\",'Caseload Reporting'!P670)","v":""},{"$f":"IF('Caseload Reporting'!O670 = \"\",\"\",'Caseload Reporting'!O670)","v":""},{"$f":"IF('Caseload Reporting'!Q670 = \"\",\"\",'Caseload Reporting'!Q670)","v":""},{"$f":"IF('Caseload Reporting'!R670 = \"\",\"\",'Caseload Reporting'!R670)","v":""},{"$f":"IF('Caseload Reporting'!E670 = \"\",\"\",'Caseload Reporting'!E670)","v":""},{"$f":"IF('Caseload Reporting'!S670 = \"\",\"\",'Caseload Reporting'!S670)","v":""}]
[{"$f":"IF('Caseload Reporting'!A671 = \"\",\"\",'Caseload Reporting'!A671)","v":""},{"$f":"IF('Caseload Reporting'!B671 = \"\",\"\",'Caseload Reporting'!B671)","v":""},{"$f":"IF('Caseload Reporting'!C671 = \"\",\"\",'Caseload Reporting'!C671)","v":""},{"$f":"IF('Caseload Reporting'!D671 = \"\",\"\",'Caseload Reporting'!D671)","v":""},{"$f":"IF('Caseload Reporting'!G671 = \"\",\"\",'Caseload Reporting'!G671)","v":""},{"$f":"IF('Caseload Reporting'!H671 = \"\",\"\",'Caseload Reporting'!H671)","v":""},{"$f":"IF('Caseload Reporting'!I671 = \"\",\"\",'Caseload Reporting'!I671)","v":""},{"$f":"IF('Caseload Reporting'!J671 = \"\",\"\",'Caseload Reporting'!J671)","v":""},{"$f":"IF('Caseload Reporting'!K671 = \"\",\"\",'Caseload Reporting'!K671)","v":""},{"$f":"IF('Caseload Reporting'!L671 = \"\",\"\",'Caseload Reporting'!L671)","v":""},{"$f":"IF('Caseload Reporting'!M671 = \"\",\"\",'Caseload Reporting'!M671)","v":""},{"$f":"IF('Caseload Reporting'!N671 = \"\",\"\",'Caseload Reporting'!N671)","v":""},{"$f":"IF('Caseload Reporting'!P671 = \"\",\"\",'Caseload Reporting'!P671)","v":""},{"$f":"IF('Caseload Reporting'!O671 = \"\",\"\",'Caseload Reporting'!O671)","v":""},{"$f":"IF('Caseload Reporting'!Q671 = \"\",\"\",'Caseload Reporting'!Q671)","v":""},{"$f":"IF('Caseload Reporting'!R671 = \"\",\"\",'Caseload Reporting'!R671)","v":""},{"$f":"IF('Caseload Reporting'!E671 = \"\",\"\",'Caseload Reporting'!E671)","v":""},{"$f":"IF('Caseload Reporting'!S671 = \"\",\"\",'Caseload Reporting'!S671)","v":""}]
[{"$f":"IF('Caseload Reporting'!A672 = \"\",\"\",'Caseload Reporting'!A672)","v":""},{"$f":"IF('Caseload Reporting'!B672 = \"\",\"\",'Caseload Reporting'!B672)","v":""},{"$f":"IF('Caseload Reporting'!C672 = \"\",\"\",'Caseload Reporting'!C672)","v":""},{"$f":"IF('Caseload Reporting'!D672 = \"\",\"\",'Caseload Reporting'!D672)","v":""},{"$f":"IF('Caseload Reporting'!G672 = \"\",\"\",'Caseload Reporting'!G672)","v":""},{"$f":"IF('Caseload Reporting'!H672 = \"\",\"\",'Caseload Reporting'!H672)","v":""},{"$f":"IF('Caseload Reporting'!I672 = \"\",\"\",'Caseload Reporting'!I672)","v":""},{"$f":"IF('Caseload Reporting'!J672 = \"\",\"\",'Caseload Reporting'!J672)","v":""},{"$f":"IF('Caseload Reporting'!K672 = \"\",\"\",'Caseload Reporting'!K672)","v":""},{"$f":"IF('Caseload Reporting'!L672 = \"\",\"\",'Caseload Reporting'!L672)","v":""},{"$f":"IF('Caseload Reporting'!M672 = \"\",\"\",'Caseload Reporting'!M672)","v":""},{"$f":"IF('Caseload Reporting'!N672 = \"\",\"\",'Caseload Reporting'!N672)","v":""},{"$f":"IF('Caseload Reporting'!P672 = \"\",\"\",'Caseload Reporting'!P672)","v":""},{"$f":"IF('Caseload Reporting'!O672 = \"\",\"\",'Caseload Reporting'!O672)","v":""},{"$f":"IF('Caseload Reporting'!Q672 = \"\",\"\",'Caseload Reporting'!Q672)","v":""},{"$f":"IF('Caseload Reporting'!R672 = \"\",\"\",'Caseload Reporting'!R672)","v":""},{"$f":"IF('Caseload Reporting'!E672 = \"\",\"\",'Caseload Reporting'!E672)","v":""},{"$f":"IF('Caseload Reporting'!S672 = \"\",\"\",'Caseload Reporting'!S672)","v":""}]
[{"$f":"IF('Caseload Reporting'!A673 = \"\",\"\",'Caseload Reporting'!A673)","v":""},{"$f":"IF('Caseload Reporting'!B673 = \"\",\"\",'Caseload Reporting'!B673)","v":""},{"$f":"IF('Caseload Reporting'!C673 = \"\",\"\",'Caseload Reporting'!C673)","v":""},{"$f":"IF('Caseload Reporting'!D673 = \"\",\"\",'Caseload Reporting'!D673)","v":""},{"$f":"IF('Caseload Reporting'!G673 = \"\",\"\",'Caseload Reporting'!G673)","v":""},{"$f":"IF('Caseload Reporting'!H673 = \"\",\"\",'Caseload Reporting'!H673)","v":""},{"$f":"IF('Caseload Reporting'!I673 = \"\",\"\",'Caseload Reporting'!I673)","v":""},{"$f":"IF('Caseload Reporting'!J673 = \"\",\"\",'Caseload Reporting'!J673)","v":""},{"$f":"IF('Caseload Reporting'!K673 = \"\",\"\",'Caseload Reporting'!K673)","v":""},{"$f":"IF('Caseload Reporting'!L673 = \"\",\"\",'Caseload Reporting'!L673)","v":""},{"$f":"IF('Caseload Reporting'!M673 = \"\",\"\",'Caseload Reporting'!M673)","v":""},{"$f":"IF('Caseload Reporting'!N673 = \"\",\"\",'Caseload Reporting'!N673)","v":""},{"$f":"IF('Caseload Reporting'!P673 = \"\",\"\",'Caseload Reporting'!P673)","v":""},{"$f":"IF('Caseload Reporting'!O673 = \"\",\"\",'Caseload Reporting'!O673)","v":""},{"$f":"IF('Caseload Reporting'!Q673 = \"\",\"\",'Caseload Reporting'!Q673)","v":""},{"$f":"IF('Caseload Reporting'!R673 = \"\",\"\",'Caseload Reporting'!R673)","v":""},{"$f":"IF('Caseload Reporting'!E673 = \"\",\"\",'Caseload Reporting'!E673)","v":""},{"$f":"IF('Caseload Reporting'!S673 = \"\",\"\",'Caseload Reporting'!S673)","v":""}]
[{"$f":"IF('Caseload Reporting'!A674 = \"\",\"\",'Caseload Reporting'!A674)","v":""},{"$f":"IF('Caseload Reporting'!B674 = \"\",\"\",'Caseload Reporting'!B674)","v":""},{"$f":"IF('Caseload Reporting'!C674 = \"\",\"\",'Caseload Reporting'!C674)","v":""},{"$f":"IF('Caseload Reporting'!D674 = \"\",\"\",'Caseload Reporting'!D674)","v":""},{"$f":"IF('Caseload Reporting'!G674 = \"\",\"\",'Caseload Reporting'!G674)","v":""},{"$f":"IF('Caseload Reporting'!H674 = \"\",\"\",'Caseload Reporting'!H674)","v":""},{"$f":"IF('Caseload Reporting'!I674 = \"\",\"\",'Caseload Reporting'!I674)","v":""},{"$f":"IF('Caseload Reporting'!J674 = \"\",\"\",'Caseload Reporting'!J674)","v":""},{"$f":"IF('Caseload Reporting'!K674 = \"\",\"\",'Caseload Reporting'!K674)","v":""},{"$f":"IF('Caseload Reporting'!L674 = \"\",\"\",'Caseload Reporting'!L674)","v":""},{"$f":"IF('Caseload Reporting'!M674 = \"\",\"\",'Caseload Reporting'!M674)","v":""},{"$f":"IF('Caseload Reporting'!N674 = \"\",\"\",'Caseload Reporting'!N674)","v":""},{"$f":"IF('Caseload Reporting'!P674 = \"\",\"\",'Caseload Reporting'!P674)","v":""},{"$f":"IF('Caseload Reporting'!O674 = \"\",\"\",'Caseload Reporting'!O674)","v":""},{"$f":"IF('Caseload Reporting'!Q674 = \"\",\"\",'Caseload Reporting'!Q674)","v":""},{"$f":"IF('Caseload Reporting'!R674 = \"\",\"\",'Caseload Reporting'!R674)","v":""},{"$f":"IF('Caseload Reporting'!E674 = \"\",\"\",'Caseload Reporting'!E674)","v":""},{"$f":"IF('Caseload Reporting'!S674 = \"\",\"\",'Caseload Reporting'!S674)","v":""}]
[{"$f":"IF('Caseload Reporting'!A675 = \"\",\"\",'Caseload Reporting'!A675)","v":""},{"$f":"IF('Caseload Reporting'!B675 = \"\",\"\",'Caseload Reporting'!B675)","v":""},{"$f":"IF('Caseload Reporting'!C675 = \"\",\"\",'Caseload Reporting'!C675)","v":""},{"$f":"IF('Caseload Reporting'!D675 = \"\",\"\",'Caseload Reporting'!D675)","v":""},{"$f":"IF('Caseload Reporting'!G675 = \"\",\"\",'Caseload Reporting'!G675)","v":""},{"$f":"IF('Caseload Reporting'!H675 = \"\",\"\",'Caseload Reporting'!H675)","v":""},{"$f":"IF('Caseload Reporting'!I675 = \"\",\"\",'Caseload Reporting'!I675)","v":""},{"$f":"IF('Caseload Reporting'!J675 = \"\",\"\",'Caseload Reporting'!J675)","v":""},{"$f":"IF('Caseload Reporting'!K675 = \"\",\"\",'Caseload Reporting'!K675)","v":""},{"$f":"IF('Caseload Reporting'!L675 = \"\",\"\",'Caseload Reporting'!L675)","v":""},{"$f":"IF('Caseload Reporting'!M675 = \"\",\"\",'Caseload Reporting'!M675)","v":""},{"$f":"IF('Caseload Reporting'!N675 = \"\",\"\",'Caseload Reporting'!N675)","v":""},{"$f":"IF('Caseload Reporting'!P675 = \"\",\"\",'Caseload Reporting'!P675)","v":""},{"$f":"IF('Caseload Reporting'!O675 = \"\",\"\",'Caseload Reporting'!O675)","v":""},{"$f":"IF('Caseload Reporting'!Q675 = \"\",\"\",'Caseload Reporting'!Q675)","v":""},{"$f":"IF('Caseload Reporting'!R675 = \"\",\"\",'Caseload Reporting'!R675)","v":""},{"$f":"IF('Caseload Reporting'!E675 = \"\",\"\",'Caseload Reporting'!E675)","v":""},{"$f":"IF('Caseload Reporting'!S675 = \"\",\"\",'Caseload Reporting'!S675)","v":""}]
[{"$f":"IF('Caseload Reporting'!A676 = \"\",\"\",'Caseload Reporting'!A676)","v":""},{"$f":"IF('Caseload Reporting'!B676 = \"\",\"\",'Caseload Reporting'!B676)","v":""},{"$f":"IF('Caseload Reporting'!C676 = \"\",\"\",'Caseload Reporting'!C676)","v":""},{"$f":"IF('Caseload Reporting'!D676 = \"\",\"\",'Caseload Reporting'!D676)","v":""},{"$f":"IF('Caseload Reporting'!G676 = \"\",\"\",'Caseload Reporting'!G676)","v":""},{"$f":"IF('Caseload Reporting'!H676 = \"\",\"\",'Caseload Reporting'!H676)","v":""},{"$f":"IF('Caseload Reporting'!I676 = \"\",\"\",'Caseload Reporting'!I676)","v":""},{"$f":"IF('Caseload Reporting'!J676 = \"\",\"\",'Caseload Reporting'!J676)","v":""},{"$f":"IF('Caseload Reporting'!K676 = \"\",\"\",'Caseload Reporting'!K676)","v":""},{"$f":"IF('Caseload Reporting'!L676 = \"\",\"\",'Caseload Reporting'!L676)","v":""},{"$f":"IF('Caseload Reporting'!M676 = \"\",\"\",'Caseload Reporting'!M676)","v":""},{"$f":"IF('Caseload Reporting'!N676 = \"\",\"\",'Caseload Reporting'!N676)","v":""},{"$f":"IF('Caseload Reporting'!P676 = \"\",\"\",'Caseload Reporting'!P676)","v":""},{"$f":"IF('Caseload Reporting'!O676 = \"\",\"\",'Caseload Reporting'!O676)","v":""},{"$f":"IF('Caseload Reporting'!Q676 = \"\",\"\",'Caseload Reporting'!Q676)","v":""},{"$f":"IF('Caseload Reporting'!R676 = \"\",\"\",'Caseload Reporting'!R676)","v":""},{"$f":"IF('Caseload Reporting'!E676 = \"\",\"\",'Caseload Reporting'!E676)","v":""},{"$f":"IF('Caseload Reporting'!S676 = \"\",\"\",'Caseload Reporting'!S676)","v":""}]
[{"$f":"IF('Caseload Reporting'!A677 = \"\",\"\",'Caseload Reporting'!A677)","v":""},{"$f":"IF('Caseload Reporting'!B677 = \"\",\"\",'Caseload Reporting'!B677)","v":""},{"$f":"IF('Caseload Reporting'!C677 = \"\",\"\",'Caseload Reporting'!C677)","v":""},{"$f":"IF('Caseload Reporting'!D677 = \"\",\"\",'Caseload Reporting'!D677)","v":""},{"$f":"IF('Caseload Reporting'!G677 = \"\",\"\",'Caseload Reporting'!G677)","v":""},{"$f":"IF('Caseload Reporting'!H677 = \"\",\"\",'Caseload Reporting'!H677)","v":""},{"$f":"IF('Caseload Reporting'!I677 = \"\",\"\",'Caseload Reporting'!I677)","v":""},{"$f":"IF('Caseload Reporting'!J677 = \"\",\"\",'Caseload Reporting'!J677)","v":""},{"$f":"IF('Caseload Reporting'!K677 = \"\",\"\",'Caseload Reporting'!K677)","v":""},{"$f":"IF('Caseload Reporting'!L677 = \"\",\"\",'Caseload Reporting'!L677)","v":""},{"$f":"IF('Caseload Reporting'!M677 = \"\",\"\",'Caseload Reporting'!M677)","v":""},{"$f":"IF('Caseload Reporting'!N677 = \"\",\"\",'Caseload Reporting'!N677)","v":""},{"$f":"IF('Caseload Reporting'!P677 = \"\",\"\",'Caseload Reporting'!P677)","v":""},{"$f":"IF('Caseload Reporting'!O677 = \"\",\"\",'Caseload Reporting'!O677)","v":""},{"$f":"IF('Caseload Reporting'!Q677 = \"\",\"\",'Caseload Reporting'!Q677)","v":""},{"$f":"IF('Caseload Reporting'!R677 = \"\",\"\",'Caseload Reporting'!R677)","v":""},{"$f":"IF('Caseload Reporting'!E677 = \"\",\"\",'Caseload Reporting'!E677)","v":""},{"$f":"IF('Caseload Reporting'!S677 = \"\",\"\",'Caseload Reporting'!S677)","v":""}]
[{"$f":"IF('Caseload Reporting'!A678 = \"\",\"\",'Caseload Reporting'!A678)","v":""},{"$f":"IF('Caseload Reporting'!B678 = \"\",\"\",'Caseload Reporting'!B678)","v":""},{"$f":"IF('Caseload Reporting'!C678 = \"\",\"\",'Caseload Reporting'!C678)","v":""},{"$f":"IF('Caseload Reporting'!D678 = \"\",\"\",'Caseload Reporting'!D678)","v":""},{"$f":"IF('Caseload Reporting'!G678 = \"\",\"\",'Caseload Reporting'!G678)","v":""},{"$f":"IF('Caseload Reporting'!H678 = \"\",\"\",'Caseload Reporting'!H678)","v":""},{"$f":"IF('Caseload Reporting'!I678 = \"\",\"\",'Caseload Reporting'!I678)","v":""},{"$f":"IF('Caseload Reporting'!J678 = \"\",\"\",'Caseload Reporting'!J678)","v":""},{"$f":"IF('Caseload Reporting'!K678 = \"\",\"\",'Caseload Reporting'!K678)","v":""},{"$f":"IF('Caseload Reporting'!L678 = \"\",\"\",'Caseload Reporting'!L678)","v":""},{"$f":"IF('Caseload Reporting'!M678 = \"\",\"\",'Caseload Reporting'!M678)","v":""},{"$f":"IF('Caseload Reporting'!N678 = \"\",\"\",'Caseload Reporting'!N678)","v":""},{"$f":"IF('Caseload Reporting'!P678 = \"\",\"\",'Caseload Reporting'!P678)","v":""},{"$f":"IF('Caseload Reporting'!O678 = \"\",\"\",'Caseload Reporting'!O678)","v":""},{"$f":"IF('Caseload Reporting'!Q678 = \"\",\"\",'Caseload Reporting'!Q678)","v":""},{"$f":"IF('Caseload Reporting'!R678 = \"\",\"\",'Caseload Reporting'!R678)","v":""},{"$f":"IF('Caseload Reporting'!E678 = \"\",\"\",'Caseload Reporting'!E678)","v":""},{"$f":"IF('Caseload Reporting'!S678 = \"\",\"\",'Caseload Reporting'!S678)","v":""}]
[{"$f":"IF('Caseload Reporting'!A679 = \"\",\"\",'Caseload Reporting'!A679)","v":""},{"$f":"IF('Caseload Reporting'!B679 = \"\",\"\",'Caseload Reporting'!B679)","v":""},{"$f":"IF('Caseload Reporting'!C679 = \"\",\"\",'Caseload Reporting'!C679)","v":""},{"$f":"IF('Caseload Reporting'!D679 = \"\",\"\",'Caseload Reporting'!D679)","v":""},{"$f":"IF('Caseload Reporting'!G679 = \"\",\"\",'Caseload Reporting'!G679)","v":""},{"$f":"IF('Caseload Reporting'!H679 = \"\",\"\",'Caseload Reporting'!H679)","v":""},{"$f":"IF('Caseload Reporting'!I679 = \"\",\"\",'Caseload Reporting'!I679)","v":""},{"$f":"IF('Caseload Reporting'!J679 = \"\",\"\",'Caseload Reporting'!J679)","v":""},{"$f":"IF('Caseload Reporting'!K679 = \"\",\"\",'Caseload Reporting'!K679)","v":""},{"$f":"IF('Caseload Reporting'!L679 = \"\",\"\",'Caseload Reporting'!L679)","v":""},{"$f":"IF('Caseload Reporting'!M679 = \"\",\"\",'Caseload Reporting'!M679)","v":""},{"$f":"IF('Caseload Reporting'!N679 = \"\",\"\",'Caseload Reporting'!N679)","v":""},{"$f":"IF('Caseload Reporting'!P679 = \"\",\"\",'Caseload Reporting'!P679)","v":""},{"$f":"IF('Caseload Reporting'!O679 = \"\",\"\",'Caseload Reporting'!O679)","v":""},{"$f":"IF('Caseload Reporting'!Q679 = \"\",\"\",'Caseload Reporting'!Q679)","v":""},{"$f":"IF('Caseload Reporting'!R679 = \"\",\"\",'Caseload Reporting'!R679)","v":""},{"$f":"IF('Caseload Reporting'!E679 = \"\",\"\",'Caseload Reporting'!E679)","v":""},{"$f":"IF('Caseload Reporting'!S679 = \"\",\"\",'Caseload Reporting'!S679)","v":""}]
[{"$f":"IF('Caseload Reporting'!A680 = \"\",\"\",'Caseload Reporting'!A680)","v":""},{"$f":"IF('Caseload Reporting'!B680 = \"\",\"\",'Caseload Reporting'!B680)","v":""},{"$f":"IF('Caseload Reporting'!C680 = \"\",\"\",'Caseload Reporting'!C680)","v":""},{"$f":"IF('Caseload Reporting'!D680 = \"\",\"\",'Caseload Reporting'!D680)","v":""},{"$f":"IF('Caseload Reporting'!G680 = \"\",\"\",'Caseload Reporting'!G680)","v":""},{"$f":"IF('Caseload Reporting'!H680 = \"\",\"\",'Caseload Reporting'!H680)","v":""},{"$f":"IF('Caseload Reporting'!I680 = \"\",\"\",'Caseload Reporting'!I680)","v":""},{"$f":"IF('Caseload Reporting'!J680 = \"\",\"\",'Caseload Reporting'!J680)","v":""},{"$f":"IF('Caseload Reporting'!K680 = \"\",\"\",'Caseload Reporting'!K680)","v":""},{"$f":"IF('Caseload Reporting'!L680 = \"\",\"\",'Caseload Reporting'!L680)","v":""},{"$f":"IF('Caseload Reporting'!M680 = \"\",\"\",'Caseload Reporting'!M680)","v":""},{"$f":"IF('Caseload Reporting'!N680 = \"\",\"\",'Caseload Reporting'!N680)","v":""},{"$f":"IF('Caseload Reporting'!P680 = \"\",\"\",'Caseload Reporting'!P680)","v":""},{"$f":"IF('Caseload Reporting'!O680 = \"\",\"\",'Caseload Reporting'!O680)","v":""},{"$f":"IF('Caseload Reporting'!Q680 = \"\",\"\",'Caseload Reporting'!Q680)","v":""},{"$f":"IF('Caseload Reporting'!R680 = \"\",\"\",'Caseload Reporting'!R680)","v":""},{"$f":"IF('Caseload Reporting'!E680 = \"\",\"\",'Caseload Reporting'!E680)","v":""},{"$f":"IF('Caseload Reporting'!S680 = \"\",\"\",'Caseload Reporting'!S680)","v":""}]
[{"$f":"IF('Caseload Reporting'!A681 = \"\",\"\",'Caseload Reporting'!A681)","v":""},{"$f":"IF('Caseload Reporting'!B681 = \"\",\"\",'Caseload Reporting'!B681)","v":""},{"$f":"IF('Caseload Reporting'!C681 = \"\",\"\",'Caseload Reporting'!C681)","v":""},{"$f":"IF('Caseload Reporting'!D681 = \"\",\"\",'Caseload Reporting'!D681)","v":""},{"$f":"IF('Caseload Reporting'!G681 = \"\",\"\",'Caseload Reporting'!G681)","v":""},{"$f":"IF('Caseload Reporting'!H681 = \"\",\"\",'Caseload Reporting'!H681)","v":""},{"$f":"IF('Caseload Reporting'!I681 = \"\",\"\",'Caseload Reporting'!I681)","v":""},{"$f":"IF('Caseload Reporting'!J681 = \"\",\"\",'Caseload Reporting'!J681)","v":""},{"$f":"IF('Caseload Reporting'!K681 = \"\",\"\",'Caseload Reporting'!K681)","v":""},{"$f":"IF('Caseload Reporting'!L681 = \"\",\"\",'Caseload Reporting'!L681)","v":""},{"$f":"IF('Caseload Reporting'!M681 = \"\",\"\",'Caseload Reporting'!M681)","v":""},{"$f":"IF('Caseload Reporting'!N681 = \"\",\"\",'Caseload Reporting'!N681)","v":""},{"$f":"IF('Caseload Reporting'!P681 = \"\",\"\",'Caseload Reporting'!P681)","v":""},{"$f":"IF('Caseload Reporting'!O681 = \"\",\"\",'Caseload Reporting'!O681)","v":""},{"$f":"IF('Caseload Reporting'!Q681 = \"\",\"\",'Caseload Reporting'!Q681)","v":""},{"$f":"IF('Caseload Reporting'!R681 = \"\",\"\",'Caseload Reporting'!R681)","v":""},{"$f":"IF('Caseload Reporting'!E681 = \"\",\"\",'Caseload Reporting'!E681)","v":""},{"$f":"IF('Caseload Reporting'!S681 = \"\",\"\",'Caseload Reporting'!S681)","v":""}]
[{"$f":"IF('Caseload Reporting'!A682 = \"\",\"\",'Caseload Reporting'!A682)","v":""},{"$f":"IF('Caseload Reporting'!B682 = \"\",\"\",'Caseload Reporting'!B682)","v":""},{"$f":"IF('Caseload Reporting'!C682 = \"\",\"\",'Caseload Reporting'!C682)","v":""},{"$f":"IF('Caseload Reporting'!D682 = \"\",\"\",'Caseload Reporting'!D682)","v":""},{"$f":"IF('Caseload Reporting'!G682 = \"\",\"\",'Caseload Reporting'!G682)","v":""},{"$f":"IF('Caseload Reporting'!H682 = \"\",\"\",'Caseload Reporting'!H682)","v":""},{"$f":"IF('Caseload Reporting'!I682 = \"\",\"\",'Caseload Reporting'!I682)","v":""},{"$f":"IF('Caseload Reporting'!J682 = \"\",\"\",'Caseload Reporting'!J682)","v":""},{"$f":"IF('Caseload Reporting'!K682 = \"\",\"\",'Caseload Reporting'!K682)","v":""},{"$f":"IF('Caseload Reporting'!L682 = \"\",\"\",'Caseload Reporting'!L682)","v":""},{"$f":"IF('Caseload Reporting'!M682 = \"\",\"\",'Caseload Reporting'!M682)","v":""},{"$f":"IF('Caseload Reporting'!N682 = \"\",\"\",'Caseload Reporting'!N682)","v":""},{"$f":"IF('Caseload Reporting'!P682 = \"\",\"\",'Caseload Reporting'!P682)","v":""},{"$f":"IF('Caseload Reporting'!O682 = \"\",\"\",'Caseload Reporting'!O682)","v":""},{"$f":"IF('Caseload Reporting'!Q682 = \"\",\"\",'Caseload Reporting'!Q682)","v":""},{"$f":"IF('Caseload Reporting'!R682 = \"\",\"\",'Caseload Reporting'!R682)","v":""},{"$f":"IF('Caseload Reporting'!E682 = \"\",\"\",'Caseload Reporting'!E682)","v":""},{"$f":"IF('Caseload Reporting'!S682 = \"\",\"\",'Caseload Reporting'!S682)","v":""}]
[{"$f":"IF('Caseload Reporting'!A683 = \"\",\"\",'Caseload Reporting'!A683)","v":""},{"$f":"IF('Caseload Reporting'!B683 = \"\",\"\",'Caseload Reporting'!B683)","v":""},{"$f":"IF('Caseload Reporting'!C683 = \"\",\"\",'Caseload Reporting'!C683)","v":""},{"$f":"IF('Caseload Reporting'!D683 = \"\",\"\",'Caseload Reporting'!D683)","v":""},{"$f":"IF('Caseload Reporting'!G683 = \"\",\"\",'Caseload Reporting'!G683)","v":""},{"$f":"IF('Caseload Reporting'!H683 = \"\",\"\",'Caseload Reporting'!H683)","v":""},{"$f":"IF('Caseload Reporting'!I683 = \"\",\"\",'Caseload Reporting'!I683)","v":""},{"$f":"IF('Caseload Reporting'!J683 = \"\",\"\",'Caseload Reporting'!J683)","v":""},{"$f":"IF('Caseload Reporting'!K683 = \"\",\"\",'Caseload Reporting'!K683)","v":""},{"$f":"IF('Caseload Reporting'!L683 = \"\",\"\",'Caseload Reporting'!L683)","v":""},{"$f":"IF('Caseload Reporting'!M683 = \"\",\"\",'Caseload Reporting'!M683)","v":""},{"$f":"IF('Caseload Reporting'!N683 = \"\",\"\",'Caseload Reporting'!N683)","v":""},{"$f":"IF('Caseload Reporting'!P683 = \"\",\"\",'Caseload Reporting'!P683)","v":""},{"$f":"IF('Caseload Reporting'!O683 = \"\",\"\",'Caseload Reporting'!O683)","v":""},{"$f":"IF('Caseload Reporting'!Q683 = \"\",\"\",'Caseload Reporting'!Q683)","v":""},{"$f":"IF('Caseload Reporting'!R683 = \"\",\"\",'Caseload Reporting'!R683)","v":""},{"$f":"IF('Caseload Reporting'!E683 = \"\",\"\",'Caseload Reporting'!E683)","v":""},{"$f":"IF('Caseload Reporting'!S683 = \"\",\"\",'Caseload Reporting'!S683)","v":""}]
[{"$f":"IF('Caseload Reporting'!A684 = \"\",\"\",'Caseload Reporting'!A684)","v":""},{"$f":"IF('Caseload Reporting'!B684 = \"\",\"\",'Caseload Reporting'!B684)","v":""},{"$f":"IF('Caseload Reporting'!C684 = \"\",\"\",'Caseload Reporting'!C684)","v":""},{"$f":"IF('Caseload Reporting'!D684 = \"\",\"\",'Caseload Reporting'!D684)","v":""},{"$f":"IF('Caseload Reporting'!G684 = \"\",\"\",'Caseload Reporting'!G684)","v":""},{"$f":"IF('Caseload Reporting'!H684 = \"\",\"\",'Caseload Reporting'!H684)","v":""},{"$f":"IF('Caseload Reporting'!I684 = \"\",\"\",'Caseload Reporting'!I684)","v":""},{"$f":"IF('Caseload Reporting'!J684 = \"\",\"\",'Caseload Reporting'!J684)","v":""},{"$f":"IF('Caseload Reporting'!K684 = \"\",\"\",'Caseload Reporting'!K684)","v":""},{"$f":"IF('Caseload Reporting'!L684 = \"\",\"\",'Caseload Reporting'!L684)","v":""},{"$f":"IF('Caseload Reporting'!M684 = \"\",\"\",'Caseload Reporting'!M684)","v":""},{"$f":"IF('Caseload Reporting'!N684 = \"\",\"\",'Caseload Reporting'!N684)","v":""},{"$f":"IF('Caseload Reporting'!P684 = \"\",\"\",'Caseload Reporting'!P684)","v":""},{"$f":"IF('Caseload Reporting'!O684 = \"\",\"\",'Caseload Reporting'!O684)","v":""},{"$f":"IF('Caseload Reporting'!Q684 = \"\",\"\",'Caseload Reporting'!Q684)","v":""},{"$f":"IF('Caseload Reporting'!R684 = \"\",\"\",'Caseload Reporting'!R684)","v":""},{"$f":"IF('Caseload Reporting'!E684 = \"\",\"\",'Caseload Reporting'!E684)","v":""},{"$f":"IF('Caseload Reporting'!S684 = \"\",\"\",'Caseload Reporting'!S684)","v":""}]
[{"$f":"IF('Caseload Reporting'!A685 = \"\",\"\",'Caseload Reporting'!A685)","v":""},{"$f":"IF('Caseload Reporting'!B685 = \"\",\"\",'Caseload Reporting'!B685)","v":""},{"$f":"IF('Caseload Reporting'!C685 = \"\",\"\",'Caseload Reporting'!C685)","v":""},{"$f":"IF('Caseload Reporting'!D685 = \"\",\"\",'Caseload Reporting'!D685)","v":""},{"$f":"IF('Caseload Reporting'!G685 = \"\",\"\",'Caseload Reporting'!G685)","v":""},{"$f":"IF('Caseload Reporting'!H685 = \"\",\"\",'Caseload Reporting'!H685)","v":""},{"$f":"IF('Caseload Reporting'!I685 = \"\",\"\",'Caseload Reporting'!I685)","v":""},{"$f":"IF('Caseload Reporting'!J685 = \"\",\"\",'Caseload Reporting'!J685)","v":""},{"$f":"IF('Caseload Reporting'!K685 = \"\",\"\",'Caseload Reporting'!K685)","v":""},{"$f":"IF('Caseload Reporting'!L685 = \"\",\"\",'Caseload Reporting'!L685)","v":""},{"$f":"IF('Caseload Reporting'!M685 = \"\",\"\",'Caseload Reporting'!M685)","v":""},{"$f":"IF('Caseload Reporting'!N685 = \"\",\"\",'Caseload Reporting'!N685)","v":""},{"$f":"IF('Caseload Reporting'!P685 = \"\",\"\",'Caseload Reporting'!P685)","v":""},{"$f":"IF('Caseload Reporting'!O685 = \"\",\"\",'Caseload Reporting'!O685)","v":""},{"$f":"IF('Caseload Reporting'!Q685 = \"\",\"\",'Caseload Reporting'!Q685)","v":""},{"$f":"IF('Caseload Reporting'!R685 = \"\",\"\",'Caseload Reporting'!R685)","v":""},{"$f":"IF('Caseload Reporting'!E685 = \"\",\"\",'Caseload Reporting'!E685)","v":""},{"$f":"IF('Caseload Reporting'!S685 = \"\",\"\",'Caseload Reporting'!S685)","v":""}]
[{"$f":"IF('Caseload Reporting'!A686 = \"\",\"\",'Caseload Reporting'!A686)","v":""},{"$f":"IF('Caseload Reporting'!B686 = \"\",\"\",'Caseload Reporting'!B686)","v":""},{"$f":"IF('Caseload Reporting'!C686 = \"\",\"\",'Caseload Reporting'!C686)","v":""},{"$f":"IF('Caseload Reporting'!D686 = \"\",\"\",'Caseload Reporting'!D686)","v":""},{"$f":"IF('Caseload Reporting'!G686 = \"\",\"\",'Caseload Reporting'!G686)","v":""},{"$f":"IF('Caseload Reporting'!H686 = \"\",\"\",'Caseload Reporting'!H686)","v":""},{"$f":"IF('Caseload Reporting'!I686 = \"\",\"\",'Caseload Reporting'!I686)","v":""},{"$f":"IF('Caseload Reporting'!J686 = \"\",\"\",'Caseload Reporting'!J686)","v":""},{"$f":"IF('Caseload Reporting'!K686 = \"\",\"\",'Caseload Reporting'!K686)","v":""},{"$f":"IF('Caseload Reporting'!L686 = \"\",\"\",'Caseload Reporting'!L686)","v":""},{"$f":"IF('Caseload Reporting'!M686 = \"\",\"\",'Caseload Reporting'!M686)","v":""},{"$f":"IF('Caseload Reporting'!N686 = \"\",\"\",'Caseload Reporting'!N686)","v":""},{"$f":"IF('Caseload Reporting'!P686 = \"\",\"\",'Caseload Reporting'!P686)","v":""},{"$f":"IF('Caseload Reporting'!O686 = \"\",\"\",'Caseload Reporting'!O686)","v":""},{"$f":"IF('Caseload Reporting'!Q686 = \"\",\"\",'Caseload Reporting'!Q686)","v":""},{"$f":"IF('Caseload Reporting'!R686 = \"\",\"\",'Caseload Reporting'!R686)","v":""},{"$f":"IF('Caseload Reporting'!E686 = \"\",\"\",'Caseload Reporting'!E686)","v":""},{"$f":"IF('Caseload Reporting'!S686 = \"\",\"\",'Caseload Reporting'!S686)","v":""}]
[{"$f":"IF('Caseload Reporting'!A687 = \"\",\"\",'Caseload Reporting'!A687)","v":""},{"$f":"IF('Caseload Reporting'!B687 = \"\",\"\",'Caseload Reporting'!B687)","v":""},{"$f":"IF('Caseload Reporting'!C687 = \"\",\"\",'Caseload Reporting'!C687)","v":""},{"$f":"IF('Caseload Reporting'!D687 = \"\",\"\",'Caseload Reporting'!D687)","v":""},{"$f":"IF('Caseload Reporting'!G687 = \"\",\"\",'Caseload Reporting'!G687)","v":""},{"$f":"IF('Caseload Reporting'!H687 = \"\",\"\",'Caseload Reporting'!H687)","v":""},{"$f":"IF('Caseload Reporting'!I687 = \"\",\"\",'Caseload Reporting'!I687)","v":""},{"$f":"IF('Caseload Reporting'!J687 = \"\",\"\",'Caseload Reporting'!J687)","v":""},{"$f":"IF('Caseload Reporting'!K687 = \"\",\"\",'Caseload Reporting'!K687)","v":""},{"$f":"IF('Caseload Reporting'!L687 = \"\",\"\",'Caseload Reporting'!L687)","v":""},{"$f":"IF('Caseload Reporting'!M687 = \"\",\"\",'Caseload Reporting'!M687)","v":""},{"$f":"IF('Caseload Reporting'!N687 = \"\",\"\",'Caseload Reporting'!N687)","v":""},{"$f":"IF('Caseload Reporting'!P687 = \"\",\"\",'Caseload Reporting'!P687)","v":""},{"$f":"IF('Caseload Reporting'!O687 = \"\",\"\",'Caseload Reporting'!O687)","v":""},{"$f":"IF('Caseload Reporting'!Q687 = \"\",\"\",'Caseload Reporting'!Q687)","v":""},{"$f":"IF('Caseload Reporting'!R687 = \"\",\"\",'Caseload Reporting'!R687)","v":""},{"$f":"IF('Caseload Reporting'!E687 = \"\",\"\",'Caseload Reporting'!E687)","v":""},{"$f":"IF('Caseload Reporting'!S687 = \"\",\"\",'Caseload Reporting'!S687)","v":""}]
[{"$f":"IF('Caseload Reporting'!A688 = \"\",\"\",'Caseload Reporting'!A688)","v":""},{"$f":"IF('Caseload Reporting'!B688 = \"\",\"\",'Caseload Reporting'!B688)","v":""},{"$f":"IF('Caseload Reporting'!C688 = \"\",\"\",'Caseload Reporting'!C688)","v":""},{"$f":"IF('Caseload Reporting'!D688 = \"\",\"\",'Caseload Reporting'!D688)","v":""},{"$f":"IF('Caseload Reporting'!G688 = \"\",\"\",'Caseload Reporting'!G688)","v":""},{"$f":"IF('Caseload Reporting'!H688 = \"\",\"\",'Caseload Reporting'!H688)","v":""},{"$f":"IF('Caseload Reporting'!I688 = \"\",\"\",'Caseload Reporting'!I688)","v":""},{"$f":"IF('Caseload Reporting'!J688 = \"\",\"\",'Caseload Reporting'!J688)","v":""},{"$f":"IF('Caseload Reporting'!K688 = \"\",\"\",'Caseload Reporting'!K688)","v":""},{"$f":"IF('Caseload Reporting'!L688 = \"\",\"\",'Caseload Reporting'!L688)","v":""},{"$f":"IF('Caseload Reporting'!M688 = \"\",\"\",'Caseload Reporting'!M688)","v":""},{"$f":"IF('Caseload Reporting'!N688 = \"\",\"\",'Caseload Reporting'!N688)","v":""},{"$f":"IF('Caseload Reporting'!P688 = \"\",\"\",'Caseload Reporting'!P688)","v":""},{"$f":"IF('Caseload Reporting'!O688 = \"\",\"\",'Caseload Reporting'!O688)","v":""},{"$f":"IF('Caseload Reporting'!Q688 = \"\",\"\",'Caseload Reporting'!Q688)","v":""},{"$f":"IF('Caseload Reporting'!R688 = \"\",\"\",'Caseload Reporting'!R688)","v":""},{"$f":"IF('Caseload Reporting'!E688 = \"\",\"\",'Caseload Reporting'!E688)","v":""},{"$f":"IF('Caseload Reporting'!S688 = \"\",\"\",'Caseload Reporting'!S688)","v":""}]
[{"$f":"IF('Caseload Reporting'!A689 = \"\",\"\",'Caseload Reporting'!A689)","v":""},{"$f":"IF('Caseload Reporting'!B689 = \"\",\"\",'Caseload Reporting'!B689)","v":""},{"$f":"IF('Caseload Reporting'!C689 = \"\",\"\",'Caseload Reporting'!C689)","v":""},{"$f":"IF('Caseload Reporting'!D689 = \"\",\"\",'Caseload Reporting'!D689)","v":""},{"$f":"IF('Caseload Reporting'!G689 = \"\",\"\",'Caseload Reporting'!G689)","v":""},{"$f":"IF('Caseload Reporting'!H689 = \"\",\"\",'Caseload Reporting'!H689)","v":""},{"$f":"IF('Caseload Reporting'!I689 = \"\",\"\",'Caseload Reporting'!I689)","v":""},{"$f":"IF('Caseload Reporting'!J689 = \"\",\"\",'Caseload Reporting'!J689)","v":""},{"$f":"IF('Caseload Reporting'!K689 = \"\",\"\",'Caseload Reporting'!K689)","v":""},{"$f":"IF('Caseload Reporting'!L689 = \"\",\"\",'Caseload Reporting'!L689)","v":""},{"$f":"IF('Caseload Reporting'!M689 = \"\",\"\",'Caseload Reporting'!M689)","v":""},{"$f":"IF('Caseload Reporting'!N689 = \"\",\"\",'Caseload Reporting'!N689)","v":""},{"$f":"IF('Caseload Reporting'!P689 = \"\",\"\",'Caseload Reporting'!P689)","v":""},{"$f":"IF('Caseload Reporting'!O689 = \"\",\"\",'Caseload Reporting'!O689)","v":""},{"$f":"IF('Caseload Reporting'!Q689 = \"\",\"\",'Caseload Reporting'!Q689)","v":""},{"$f":"IF('Caseload Reporting'!R689 = \"\",\"\",'Caseload Reporting'!R689)","v":""},{"$f":"IF('Caseload Reporting'!E689 = \"\",\"\",'Caseload Reporting'!E689)","v":""},{"$f":"IF('Caseload Reporting'!S689 = \"\",\"\",'Caseload Reporting'!S689)","v":""}]
[{"$f":"IF('Caseload Reporting'!A690 = \"\",\"\",'Caseload Reporting'!A690)","v":""},{"$f":"IF('Caseload Reporting'!B690 = \"\",\"\",'Caseload Reporting'!B690)","v":""},{"$f":"IF('Caseload Reporting'!C690 = \"\",\"\",'Caseload Reporting'!C690)","v":""},{"$f":"IF('Caseload Reporting'!D690 = \"\",\"\",'Caseload Reporting'!D690)","v":""},{"$f":"IF('Caseload Reporting'!G690 = \"\",\"\",'Caseload Reporting'!G690)","v":""},{"$f":"IF('Caseload Reporting'!H690 = \"\",\"\",'Caseload Reporting'!H690)","v":""},{"$f":"IF('Caseload Reporting'!I690 = \"\",\"\",'Caseload Reporting'!I690)","v":""},{"$f":"IF('Caseload Reporting'!J690 = \"\",\"\",'Caseload Reporting'!J690)","v":""},{"$f":"IF('Caseload Reporting'!K690 = \"\",\"\",'Caseload Reporting'!K690)","v":""},{"$f":"IF('Caseload Reporting'!L690 = \"\",\"\",'Caseload Reporting'!L690)","v":""},{"$f":"IF('Caseload Reporting'!M690 = \"\",\"\",'Caseload Reporting'!M690)","v":""},{"$f":"IF('Caseload Reporting'!N690 = \"\",\"\",'Caseload Reporting'!N690)","v":""},{"$f":"IF('Caseload Reporting'!P690 = \"\",\"\",'Caseload Reporting'!P690)","v":""},{"$f":"IF('Caseload Reporting'!O690 = \"\",\"\",'Caseload Reporting'!O690)","v":""},{"$f":"IF('Caseload Reporting'!Q690 = \"\",\"\",'Caseload Reporting'!Q690)","v":""},{"$f":"IF('Caseload Reporting'!R690 = \"\",\"\",'Caseload Reporting'!R690)","v":""},{"$f":"IF('Caseload Reporting'!E690 = \"\",\"\",'Caseload Reporting'!E690)","v":""},{"$f":"IF('Caseload Reporting'!S690 = \"\",\"\",'Caseload Reporting'!S690)","v":""}]
[{"$f":"IF('Caseload Reporting'!A691 = \"\",\"\",'Caseload Reporting'!A691)","v":""},{"$f":"IF('Caseload Reporting'!B691 = \"\",\"\",'Caseload Reporting'!B691)","v":""},{"$f":"IF('Caseload Reporting'!C691 = \"\",\"\",'Caseload Reporting'!C691)","v":""},{"$f":"IF('Caseload Reporting'!D691 = \"\",\"\",'Caseload Reporting'!D691)","v":""},{"$f":"IF('Caseload Reporting'!G691 = \"\",\"\",'Caseload Reporting'!G691)","v":""},{"$f":"IF('Caseload Reporting'!H691 = \"\",\"\",'Caseload Reporting'!H691)","v":""},{"$f":"IF('Caseload Reporting'!I691 = \"\",\"\",'Caseload Reporting'!I691)","v":""},{"$f":"IF('Caseload Reporting'!J691 = \"\",\"\",'Caseload Reporting'!J691)","v":""},{"$f":"IF('Caseload Reporting'!K691 = \"\",\"\",'Caseload Reporting'!K691)","v":""},{"$f":"IF('Caseload Reporting'!L691 = \"\",\"\",'Caseload Reporting'!L691)","v":""},{"$f":"IF('Caseload Reporting'!M691 = \"\",\"\",'Caseload Reporting'!M691)","v":""},{"$f":"IF('Caseload Reporting'!N691 = \"\",\"\",'Caseload Reporting'!N691)","v":""},{"$f":"IF('Caseload Reporting'!P691 = \"\",\"\",'Caseload Reporting'!P691)","v":""},{"$f":"IF('Caseload Reporting'!O691 = \"\",\"\",'Caseload Reporting'!O691)","v":""},{"$f":"IF('Caseload Reporting'!Q691 = \"\",\"\",'Caseload Reporting'!Q691)","v":""},{"$f":"IF('Caseload Reporting'!R691 = \"\",\"\",'Caseload Reporting'!R691)","v":""},{"$f":"IF('Caseload Reporting'!E691 = \"\",\"\",'Caseload Reporting'!E691)","v":""},{"$f":"IF('Caseload Reporting'!S691 = \"\",\"\",'Caseload Reporting'!S691)","v":""}]
[{"$f":"IF('Caseload Reporting'!A692 = \"\",\"\",'Caseload Reporting'!A692)","v":""},{"$f":"IF('Caseload Reporting'!B692 = \"\",\"\",'Caseload Reporting'!B692)","v":""},{"$f":"IF('Caseload Reporting'!C692 = \"\",\"\",'Caseload Reporting'!C692)","v":""},{"$f":"IF('Caseload Reporting'!D692 = \"\",\"\",'Caseload Reporting'!D692)","v":""},{"$f":"IF('Caseload Reporting'!G692 = \"\",\"\",'Caseload Reporting'!G692)","v":""},{"$f":"IF('Caseload Reporting'!H692 = \"\",\"\",'Caseload Reporting'!H692)","v":""},{"$f":"IF('Caseload Reporting'!I692 = \"\",\"\",'Caseload Reporting'!I692)","v":""},{"$f":"IF('Caseload Reporting'!J692 = \"\",\"\",'Caseload Reporting'!J692)","v":""},{"$f":"IF('Caseload Reporting'!K692 = \"\",\"\",'Caseload Reporting'!K692)","v":""},{"$f":"IF('Caseload Reporting'!L692 = \"\",\"\",'Caseload Reporting'!L692)","v":""},{"$f":"IF('Caseload Reporting'!M692 = \"\",\"\",'Caseload Reporting'!M692)","v":""},{"$f":"IF('Caseload Reporting'!N692 = \"\",\"\",'Caseload Reporting'!N692)","v":""},{"$f":"IF('Caseload Reporting'!P692 = \"\",\"\",'Caseload Reporting'!P692)","v":""},{"$f":"IF('Caseload Reporting'!O692 = \"\",\"\",'Caseload Reporting'!O692)","v":""},{"$f":"IF('Caseload Reporting'!Q692 = \"\",\"\",'Caseload Reporting'!Q692)","v":""},{"$f":"IF('Caseload Reporting'!R692 = \"\",\"\",'Caseload Reporting'!R692)","v":""},{"$f":"IF('Caseload Reporting'!E692 = \"\",\"\",'Caseload Reporting'!E692)","v":""},{"$f":"IF('Caseload Reporting'!S692 = \"\",\"\",'Caseload Reporting'!S692)","v":""}]
[{"$f":"IF('Caseload Reporting'!A693 = \"\",\"\",'Caseload Reporting'!A693)","v":""},{"$f":"IF('Caseload Reporting'!B693 = \"\",\"\",'Caseload Reporting'!B693)","v":""},{"$f":"IF('Caseload Reporting'!C693 = \"\",\"\",'Caseload Reporting'!C693)","v":""},{"$f":"IF('Caseload Reporting'!D693 = \"\",\"\",'Caseload Reporting'!D693)","v":""},{"$f":"IF('Caseload Reporting'!G693 = \"\",\"\",'Caseload Reporting'!G693)","v":""},{"$f":"IF('Caseload Reporting'!H693 = \"\",\"\",'Caseload Reporting'!H693)","v":""},{"$f":"IF('Caseload Reporting'!I693 = \"\",\"\",'Caseload Reporting'!I693)","v":""},{"$f":"IF('Caseload Reporting'!J693 = \"\",\"\",'Caseload Reporting'!J693)","v":""},{"$f":"IF('Caseload Reporting'!K693 = \"\",\"\",'Caseload Reporting'!K693)","v":""},{"$f":"IF('Caseload Reporting'!L693 = \"\",\"\",'Caseload Reporting'!L693)","v":""},{"$f":"IF('Caseload Reporting'!M693 = \"\",\"\",'Caseload Reporting'!M693)","v":""},{"$f":"IF('Caseload Reporting'!N693 = \"\",\"\",'Caseload Reporting'!N693)","v":""},{"$f":"IF('Caseload Reporting'!P693 = \"\",\"\",'Caseload Reporting'!P693)","v":""},{"$f":"IF('Caseload Reporting'!O693 = \"\",\"\",'Caseload Reporting'!O693)","v":""},{"$f":"IF('Caseload Reporting'!Q693 = \"\",\"\",'Caseload Reporting'!Q693)","v":""},{"$f":"IF('Caseload Reporting'!R693 = \"\",\"\",'Caseload Reporting'!R693)","v":""},{"$f":"IF('Caseload Reporting'!E693 = \"\",\"\",'Caseload Reporting'!E693)","v":""},{"$f":"IF('Caseload Reporting'!S693 = \"\",\"\",'Caseload Reporting'!S693)","v":""}]
[{"$f":"IF('Caseload Reporting'!A694 = \"\",\"\",'Caseload Reporting'!A694)","v":""},{"$f":"IF('Caseload Reporting'!B694 = \"\",\"\",'Caseload Reporting'!B694)","v":""},{"$f":"IF('Caseload Reporting'!C694 = \"\",\"\",'Caseload Reporting'!C694)","v":""},{"$f":"IF('Caseload Reporting'!D694 = \"\",\"\",'Caseload Reporting'!D694)","v":""},{"$f":"IF('Caseload Reporting'!G694 = \"\",\"\",'Caseload Reporting'!G694)","v":""},{"$f":"IF('Caseload Reporting'!H694 = \"\",\"\",'Caseload Reporting'!H694)","v":""},{"$f":"IF('Caseload Reporting'!I694 = \"\",\"\",'Caseload Reporting'!I694)","v":""},{"$f":"IF('Caseload Reporting'!J694 = \"\",\"\",'Caseload Reporting'!J694)","v":""},{"$f":"IF('Caseload Reporting'!K694 = \"\",\"\",'Caseload Reporting'!K694)","v":""},{"$f":"IF('Caseload Reporting'!L694 = \"\",\"\",'Caseload Reporting'!L694)","v":""},{"$f":"IF('Caseload Reporting'!M694 = \"\",\"\",'Caseload Reporting'!M694)","v":""},{"$f":"IF('Caseload Reporting'!N694 = \"\",\"\",'Caseload Reporting'!N694)","v":""},{"$f":"IF('Caseload Reporting'!P694 = \"\",\"\",'Caseload Reporting'!P694)","v":""},{"$f":"IF('Caseload Reporting'!O694 = \"\",\"\",'Caseload Reporting'!O694)","v":""},{"$f":"IF('Caseload Reporting'!Q694 = \"\",\"\",'Caseload Reporting'!Q694)","v":""},{"$f":"IF('Caseload Reporting'!R694 = \"\",\"\",'Caseload Reporting'!R694)","v":""},{"$f":"IF('Caseload Reporting'!E694 = \"\",\"\",'Caseload Reporting'!E694)","v":""},{"$f":"IF('Caseload Reporting'!S694 = \"\",\"\",'Caseload Reporting'!S694)","v":""}]
[{"$f":"IF('Caseload Reporting'!A695 = \"\",\"\",'Caseload Reporting'!A695)","v":""},{"$f":"IF('Caseload Reporting'!B695 = \"\",\"\",'Caseload Reporting'!B695)","v":""},{"$f":"IF('Caseload Reporting'!C695 = \"\",\"\",'Caseload Reporting'!C695)","v":""},{"$f":"IF('Caseload Reporting'!D695 = \"\",\"\",'Caseload Reporting'!D695)","v":""},{"$f":"IF('Caseload Reporting'!G695 = \"\",\"\",'Caseload Reporting'!G695)","v":""},{"$f":"IF('Caseload Reporting'!H695 = \"\",\"\",'Caseload Reporting'!H695)","v":""},{"$f":"IF('Caseload Reporting'!I695 = \"\",\"\",'Caseload Reporting'!I695)","v":""},{"$f":"IF('Caseload Reporting'!J695 = \"\",\"\",'Caseload Reporting'!J695)","v":""},{"$f":"IF('Caseload Reporting'!K695 = \"\",\"\",'Caseload Reporting'!K695)","v":""},{"$f":"IF('Caseload Reporting'!L695 = \"\",\"\",'Caseload Reporting'!L695)","v":""},{"$f":"IF('Caseload Reporting'!M695 = \"\",\"\",'Caseload Reporting'!M695)","v":""},{"$f":"IF('Caseload Reporting'!N695 = \"\",\"\",'Caseload Reporting'!N695)","v":""},{"$f":"IF('Caseload Reporting'!P695 = \"\",\"\",'Caseload Reporting'!P695)","v":""},{"$f":"IF('Caseload Reporting'!O695 = \"\",\"\",'Caseload Reporting'!O695)","v":""},{"$f":"IF('Caseload Reporting'!Q695 = \"\",\"\",'Caseload Reporting'!Q695)","v":""},{"$f":"IF('Caseload Reporting'!R695 = \"\",\"\",'Caseload Reporting'!R695)","v":""},{"$f":"IF('Caseload Reporting'!E695 = \"\",\"\",'Caseload Reporting'!E695)","v":""},{"$f":"IF('Caseload Reporting'!S695 = \"\",\"\",'Caseload Reporting'!S695)","v":""}]
[{"$f":"IF('Caseload Reporting'!A696 = \"\",\"\",'Caseload Reporting'!A696)","v":""},{"$f":"IF('Caseload Reporting'!B696 = \"\",\"\",'Caseload Reporting'!B696)","v":""},{"$f":"IF('Caseload Reporting'!C696 = \"\",\"\",'Caseload Reporting'!C696)","v":""},{"$f":"IF('Caseload Reporting'!D696 = \"\",\"\",'Caseload Reporting'!D696)","v":""},{"$f":"IF('Caseload Reporting'!G696 = \"\",\"\",'Caseload Reporting'!G696)","v":""},{"$f":"IF('Caseload Reporting'!H696 = \"\",\"\",'Caseload Reporting'!H696)","v":""},{"$f":"IF('Caseload Reporting'!I696 = \"\",\"\",'Caseload Reporting'!I696)","v":""},{"$f":"IF('Caseload Reporting'!J696 = \"\",\"\",'Caseload Reporting'!J696)","v":""},{"$f":"IF('Caseload Reporting'!K696 = \"\",\"\",'Caseload Reporting'!K696)","v":""},{"$f":"IF('Caseload Reporting'!L696 = \"\",\"\",'Caseload Reporting'!L696)","v":""},{"$f":"IF('Caseload Reporting'!M696 = \"\",\"\",'Caseload Reporting'!M696)","v":""},{"$f":"IF('Caseload Reporting'!N696 = \"\",\"\",'Caseload Reporting'!N696)","v":""},{"$f":"IF('Caseload Reporting'!P696 = \"\",\"\",'Caseload Reporting'!P696)","v":""},{"$f":"IF('Caseload Reporting'!O696 = \"\",\"\",'Caseload Reporting'!O696)","v":""},{"$f":"IF('Caseload Reporting'!Q696 = \"\",\"\",'Caseload Reporting'!Q696)","v":""},{"$f":"IF('Caseload Reporting'!R696 = \"\",\"\",'Caseload Reporting'!R696)","v":""},{"$f":"IF('Caseload Reporting'!E696 = \"\",\"\",'Caseload Reporting'!E696)","v":""},{"$f":"IF('Caseload Reporting'!S696 = \"\",\"\",'Caseload Reporting'!S696)","v":""}]
[{"$f":"IF('Caseload Reporting'!A697 = \"\",\"\",'Caseload Reporting'!A697)","v":""},{"$f":"IF('Caseload Reporting'!B697 = \"\",\"\",'Caseload Reporting'!B697)","v":""},{"$f":"IF('Caseload Reporting'!C697 = \"\",\"\",'Caseload Reporting'!C697)","v":""},{"$f":"IF('Caseload Reporting'!D697 = \"\",\"\",'Caseload Reporting'!D697)","v":""},{"$f":"IF('Caseload Reporting'!G697 = \"\",\"\",'Caseload Reporting'!G697)","v":""},{"$f":"IF('Caseload Reporting'!H697 = \"\",\"\",'Caseload Reporting'!H697)","v":""},{"$f":"IF('Caseload Reporting'!I697 = \"\",\"\",'Caseload Reporting'!I697)","v":""},{"$f":"IF('Caseload Reporting'!J697 = \"\",\"\",'Caseload Reporting'!J697)","v":""},{"$f":"IF('Caseload Reporting'!K697 = \"\",\"\",'Caseload Reporting'!K697)","v":""},{"$f":"IF('Caseload Reporting'!L697 = \"\",\"\",'Caseload Reporting'!L697)","v":""},{"$f":"IF('Caseload Reporting'!M697 = \"\",\"\",'Caseload Reporting'!M697)","v":""},{"$f":"IF('Caseload Reporting'!N697 = \"\",\"\",'Caseload Reporting'!N697)","v":""},{"$f":"IF('Caseload Reporting'!P697 = \"\",\"\",'Caseload Reporting'!P697)","v":""},{"$f":"IF('Caseload Reporting'!O697 = \"\",\"\",'Caseload Reporting'!O697)","v":""},{"$f":"IF('Caseload Reporting'!Q697 = \"\",\"\",'Caseload Reporting'!Q697)","v":""},{"$f":"IF('Caseload Reporting'!R697 = \"\",\"\",'Caseload Reporting'!R697)","v":""},{"$f":"IF('Caseload Reporting'!E697 = \"\",\"\",'Caseload Reporting'!E697)","v":""},{"$f":"IF('Caseload Reporting'!S697 = \"\",\"\",'Caseload Reporting'!S697)","v":""}]
[{"$f":"IF('Caseload Reporting'!A698 = \"\",\"\",'Caseload Reporting'!A698)","v":""},{"$f":"IF('Caseload Reporting'!B698 = \"\",\"\",'Caseload Reporting'!B698)","v":""},{"$f":"IF('Caseload Reporting'!C698 = \"\",\"\",'Caseload Reporting'!C698)","v":""},{"$f":"IF('Caseload Reporting'!D698 = \"\",\"\",'Caseload Reporting'!D698)","v":""},{"$f":"IF('Caseload Reporting'!G698 = \"\",\"\",'Caseload Reporting'!G698)","v":""},{"$f":"IF('Caseload Reporting'!H698 = \"\",\"\",'Caseload Reporting'!H698)","v":""},{"$f":"IF('Caseload Reporting'!I698 = \"\",\"\",'Caseload Reporting'!I698)","v":""},{"$f":"IF('Caseload Reporting'!J698 = \"\",\"\",'Caseload Reporting'!J698)","v":""},{"$f":"IF('Caseload Reporting'!K698 = \"\",\"\",'Caseload Reporting'!K698)","v":""},{"$f":"IF('Caseload Reporting'!L698 = \"\",\"\",'Caseload Reporting'!L698)","v":""},{"$f":"IF('Caseload Reporting'!M698 = \"\",\"\",'Caseload Reporting'!M698)","v":""},{"$f":"IF('Caseload Reporting'!N698 = \"\",\"\",'Caseload Reporting'!N698)","v":""},{"$f":"IF('Caseload Reporting'!P698 = \"\",\"\",'Caseload Reporting'!P698)","v":""},{"$f":"IF('Caseload Reporting'!O698 = \"\",\"\",'Caseload Reporting'!O698)","v":""},{"$f":"IF('Caseload Reporting'!Q698 = \"\",\"\",'Caseload Reporting'!Q698)","v":""},{"$f":"IF('Caseload Reporting'!R698 = \"\",\"\",'Caseload Reporting'!R698)","v":""},{"$f":"IF('Caseload Reporting'!E698 = \"\",\"\",'Caseload Reporting'!E698)","v":""},{"$f":"IF('Caseload Reporting'!S698 = \"\",\"\",'Caseload Reporting'!S698)","v":""}]
[{"$f":"IF('Caseload Reporting'!A699 = \"\",\"\",'Caseload Reporting'!A699)","v":""},{"$f":"IF('Caseload Reporting'!B699 = \"\",\"\",'Caseload Reporting'!B699)","v":""},{"$f":"IF('Caseload Reporting'!C699 = \"\",\"\",'Caseload Reporting'!C699)","v":""},{"$f":"IF('Caseload Reporting'!D699 = \"\",\"\",'Caseload Reporting'!D699)","v":""},{"$f":"IF('Caseload Reporting'!G699 = \"\",\"\",'Caseload Reporting'!G699)","v":""},{"$f":"IF('Caseload Reporting'!H699 = \"\",\"\",'Caseload Reporting'!H699)","v":""},{"$f":"IF('Caseload Reporting'!I699 = \"\",\"\",'Caseload Reporting'!I699)","v":""},{"$f":"IF('Caseload Reporting'!J699 = \"\",\"\",'Caseload Reporting'!J699)","v":""},{"$f":"IF('Caseload Reporting'!K699 = \"\",\"\",'Caseload Reporting'!K699)","v":""},{"$f":"IF('Caseload Reporting'!L699 = \"\",\"\",'Caseload Reporting'!L699)","v":""},{"$f":"IF('Caseload Reporting'!M699 = \"\",\"\",'Caseload Reporting'!M699)","v":""},{"$f":"IF('Caseload Reporting'!N699 = \"\",\"\",'Caseload Reporting'!N699)","v":""},{"$f":"IF('Caseload Reporting'!P699 = \"\",\"\",'Caseload Reporting'!P699)","v":""},{"$f":"IF('Caseload Reporting'!O699 = \"\",\"\",'Caseload Reporting'!O699)","v":""},{"$f":"IF('Caseload Reporting'!Q699 = \"\",\"\",'Caseload Reporting'!Q699)","v":""},{"$f":"IF('Caseload Reporting'!R699 = \"\",\"\",'Caseload Reporting'!R699)","v":""},{"$f":"IF('Caseload Reporting'!E699 = \"\",\"\",'Caseload Reporting'!E699)","v":""},{"$f":"IF('Caseload Reporting'!S699 = \"\",\"\",'Caseload Reporting'!S699)","v":""}]
[{"$f":"IF('Caseload Reporting'!A700 = \"\",\"\",'Caseload Reporting'!A700)","v":""},{"$f":"IF('Caseload Reporting'!B700 = \"\",\"\",'Caseload Reporting'!B700)","v":""},{"$f":"IF('Caseload Reporting'!C700 = \"\",\"\",'Caseload Reporting'!C700)","v":""},{"$f":"IF('Caseload Reporting'!D700 = \"\",\"\",'Caseload Reporting'!D700)","v":""},{"$f":"IF('Caseload Reporting'!G700 = \"\",\"\",'Caseload Reporting'!G700)","v":""},{"$f":"IF('Caseload Reporting'!H700 = \"\",\"\",'Caseload Reporting'!H700)","v":""},{"$f":"IF('Caseload Reporting'!I700 = \"\",\"\",'Caseload Reporting'!I700)","v":""},{"$f":"IF('Caseload Reporting'!J700 = \"\",\"\",'Caseload Reporting'!J700)","v":""},{"$f":"IF('Caseload Reporting'!K700 = \"\",\"\",'Caseload Reporting'!K700)","v":""},{"$f":"IF('Caseload Reporting'!L700 = \"\",\"\",'Caseload Reporting'!L700)","v":""},{"$f":"IF('Caseload Reporting'!M700 = \"\",\"\",'Caseload Reporting'!M700)","v":""},{"$f":"IF('Caseload Reporting'!N700 = \"\",\"\",'Caseload Reporting'!N700)","v":""},{"$f":"IF('Caseload Reporting'!P700 = \"\",\"\",'Caseload Reporting'!P700)","v":""},{"$f":"IF('Caseload Reporting'!O700 = \"\",\"\",'Caseload Reporting'!O700)","v":""},{"$f":"IF('Caseload Reporting'!Q700 = \"\",\"\",'Caseload Reporting'!Q700)","v":""},{"$f":"IF('Caseload Reporting'!R700 = \"\",\"\",'Caseload Reporting'!R700)","v":""},{"$f":"IF('Caseload Reporting'!E700 = \"\",\"\",'Caseload Reporting'!E700)","v":""},{"$f":"IF('Caseload Reporting'!S700 = \"\",\"\",'Caseload Reporting'!S700)","v":""}]
[{"$f":"IF('Caseload Reporting'!A701 = \"\",\"\",'Caseload Reporting'!A701)","v":""},{"$f":"IF('Caseload Reporting'!B701 = \"\",\"\",'Caseload Reporting'!B701)","v":""},{"$f":"IF('Caseload Reporting'!C701 = \"\",\"\",'Caseload Reporting'!C701)","v":""},{"$f":"IF('Caseload Reporting'!D701 = \"\",\"\",'Caseload Reporting'!D701)","v":""},{"$f":"IF('Caseload Reporting'!G701 = \"\",\"\",'Caseload Reporting'!G701)","v":""},{"$f":"IF('Caseload Reporting'!H701 = \"\",\"\",'Caseload Reporting'!H701)","v":""},{"$f":"IF('Caseload Reporting'!I701 = \"\",\"\",'Caseload Reporting'!I701)","v":""},{"$f":"IF('Caseload Reporting'!J701 = \"\",\"\",'Caseload Reporting'!J701)","v":""},{"$f":"IF('Caseload Reporting'!K701 = \"\",\"\",'Caseload Reporting'!K701)","v":""},{"$f":"IF('Caseload Reporting'!L701 = \"\",\"\",'Caseload Reporting'!L701)","v":""},{"$f":"IF('Caseload Reporting'!M701 = \"\",\"\",'Caseload Reporting'!M701)","v":""},{"$f":"IF('Caseload Reporting'!N701 = \"\",\"\",'Caseload Reporting'!N701)","v":""},{"$f":"IF('Caseload Reporting'!P701 = \"\",\"\",'Caseload Reporting'!P701)","v":""},{"$f":"IF('Caseload Reporting'!O701 = \"\",\"\",'Caseload Reporting'!O701)","v":""},{"$f":"IF('Caseload Reporting'!Q701 = \"\",\"\",'Caseload Reporting'!Q701)","v":""},{"$f":"IF('Caseload Reporting'!R701 = \"\",\"\",'Caseload Reporting'!R701)","v":""},{"$f":"IF('Caseload Reporting'!E701 = \"\",\"\",'Caseload Reporting'!E701)","v":""},{"$f":"IF('Caseload Reporting'!S701 = \"\",\"\",'Caseload Reporting'!S701)","v":""}]
[{"$f":"IF('Caseload Reporting'!A702 = \"\",\"\",'Caseload Reporting'!A702)","v":""},{"$f":"IF('Caseload Reporting'!B702 = \"\",\"\",'Caseload Reporting'!B702)","v":""},{"$f":"IF('Caseload Reporting'!C702 = \"\",\"\",'Caseload Reporting'!C702)","v":""},{"$f":"IF('Caseload Reporting'!D702 = \"\",\"\",'Caseload Reporting'!D702)","v":""},{"$f":"IF('Caseload Reporting'!G702 = \"\",\"\",'Caseload Reporting'!G702)","v":""},{"$f":"IF('Caseload Reporting'!H702 = \"\",\"\",'Caseload Reporting'!H702)","v":""},{"$f":"IF('Caseload Reporting'!I702 = \"\",\"\",'Caseload Reporting'!I702)","v":""},{"$f":"IF('Caseload Reporting'!J702 = \"\",\"\",'Caseload Reporting'!J702)","v":""},{"$f":"IF('Caseload Reporting'!K702 = \"\",\"\",'Caseload Reporting'!K702)","v":""},{"$f":"IF('Caseload Reporting'!L702 = \"\",\"\",'Caseload Reporting'!L702)","v":""},{"$f":"IF('Caseload Reporting'!M702 = \"\",\"\",'Caseload Reporting'!M702)","v":""},{"$f":"IF('Caseload Reporting'!N702 = \"\",\"\",'Caseload Reporting'!N702)","v":""},{"$f":"IF('Caseload Reporting'!P702 = \"\",\"\",'Caseload Reporting'!P702)","v":""},{"$f":"IF('Caseload Reporting'!O702 = \"\",\"\",'Caseload Reporting'!O702)","v":""},{"$f":"IF('Caseload Reporting'!Q702 = \"\",\"\",'Caseload Reporting'!Q702)","v":""},{"$f":"IF('Caseload Reporting'!R702 = \"\",\"\",'Caseload Reporting'!R702)","v":""},{"$f":"IF('Caseload Reporting'!E702 = \"\",\"\",'Caseload Reporting'!E702)","v":""},{"$f":"IF('Caseload Reporting'!S702 = \"\",\"\",'Caseload Reporting'!S702)","v":""}]
[{"$f":"IF('Caseload Reporting'!A703 = \"\",\"\",'Caseload Reporting'!A703)","v":""},{"$f":"IF('Caseload Reporting'!B703 = \"\",\"\",'Caseload Reporting'!B703)","v":""},{"$f":"IF('Caseload Reporting'!C703 = \"\",\"\",'Caseload Reporting'!C703)","v":""},{"$f":"IF('Caseload Reporting'!D703 = \"\",\"\",'Caseload Reporting'!D703)","v":""},{"$f":"IF('Caseload Reporting'!G703 = \"\",\"\",'Caseload Reporting'!G703)","v":""},{"$f":"IF('Caseload Reporting'!H703 = \"\",\"\",'Caseload Reporting'!H703)","v":""},{"$f":"IF('Caseload Reporting'!I703 = \"\",\"\",'Caseload Reporting'!I703)","v":""},{"$f":"IF('Caseload Reporting'!J703 = \"\",\"\",'Caseload Reporting'!J703)","v":""},{"$f":"IF('Caseload Reporting'!K703 = \"\",\"\",'Caseload Reporting'!K703)","v":""},{"$f":"IF('Caseload Reporting'!L703 = \"\",\"\",'Caseload Reporting'!L703)","v":""},{"$f":"IF('Caseload Reporting'!M703 = \"\",\"\",'Caseload Reporting'!M703)","v":""},{"$f":"IF('Caseload Reporting'!N703 = \"\",\"\",'Caseload Reporting'!N703)","v":""},{"$f":"IF('Caseload Reporting'!P703 = \"\",\"\",'Caseload Reporting'!P703)","v":""},{"$f":"IF('Caseload Reporting'!O703 = \"\",\"\",'Caseload Reporting'!O703)","v":""},{"$f":"IF('Caseload Reporting'!Q703 = \"\",\"\",'Caseload Reporting'!Q703)","v":""},{"$f":"IF('Caseload Reporting'!R703 = \"\",\"\",'Caseload Reporting'!R703)","v":""},{"$f":"IF('Caseload Reporting'!E703 = \"\",\"\",'Caseload Reporting'!E703)","v":""},{"$f":"IF('Caseload Reporting'!S703 = \"\",\"\",'Caseload Reporting'!S703)","v":""}]
[{"$f":"IF('Caseload Reporting'!A704 = \"\",\"\",'Caseload Reporting'!A704)","v":""},{"$f":"IF('Caseload Reporting'!B704 = \"\",\"\",'Caseload Reporting'!B704)","v":""},{"$f":"IF('Caseload Reporting'!C704 = \"\",\"\",'Caseload Reporting'!C704)","v":""},{"$f":"IF('Caseload Reporting'!D704 = \"\",\"\",'Caseload Reporting'!D704)","v":""},{"$f":"IF('Caseload Reporting'!G704 = \"\",\"\",'Caseload Reporting'!G704)","v":""},{"$f":"IF('Caseload Reporting'!H704 = \"\",\"\",'Caseload Reporting'!H704)","v":""},{"$f":"IF('Caseload Reporting'!I704 = \"\",\"\",'Caseload Reporting'!I704)","v":""},{"$f":"IF('Caseload Reporting'!J704 = \"\",\"\",'Caseload Reporting'!J704)","v":""},{"$f":"IF('Caseload Reporting'!K704 = \"\",\"\",'Caseload Reporting'!K704)","v":""},{"$f":"IF('Caseload Reporting'!L704 = \"\",\"\",'Caseload Reporting'!L704)","v":""},{"$f":"IF('Caseload Reporting'!M704 = \"\",\"\",'Caseload Reporting'!M704)","v":""},{"$f":"IF('Caseload Reporting'!N704 = \"\",\"\",'Caseload Reporting'!N704)","v":""},{"$f":"IF('Caseload Reporting'!P704 = \"\",\"\",'Caseload Reporting'!P704)","v":""},{"$f":"IF('Caseload Reporting'!O704 = \"\",\"\",'Caseload Reporting'!O704)","v":""},{"$f":"IF('Caseload Reporting'!Q704 = \"\",\"\",'Caseload Reporting'!Q704)","v":""},{"$f":"IF('Caseload Reporting'!R704 = \"\",\"\",'Caseload Reporting'!R704)","v":""},{"$f":"IF('Caseload Reporting'!E704 = \"\",\"\",'Caseload Reporting'!E704)","v":""},{"$f":"IF('Caseload Reporting'!S704 = \"\",\"\",'Caseload Reporting'!S704)","v":""}]
[{"$f":"IF('Caseload Reporting'!A705 = \"\",\"\",'Caseload Reporting'!A705)","v":""},{"$f":"IF('Caseload Reporting'!B705 = \"\",\"\",'Caseload Reporting'!B705)","v":""},{"$f":"IF('Caseload Reporting'!C705 = \"\",\"\",'Caseload Reporting'!C705)","v":""},{"$f":"IF('Caseload Reporting'!D705 = \"\",\"\",'Caseload Reporting'!D705)","v":""},{"$f":"IF('Caseload Reporting'!G705 = \"\",\"\",'Caseload Reporting'!G705)","v":""},{"$f":"IF('Caseload Reporting'!H705 = \"\",\"\",'Caseload Reporting'!H705)","v":""},{"$f":"IF('Caseload Reporting'!I705 = \"\",\"\",'Caseload Reporting'!I705)","v":""},{"$f":"IF('Caseload Reporting'!J705 = \"\",\"\",'Caseload Reporting'!J705)","v":""},{"$f":"IF('Caseload Reporting'!K705 = \"\",\"\",'Caseload Reporting'!K705)","v":""},{"$f":"IF('Caseload Reporting'!L705 = \"\",\"\",'Caseload Reporting'!L705)","v":""},{"$f":"IF('Caseload Reporting'!M705 = \"\",\"\",'Caseload Reporting'!M705)","v":""},{"$f":"IF('Caseload Reporting'!N705 = \"\",\"\",'Caseload Reporting'!N705)","v":""},{"$f":"IF('Caseload Reporting'!P705 = \"\",\"\",'Caseload Reporting'!P705)","v":""},{"$f":"IF('Caseload Reporting'!O705 = \"\",\"\",'Caseload Reporting'!O705)","v":""},{"$f":"IF('Caseload Reporting'!Q705 = \"\",\"\",'Caseload Reporting'!Q705)","v":""},{"$f":"IF('Caseload Reporting'!R705 = \"\",\"\",'Caseload Reporting'!R705)","v":""},{"$f":"IF('Caseload Reporting'!E705 = \"\",\"\",'Caseload Reporting'!E705)","v":""},{"$f":"IF('Caseload Reporting'!S705 = \"\",\"\",'Caseload Reporting'!S705)","v":""}]
[{"$f":"IF('Caseload Reporting'!A706 = \"\",\"\",'Caseload Reporting'!A706)","v":""},{"$f":"IF('Caseload Reporting'!B706 = \"\",\"\",'Caseload Reporting'!B706)","v":""},{"$f":"IF('Caseload Reporting'!C706 = \"\",\"\",'Caseload Reporting'!C706)","v":""},{"$f":"IF('Caseload Reporting'!D706 = \"\",\"\",'Caseload Reporting'!D706)","v":""},{"$f":"IF('Caseload Reporting'!G706 = \"\",\"\",'Caseload Reporting'!G706)","v":""},{"$f":"IF('Caseload Reporting'!H706 = \"\",\"\",'Caseload Reporting'!H706)","v":""},{"$f":"IF('Caseload Reporting'!I706 = \"\",\"\",'Caseload Reporting'!I706)","v":""},{"$f":"IF('Caseload Reporting'!J706 = \"\",\"\",'Caseload Reporting'!J706)","v":""},{"$f":"IF('Caseload Reporting'!K706 = \"\",\"\",'Caseload Reporting'!K706)","v":""},{"$f":"IF('Caseload Reporting'!L706 = \"\",\"\",'Caseload Reporting'!L706)","v":""},{"$f":"IF('Caseload Reporting'!M706 = \"\",\"\",'Caseload Reporting'!M706)","v":""},{"$f":"IF('Caseload Reporting'!N706 = \"\",\"\",'Caseload Reporting'!N706)","v":""},{"$f":"IF('Caseload Reporting'!P706 = \"\",\"\",'Caseload Reporting'!P706)","v":""},{"$f":"IF('Caseload Reporting'!O706 = \"\",\"\",'Caseload Reporting'!O706)","v":""},{"$f":"IF('Caseload Reporting'!Q706 = \"\",\"\",'Caseload Reporting'!Q706)","v":""},{"$f":"IF('Caseload Reporting'!R706 = \"\",\"\",'Caseload Reporting'!R706)","v":""},{"$f":"IF('Caseload Reporting'!E706 = \"\",\"\",'Caseload Reporting'!E706)","v":""},{"$f":"IF('Caseload Reporting'!S706 = \"\",\"\",'Caseload Reporting'!S706)","v":""}]
[{"$f":"IF('Caseload Reporting'!A707 = \"\",\"\",'Caseload Reporting'!A707)","v":""},{"$f":"IF('Caseload Reporting'!B707 = \"\",\"\",'Caseload Reporting'!B707)","v":""},{"$f":"IF('Caseload Reporting'!C707 = \"\",\"\",'Caseload Reporting'!C707)","v":""},{"$f":"IF('Caseload Reporting'!D707 = \"\",\"\",'Caseload Reporting'!D707)","v":""},{"$f":"IF('Caseload Reporting'!G707 = \"\",\"\",'Caseload Reporting'!G707)","v":""},{"$f":"IF('Caseload Reporting'!H707 = \"\",\"\",'Caseload Reporting'!H707)","v":""},{"$f":"IF('Caseload Reporting'!I707 = \"\",\"\",'Caseload Reporting'!I707)","v":""},{"$f":"IF('Caseload Reporting'!J707 = \"\",\"\",'Caseload Reporting'!J707)","v":""},{"$f":"IF('Caseload Reporting'!K707 = \"\",\"\",'Caseload Reporting'!K707)","v":""},{"$f":"IF('Caseload Reporting'!L707 = \"\",\"\",'Caseload Reporting'!L707)","v":""},{"$f":"IF('Caseload Reporting'!M707 = \"\",\"\",'Caseload Reporting'!M707)","v":""},{"$f":"IF('Caseload Reporting'!N707 = \"\",\"\",'Caseload Reporting'!N707)","v":""},{"$f":"IF('Caseload Reporting'!P707 = \"\",\"\",'Caseload Reporting'!P707)","v":""},{"$f":"IF('Caseload Reporting'!O707 = \"\",\"\",'Caseload Reporting'!O707)","v":""},{"$f":"IF('Caseload Reporting'!Q707 = \"\",\"\",'Caseload Reporting'!Q707)","v":""},{"$f":"IF('Caseload Reporting'!R707 = \"\",\"\",'Caseload Reporting'!R707)","v":""},{"$f":"IF('Caseload Reporting'!E707 = \"\",\"\",'Caseload Reporting'!E707)","v":""},{"$f":"IF('Caseload Reporting'!S707 = \"\",\"\",'Caseload Reporting'!S707)","v":""}]
[{"$f":"IF('Caseload Reporting'!A708 = \"\",\"\",'Caseload Reporting'!A708)","v":""},{"$f":"IF('Caseload Reporting'!B708 = \"\",\"\",'Caseload Reporting'!B708)","v":""},{"$f":"IF('Caseload Reporting'!C708 = \"\",\"\",'Caseload Reporting'!C708)","v":""},{"$f":"IF('Caseload Reporting'!D708 = \"\",\"\",'Caseload Reporting'!D708)","v":""},{"$f":"IF('Caseload Reporting'!G708 = \"\",\"\",'Caseload Reporting'!G708)","v":""},{"$f":"IF('Caseload Reporting'!H708 = \"\",\"\",'Caseload Reporting'!H708)","v":""},{"$f":"IF('Caseload Reporting'!I708 = \"\",\"\",'Caseload Reporting'!I708)","v":""},{"$f":"IF('Caseload Reporting'!J708 = \"\",\"\",'Caseload Reporting'!J708)","v":""},{"$f":"IF('Caseload Reporting'!K708 = \"\",\"\",'Caseload Reporting'!K708)","v":""},{"$f":"IF('Caseload Reporting'!L708 = \"\",\"\",'Caseload Reporting'!L708)","v":""},{"$f":"IF('Caseload Reporting'!M708 = \"\",\"\",'Caseload Reporting'!M708)","v":""},{"$f":"IF('Caseload Reporting'!N708 = \"\",\"\",'Caseload Reporting'!N708)","v":""},{"$f":"IF('Caseload Reporting'!P708 = \"\",\"\",'Caseload Reporting'!P708)","v":""},{"$f":"IF('Caseload Reporting'!O708 = \"\",\"\",'Caseload Reporting'!O708)","v":""},{"$f":"IF('Caseload Reporting'!Q708 = \"\",\"\",'Caseload Reporting'!Q708)","v":""},{"$f":"IF('Caseload Reporting'!R708 = \"\",\"\",'Caseload Reporting'!R708)","v":""},{"$f":"IF('Caseload Reporting'!E708 = \"\",\"\",'Caseload Reporting'!E708)","v":""},{"$f":"IF('Caseload Reporting'!S708 = \"\",\"\",'Caseload Reporting'!S708)","v":""}]
[{"$f":"IF('Caseload Reporting'!A709 = \"\",\"\",'Caseload Reporting'!A709)","v":""},{"$f":"IF('Caseload Reporting'!B709 = \"\",\"\",'Caseload Reporting'!B709)","v":""},{"$f":"IF('Caseload Reporting'!C709 = \"\",\"\",'Caseload Reporting'!C709)","v":""},{"$f":"IF('Caseload Reporting'!D709 = \"\",\"\",'Caseload Reporting'!D709)","v":""},{"$f":"IF('Caseload Reporting'!G709 = \"\",\"\",'Caseload Reporting'!G709)","v":""},{"$f":"IF('Caseload Reporting'!H709 = \"\",\"\",'Caseload Reporting'!H709)","v":""},{"$f":"IF('Caseload Reporting'!I709 = \"\",\"\",'Caseload Reporting'!I709)","v":""},{"$f":"IF('Caseload Reporting'!J709 = \"\",\"\",'Caseload Reporting'!J709)","v":""},{"$f":"IF('Caseload Reporting'!K709 = \"\",\"\",'Caseload Reporting'!K709)","v":""},{"$f":"IF('Caseload Reporting'!L709 = \"\",\"\",'Caseload Reporting'!L709)","v":""},{"$f":"IF('Caseload Reporting'!M709 = \"\",\"\",'Caseload Reporting'!M709)","v":""},{"$f":"IF('Caseload Reporting'!N709 = \"\",\"\",'Caseload Reporting'!N709)","v":""},{"$f":"IF('Caseload Reporting'!P709 = \"\",\"\",'Caseload Reporting'!P709)","v":""},{"$f":"IF('Caseload Reporting'!O709 = \"\",\"\",'Caseload Reporting'!O709)","v":""},{"$f":"IF('Caseload Reporting'!Q709 = \"\",\"\",'Caseload Reporting'!Q709)","v":""},{"$f":"IF('Caseload Reporting'!R709 = \"\",\"\",'Caseload Reporting'!R709)","v":""},{"$f":"IF('Caseload Reporting'!E709 = \"\",\"\",'Caseload Reporting'!E709)","v":""},{"$f":"IF('Caseload Reporting'!S709 = \"\",\"\",'Caseload Reporting'!S709)","v":""}]
[{"$f":"IF('Caseload Reporting'!A710 = \"\",\"\",'Caseload Reporting'!A710)","v":""},{"$f":"IF('Caseload Reporting'!B710 = \"\",\"\",'Caseload Reporting'!B710)","v":""},{"$f":"IF('Caseload Reporting'!C710 = \"\",\"\",'Caseload Reporting'!C710)","v":""},{"$f":"IF('Caseload Reporting'!D710 = \"\",\"\",'Caseload Reporting'!D710)","v":""},{"$f":"IF('Caseload Reporting'!G710 = \"\",\"\",'Caseload Reporting'!G710)","v":""},{"$f":"IF('Caseload Reporting'!H710 = \"\",\"\",'Caseload Reporting'!H710)","v":""},{"$f":"IF('Caseload Reporting'!I710 = \"\",\"\",'Caseload Reporting'!I710)","v":""},{"$f":"IF('Caseload Reporting'!J710 = \"\",\"\",'Caseload Reporting'!J710)","v":""},{"$f":"IF('Caseload Reporting'!K710 = \"\",\"\",'Caseload Reporting'!K710)","v":""},{"$f":"IF('Caseload Reporting'!L710 = \"\",\"\",'Caseload Reporting'!L710)","v":""},{"$f":"IF('Caseload Reporting'!M710 = \"\",\"\",'Caseload Reporting'!M710)","v":""},{"$f":"IF('Caseload Reporting'!N710 = \"\",\"\",'Caseload Reporting'!N710)","v":""},{"$f":"IF('Caseload Reporting'!P710 = \"\",\"\",'Caseload Reporting'!P710)","v":""},{"$f":"IF('Caseload Reporting'!O710 = \"\",\"\",'Caseload Reporting'!O710)","v":""},{"$f":"IF('Caseload Reporting'!Q710 = \"\",\"\",'Caseload Reporting'!Q710)","v":""},{"$f":"IF('Caseload Reporting'!R710 = \"\",\"\",'Caseload Reporting'!R710)","v":""},{"$f":"IF('Caseload Reporting'!E710 = \"\",\"\",'Caseload Reporting'!E710)","v":""},{"$f":"IF('Caseload Reporting'!S710 = \"\",\"\",'Caseload Reporting'!S710)","v":""}]
[{"$f":"IF('Caseload Reporting'!A711 = \"\",\"\",'Caseload Reporting'!A711)","v":""},{"$f":"IF('Caseload Reporting'!B711 = \"\",\"\",'Caseload Reporting'!B711)","v":""},{"$f":"IF('Caseload Reporting'!C711 = \"\",\"\",'Caseload Reporting'!C711)","v":""},{"$f":"IF('Caseload Reporting'!D711 = \"\",\"\",'Caseload Reporting'!D711)","v":""},{"$f":"IF('Caseload Reporting'!G711 = \"\",\"\",'Caseload Reporting'!G711)","v":""},{"$f":"IF('Caseload Reporting'!H711 = \"\",\"\",'Caseload Reporting'!H711)","v":""},{"$f":"IF('Caseload Reporting'!I711 = \"\",\"\",'Caseload Reporting'!I711)","v":""},{"$f":"IF('Caseload Reporting'!J711 = \"\",\"\",'Caseload Reporting'!J711)","v":""},{"$f":"IF('Caseload Reporting'!K711 = \"\",\"\",'Caseload Reporting'!K711)","v":""},{"$f":"IF('Caseload Reporting'!L711 = \"\",\"\",'Caseload Reporting'!L711)","v":""},{"$f":"IF('Caseload Reporting'!M711 = \"\",\"\",'Caseload Reporting'!M711)","v":""},{"$f":"IF('Caseload Reporting'!N711 = \"\",\"\",'Caseload Reporting'!N711)","v":""},{"$f":"IF('Caseload Reporting'!P711 = \"\",\"\",'Caseload Reporting'!P711)","v":""},{"$f":"IF('Caseload Reporting'!O711 = \"\",\"\",'Caseload Reporting'!O711)","v":""},{"$f":"IF('Caseload Reporting'!Q711 = \"\",\"\",'Caseload Reporting'!Q711)","v":""},{"$f":"IF('Caseload Reporting'!R711 = \"\",\"\",'Caseload Reporting'!R711)","v":""},{"$f":"IF('Caseload Reporting'!E711 = \"\",\"\",'Caseload Reporting'!E711)","v":""},{"$f":"IF('Caseload Reporting'!S711 = \"\",\"\",'Caseload Reporting'!S711)","v":""}]
[{"$f":"IF('Caseload Reporting'!A712 = \"\",\"\",'Caseload Reporting'!A712)","v":""},{"$f":"IF('Caseload Reporting'!B712 = \"\",\"\",'Caseload Reporting'!B712)","v":""},{"$f":"IF('Caseload Reporting'!C712 = \"\",\"\",'Caseload Reporting'!C712)","v":""},{"$f":"IF('Caseload Reporting'!D712 = \"\",\"\",'Caseload Reporting'!D712)","v":""},{"$f":"IF('Caseload Reporting'!G712 = \"\",\"\",'Caseload Reporting'!G712)","v":""},{"$f":"IF('Caseload Reporting'!H712 = \"\",\"\",'Caseload Reporting'!H712)","v":""},{"$f":"IF('Caseload Reporting'!I712 = \"\",\"\",'Caseload Reporting'!I712)","v":""},{"$f":"IF('Caseload Reporting'!J712 = \"\",\"\",'Caseload Reporting'!J712)","v":""},{"$f":"IF('Caseload Reporting'!K712 = \"\",\"\",'Caseload Reporting'!K712)","v":""},{"$f":"IF('Caseload Reporting'!L712 = \"\",\"\",'Caseload Reporting'!L712)","v":""},{"$f":"IF('Caseload Reporting'!M712 = \"\",\"\",'Caseload Reporting'!M712)","v":""},{"$f":"IF('Caseload Reporting'!N712 = \"\",\"\",'Caseload Reporting'!N712)","v":""},{"$f":"IF('Caseload Reporting'!P712 = \"\",\"\",'Caseload Reporting'!P712)","v":""},{"$f":"IF('Caseload Reporting'!O712 = \"\",\"\",'Caseload Reporting'!O712)","v":""},{"$f":"IF('Caseload Reporting'!Q712 = \"\",\"\",'Caseload Reporting'!Q712)","v":""},{"$f":"IF('Caseload Reporting'!R712 = \"\",\"\",'Caseload Reporting'!R712)","v":""},{"$f":"IF('Caseload Reporting'!E712 = \"\",\"\",'Caseload Reporting'!E712)","v":""},{"$f":"IF('Caseload Reporting'!S712 = \"\",\"\",'Caseload Reporting'!S712)","v":""}]
[{"$f":"IF('Caseload Reporting'!A713 = \"\",\"\",'Caseload Reporting'!A713)","v":""},{"$f":"IF('Caseload Reporting'!B713 = \"\",\"\",'Caseload Reporting'!B713)","v":""},{"$f":"IF('Caseload Reporting'!C713 = \"\",\"\",'Caseload Reporting'!C713)","v":""},{"$f":"IF('Caseload Reporting'!D713 = \"\",\"\",'Caseload Reporting'!D713)","v":""},{"$f":"IF('Caseload Reporting'!G713 = \"\",\"\",'Caseload Reporting'!G713)","v":""},{"$f":"IF('Caseload Reporting'!H713 = \"\",\"\",'Caseload Reporting'!H713)","v":""},{"$f":"IF('Caseload Reporting'!I713 = \"\",\"\",'Caseload Reporting'!I713)","v":""},{"$f":"IF('Caseload Reporting'!J713 = \"\",\"\",'Caseload Reporting'!J713)","v":""},{"$f":"IF('Caseload Reporting'!K713 = \"\",\"\",'Caseload Reporting'!K713)","v":""},{"$f":"IF('Caseload Reporting'!L713 = \"\",\"\",'Caseload Reporting'!L713)","v":""},{"$f":"IF('Caseload Reporting'!M713 = \"\",\"\",'Caseload Reporting'!M713)","v":""},{"$f":"IF('Caseload Reporting'!N713 = \"\",\"\",'Caseload Reporting'!N713)","v":""},{"$f":"IF('Caseload Reporting'!P713 = \"\",\"\",'Caseload Reporting'!P713)","v":""},{"$f":"IF('Caseload Reporting'!O713 = \"\",\"\",'Caseload Reporting'!O713)","v":""},{"$f":"IF('Caseload Reporting'!Q713 = \"\",\"\",'Caseload Reporting'!Q713)","v":""},{"$f":"IF('Caseload Reporting'!R713 = \"\",\"\",'Caseload Reporting'!R713)","v":""},{"$f":"IF('Caseload Reporting'!E713 = \"\",\"\",'Caseload Reporting'!E713)","v":""},{"$f":"IF('Caseload Reporting'!S713 = \"\",\"\",'Caseload Reporting'!S713)","v":""}]
[{"$f":"IF('Caseload Reporting'!A714 = \"\",\"\",'Caseload Reporting'!A714)","v":""},{"$f":"IF('Caseload Reporting'!B714 = \"\",\"\",'Caseload Reporting'!B714)","v":""},{"$f":"IF('Caseload Reporting'!C714 = \"\",\"\",'Caseload Reporting'!C714)","v":""},{"$f":"IF('Caseload Reporting'!D714 = \"\",\"\",'Caseload Reporting'!D714)","v":""},{"$f":"IF('Caseload Reporting'!G714 = \"\",\"\",'Caseload Reporting'!G714)","v":""},{"$f":"IF('Caseload Reporting'!H714 = \"\",\"\",'Caseload Reporting'!H714)","v":""},{"$f":"IF('Caseload Reporting'!I714 = \"\",\"\",'Caseload Reporting'!I714)","v":""},{"$f":"IF('Caseload Reporting'!J714 = \"\",\"\",'Caseload Reporting'!J714)","v":""},{"$f":"IF('Caseload Reporting'!K714 = \"\",\"\",'Caseload Reporting'!K714)","v":""},{"$f":"IF('Caseload Reporting'!L714 = \"\",\"\",'Caseload Reporting'!L714)","v":""},{"$f":"IF('Caseload Reporting'!M714 = \"\",\"\",'Caseload Reporting'!M714)","v":""},{"$f":"IF('Caseload Reporting'!N714 = \"\",\"\",'Caseload Reporting'!N714)","v":""},{"$f":"IF('Caseload Reporting'!P714 = \"\",\"\",'Caseload Reporting'!P714)","v":""},{"$f":"IF('Caseload Reporting'!O714 = \"\",\"\",'Caseload Reporting'!O714)","v":""},{"$f":"IF('Caseload Reporting'!Q714 = \"\",\"\",'Caseload Reporting'!Q714)","v":""},{"$f":"IF('Caseload Reporting'!R714 = \"\",\"\",'Caseload Reporting'!R714)","v":""},{"$f":"IF('Caseload Reporting'!E714 = \"\",\"\",'Caseload Reporting'!E714)","v":""},{"$f":"IF('Caseload Reporting'!S714 = \"\",\"\",'Caseload Reporting'!S714)","v":""}]
[{"$f":"IF('Caseload Reporting'!A715 = \"\",\"\",'Caseload Reporting'!A715)","v":""},{"$f":"IF('Caseload Reporting'!B715 = \"\",\"\",'Caseload Reporting'!B715)","v":""},{"$f":"IF('Caseload Reporting'!C715 = \"\",\"\",'Caseload Reporting'!C715)","v":""},{"$f":"IF('Caseload Reporting'!D715 = \"\",\"\",'Caseload Reporting'!D715)","v":""},{"$f":"IF('Caseload Reporting'!G715 = \"\",\"\",'Caseload Reporting'!G715)","v":""},{"$f":"IF('Caseload Reporting'!H715 = \"\",\"\",'Caseload Reporting'!H715)","v":""},{"$f":"IF('Caseload Reporting'!I715 = \"\",\"\",'Caseload Reporting'!I715)","v":""},{"$f":"IF('Caseload Reporting'!J715 = \"\",\"\",'Caseload Reporting'!J715)","v":""},{"$f":"IF('Caseload Reporting'!K715 = \"\",\"\",'Caseload Reporting'!K715)","v":""},{"$f":"IF('Caseload Reporting'!L715 = \"\",\"\",'Caseload Reporting'!L715)","v":""},{"$f":"IF('Caseload Reporting'!M715 = \"\",\"\",'Caseload Reporting'!M715)","v":""},{"$f":"IF('Caseload Reporting'!N715 = \"\",\"\",'Caseload Reporting'!N715)","v":""},{"$f":"IF('Caseload Reporting'!P715 = \"\",\"\",'Caseload Reporting'!P715)","v":""},{"$f":"IF('Caseload Reporting'!O715 = \"\",\"\",'Caseload Reporting'!O715)","v":""},{"$f":"IF('Caseload Reporting'!Q715 = \"\",\"\",'Caseload Reporting'!Q715)","v":""},{"$f":"IF('Caseload Reporting'!R715 = \"\",\"\",'Caseload Reporting'!R715)","v":""},{"$f":"IF('Caseload Reporting'!E715 = \"\",\"\",'Caseload Reporting'!E715)","v":""},{"$f":"IF('Caseload Reporting'!S715 = \"\",\"\",'Caseload Reporting'!S715)","v":""}]
[{"$f":"IF('Caseload Reporting'!A716 = \"\",\"\",'Caseload Reporting'!A716)","v":""},{"$f":"IF('Caseload Reporting'!B716 = \"\",\"\",'Caseload Reporting'!B716)","v":""},{"$f":"IF('Caseload Reporting'!C716 = \"\",\"\",'Caseload Reporting'!C716)","v":""},{"$f":"IF('Caseload Reporting'!D716 = \"\",\"\",'Caseload Reporting'!D716)","v":""},{"$f":"IF('Caseload Reporting'!G716 = \"\",\"\",'Caseload Reporting'!G716)","v":""},{"$f":"IF('Caseload Reporting'!H716 = \"\",\"\",'Caseload Reporting'!H716)","v":""},{"$f":"IF('Caseload Reporting'!I716 = \"\",\"\",'Caseload Reporting'!I716)","v":""},{"$f":"IF('Caseload Reporting'!J716 = \"\",\"\",'Caseload Reporting'!J716)","v":""},{"$f":"IF('Caseload Reporting'!K716 = \"\",\"\",'Caseload Reporting'!K716)","v":""},{"$f":"IF('Caseload Reporting'!L716 = \"\",\"\",'Caseload Reporting'!L716)","v":""},{"$f":"IF('Caseload Reporting'!M716 = \"\",\"\",'Caseload Reporting'!M716)","v":""},{"$f":"IF('Caseload Reporting'!N716 = \"\",\"\",'Caseload Reporting'!N716)","v":""},{"$f":"IF('Caseload Reporting'!P716 = \"\",\"\",'Caseload Reporting'!P716)","v":""},{"$f":"IF('Caseload Reporting'!O716 = \"\",\"\",'Caseload Reporting'!O716)","v":""},{"$f":"IF('Caseload Reporting'!Q716 = \"\",\"\",'Caseload Reporting'!Q716)","v":""},{"$f":"IF('Caseload Reporting'!R716 = \"\",\"\",'Caseload Reporting'!R716)","v":""},{"$f":"IF('Caseload Reporting'!E716 = \"\",\"\",'Caseload Reporting'!E716)","v":""},{"$f":"IF('Caseload Reporting'!S716 = \"\",\"\",'Caseload Reporting'!S716)","v":""}]
[{"$f":"IF('Caseload Reporting'!A717 = \"\",\"\",'Caseload Reporting'!A717)","v":""},{"$f":"IF('Caseload Reporting'!B717 = \"\",\"\",'Caseload Reporting'!B717)","v":""},{"$f":"IF('Caseload Reporting'!C717 = \"\",\"\",'Caseload Reporting'!C717)","v":""},{"$f":"IF('Caseload Reporting'!D717 = \"\",\"\",'Caseload Reporting'!D717)","v":""},{"$f":"IF('Caseload Reporting'!G717 = \"\",\"\",'Caseload Reporting'!G717)","v":""},{"$f":"IF('Caseload Reporting'!H717 = \"\",\"\",'Caseload Reporting'!H717)","v":""},{"$f":"IF('Caseload Reporting'!I717 = \"\",\"\",'Caseload Reporting'!I717)","v":""},{"$f":"IF('Caseload Reporting'!J717 = \"\",\"\",'Caseload Reporting'!J717)","v":""},{"$f":"IF('Caseload Reporting'!K717 = \"\",\"\",'Caseload Reporting'!K717)","v":""},{"$f":"IF('Caseload Reporting'!L717 = \"\",\"\",'Caseload Reporting'!L717)","v":""},{"$f":"IF('Caseload Reporting'!M717 = \"\",\"\",'Caseload Reporting'!M717)","v":""},{"$f":"IF('Caseload Reporting'!N717 = \"\",\"\",'Caseload Reporting'!N717)","v":""},{"$f":"IF('Caseload Reporting'!P717 = \"\",\"\",'Caseload Reporting'!P717)","v":""},{"$f":"IF('Caseload Reporting'!O717 = \"\",\"\",'Caseload Reporting'!O717)","v":""},{"$f":"IF('Caseload Reporting'!Q717 = \"\",\"\",'Caseload Reporting'!Q717)","v":""},{"$f":"IF('Caseload Reporting'!R717 = \"\",\"\",'Caseload Reporting'!R717)","v":""},{"$f":"IF('Caseload Reporting'!E717 = \"\",\"\",'Caseload Reporting'!E717)","v":""},{"$f":"IF('Caseload Reporting'!S717 = \"\",\"\",'Caseload Reporting'!S717)","v":""}]
[{"$f":"IF('Caseload Reporting'!A718 = \"\",\"\",'Caseload Reporting'!A718)","v":""},{"$f":"IF('Caseload Reporting'!B718 = \"\",\"\",'Caseload Reporting'!B718)","v":""},{"$f":"IF('Caseload Reporting'!C718 = \"\",\"\",'Caseload Reporting'!C718)","v":""},{"$f":"IF('Caseload Reporting'!D718 = \"\",\"\",'Caseload Reporting'!D718)","v":""},{"$f":"IF('Caseload Reporting'!G718 = \"\",\"\",'Caseload Reporting'!G718)","v":""},{"$f":"IF('Caseload Reporting'!H718 = \"\",\"\",'Caseload Reporting'!H718)","v":""},{"$f":"IF('Caseload Reporting'!I718 = \"\",\"\",'Caseload Reporting'!I718)","v":""},{"$f":"IF('Caseload Reporting'!J718 = \"\",\"\",'Caseload Reporting'!J718)","v":""},{"$f":"IF('Caseload Reporting'!K718 = \"\",\"\",'Caseload Reporting'!K718)","v":""},{"$f":"IF('Caseload Reporting'!L718 = \"\",\"\",'Caseload Reporting'!L718)","v":""},{"$f":"IF('Caseload Reporting'!M718 = \"\",\"\",'Caseload Reporting'!M718)","v":""},{"$f":"IF('Caseload Reporting'!N718 = \"\",\"\",'Caseload Reporting'!N718)","v":""},{"$f":"IF('Caseload Reporting'!P718 = \"\",\"\",'Caseload Reporting'!P718)","v":""},{"$f":"IF('Caseload Reporting'!O718 = \"\",\"\",'Caseload Reporting'!O718)","v":""},{"$f":"IF('Caseload Reporting'!Q718 = \"\",\"\",'Caseload Reporting'!Q718)","v":""},{"$f":"IF('Caseload Reporting'!R718 = \"\",\"\",'Caseload Reporting'!R718)","v":""},{"$f":"IF('Caseload Reporting'!E718 = \"\",\"\",'Caseload Reporting'!E718)","v":""},{"$f":"IF('Caseload Reporting'!S718 = \"\",\"\",'Caseload Reporting'!S718)","v":""}]
[{"$f":"IF('Caseload Reporting'!A719 = \"\",\"\",'Caseload Reporting'!A719)","v":""},{"$f":"IF('Caseload Reporting'!B719 = \"\",\"\",'Caseload Reporting'!B719)","v":""},{"$f":"IF('Caseload Reporting'!C719 = \"\",\"\",'Caseload Reporting'!C719)","v":""},{"$f":"IF('Caseload Reporting'!D719 = \"\",\"\",'Caseload Reporting'!D719)","v":""},{"$f":"IF('Caseload Reporting'!G719 = \"\",\"\",'Caseload Reporting'!G719)","v":""},{"$f":"IF('Caseload Reporting'!H719 = \"\",\"\",'Caseload Reporting'!H719)","v":""},{"$f":"IF('Caseload Reporting'!I719 = \"\",\"\",'Caseload Reporting'!I719)","v":""},{"$f":"IF('Caseload Reporting'!J719 = \"\",\"\",'Caseload Reporting'!J719)","v":""},{"$f":"IF('Caseload Reporting'!K719 = \"\",\"\",'Caseload Reporting'!K719)","v":""},{"$f":"IF('Caseload Reporting'!L719 = \"\",\"\",'Caseload Reporting'!L719)","v":""},{"$f":"IF('Caseload Reporting'!M719 = \"\",\"\",'Caseload Reporting'!M719)","v":""},{"$f":"IF('Caseload Reporting'!N719 = \"\",\"\",'Caseload Reporting'!N719)","v":""},{"$f":"IF('Caseload Reporting'!P719 = \"\",\"\",'Caseload Reporting'!P719)","v":""},{"$f":"IF('Caseload Reporting'!O719 = \"\",\"\",'Caseload Reporting'!O719)","v":""},{"$f":"IF('Caseload Reporting'!Q719 = \"\",\"\",'Caseload Reporting'!Q719)","v":""},{"$f":"IF('Caseload Reporting'!R719 = \"\",\"\",'Caseload Reporting'!R719)","v":""},{"$f":"IF('Caseload Reporting'!E719 = \"\",\"\",'Caseload Reporting'!E719)","v":""},{"$f":"IF('Caseload Reporting'!S719 = \"\",\"\",'Caseload Reporting'!S719)","v":""}]
[{"$f":"IF('Caseload Reporting'!A720 = \"\",\"\",'Caseload Reporting'!A720)","v":""},{"$f":"IF('Caseload Reporting'!B720 = \"\",\"\",'Caseload Reporting'!B720)","v":""},{"$f":"IF('Caseload Reporting'!C720 = \"\",\"\",'Caseload Reporting'!C720)","v":""},{"$f":"IF('Caseload Reporting'!D720 = \"\",\"\",'Caseload Reporting'!D720)","v":""},{"$f":"IF('Caseload Reporting'!G720 = \"\",\"\",'Caseload Reporting'!G720)","v":""},{"$f":"IF('Caseload Reporting'!H720 = \"\",\"\",'Caseload Reporting'!H720)","v":""},{"$f":"IF('Caseload Reporting'!I720 = \"\",\"\",'Caseload Reporting'!I720)","v":""},{"$f":"IF('Caseload Reporting'!J720 = \"\",\"\",'Caseload Reporting'!J720)","v":""},{"$f":"IF('Caseload Reporting'!K720 = \"\",\"\",'Caseload Reporting'!K720)","v":""},{"$f":"IF('Caseload Reporting'!L720 = \"\",\"\",'Caseload Reporting'!L720)","v":""},{"$f":"IF('Caseload Reporting'!M720 = \"\",\"\",'Caseload Reporting'!M720)","v":""},{"$f":"IF('Caseload Reporting'!N720 = \"\",\"\",'Caseload Reporting'!N720)","v":""},{"$f":"IF('Caseload Reporting'!P720 = \"\",\"\",'Caseload Reporting'!P720)","v":""},{"$f":"IF('Caseload Reporting'!O720 = \"\",\"\",'Caseload Reporting'!O720)","v":""},{"$f":"IF('Caseload Reporting'!Q720 = \"\",\"\",'Caseload Reporting'!Q720)","v":""},{"$f":"IF('Caseload Reporting'!R720 = \"\",\"\",'Caseload Reporting'!R720)","v":""},{"$f":"IF('Caseload Reporting'!E720 = \"\",\"\",'Caseload Reporting'!E720)","v":""},{"$f":"IF('Caseload Reporting'!S720 = \"\",\"\",'Caseload Reporting'!S720)","v":""}]
[{"$f":"IF('Caseload Reporting'!A721 = \"\",\"\",'Caseload Reporting'!A721)","v":""},{"$f":"IF('Caseload Reporting'!B721 = \"\",\"\",'Caseload Reporting'!B721)","v":""},{"$f":"IF('Caseload Reporting'!C721 = \"\",\"\",'Caseload Reporting'!C721)","v":""},{"$f":"IF('Caseload Reporting'!D721 = \"\",\"\",'Caseload Reporting'!D721)","v":""},{"$f":"IF('Caseload Reporting'!G721 = \"\",\"\",'Caseload Reporting'!G721)","v":""},{"$f":"IF('Caseload Reporting'!H721 = \"\",\"\",'Caseload Reporting'!H721)","v":""},{"$f":"IF('Caseload Reporting'!I721 = \"\",\"\",'Caseload Reporting'!I721)","v":""},{"$f":"IF('Caseload Reporting'!J721 = \"\",\"\",'Caseload Reporting'!J721)","v":""},{"$f":"IF('Caseload Reporting'!K721 = \"\",\"\",'Caseload Reporting'!K721)","v":""},{"$f":"IF('Caseload Reporting'!L721 = \"\",\"\",'Caseload Reporting'!L721)","v":""},{"$f":"IF('Caseload Reporting'!M721 = \"\",\"\",'Caseload Reporting'!M721)","v":""},{"$f":"IF('Caseload Reporting'!N721 = \"\",\"\",'Caseload Reporting'!N721)","v":""},{"$f":"IF('Caseload Reporting'!P721 = \"\",\"\",'Caseload Reporting'!P721)","v":""},{"$f":"IF('Caseload Reporting'!O721 = \"\",\"\",'Caseload Reporting'!O721)","v":""},{"$f":"IF('Caseload Reporting'!Q721 = \"\",\"\",'Caseload Reporting'!Q721)","v":""},{"$f":"IF('Caseload Reporting'!R721 = \"\",\"\",'Caseload Reporting'!R721)","v":""},{"$f":"IF('Caseload Reporting'!E721 = \"\",\"\",'Caseload Reporting'!E721)","v":""},{"$f":"IF('Caseload Reporting'!S721 = \"\",\"\",'Caseload Reporting'!S721)","v":""}]
[{"$f":"IF('Caseload Reporting'!A722 = \"\",\"\",'Caseload Reporting'!A722)","v":""},{"$f":"IF('Caseload Reporting'!B722 = \"\",\"\",'Caseload Reporting'!B722)","v":""},{"$f":"IF('Caseload Reporting'!C722 = \"\",\"\",'Caseload Reporting'!C722)","v":""},{"$f":"IF('Caseload Reporting'!D722 = \"\",\"\",'Caseload Reporting'!D722)","v":""},{"$f":"IF('Caseload Reporting'!G722 = \"\",\"\",'Caseload Reporting'!G722)","v":""},{"$f":"IF('Caseload Reporting'!H722 = \"\",\"\",'Caseload Reporting'!H722)","v":""},{"$f":"IF('Caseload Reporting'!I722 = \"\",\"\",'Caseload Reporting'!I722)","v":""},{"$f":"IF('Caseload Reporting'!J722 = \"\",\"\",'Caseload Reporting'!J722)","v":""},{"$f":"IF('Caseload Reporting'!K722 = \"\",\"\",'Caseload Reporting'!K722)","v":""},{"$f":"IF('Caseload Reporting'!L722 = \"\",\"\",'Caseload Reporting'!L722)","v":""},{"$f":"IF('Caseload Reporting'!M722 = \"\",\"\",'Caseload Reporting'!M722)","v":""},{"$f":"IF('Caseload Reporting'!N722 = \"\",\"\",'Caseload Reporting'!N722)","v":""},{"$f":"IF('Caseload Reporting'!P722 = \"\",\"\",'Caseload Reporting'!P722)","v":""},{"$f":"IF('Caseload Reporting'!O722 = \"\",\"\",'Caseload Reporting'!O722)","v":""},{"$f":"IF('Caseload Reporting'!Q722 = \"\",\"\",'Caseload Reporting'!Q722)","v":""},{"$f":"IF('Caseload Reporting'!R722 = \"\",\"\",'Caseload Reporting'!R722)","v":""},{"$f":"IF('Caseload Reporting'!E722 = \"\",\"\",'Caseload Reporting'!E722)","v":""},{"$f":"IF('Caseload Reporting'!S722 = \"\",\"\",'Caseload Reporting'!S722)","v":""}]
[{"$f":"IF('Caseload Reporting'!A723 = \"\",\"\",'Caseload Reporting'!A723)","v":""},{"$f":"IF('Caseload Reporting'!B723 = \"\",\"\",'Caseload Reporting'!B723)","v":""},{"$f":"IF('Caseload Reporting'!C723 = \"\",\"\",'Caseload Reporting'!C723)","v":""},{"$f":"IF('Caseload Reporting'!D723 = \"\",\"\",'Caseload Reporting'!D723)","v":""},{"$f":"IF('Caseload Reporting'!G723 = \"\",\"\",'Caseload Reporting'!G723)","v":""},{"$f":"IF('Caseload Reporting'!H723 = \"\",\"\",'Caseload Reporting'!H723)","v":""},{"$f":"IF('Caseload Reporting'!I723 = \"\",\"\",'Caseload Reporting'!I723)","v":""},{"$f":"IF('Caseload Reporting'!J723 = \"\",\"\",'Caseload Reporting'!J723)","v":""},{"$f":"IF('Caseload Reporting'!K723 = \"\",\"\",'Caseload Reporting'!K723)","v":""},{"$f":"IF('Caseload Reporting'!L723 = \"\",\"\",'Caseload Reporting'!L723)","v":""},{"$f":"IF('Caseload Reporting'!M723 = \"\",\"\",'Caseload Reporting'!M723)","v":""},{"$f":"IF('Caseload Reporting'!N723 = \"\",\"\",'Caseload Reporting'!N723)","v":""},{"$f":"IF('Caseload Reporting'!P723 = \"\",\"\",'Caseload Reporting'!P723)","v":""},{"$f":"IF('Caseload Reporting'!O723 = \"\",\"\",'Caseload Reporting'!O723)","v":""},{"$f":"IF('Caseload Reporting'!Q723 = \"\",\"\",'Caseload Reporting'!Q723)","v":""},{"$f":"IF('Caseload Reporting'!R723 = \"\",\"\",'Caseload Reporting'!R723)","v":""},{"$f":"IF('Caseload Reporting'!E723 = \"\",\"\",'Caseload Reporting'!E723)","v":""},{"$f":"IF('Caseload Reporting'!S723 = \"\",\"\",'Caseload Reporting'!S723)","v":""}]
[{"$f":"IF('Caseload Reporting'!A724 = \"\",\"\",'Caseload Reporting'!A724)","v":""},{"$f":"IF('Caseload Reporting'!B724 = \"\",\"\",'Caseload Reporting'!B724)","v":""},{"$f":"IF('Caseload Reporting'!C724 = \"\",\"\",'Caseload Reporting'!C724)","v":""},{"$f":"IF('Caseload Reporting'!D724 = \"\",\"\",'Caseload Reporting'!D724)","v":""},{"$f":"IF('Caseload Reporting'!G724 = \"\",\"\",'Caseload Reporting'!G724)","v":""},{"$f":"IF('Caseload Reporting'!H724 = \"\",\"\",'Caseload Reporting'!H724)","v":""},{"$f":"IF('Caseload Reporting'!I724 = \"\",\"\",'Caseload Reporting'!I724)","v":""},{"$f":"IF('Caseload Reporting'!J724 = \"\",\"\",'Caseload Reporting'!J724)","v":""},{"$f":"IF('Caseload Reporting'!K724 = \"\",\"\",'Caseload Reporting'!K724)","v":""},{"$f":"IF('Caseload Reporting'!L724 = \"\",\"\",'Caseload Reporting'!L724)","v":""},{"$f":"IF('Caseload Reporting'!M724 = \"\",\"\",'Caseload Reporting'!M724)","v":""},{"$f":"IF('Caseload Reporting'!N724 = \"\",\"\",'Caseload Reporting'!N724)","v":""},{"$f":"IF('Caseload Reporting'!P724 = \"\",\"\",'Caseload Reporting'!P724)","v":""},{"$f":"IF('Caseload Reporting'!O724 = \"\",\"\",'Caseload Reporting'!O724)","v":""},{"$f":"IF('Caseload Reporting'!Q724 = \"\",\"\",'Caseload Reporting'!Q724)","v":""},{"$f":"IF('Caseload Reporting'!R724 = \"\",\"\",'Caseload Reporting'!R724)","v":""},{"$f":"IF('Caseload Reporting'!E724 = \"\",\"\",'Caseload Reporting'!E724)","v":""},{"$f":"IF('Caseload Reporting'!S724 = \"\",\"\",'Caseload Reporting'!S724)","v":""}]
[{"$f":"IF('Caseload Reporting'!A725 = \"\",\"\",'Caseload Reporting'!A725)","v":""},{"$f":"IF('Caseload Reporting'!B725 = \"\",\"\",'Caseload Reporting'!B725)","v":""},{"$f":"IF('Caseload Reporting'!C725 = \"\",\"\",'Caseload Reporting'!C725)","v":""},{"$f":"IF('Caseload Reporting'!D725 = \"\",\"\",'Caseload Reporting'!D725)","v":""},{"$f":"IF('Caseload Reporting'!G725 = \"\",\"\",'Caseload Reporting'!G725)","v":""},{"$f":"IF('Caseload Reporting'!H725 = \"\",\"\",'Caseload Reporting'!H725)","v":""},{"$f":"IF('Caseload Reporting'!I725 = \"\",\"\",'Caseload Reporting'!I725)","v":""},{"$f":"IF('Caseload Reporting'!J725 = \"\",\"\",'Caseload Reporting'!J725)","v":""},{"$f":"IF('Caseload Reporting'!K725 = \"\",\"\",'Caseload Reporting'!K725)","v":""},{"$f":"IF('Caseload Reporting'!L725 = \"\",\"\",'Caseload Reporting'!L725)","v":""},{"$f":"IF('Caseload Reporting'!M725 = \"\",\"\",'Caseload Reporting'!M725)","v":""},{"$f":"IF('Caseload Reporting'!N725 = \"\",\"\",'Caseload Reporting'!N725)","v":""},{"$f":"IF('Caseload Reporting'!P725 = \"\",\"\",'Caseload Reporting'!P725)","v":""},{"$f":"IF('Caseload Reporting'!O725 = \"\",\"\",'Caseload Reporting'!O725)","v":""},{"$f":"IF('Caseload Reporting'!Q725 = \"\",\"\",'Caseload Reporting'!Q725)","v":""},{"$f":"IF('Caseload Reporting'!R725 = \"\",\"\",'Caseload Reporting'!R725)","v":""},{"$f":"IF('Caseload Reporting'!E725 = \"\",\"\",'Caseload Reporting'!E725)","v":""},{"$f":"IF('Caseload Reporting'!S725 = \"\",\"\",'Caseload Reporting'!S725)","v":""}]
[{"$f":"IF('Caseload Reporting'!A726 = \"\",\"\",'Caseload Reporting'!A726)","v":""},{"$f":"IF('Caseload Reporting'!B726 = \"\",\"\",'Caseload Reporting'!B726)","v":""},{"$f":"IF('Caseload Reporting'!C726 = \"\",\"\",'Caseload Reporting'!C726)","v":""},{"$f":"IF('Caseload Reporting'!D726 = \"\",\"\",'Caseload Reporting'!D726)","v":""},{"$f":"IF('Caseload Reporting'!G726 = \"\",\"\",'Caseload Reporting'!G726)","v":""},{"$f":"IF('Caseload Reporting'!H726 = \"\",\"\",'Caseload Reporting'!H726)","v":""},{"$f":"IF('Caseload Reporting'!I726 = \"\",\"\",'Caseload Reporting'!I726)","v":""},{"$f":"IF('Caseload Reporting'!J726 = \"\",\"\",'Caseload Reporting'!J726)","v":""},{"$f":"IF('Caseload Reporting'!K726 = \"\",\"\",'Caseload Reporting'!K726)","v":""},{"$f":"IF('Caseload Reporting'!L726 = \"\",\"\",'Caseload Reporting'!L726)","v":""},{"$f":"IF('Caseload Reporting'!M726 = \"\",\"\",'Caseload Reporting'!M726)","v":""},{"$f":"IF('Caseload Reporting'!N726 = \"\",\"\",'Caseload Reporting'!N726)","v":""},{"$f":"IF('Caseload Reporting'!P726 = \"\",\"\",'Caseload Reporting'!P726)","v":""},{"$f":"IF('Caseload Reporting'!O726 = \"\",\"\",'Caseload Reporting'!O726)","v":""},{"$f":"IF('Caseload Reporting'!Q726 = \"\",\"\",'Caseload Reporting'!Q726)","v":""},{"$f":"IF('Caseload Reporting'!R726 = \"\",\"\",'Caseload Reporting'!R726)","v":""},{"$f":"IF('Caseload Reporting'!E726 = \"\",\"\",'Caseload Reporting'!E726)","v":""},{"$f":"IF('Caseload Reporting'!S726 = \"\",\"\",'Caseload Reporting'!S726)","v":""}]
[{"$f":"IF('Caseload Reporting'!A727 = \"\",\"\",'Caseload Reporting'!A727)","v":""},{"$f":"IF('Caseload Reporting'!B727 = \"\",\"\",'Caseload Reporting'!B727)","v":""},{"$f":"IF('Caseload Reporting'!C727 = \"\",\"\",'Caseload Reporting'!C727)","v":""},{"$f":"IF('Caseload Reporting'!D727 = \"\",\"\",'Caseload Reporting'!D727)","v":""},{"$f":"IF('Caseload Reporting'!G727 = \"\",\"\",'Caseload Reporting'!G727)","v":""},{"$f":"IF('Caseload Reporting'!H727 = \"\",\"\",'Caseload Reporting'!H727)","v":""},{"$f":"IF('Caseload Reporting'!I727 = \"\",\"\",'Caseload Reporting'!I727)","v":""},{"$f":"IF('Caseload Reporting'!J727 = \"\",\"\",'Caseload Reporting'!J727)","v":""},{"$f":"IF('Caseload Reporting'!K727 = \"\",\"\",'Caseload Reporting'!K727)","v":""},{"$f":"IF('Caseload Reporting'!L727 = \"\",\"\",'Caseload Reporting'!L727)","v":""},{"$f":"IF('Caseload Reporting'!M727 = \"\",\"\",'Caseload Reporting'!M727)","v":""},{"$f":"IF('Caseload Reporting'!N727 = \"\",\"\",'Caseload Reporting'!N727)","v":""},{"$f":"IF('Caseload Reporting'!P727 = \"\",\"\",'Caseload Reporting'!P727)","v":""},{"$f":"IF('Caseload Reporting'!O727 = \"\",\"\",'Caseload Reporting'!O727)","v":""},{"$f":"IF('Caseload Reporting'!Q727 = \"\",\"\",'Caseload Reporting'!Q727)","v":""},{"$f":"IF('Caseload Reporting'!R727 = \"\",\"\",'Caseload Reporting'!R727)","v":""},{"$f":"IF('Caseload Reporting'!E727 = \"\",\"\",'Caseload Reporting'!E727)","v":""},{"$f":"IF('Caseload Reporting'!S727 = \"\",\"\",'Caseload Reporting'!S727)","v":""}]
[{"$f":"IF('Caseload Reporting'!A728 = \"\",\"\",'Caseload Reporting'!A728)","v":""},{"$f":"IF('Caseload Reporting'!B728 = \"\",\"\",'Caseload Reporting'!B728)","v":""},{"$f":"IF('Caseload Reporting'!C728 = \"\",\"\",'Caseload Reporting'!C728)","v":""},{"$f":"IF('Caseload Reporting'!D728 = \"\",\"\",'Caseload Reporting'!D728)","v":""},{"$f":"IF('Caseload Reporting'!G728 = \"\",\"\",'Caseload Reporting'!G728)","v":""},{"$f":"IF('Caseload Reporting'!H728 = \"\",\"\",'Caseload Reporting'!H728)","v":""},{"$f":"IF('Caseload Reporting'!I728 = \"\",\"\",'Caseload Reporting'!I728)","v":""},{"$f":"IF('Caseload Reporting'!J728 = \"\",\"\",'Caseload Reporting'!J728)","v":""},{"$f":"IF('Caseload Reporting'!K728 = \"\",\"\",'Caseload Reporting'!K728)","v":""},{"$f":"IF('Caseload Reporting'!L728 = \"\",\"\",'Caseload Reporting'!L728)","v":""},{"$f":"IF('Caseload Reporting'!M728 = \"\",\"\",'Caseload Reporting'!M728)","v":""},{"$f":"IF('Caseload Reporting'!N728 = \"\",\"\",'Caseload Reporting'!N728)","v":""},{"$f":"IF('Caseload Reporting'!P728 = \"\",\"\",'Caseload Reporting'!P728)","v":""},{"$f":"IF('Caseload Reporting'!O728 = \"\",\"\",'Caseload Reporting'!O728)","v":""},{"$f":"IF('Caseload Reporting'!Q728 = \"\",\"\",'Caseload Reporting'!Q728)","v":""},{"$f":"IF('Caseload Reporting'!R728 = \"\",\"\",'Caseload Reporting'!R728)","v":""},{"$f":"IF('Caseload Reporting'!E728 = \"\",\"\",'Caseload Reporting'!E728)","v":""},{"$f":"IF('Caseload Reporting'!S728 = \"\",\"\",'Caseload Reporting'!S728)","v":""}]
[{"$f":"IF('Caseload Reporting'!A729 = \"\",\"\",'Caseload Reporting'!A729)","v":""},{"$f":"IF('Caseload Reporting'!B729 = \"\",\"\",'Caseload Reporting'!B729)","v":""},{"$f":"IF('Caseload Reporting'!C729 = \"\",\"\",'Caseload Reporting'!C729)","v":""},{"$f":"IF('Caseload Reporting'!D729 = \"\",\"\",'Caseload Reporting'!D729)","v":""},{"$f":"IF('Caseload Reporting'!G729 = \"\",\"\",'Caseload Reporting'!G729)","v":""},{"$f":"IF('Caseload Reporting'!H729 = \"\",\"\",'Caseload Reporting'!H729)","v":""},{"$f":"IF('Caseload Reporting'!I729 = \"\",\"\",'Caseload Reporting'!I729)","v":""},{"$f":"IF('Caseload Reporting'!J729 = \"\",\"\",'Caseload Reporting'!J729)","v":""},{"$f":"IF('Caseload Reporting'!K729 = \"\",\"\",'Caseload Reporting'!K729)","v":""},{"$f":"IF('Caseload Reporting'!L729 = \"\",\"\",'Caseload Reporting'!L729)","v":""},{"$f":"IF('Caseload Reporting'!M729 = \"\",\"\",'Caseload Reporting'!M729)","v":""},{"$f":"IF('Caseload Reporting'!N729 = \"\",\"\",'Caseload Reporting'!N729)","v":""},{"$f":"IF('Caseload Reporting'!P729 = \"\",\"\",'Caseload Reporting'!P729)","v":""},{"$f":"IF('Caseload Reporting'!O729 = \"\",\"\",'Caseload Reporting'!O729)","v":""},{"$f":"IF('Caseload Reporting'!Q729 = \"\",\"\",'Caseload Reporting'!Q729)","v":""},{"$f":"IF('Caseload Reporting'!R729 = \"\",\"\",'Caseload Reporting'!R729)","v":""},{"$f":"IF('Caseload Reporting'!E729 = \"\",\"\",'Caseload Reporting'!E729)","v":""},{"$f":"IF('Caseload Reporting'!S729 = \"\",\"\",'Caseload Reporting'!S729)","v":""}]
[{"$f":"IF('Caseload Reporting'!A730 = \"\",\"\",'Caseload Reporting'!A730)","v":""},{"$f":"IF('Caseload Reporting'!B730 = \"\",\"\",'Caseload Reporting'!B730)","v":""},{"$f":"IF('Caseload Reporting'!C730 = \"\",\"\",'Caseload Reporting'!C730)","v":""},{"$f":"IF('Caseload Reporting'!D730 = \"\",\"\",'Caseload Reporting'!D730)","v":""},{"$f":"IF('Caseload Reporting'!G730 = \"\",\"\",'Caseload Reporting'!G730)","v":""},{"$f":"IF('Caseload Reporting'!H730 = \"\",\"\",'Caseload Reporting'!H730)","v":""},{"$f":"IF('Caseload Reporting'!I730 = \"\",\"\",'Caseload Reporting'!I730)","v":""},{"$f":"IF('Caseload Reporting'!J730 = \"\",\"\",'Caseload Reporting'!J730)","v":""},{"$f":"IF('Caseload Reporting'!K730 = \"\",\"\",'Caseload Reporting'!K730)","v":""},{"$f":"IF('Caseload Reporting'!L730 = \"\",\"\",'Caseload Reporting'!L730)","v":""},{"$f":"IF('Caseload Reporting'!M730 = \"\",\"\",'Caseload Reporting'!M730)","v":""},{"$f":"IF('Caseload Reporting'!N730 = \"\",\"\",'Caseload Reporting'!N730)","v":""},{"$f":"IF('Caseload Reporting'!P730 = \"\",\"\",'Caseload Reporting'!P730)","v":""},{"$f":"IF('Caseload Reporting'!O730 = \"\",\"\",'Caseload Reporting'!O730)","v":""},{"$f":"IF('Caseload Reporting'!Q730 = \"\",\"\",'Caseload Reporting'!Q730)","v":""},{"$f":"IF('Caseload Reporting'!R730 = \"\",\"\",'Caseload Reporting'!R730)","v":""},{"$f":"IF('Caseload Reporting'!E730 = \"\",\"\",'Caseload Reporting'!E730)","v":""},{"$f":"IF('Caseload Reporting'!S730 = \"\",\"\",'Caseload Reporting'!S730)","v":""}]
[{"$f":"IF('Caseload Reporting'!A731 = \"\",\"\",'Caseload Reporting'!A731)","v":""},{"$f":"IF('Caseload Reporting'!B731 = \"\",\"\",'Caseload Reporting'!B731)","v":""},{"$f":"IF('Caseload Reporting'!C731 = \"\",\"\",'Caseload Reporting'!C731)","v":""},{"$f":"IF('Caseload Reporting'!D731 = \"\",\"\",'Caseload Reporting'!D731)","v":""},{"$f":"IF('Caseload Reporting'!G731 = \"\",\"\",'Caseload Reporting'!G731)","v":""},{"$f":"IF('Caseload Reporting'!H731 = \"\",\"\",'Caseload Reporting'!H731)","v":""},{"$f":"IF('Caseload Reporting'!I731 = \"\",\"\",'Caseload Reporting'!I731)","v":""},{"$f":"IF('Caseload Reporting'!J731 = \"\",\"\",'Caseload Reporting'!J731)","v":""},{"$f":"IF('Caseload Reporting'!K731 = \"\",\"\",'Caseload Reporting'!K731)","v":""},{"$f":"IF('Caseload Reporting'!L731 = \"\",\"\",'Caseload Reporting'!L731)","v":""},{"$f":"IF('Caseload Reporting'!M731 = \"\",\"\",'Caseload Reporting'!M731)","v":""},{"$f":"IF('Caseload Reporting'!N731 = \"\",\"\",'Caseload Reporting'!N731)","v":""},{"$f":"IF('Caseload Reporting'!P731 = \"\",\"\",'Caseload Reporting'!P731)","v":""},{"$f":"IF('Caseload Reporting'!O731 = \"\",\"\",'Caseload Reporting'!O731)","v":""},{"$f":"IF('Caseload Reporting'!Q731 = \"\",\"\",'Caseload Reporting'!Q731)","v":""},{"$f":"IF('Caseload Reporting'!R731 = \"\",\"\",'Caseload Reporting'!R731)","v":""},{"$f":"IF('Caseload Reporting'!E731 = \"\",\"\",'Caseload Reporting'!E731)","v":""},{"$f":"IF('Caseload Reporting'!S731 = \"\",\"\",'Caseload Reporting'!S731)","v":""}]
[{"$f":"IF('Caseload Reporting'!A732 = \"\",\"\",'Caseload Reporting'!A732)","v":""},{"$f":"IF('Caseload Reporting'!B732 = \"\",\"\",'Caseload Reporting'!B732)","v":""},{"$f":"IF('Caseload Reporting'!C732 = \"\",\"\",'Caseload Reporting'!C732)","v":""},{"$f":"IF('Caseload Reporting'!D732 = \"\",\"\",'Caseload Reporting'!D732)","v":""},{"$f":"IF('Caseload Reporting'!G732 = \"\",\"\",'Caseload Reporting'!G732)","v":""},{"$f":"IF('Caseload Reporting'!H732 = \"\",\"\",'Caseload Reporting'!H732)","v":""},{"$f":"IF('Caseload Reporting'!I732 = \"\",\"\",'Caseload Reporting'!I732)","v":""},{"$f":"IF('Caseload Reporting'!J732 = \"\",\"\",'Caseload Reporting'!J732)","v":""},{"$f":"IF('Caseload Reporting'!K732 = \"\",\"\",'Caseload Reporting'!K732)","v":""},{"$f":"IF('Caseload Reporting'!L732 = \"\",\"\",'Caseload Reporting'!L732)","v":""},{"$f":"IF('Caseload Reporting'!M732 = \"\",\"\",'Caseload Reporting'!M732)","v":""},{"$f":"IF('Caseload Reporting'!N732 = \"\",\"\",'Caseload Reporting'!N732)","v":""},{"$f":"IF('Caseload Reporting'!P732 = \"\",\"\",'Caseload Reporting'!P732)","v":""},{"$f":"IF('Caseload Reporting'!O732 = \"\",\"\",'Caseload Reporting'!O732)","v":""},{"$f":"IF('Caseload Reporting'!Q732 = \"\",\"\",'Caseload Reporting'!Q732)","v":""},{"$f":"IF('Caseload Reporting'!R732 = \"\",\"\",'Caseload Reporting'!R732)","v":""},{"$f":"IF('Caseload Reporting'!E732 = \"\",\"\",'Caseload Reporting'!E732)","v":""},{"$f":"IF('Caseload Reporting'!S732 = \"\",\"\",'Caseload Reporting'!S732)","v":""}]
[{"$f":"IF('Caseload Reporting'!A733 = \"\",\"\",'Caseload Reporting'!A733)","v":""},{"$f":"IF('Caseload Reporting'!B733 = \"\",\"\",'Caseload Reporting'!B733)","v":""},{"$f":"IF('Caseload Reporting'!C733 = \"\",\"\",'Caseload Reporting'!C733)","v":""},{"$f":"IF('Caseload Reporting'!D733 = \"\",\"\",'Caseload Reporting'!D733)","v":""},{"$f":"IF('Caseload Reporting'!G733 = \"\",\"\",'Caseload Reporting'!G733)","v":""},{"$f":"IF('Caseload Reporting'!H733 = \"\",\"\",'Caseload Reporting'!H733)","v":""},{"$f":"IF('Caseload Reporting'!I733 = \"\",\"\",'Caseload Reporting'!I733)","v":""},{"$f":"IF('Caseload Reporting'!J733 = \"\",\"\",'Caseload Reporting'!J733)","v":""},{"$f":"IF('Caseload Reporting'!K733 = \"\",\"\",'Caseload Reporting'!K733)","v":""},{"$f":"IF('Caseload Reporting'!L733 = \"\",\"\",'Caseload Reporting'!L733)","v":""},{"$f":"IF('Caseload Reporting'!M733 = \"\",\"\",'Caseload Reporting'!M733)","v":""},{"$f":"IF('Caseload Reporting'!N733 = \"\",\"\",'Caseload Reporting'!N733)","v":""},{"$f":"IF('Caseload Reporting'!P733 = \"\",\"\",'Caseload Reporting'!P733)","v":""},{"$f":"IF('Caseload Reporting'!O733 = \"\",\"\",'Caseload Reporting'!O733)","v":""},{"$f":"IF('Caseload Reporting'!Q733 = \"\",\"\",'Caseload Reporting'!Q733)","v":""},{"$f":"IF('Caseload Reporting'!R733 = \"\",\"\",'Caseload Reporting'!R733)","v":""},{"$f":"IF('Caseload Reporting'!E733 = \"\",\"\",'Caseload Reporting'!E733)","v":""},{"$f":"IF('Caseload Reporting'!S733 = \"\",\"\",'Caseload Reporting'!S733)","v":""}]
[{"$f":"IF('Caseload Reporting'!A734 = \"\",\"\",'Caseload Reporting'!A734)","v":""},{"$f":"IF('Caseload Reporting'!B734 = \"\",\"\",'Caseload Reporting'!B734)","v":""},{"$f":"IF('Caseload Reporting'!C734 = \"\",\"\",'Caseload Reporting'!C734)","v":""},{"$f":"IF('Caseload Reporting'!D734 = \"\",\"\",'Caseload Reporting'!D734)","v":""},{"$f":"IF('Caseload Reporting'!G734 = \"\",\"\",'Caseload Reporting'!G734)","v":""},{"$f":"IF('Caseload Reporting'!H734 = \"\",\"\",'Caseload Reporting'!H734)","v":""},{"$f":"IF('Caseload Reporting'!I734 = \"\",\"\",'Caseload Reporting'!I734)","v":""},{"$f":"IF('Caseload Reporting'!J734 = \"\",\"\",'Caseload Reporting'!J734)","v":""},{"$f":"IF('Caseload Reporting'!K734 = \"\",\"\",'Caseload Reporting'!K734)","v":""},{"$f":"IF('Caseload Reporting'!L734 = \"\",\"\",'Caseload Reporting'!L734)","v":""},{"$f":"IF('Caseload Reporting'!M734 = \"\",\"\",'Caseload Reporting'!M734)","v":""},{"$f":"IF('Caseload Reporting'!N734 = \"\",\"\",'Caseload Reporting'!N734)","v":""},{"$f":"IF('Caseload Reporting'!P734 = \"\",\"\",'Caseload Reporting'!P734)","v":""},{"$f":"IF('Caseload Reporting'!O734 = \"\",\"\",'Caseload Reporting'!O734)","v":""},{"$f":"IF('Caseload Reporting'!Q734 = \"\",\"\",'Caseload Reporting'!Q734)","v":""},{"$f":"IF('Caseload Reporting'!R734 = \"\",\"\",'Caseload Reporting'!R734)","v":""},{"$f":"IF('Caseload Reporting'!E734 = \"\",\"\",'Caseload Reporting'!E734)","v":""},{"$f":"IF('Caseload Reporting'!S734 = \"\",\"\",'Caseload Reporting'!S734)","v":""}]
[{"$f":"IF('Caseload Reporting'!A735 = \"\",\"\",'Caseload Reporting'!A735)","v":""},{"$f":"IF('Caseload Reporting'!B735 = \"\",\"\",'Caseload Reporting'!B735)","v":""},{"$f":"IF('Caseload Reporting'!C735 = \"\",\"\",'Caseload Reporting'!C735)","v":""},{"$f":"IF('Caseload Reporting'!D735 = \"\",\"\",'Caseload Reporting'!D735)","v":""},{"$f":"IF('Caseload Reporting'!G735 = \"\",\"\",'Caseload Reporting'!G735)","v":""},{"$f":"IF('Caseload Reporting'!H735 = \"\",\"\",'Caseload Reporting'!H735)","v":""},{"$f":"IF('Caseload Reporting'!I735 = \"\",\"\",'Caseload Reporting'!I735)","v":""},{"$f":"IF('Caseload Reporting'!J735 = \"\",\"\",'Caseload Reporting'!J735)","v":""},{"$f":"IF('Caseload Reporting'!K735 = \"\",\"\",'Caseload Reporting'!K735)","v":""},{"$f":"IF('Caseload Reporting'!L735 = \"\",\"\",'Caseload Reporting'!L735)","v":""},{"$f":"IF('Caseload Reporting'!M735 = \"\",\"\",'Caseload Reporting'!M735)","v":""},{"$f":"IF('Caseload Reporting'!N735 = \"\",\"\",'Caseload Reporting'!N735)","v":""},{"$f":"IF('Caseload Reporting'!P735 = \"\",\"\",'Caseload Reporting'!P735)","v":""},{"$f":"IF('Caseload Reporting'!O735 = \"\",\"\",'Caseload Reporting'!O735)","v":""},{"$f":"IF('Caseload Reporting'!Q735 = \"\",\"\",'Caseload Reporting'!Q735)","v":""},{"$f":"IF('Caseload Reporting'!R735 = \"\",\"\",'Caseload Reporting'!R735)","v":""},{"$f":"IF('Caseload Reporting'!E735 = \"\",\"\",'Caseload Reporting'!E735)","v":""},{"$f":"IF('Caseload Reporting'!S735 = \"\",\"\",'Caseload Reporting'!S735)","v":""}]
[{"$f":"IF('Caseload Reporting'!A736 = \"\",\"\",'Caseload Reporting'!A736)","v":""},{"$f":"IF('Caseload Reporting'!B736 = \"\",\"\",'Caseload Reporting'!B736)","v":""},{"$f":"IF('Caseload Reporting'!C736 = \"\",\"\",'Caseload Reporting'!C736)","v":""},{"$f":"IF('Caseload Reporting'!D736 = \"\",\"\",'Caseload Reporting'!D736)","v":""},{"$f":"IF('Caseload Reporting'!G736 = \"\",\"\",'Caseload Reporting'!G736)","v":""},{"$f":"IF('Caseload Reporting'!H736 = \"\",\"\",'Caseload Reporting'!H736)","v":""},{"$f":"IF('Caseload Reporting'!I736 = \"\",\"\",'Caseload Reporting'!I736)","v":""},{"$f":"IF('Caseload Reporting'!J736 = \"\",\"\",'Caseload Reporting'!J736)","v":""},{"$f":"IF('Caseload Reporting'!K736 = \"\",\"\",'Caseload Reporting'!K736)","v":""},{"$f":"IF('Caseload Reporting'!L736 = \"\",\"\",'Caseload Reporting'!L736)","v":""},{"$f":"IF('Caseload Reporting'!M736 = \"\",\"\",'Caseload Reporting'!M736)","v":""},{"$f":"IF('Caseload Reporting'!N736 = \"\",\"\",'Caseload Reporting'!N736)","v":""},{"$f":"IF('Caseload Reporting'!P736 = \"\",\"\",'Caseload Reporting'!P736)","v":""},{"$f":"IF('Caseload Reporting'!O736 = \"\",\"\",'Caseload Reporting'!O736)","v":""},{"$f":"IF('Caseload Reporting'!Q736 = \"\",\"\",'Caseload Reporting'!Q736)","v":""},{"$f":"IF('Caseload Reporting'!R736 = \"\",\"\",'Caseload Reporting'!R736)","v":""},{"$f":"IF('Caseload Reporting'!E736 = \"\",\"\",'Caseload Reporting'!E736)","v":""},{"$f":"IF('Caseload Reporting'!S736 = \"\",\"\",'Caseload Reporting'!S736)","v":""}]
[{"$f":"IF('Caseload Reporting'!A737 = \"\",\"\",'Caseload Reporting'!A737)","v":""},{"$f":"IF('Caseload Reporting'!B737 = \"\",\"\",'Caseload Reporting'!B737)","v":""},{"$f":"IF('Caseload Reporting'!C737 = \"\",\"\",'Caseload Reporting'!C737)","v":""},{"$f":"IF('Caseload Reporting'!D737 = \"\",\"\",'Caseload Reporting'!D737)","v":""},{"$f":"IF('Caseload Reporting'!G737 = \"\",\"\",'Caseload Reporting'!G737)","v":""},{"$f":"IF('Caseload Reporting'!H737 = \"\",\"\",'Caseload Reporting'!H737)","v":""},{"$f":"IF('Caseload Reporting'!I737 = \"\",\"\",'Caseload Reporting'!I737)","v":""},{"$f":"IF('Caseload Reporting'!J737 = \"\",\"\",'Caseload Reporting'!J737)","v":""},{"$f":"IF('Caseload Reporting'!K737 = \"\",\"\",'Caseload Reporting'!K737)","v":""},{"$f":"IF('Caseload Reporting'!L737 = \"\",\"\",'Caseload Reporting'!L737)","v":""},{"$f":"IF('Caseload Reporting'!M737 = \"\",\"\",'Caseload Reporting'!M737)","v":""},{"$f":"IF('Caseload Reporting'!N737 = \"\",\"\",'Caseload Reporting'!N737)","v":""},{"$f":"IF('Caseload Reporting'!P737 = \"\",\"\",'Caseload Reporting'!P737)","v":""},{"$f":"IF('Caseload Reporting'!O737 = \"\",\"\",'Caseload Reporting'!O737)","v":""},{"$f":"IF('Caseload Reporting'!Q737 = \"\",\"\",'Caseload Reporting'!Q737)","v":""},{"$f":"IF('Caseload Reporting'!R737 = \"\",\"\",'Caseload Reporting'!R737)","v":""},{"$f":"IF('Caseload Reporting'!E737 = \"\",\"\",'Caseload Reporting'!E737)","v":""},{"$f":"IF('Caseload Reporting'!S737 = \"\",\"\",'Caseload Reporting'!S737)","v":""}]
[{"$f":"IF('Caseload Reporting'!A738 = \"\",\"\",'Caseload Reporting'!A738)","v":""},{"$f":"IF('Caseload Reporting'!B738 = \"\",\"\",'Caseload Reporting'!B738)","v":""},{"$f":"IF('Caseload Reporting'!C738 = \"\",\"\",'Caseload Reporting'!C738)","v":""},{"$f":"IF('Caseload Reporting'!D738 = \"\",\"\",'Caseload Reporting'!D738)","v":""},{"$f":"IF('Caseload Reporting'!G738 = \"\",\"\",'Caseload Reporting'!G738)","v":""},{"$f":"IF('Caseload Reporting'!H738 = \"\",\"\",'Caseload Reporting'!H738)","v":""},{"$f":"IF('Caseload Reporting'!I738 = \"\",\"\",'Caseload Reporting'!I738)","v":""},{"$f":"IF('Caseload Reporting'!J738 = \"\",\"\",'Caseload Reporting'!J738)","v":""},{"$f":"IF('Caseload Reporting'!K738 = \"\",\"\",'Caseload Reporting'!K738)","v":""},{"$f":"IF('Caseload Reporting'!L738 = \"\",\"\",'Caseload Reporting'!L738)","v":""},{"$f":"IF('Caseload Reporting'!M738 = \"\",\"\",'Caseload Reporting'!M738)","v":""},{"$f":"IF('Caseload Reporting'!N738 = \"\",\"\",'Caseload Reporting'!N738)","v":""},{"$f":"IF('Caseload Reporting'!P738 = \"\",\"\",'Caseload Reporting'!P738)","v":""},{"$f":"IF('Caseload Reporting'!O738 = \"\",\"\",'Caseload Reporting'!O738)","v":""},{"$f":"IF('Caseload Reporting'!Q738 = \"\",\"\",'Caseload Reporting'!Q738)","v":""},{"$f":"IF('Caseload Reporting'!R738 = \"\",\"\",'Caseload Reporting'!R738)","v":""},{"$f":"IF('Caseload Reporting'!E738 = \"\",\"\",'Caseload Reporting'!E738)","v":""},{"$f":"IF('Caseload Reporting'!S738 = \"\",\"\",'Caseload Reporting'!S738)","v":""}]
[{"$f":"IF('Caseload Reporting'!A739 = \"\",\"\",'Caseload Reporting'!A739)","v":""},{"$f":"IF('Caseload Reporting'!B739 = \"\",\"\",'Caseload Reporting'!B739)","v":""},{"$f":"IF('Caseload Reporting'!C739 = \"\",\"\",'Caseload Reporting'!C739)","v":""},{"$f":"IF('Caseload Reporting'!D739 = \"\",\"\",'Caseload Reporting'!D739)","v":""},{"$f":"IF('Caseload Reporting'!G739 = \"\",\"\",'Caseload Reporting'!G739)","v":""},{"$f":"IF('Caseload Reporting'!H739 = \"\",\"\",'Caseload Reporting'!H739)","v":""},{"$f":"IF('Caseload Reporting'!I739 = \"\",\"\",'Caseload Reporting'!I739)","v":""},{"$f":"IF('Caseload Reporting'!J739 = \"\",\"\",'Caseload Reporting'!J739)","v":""},{"$f":"IF('Caseload Reporting'!K739 = \"\",\"\",'Caseload Reporting'!K739)","v":""},{"$f":"IF('Caseload Reporting'!L739 = \"\",\"\",'Caseload Reporting'!L739)","v":""},{"$f":"IF('Caseload Reporting'!M739 = \"\",\"\",'Caseload Reporting'!M739)","v":""},{"$f":"IF('Caseload Reporting'!N739 = \"\",\"\",'Caseload Reporting'!N739)","v":""},{"$f":"IF('Caseload Reporting'!P739 = \"\",\"\",'Caseload Reporting'!P739)","v":""},{"$f":"IF('Caseload Reporting'!O739 = \"\",\"\",'Caseload Reporting'!O739)","v":""},{"$f":"IF('Caseload Reporting'!Q739 = \"\",\"\",'Caseload Reporting'!Q739)","v":""},{"$f":"IF('Caseload Reporting'!R739 = \"\",\"\",'Caseload Reporting'!R739)","v":""},{"$f":"IF('Caseload Reporting'!E739 = \"\",\"\",'Caseload Reporting'!E739)","v":""},{"$f":"IF('Caseload Reporting'!S739 = \"\",\"\",'Caseload Reporting'!S739)","v":""}]
[{"$f":"IF('Caseload Reporting'!A740 = \"\",\"\",'Caseload Reporting'!A740)","v":""},{"$f":"IF('Caseload Reporting'!B740 = \"\",\"\",'Caseload Reporting'!B740)","v":""},{"$f":"IF('Caseload Reporting'!C740 = \"\",\"\",'Caseload Reporting'!C740)","v":""},{"$f":"IF('Caseload Reporting'!D740 = \"\",\"\",'Caseload Reporting'!D740)","v":""},{"$f":"IF('Caseload Reporting'!G740 = \"\",\"\",'Caseload Reporting'!G740)","v":""},{"$f":"IF('Caseload Reporting'!H740 = \"\",\"\",'Caseload Reporting'!H740)","v":""},{"$f":"IF('Caseload Reporting'!I740 = \"\",\"\",'Caseload Reporting'!I740)","v":""},{"$f":"IF('Caseload Reporting'!J740 = \"\",\"\",'Caseload Reporting'!J740)","v":""},{"$f":"IF('Caseload Reporting'!K740 = \"\",\"\",'Caseload Reporting'!K740)","v":""},{"$f":"IF('Caseload Reporting'!L740 = \"\",\"\",'Caseload Reporting'!L740)","v":""},{"$f":"IF('Caseload Reporting'!M740 = \"\",\"\",'Caseload Reporting'!M740)","v":""},{"$f":"IF('Caseload Reporting'!N740 = \"\",\"\",'Caseload Reporting'!N740)","v":""},{"$f":"IF('Caseload Reporting'!P740 = \"\",\"\",'Caseload Reporting'!P740)","v":""},{"$f":"IF('Caseload Reporting'!O740 = \"\",\"\",'Caseload Reporting'!O740)","v":""},{"$f":"IF('Caseload Reporting'!Q740 = \"\",\"\",'Caseload Reporting'!Q740)","v":""},{"$f":"IF('Caseload Reporting'!R740 = \"\",\"\",'Caseload Reporting'!R740)","v":""},{"$f":"IF('Caseload Reporting'!E740 = \"\",\"\",'Caseload Reporting'!E740)","v":""},{"$f":"IF('Caseload Reporting'!S740 = \"\",\"\",'Caseload Reporting'!S740)","v":""}]
[{"$f":"IF('Caseload Reporting'!A741 = \"\",\"\",'Caseload Reporting'!A741)","v":""},{"$f":"IF('Caseload Reporting'!B741 = \"\",\"\",'Caseload Reporting'!B741)","v":""},{"$f":"IF('Caseload Reporting'!C741 = \"\",\"\",'Caseload Reporting'!C741)","v":""},{"$f":"IF('Caseload Reporting'!D741 = \"\",\"\",'Caseload Reporting'!D741)","v":""},{"$f":"IF('Caseload Reporting'!G741 = \"\",\"\",'Caseload Reporting'!G741)","v":""},{"$f":"IF('Caseload Reporting'!H741 = \"\",\"\",'Caseload Reporting'!H741)","v":""},{"$f":"IF('Caseload Reporting'!I741 = \"\",\"\",'Caseload Reporting'!I741)","v":""},{"$f":"IF('Caseload Reporting'!J741 = \"\",\"\",'Caseload Reporting'!J741)","v":""},{"$f":"IF('Caseload Reporting'!K741 = \"\",\"\",'Caseload Reporting'!K741)","v":""},{"$f":"IF('Caseload Reporting'!L741 = \"\",\"\",'Caseload Reporting'!L741)","v":""},{"$f":"IF('Caseload Reporting'!M741 = \"\",\"\",'Caseload Reporting'!M741)","v":""},{"$f":"IF('Caseload Reporting'!N741 = \"\",\"\",'Caseload Reporting'!N741)","v":""},{"$f":"IF('Caseload Reporting'!P741 = \"\",\"\",'Caseload Reporting'!P741)","v":""},{"$f":"IF('Caseload Reporting'!O741 = \"\",\"\",'Caseload Reporting'!O741)","v":""},{"$f":"IF('Caseload Reporting'!Q741 = \"\",\"\",'Caseload Reporting'!Q741)","v":""},{"$f":"IF('Caseload Reporting'!R741 = \"\",\"\",'Caseload Reporting'!R741)","v":""},{"$f":"IF('Caseload Reporting'!E741 = \"\",\"\",'Caseload Reporting'!E741)","v":""},{"$f":"IF('Caseload Reporting'!S741 = \"\",\"\",'Caseload Reporting'!S741)","v":""}]
[{"$f":"IF('Caseload Reporting'!A742 = \"\",\"\",'Caseload Reporting'!A742)","v":""},{"$f":"IF('Caseload Reporting'!B742 = \"\",\"\",'Caseload Reporting'!B742)","v":""},{"$f":"IF('Caseload Reporting'!C742 = \"\",\"\",'Caseload Reporting'!C742)","v":""},{"$f":"IF('Caseload Reporting'!D742 = \"\",\"\",'Caseload Reporting'!D742)","v":""},{"$f":"IF('Caseload Reporting'!G742 = \"\",\"\",'Caseload Reporting'!G742)","v":""},{"$f":"IF('Caseload Reporting'!H742 = \"\",\"\",'Caseload Reporting'!H742)","v":""},{"$f":"IF('Caseload Reporting'!I742 = \"\",\"\",'Caseload Reporting'!I742)","v":""},{"$f":"IF('Caseload Reporting'!J742 = \"\",\"\",'Caseload Reporting'!J742)","v":""},{"$f":"IF('Caseload Reporting'!K742 = \"\",\"\",'Caseload Reporting'!K742)","v":""},{"$f":"IF('Caseload Reporting'!L742 = \"\",\"\",'Caseload Reporting'!L742)","v":""},{"$f":"IF('Caseload Reporting'!M742 = \"\",\"\",'Caseload Reporting'!M742)","v":""},{"$f":"IF('Caseload Reporting'!N742 = \"\",\"\",'Caseload Reporting'!N742)","v":""},{"$f":"IF('Caseload Reporting'!P742 = \"\",\"\",'Caseload Reporting'!P742)","v":""},{"$f":"IF('Caseload Reporting'!O742 = \"\",\"\",'Caseload Reporting'!O742)","v":""},{"$f":"IF('Caseload Reporting'!Q742 = \"\",\"\",'Caseload Reporting'!Q742)","v":""},{"$f":"IF('Caseload Reporting'!R742 = \"\",\"\",'Caseload Reporting'!R742)","v":""},{"$f":"IF('Caseload Reporting'!E742 = \"\",\"\",'Caseload Reporting'!E742)","v":""},{"$f":"IF('Caseload Reporting'!S742 = \"\",\"\",'Caseload Reporting'!S742)","v":""}]
[{"$f":"IF('Caseload Reporting'!A743 = \"\",\"\",'Caseload Reporting'!A743)","v":""},{"$f":"IF('Caseload Reporting'!B743 = \"\",\"\",'Caseload Reporting'!B743)","v":""},{"$f":"IF('Caseload Reporting'!C743 = \"\",\"\",'Caseload Reporting'!C743)","v":""},{"$f":"IF('Caseload Reporting'!D743 = \"\",\"\",'Caseload Reporting'!D743)","v":""},{"$f":"IF('Caseload Reporting'!G743 = \"\",\"\",'Caseload Reporting'!G743)","v":""},{"$f":"IF('Caseload Reporting'!H743 = \"\",\"\",'Caseload Reporting'!H743)","v":""},{"$f":"IF('Caseload Reporting'!I743 = \"\",\"\",'Caseload Reporting'!I743)","v":""},{"$f":"IF('Caseload Reporting'!J743 = \"\",\"\",'Caseload Reporting'!J743)","v":""},{"$f":"IF('Caseload Reporting'!K743 = \"\",\"\",'Caseload Reporting'!K743)","v":""},{"$f":"IF('Caseload Reporting'!L743 = \"\",\"\",'Caseload Reporting'!L743)","v":""},{"$f":"IF('Caseload Reporting'!M743 = \"\",\"\",'Caseload Reporting'!M743)","v":""},{"$f":"IF('Caseload Reporting'!N743 = \"\",\"\",'Caseload Reporting'!N743)","v":""},{"$f":"IF('Caseload Reporting'!P743 = \"\",\"\",'Caseload Reporting'!P743)","v":""},{"$f":"IF('Caseload Reporting'!O743 = \"\",\"\",'Caseload Reporting'!O743)","v":""},{"$f":"IF('Caseload Reporting'!Q743 = \"\",\"\",'Caseload Reporting'!Q743)","v":""},{"$f":"IF('Caseload Reporting'!R743 = \"\",\"\",'Caseload Reporting'!R743)","v":""},{"$f":"IF('Caseload Reporting'!E743 = \"\",\"\",'Caseload Reporting'!E743)","v":""},{"$f":"IF('Caseload Reporting'!S743 = \"\",\"\",'Caseload Reporting'!S743)","v":""}]
[{"$f":"IF('Caseload Reporting'!A744 = \"\",\"\",'Caseload Reporting'!A744)","v":""},{"$f":"IF('Caseload Reporting'!B744 = \"\",\"\",'Caseload Reporting'!B744)","v":""},{"$f":"IF('Caseload Reporting'!C744 = \"\",\"\",'Caseload Reporting'!C744)","v":""},{"$f":"IF('Caseload Reporting'!D744 = \"\",\"\",'Caseload Reporting'!D744)","v":""},{"$f":"IF('Caseload Reporting'!G744 = \"\",\"\",'Caseload Reporting'!G744)","v":""},{"$f":"IF('Caseload Reporting'!H744 = \"\",\"\",'Caseload Reporting'!H744)","v":""},{"$f":"IF('Caseload Reporting'!I744 = \"\",\"\",'Caseload Reporting'!I744)","v":""},{"$f":"IF('Caseload Reporting'!J744 = \"\",\"\",'Caseload Reporting'!J744)","v":""},{"$f":"IF('Caseload Reporting'!K744 = \"\",\"\",'Caseload Reporting'!K744)","v":""},{"$f":"IF('Caseload Reporting'!L744 = \"\",\"\",'Caseload Reporting'!L744)","v":""},{"$f":"IF('Caseload Reporting'!M744 = \"\",\"\",'Caseload Reporting'!M744)","v":""},{"$f":"IF('Caseload Reporting'!N744 = \"\",\"\",'Caseload Reporting'!N744)","v":""},{"$f":"IF('Caseload Reporting'!P744 = \"\",\"\",'Caseload Reporting'!P744)","v":""},{"$f":"IF('Caseload Reporting'!O744 = \"\",\"\",'Caseload Reporting'!O744)","v":""},{"$f":"IF('Caseload Reporting'!Q744 = \"\",\"\",'Caseload Reporting'!Q744)","v":""},{"$f":"IF('Caseload Reporting'!R744 = \"\",\"\",'Caseload Reporting'!R744)","v":""},{"$f":"IF('Caseload Reporting'!E744 = \"\",\"\",'Caseload Reporting'!E744)","v":""},{"$f":"IF('Caseload Reporting'!S744 = \"\",\"\",'Caseload Reporting'!S744)","v":""}]
[{"$f":"IF('Caseload Reporting'!A745 = \"\",\"\",'Caseload Reporting'!A745)","v":""},{"$f":"IF('Caseload Reporting'!B745 = \"\",\"\",'Caseload Reporting'!B745)","v":""},{"$f":"IF('Caseload Reporting'!C745 = \"\",\"\",'Caseload Reporting'!C745)","v":""},{"$f":"IF('Caseload Reporting'!D745 = \"\",\"\",'Caseload Reporting'!D745)","v":""},{"$f":"IF('Caseload Reporting'!G745 = \"\",\"\",'Caseload Reporting'!G745)","v":""},{"$f":"IF('Caseload Reporting'!H745 = \"\",\"\",'Caseload Reporting'!H745)","v":""},{"$f":"IF('Caseload Reporting'!I745 = \"\",\"\",'Caseload Reporting'!I745)","v":""},{"$f":"IF('Caseload Reporting'!J745 = \"\",\"\",'Caseload Reporting'!J745)","v":""},{"$f":"IF('Caseload Reporting'!K745 = \"\",\"\",'Caseload Reporting'!K745)","v":""},{"$f":"IF('Caseload Reporting'!L745 = \"\",\"\",'Caseload Reporting'!L745)","v":""},{"$f":"IF('Caseload Reporting'!M745 = \"\",\"\",'Caseload Reporting'!M745)","v":""},{"$f":"IF('Caseload Reporting'!N745 = \"\",\"\",'Caseload Reporting'!N745)","v":""},{"$f":"IF('Caseload Reporting'!P745 = \"\",\"\",'Caseload Reporting'!P745)","v":""},{"$f":"IF('Caseload Reporting'!O745 = \"\",\"\",'Caseload Reporting'!O745)","v":""},{"$f":"IF('Caseload Reporting'!Q745 = \"\",\"\",'Caseload Reporting'!Q745)","v":""},{"$f":"IF('Caseload Reporting'!R745 = \"\",\"\",'Caseload Reporting'!R745)","v":""},{"$f":"IF('Caseload Reporting'!E745 = \"\",\"\",'Caseload Reporting'!E745)","v":""},{"$f":"IF('Caseload Reporting'!S745 = \"\",\"\",'Caseload Reporting'!S745)","v":""}]
[{"$f":"IF('Caseload Reporting'!A746 = \"\",\"\",'Caseload Reporting'!A746)","v":""},{"$f":"IF('Caseload Reporting'!B746 = \"\",\"\",'Caseload Reporting'!B746)","v":""},{"$f":"IF('Caseload Reporting'!C746 = \"\",\"\",'Caseload Reporting'!C746)","v":""},{"$f":"IF('Caseload Reporting'!D746 = \"\",\"\",'Caseload Reporting'!D746)","v":""},{"$f":"IF('Caseload Reporting'!G746 = \"\",\"\",'Caseload Reporting'!G746)","v":""},{"$f":"IF('Caseload Reporting'!H746 = \"\",\"\",'Caseload Reporting'!H746)","v":""},{"$f":"IF('Caseload Reporting'!I746 = \"\",\"\",'Caseload Reporting'!I746)","v":""},{"$f":"IF('Caseload Reporting'!J746 = \"\",\"\",'Caseload Reporting'!J746)","v":""},{"$f":"IF('Caseload Reporting'!K746 = \"\",\"\",'Caseload Reporting'!K746)","v":""},{"$f":"IF('Caseload Reporting'!L746 = \"\",\"\",'Caseload Reporting'!L746)","v":""},{"$f":"IF('Caseload Reporting'!M746 = \"\",\"\",'Caseload Reporting'!M746)","v":""},{"$f":"IF('Caseload Reporting'!N746 = \"\",\"\",'Caseload Reporting'!N746)","v":""},{"$f":"IF('Caseload Reporting'!P746 = \"\",\"\",'Caseload Reporting'!P746)","v":""},{"$f":"IF('Caseload Reporting'!O746 = \"\",\"\",'Caseload Reporting'!O746)","v":""},{"$f":"IF('Caseload Reporting'!Q746 = \"\",\"\",'Caseload Reporting'!Q746)","v":""},{"$f":"IF('Caseload Reporting'!R746 = \"\",\"\",'Caseload Reporting'!R746)","v":""},{"$f":"IF('Caseload Reporting'!E746 = \"\",\"\",'Caseload Reporting'!E746)","v":""},{"$f":"IF('Caseload Reporting'!S746 = \"\",\"\",'Caseload Reporting'!S746)","v":""}]
[{"$f":"IF('Caseload Reporting'!A747 = \"\",\"\",'Caseload Reporting'!A747)","v":""},{"$f":"IF('Caseload Reporting'!B747 = \"\",\"\",'Caseload Reporting'!B747)","v":""},{"$f":"IF('Caseload Reporting'!C747 = \"\",\"\",'Caseload Reporting'!C747)","v":""},{"$f":"IF('Caseload Reporting'!D747 = \"\",\"\",'Caseload Reporting'!D747)","v":""},{"$f":"IF('Caseload Reporting'!G747 = \"\",\"\",'Caseload Reporting'!G747)","v":""},{"$f":"IF('Caseload Reporting'!H747 = \"\",\"\",'Caseload Reporting'!H747)","v":""},{"$f":"IF('Caseload Reporting'!I747 = \"\",\"\",'Caseload Reporting'!I747)","v":""},{"$f":"IF('Caseload Reporting'!J747 = \"\",\"\",'Caseload Reporting'!J747)","v":""},{"$f":"IF('Caseload Reporting'!K747 = \"\",\"\",'Caseload Reporting'!K747)","v":""},{"$f":"IF('Caseload Reporting'!L747 = \"\",\"\",'Caseload Reporting'!L747)","v":""},{"$f":"IF('Caseload Reporting'!M747 = \"\",\"\",'Caseload Reporting'!M747)","v":""},{"$f":"IF('Caseload Reporting'!N747 = \"\",\"\",'Caseload Reporting'!N747)","v":""},{"$f":"IF('Caseload Reporting'!P747 = \"\",\"\",'Caseload Reporting'!P747)","v":""},{"$f":"IF('Caseload Reporting'!O747 = \"\",\"\",'Caseload Reporting'!O747)","v":""},{"$f":"IF('Caseload Reporting'!Q747 = \"\",\"\",'Caseload Reporting'!Q747)","v":""},{"$f":"IF('Caseload Reporting'!R747 = \"\",\"\",'Caseload Reporting'!R747)","v":""},{"$f":"IF('Caseload Reporting'!E747 = \"\",\"\",'Caseload Reporting'!E747)","v":""},{"$f":"IF('Caseload Reporting'!S747 = \"\",\"\",'Caseload Reporting'!S747)","v":""}]
[{"$f":"IF('Caseload Reporting'!A748 = \"\",\"\",'Caseload Reporting'!A748)","v":""},{"$f":"IF('Caseload Reporting'!B748 = \"\",\"\",'Caseload Reporting'!B748)","v":""},{"$f":"IF('Caseload Reporting'!C748 = \"\",\"\",'Caseload Reporting'!C748)","v":""},{"$f":"IF('Caseload Reporting'!D748 = \"\",\"\",'Caseload Reporting'!D748)","v":""},{"$f":"IF('Caseload Reporting'!G748 = \"\",\"\",'Caseload Reporting'!G748)","v":""},{"$f":"IF('Caseload Reporting'!H748 = \"\",\"\",'Caseload Reporting'!H748)","v":""},{"$f":"IF('Caseload Reporting'!I748 = \"\",\"\",'Caseload Reporting'!I748)","v":""},{"$f":"IF('Caseload Reporting'!J748 = \"\",\"\",'Caseload Reporting'!J748)","v":""},{"$f":"IF('Caseload Reporting'!K748 = \"\",\"\",'Caseload Reporting'!K748)","v":""},{"$f":"IF('Caseload Reporting'!L748 = \"\",\"\",'Caseload Reporting'!L748)","v":""},{"$f":"IF('Caseload Reporting'!M748 = \"\",\"\",'Caseload Reporting'!M748)","v":""},{"$f":"IF('Caseload Reporting'!N748 = \"\",\"\",'Caseload Reporting'!N748)","v":""},{"$f":"IF('Caseload Reporting'!P748 = \"\",\"\",'Caseload Reporting'!P748)","v":""},{"$f":"IF('Caseload Reporting'!O748 = \"\",\"\",'Caseload Reporting'!O748)","v":""},{"$f":"IF('Caseload Reporting'!Q748 = \"\",\"\",'Caseload Reporting'!Q748)","v":""},{"$f":"IF('Caseload Reporting'!R748 = \"\",\"\",'Caseload Reporting'!R748)","v":""},{"$f":"IF('Caseload Reporting'!E748 = \"\",\"\",'Caseload Reporting'!E748)","v":""},{"$f":"IF('Caseload Reporting'!S748 = \"\",\"\",'Caseload Reporting'!S748)","v":""}]
[{"$f":"IF('Caseload Reporting'!A749 = \"\",\"\",'Caseload Reporting'!A749)","v":""},{"$f":"IF('Caseload Reporting'!B749 = \"\",\"\",'Caseload Reporting'!B749)","v":""},{"$f":"IF('Caseload Reporting'!C749 = \"\",\"\",'Caseload Reporting'!C749)","v":""},{"$f":"IF('Caseload Reporting'!D749 = \"\",\"\",'Caseload Reporting'!D749)","v":""},{"$f":"IF('Caseload Reporting'!G749 = \"\",\"\",'Caseload Reporting'!G749)","v":""},{"$f":"IF('Caseload Reporting'!H749 = \"\",\"\",'Caseload Reporting'!H749)","v":""},{"$f":"IF('Caseload Reporting'!I749 = \"\",\"\",'Caseload Reporting'!I749)","v":""},{"$f":"IF('Caseload Reporting'!J749 = \"\",\"\",'Caseload Reporting'!J749)","v":""},{"$f":"IF('Caseload Reporting'!K749 = \"\",\"\",'Caseload Reporting'!K749)","v":""},{"$f":"IF('Caseload Reporting'!L749 = \"\",\"\",'Caseload Reporting'!L749)","v":""},{"$f":"IF('Caseload Reporting'!M749 = \"\",\"\",'Caseload Reporting'!M749)","v":""},{"$f":"IF('Caseload Reporting'!N749 = \"\",\"\",'Caseload Reporting'!N749)","v":""},{"$f":"IF('Caseload Reporting'!P749 = \"\",\"\",'Caseload Reporting'!P749)","v":""},{"$f":"IF('Caseload Reporting'!O749 = \"\",\"\",'Caseload Reporting'!O749)","v":""},{"$f":"IF('Caseload Reporting'!Q749 = \"\",\"\",'Caseload Reporting'!Q749)","v":""},{"$f":"IF('Caseload Reporting'!R749 = \"\",\"\",'Caseload Reporting'!R749)","v":""},{"$f":"IF('Caseload Reporting'!E749 = \"\",\"\",'Caseload Reporting'!E749)","v":""},{"$f":"IF('Caseload Reporting'!S749 = \"\",\"\",'Caseload Reporting'!S749)","v":""}]
[{"$f":"IF('Caseload Reporting'!A750 = \"\",\"\",'Caseload Reporting'!A750)","v":""},{"$f":"IF('Caseload Reporting'!B750 = \"\",\"\",'Caseload Reporting'!B750)","v":""},{"$f":"IF('Caseload Reporting'!C750 = \"\",\"\",'Caseload Reporting'!C750)","v":""},{"$f":"IF('Caseload Reporting'!D750 = \"\",\"\",'Caseload Reporting'!D750)","v":""},{"$f":"IF('Caseload Reporting'!G750 = \"\",\"\",'Caseload Reporting'!G750)","v":""},{"$f":"IF('Caseload Reporting'!H750 = \"\",\"\",'Caseload Reporting'!H750)","v":""},{"$f":"IF('Caseload Reporting'!I750 = \"\",\"\",'Caseload Reporting'!I750)","v":""},{"$f":"IF('Caseload Reporting'!J750 = \"\",\"\",'Caseload Reporting'!J750)","v":""},{"$f":"IF('Caseload Reporting'!K750 = \"\",\"\",'Caseload Reporting'!K750)","v":""},{"$f":"IF('Caseload Reporting'!L750 = \"\",\"\",'Caseload Reporting'!L750)","v":""},{"$f":"IF('Caseload Reporting'!M750 = \"\",\"\",'Caseload Reporting'!M750)","v":""},{"$f":"IF('Caseload Reporting'!N750 = \"\",\"\",'Caseload Reporting'!N750)","v":""},{"$f":"IF('Caseload Reporting'!P750 = \"\",\"\",'Caseload Reporting'!P750)","v":""},{"$f":"IF('Caseload Reporting'!O750 = \"\",\"\",'Caseload Reporting'!O750)","v":""},{"$f":"IF('Caseload Reporting'!Q750 = \"\",\"\",'Caseload Reporting'!Q750)","v":""},{"$f":"IF('Caseload Reporting'!R750 = \"\",\"\",'Caseload Reporting'!R750)","v":""},{"$f":"IF('Caseload Reporting'!E750 = \"\",\"\",'Caseload Reporting'!E750)","v":""},{"$f":"IF('Caseload Reporting'!S750 = \"\",\"\",'Caseload Reporting'!S750)","v":""}]
[{"$f":"IF('Caseload Reporting'!A751 = \"\",\"\",'Caseload Reporting'!A751)","v":""},{"$f":"IF('Caseload Reporting'!B751 = \"\",\"\",'Caseload Reporting'!B751)","v":""},{"$f":"IF('Caseload Reporting'!C751 = \"\",\"\",'Caseload Reporting'!C751)","v":""},{"$f":"IF('Caseload Reporting'!D751 = \"\",\"\",'Caseload Reporting'!D751)","v":""},{"$f":"IF('Caseload Reporting'!G751 = \"\",\"\",'Caseload Reporting'!G751)","v":""},{"$f":"IF('Caseload Reporting'!H751 = \"\",\"\",'Caseload Reporting'!H751)","v":""},{"$f":"IF('Caseload Reporting'!I751 = \"\",\"\",'Caseload Reporting'!I751)","v":""},{"$f":"IF('Caseload Reporting'!J751 = \"\",\"\",'Caseload Reporting'!J751)","v":""},{"$f":"IF('Caseload Reporting'!K751 = \"\",\"\",'Caseload Reporting'!K751)","v":""},{"$f":"IF('Caseload Reporting'!L751 = \"\",\"\",'Caseload Reporting'!L751)","v":""},{"$f":"IF('Caseload Reporting'!M751 = \"\",\"\",'Caseload Reporting'!M751)","v":""},{"$f":"IF('Caseload Reporting'!N751 = \"\",\"\",'Caseload Reporting'!N751)","v":""},{"$f":"IF('Caseload Reporting'!P751 = \"\",\"\",'Caseload Reporting'!P751)","v":""},{"$f":"IF('Caseload Reporting'!O751 = \"\",\"\",'Caseload Reporting'!O751)","v":""},{"$f":"IF('Caseload Reporting'!Q751 = \"\",\"\",'Caseload Reporting'!Q751)","v":""},{"$f":"IF('Caseload Reporting'!R751 = \"\",\"\",'Caseload Reporting'!R751)","v":""},{"$f":"IF('Caseload Reporting'!E751 = \"\",\"\",'Caseload Reporting'!E751)","v":""},{"$f":"IF('Caseload Reporting'!S751 = \"\",\"\",'Caseload Reporting'!S751)","v":""}]
[{"$f":"IF('Caseload Reporting'!A752 = \"\",\"\",'Caseload Reporting'!A752)","v":""},{"$f":"IF('Caseload Reporting'!B752 = \"\",\"\",'Caseload Reporting'!B752)","v":""},{"$f":"IF('Caseload Reporting'!C752 = \"\",\"\",'Caseload Reporting'!C752)","v":""},{"$f":"IF('Caseload Reporting'!D752 = \"\",\"\",'Caseload Reporting'!D752)","v":""},{"$f":"IF('Caseload Reporting'!G752 = \"\",\"\",'Caseload Reporting'!G752)","v":""},{"$f":"IF('Caseload Reporting'!H752 = \"\",\"\",'Caseload Reporting'!H752)","v":""},{"$f":"IF('Caseload Reporting'!I752 = \"\",\"\",'Caseload Reporting'!I752)","v":""},{"$f":"IF('Caseload Reporting'!J752 = \"\",\"\",'Caseload Reporting'!J752)","v":""},{"$f":"IF('Caseload Reporting'!K752 = \"\",\"\",'Caseload Reporting'!K752)","v":""},{"$f":"IF('Caseload Reporting'!L752 = \"\",\"\",'Caseload Reporting'!L752)","v":""},{"$f":"IF('Caseload Reporting'!M752 = \"\",\"\",'Caseload Reporting'!M752)","v":""},{"$f":"IF('Caseload Reporting'!N752 = \"\",\"\",'Caseload Reporting'!N752)","v":""},{"$f":"IF('Caseload Reporting'!P752 = \"\",\"\",'Caseload Reporting'!P752)","v":""},{"$f":"IF('Caseload Reporting'!O752 = \"\",\"\",'Caseload Reporting'!O752)","v":""},{"$f":"IF('Caseload Reporting'!Q752 = \"\",\"\",'Caseload Reporting'!Q752)","v":""},{"$f":"IF('Caseload Reporting'!R752 = \"\",\"\",'Caseload Reporting'!R752)","v":""},{"$f":"IF('Caseload Reporting'!E752 = \"\",\"\",'Caseload Reporting'!E752)","v":""},{"$f":"IF('Caseload Reporting'!S752 = \"\",\"\",'Caseload Reporting'!S752)","v":""}]
[{"$f":"IF('Caseload Reporting'!A753 = \"\",\"\",'Caseload Reporting'!A753)","v":""},{"$f":"IF('Caseload Reporting'!B753 = \"\",\"\",'Caseload Reporting'!B753)","v":""},{"$f":"IF('Caseload Reporting'!C753 = \"\",\"\",'Caseload Reporting'!C753)","v":""},{"$f":"IF('Caseload Reporting'!D753 = \"\",\"\",'Caseload Reporting'!D753)","v":""},{"$f":"IF('Caseload Reporting'!G753 = \"\",\"\",'Caseload Reporting'!G753)","v":""},{"$f":"IF('Caseload Reporting'!H753 = \"\",\"\",'Caseload Reporting'!H753)","v":""},{"$f":"IF('Caseload Reporting'!I753 = \"\",\"\",'Caseload Reporting'!I753)","v":""},{"$f":"IF('Caseload Reporting'!J753 = \"\",\"\",'Caseload Reporting'!J753)","v":""},{"$f":"IF('Caseload Reporting'!K753 = \"\",\"\",'Caseload Reporting'!K753)","v":""},{"$f":"IF('Caseload Reporting'!L753 = \"\",\"\",'Caseload Reporting'!L753)","v":""},{"$f":"IF('Caseload Reporting'!M753 = \"\",\"\",'Caseload Reporting'!M753)","v":""},{"$f":"IF('Caseload Reporting'!N753 = \"\",\"\",'Caseload Reporting'!N753)","v":""},{"$f":"IF('Caseload Reporting'!P753 = \"\",\"\",'Caseload Reporting'!P753)","v":""},{"$f":"IF('Caseload Reporting'!O753 = \"\",\"\",'Caseload Reporting'!O753)","v":""},{"$f":"IF('Caseload Reporting'!Q753 = \"\",\"\",'Caseload Reporting'!Q753)","v":""},{"$f":"IF('Caseload Reporting'!R753 = \"\",\"\",'Caseload Reporting'!R753)","v":""},{"$f":"IF('Caseload Reporting'!E753 = \"\",\"\",'Caseload Reporting'!E753)","v":""},{"$f":"IF('Caseload Reporting'!S753 = \"\",\"\",'Caseload Reporting'!S753)","v":""}]
[{"$f":"IF('Caseload Reporting'!A754 = \"\",\"\",'Caseload Reporting'!A754)","v":""},{"$f":"IF('Caseload Reporting'!B754 = \"\",\"\",'Caseload Reporting'!B754)","v":""},{"$f":"IF('Caseload Reporting'!C754 = \"\",\"\",'Caseload Reporting'!C754)","v":""},{"$f":"IF('Caseload Reporting'!D754 = \"\",\"\",'Caseload Reporting'!D754)","v":""},{"$f":"IF('Caseload Reporting'!G754 = \"\",\"\",'Caseload Reporting'!G754)","v":""},{"$f":"IF('Caseload Reporting'!H754 = \"\",\"\",'Caseload Reporting'!H754)","v":""},{"$f":"IF('Caseload Reporting'!I754 = \"\",\"\",'Caseload Reporting'!I754)","v":""},{"$f":"IF('Caseload Reporting'!J754 = \"\",\"\",'Caseload Reporting'!J754)","v":""},{"$f":"IF('Caseload Reporting'!K754 = \"\",\"\",'Caseload Reporting'!K754)","v":""},{"$f":"IF('Caseload Reporting'!L754 = \"\",\"\",'Caseload Reporting'!L754)","v":""},{"$f":"IF('Caseload Reporting'!M754 = \"\",\"\",'Caseload Reporting'!M754)","v":""},{"$f":"IF('Caseload Reporting'!N754 = \"\",\"\",'Caseload Reporting'!N754)","v":""},{"$f":"IF('Caseload Reporting'!P754 = \"\",\"\",'Caseload Reporting'!P754)","v":""},{"$f":"IF('Caseload Reporting'!O754 = \"\",\"\",'Caseload Reporting'!O754)","v":""},{"$f":"IF('Caseload Reporting'!Q754 = \"\",\"\",'Caseload Reporting'!Q754)","v":""},{"$f":"IF('Caseload Reporting'!R754 = \"\",\"\",'Caseload Reporting'!R754)","v":""},{"$f":"IF('Caseload Reporting'!E754 = \"\",\"\",'Caseload Reporting'!E754)","v":""},{"$f":"IF('Caseload Reporting'!S754 = \"\",\"\",'Caseload Reporting'!S754)","v":""}]
[{"$f":"IF('Caseload Reporting'!A755 = \"\",\"\",'Caseload Reporting'!A755)","v":""},{"$f":"IF('Caseload Reporting'!B755 = \"\",\"\",'Caseload Reporting'!B755)","v":""},{"$f":"IF('Caseload Reporting'!C755 = \"\",\"\",'Caseload Reporting'!C755)","v":""},{"$f":"IF('Caseload Reporting'!D755 = \"\",\"\",'Caseload Reporting'!D755)","v":""},{"$f":"IF('Caseload Reporting'!G755 = \"\",\"\",'Caseload Reporting'!G755)","v":""},{"$f":"IF('Caseload Reporting'!H755 = \"\",\"\",'Caseload Reporting'!H755)","v":""},{"$f":"IF('Caseload Reporting'!I755 = \"\",\"\",'Caseload Reporting'!I755)","v":""},{"$f":"IF('Caseload Reporting'!J755 = \"\",\"\",'Caseload Reporting'!J755)","v":""},{"$f":"IF('Caseload Reporting'!K755 = \"\",\"\",'Caseload Reporting'!K755)","v":""},{"$f":"IF('Caseload Reporting'!L755 = \"\",\"\",'Caseload Reporting'!L755)","v":""},{"$f":"IF('Caseload Reporting'!M755 = \"\",\"\",'Caseload Reporting'!M755)","v":""},{"$f":"IF('Caseload Reporting'!N755 = \"\",\"\",'Caseload Reporting'!N755)","v":""},{"$f":"IF('Caseload Reporting'!P755 = \"\",\"\",'Caseload Reporting'!P755)","v":""},{"$f":"IF('Caseload Reporting'!O755 = \"\",\"\",'Caseload Reporting'!O755)","v":""},{"$f":"IF('Caseload Reporting'!Q755 = \"\",\"\",'Caseload Reporting'!Q755)","v":""},{"$f":"IF('Caseload Reporting'!R755 = \"\",\"\",'Caseload Reporting'!R755)","v":""},{"$f":"IF('Caseload Reporting'!E755 = \"\",\"\",'Caseload Reporting'!E755)","v":""},{"$f":"IF('Caseload Reporting'!S755 = \"\",\"\",'Caseload Reporting'!S755)","v":""}]
[{"$f":"IF('Caseload Reporting'!A756 = \"\",\"\",'Caseload Reporting'!A756)","v":""},{"$f":"IF('Caseload Reporting'!B756 = \"\",\"\",'Caseload Reporting'!B756)","v":""},{"$f":"IF('Caseload Reporting'!C756 = \"\",\"\",'Caseload Reporting'!C756)","v":""},{"$f":"IF('Caseload Reporting'!D756 = \"\",\"\",'Caseload Reporting'!D756)","v":""},{"$f":"IF('Caseload Reporting'!G756 = \"\",\"\",'Caseload Reporting'!G756)","v":""},{"$f":"IF('Caseload Reporting'!H756 = \"\",\"\",'Caseload Reporting'!H756)","v":""},{"$f":"IF('Caseload Reporting'!I756 = \"\",\"\",'Caseload Reporting'!I756)","v":""},{"$f":"IF('Caseload Reporting'!J756 = \"\",\"\",'Caseload Reporting'!J756)","v":""},{"$f":"IF('Caseload Reporting'!K756 = \"\",\"\",'Caseload Reporting'!K756)","v":""},{"$f":"IF('Caseload Reporting'!L756 = \"\",\"\",'Caseload Reporting'!L756)","v":""},{"$f":"IF('Caseload Reporting'!M756 = \"\",\"\",'Caseload Reporting'!M756)","v":""},{"$f":"IF('Caseload Reporting'!N756 = \"\",\"\",'Caseload Reporting'!N756)","v":""},{"$f":"IF('Caseload Reporting'!P756 = \"\",\"\",'Caseload Reporting'!P756)","v":""},{"$f":"IF('Caseload Reporting'!O756 = \"\",\"\",'Caseload Reporting'!O756)","v":""},{"$f":"IF('Caseload Reporting'!Q756 = \"\",\"\",'Caseload Reporting'!Q756)","v":""},{"$f":"IF('Caseload Reporting'!R756 = \"\",\"\",'Caseload Reporting'!R756)","v":""},{"$f":"IF('Caseload Reporting'!E756 = \"\",\"\",'Caseload Reporting'!E756)","v":""},{"$f":"IF('Caseload Reporting'!S756 = \"\",\"\",'Caseload Reporting'!S756)","v":""}]
[{"$f":"IF('Caseload Reporting'!A757 = \"\",\"\",'Caseload Reporting'!A757)","v":""},{"$f":"IF('Caseload Reporting'!B757 = \"\",\"\",'Caseload Reporting'!B757)","v":""},{"$f":"IF('Caseload Reporting'!C757 = \"\",\"\",'Caseload Reporting'!C757)","v":""},{"$f":"IF('Caseload Reporting'!D757 = \"\",\"\",'Caseload Reporting'!D757)","v":""},{"$f":"IF('Caseload Reporting'!G757 = \"\",\"\",'Caseload Reporting'!G757)","v":""},{"$f":"IF('Caseload Reporting'!H757 = \"\",\"\",'Caseload Reporting'!H757)","v":""},{"$f":"IF('Caseload Reporting'!I757 = \"\",\"\",'Caseload Reporting'!I757)","v":""},{"$f":"IF('Caseload Reporting'!J757 = \"\",\"\",'Caseload Reporting'!J757)","v":""},{"$f":"IF('Caseload Reporting'!K757 = \"\",\"\",'Caseload Reporting'!K757)","v":""},{"$f":"IF('Caseload Reporting'!L757 = \"\",\"\",'Caseload Reporting'!L757)","v":""},{"$f":"IF('Caseload Reporting'!M757 = \"\",\"\",'Caseload Reporting'!M757)","v":""},{"$f":"IF('Caseload Reporting'!N757 = \"\",\"\",'Caseload Reporting'!N757)","v":""},{"$f":"IF('Caseload Reporting'!P757 = \"\",\"\",'Caseload Reporting'!P757)","v":""},{"$f":"IF('Caseload Reporting'!O757 = \"\",\"\",'Caseload Reporting'!O757)","v":""},{"$f":"IF('Caseload Reporting'!Q757 = \"\",\"\",'Caseload Reporting'!Q757)","v":""},{"$f":"IF('Caseload Reporting'!R757 = \"\",\"\",'Caseload Reporting'!R757)","v":""},{"$f":"IF('Caseload Reporting'!E757 = \"\",\"\",'Caseload Reporting'!E757)","v":""},{"$f":"IF('Caseload Reporting'!S757 = \"\",\"\",'Caseload Reporting'!S757)","v":""}]
[{"$f":"IF('Caseload Reporting'!A758 = \"\",\"\",'Caseload Reporting'!A758)","v":""},{"$f":"IF('Caseload Reporting'!B758 = \"\",\"\",'Caseload Reporting'!B758)","v":""},{"$f":"IF('Caseload Reporting'!C758 = \"\",\"\",'Caseload Reporting'!C758)","v":""},{"$f":"IF('Caseload Reporting'!D758 = \"\",\"\",'Caseload Reporting'!D758)","v":""},{"$f":"IF('Caseload Reporting'!G758 = \"\",\"\",'Caseload Reporting'!G758)","v":""},{"$f":"IF('Caseload Reporting'!H758 = \"\",\"\",'Caseload Reporting'!H758)","v":""},{"$f":"IF('Caseload Reporting'!I758 = \"\",\"\",'Caseload Reporting'!I758)","v":""},{"$f":"IF('Caseload Reporting'!J758 = \"\",\"\",'Caseload Reporting'!J758)","v":""},{"$f":"IF('Caseload Reporting'!K758 = \"\",\"\",'Caseload Reporting'!K758)","v":""},{"$f":"IF('Caseload Reporting'!L758 = \"\",\"\",'Caseload Reporting'!L758)","v":""},{"$f":"IF('Caseload Reporting'!M758 = \"\",\"\",'Caseload Reporting'!M758)","v":""},{"$f":"IF('Caseload Reporting'!N758 = \"\",\"\",'Caseload Reporting'!N758)","v":""},{"$f":"IF('Caseload Reporting'!P758 = \"\",\"\",'Caseload Reporting'!P758)","v":""},{"$f":"IF('Caseload Reporting'!O758 = \"\",\"\",'Caseload Reporting'!O758)","v":""},{"$f":"IF('Caseload Reporting'!Q758 = \"\",\"\",'Caseload Reporting'!Q758)","v":""},{"$f":"IF('Caseload Reporting'!R758 = \"\",\"\",'Caseload Reporting'!R758)","v":""},{"$f":"IF('Caseload Reporting'!E758 = \"\",\"\",'Caseload Reporting'!E758)","v":""},{"$f":"IF('Caseload Reporting'!S758 = \"\",\"\",'Caseload Reporting'!S758)","v":""}]
[{"$f":"IF('Caseload Reporting'!A759 = \"\",\"\",'Caseload Reporting'!A759)","v":""},{"$f":"IF('Caseload Reporting'!B759 = \"\",\"\",'Caseload Reporting'!B759)","v":""},{"$f":"IF('Caseload Reporting'!C759 = \"\",\"\",'Caseload Reporting'!C759)","v":""},{"$f":"IF('Caseload Reporting'!D759 = \"\",\"\",'Caseload Reporting'!D759)","v":""},{"$f":"IF('Caseload Reporting'!G759 = \"\",\"\",'Caseload Reporting'!G759)","v":""},{"$f":"IF('Caseload Reporting'!H759 = \"\",\"\",'Caseload Reporting'!H759)","v":""},{"$f":"IF('Caseload Reporting'!I759 = \"\",\"\",'Caseload Reporting'!I759)","v":""},{"$f":"IF('Caseload Reporting'!J759 = \"\",\"\",'Caseload Reporting'!J759)","v":""},{"$f":"IF('Caseload Reporting'!K759 = \"\",\"\",'Caseload Reporting'!K759)","v":""},{"$f":"IF('Caseload Reporting'!L759 = \"\",\"\",'Caseload Reporting'!L759)","v":""},{"$f":"IF('Caseload Reporting'!M759 = \"\",\"\",'Caseload Reporting'!M759)","v":""},{"$f":"IF('Caseload Reporting'!N759 = \"\",\"\",'Caseload Reporting'!N759)","v":""},{"$f":"IF('Caseload Reporting'!P759 = \"\",\"\",'Caseload Reporting'!P759)","v":""},{"$f":"IF('Caseload Reporting'!O759 = \"\",\"\",'Caseload Reporting'!O759)","v":""},{"$f":"IF('Caseload Reporting'!Q759 = \"\",\"\",'Caseload Reporting'!Q759)","v":""},{"$f":"IF('Caseload Reporting'!R759 = \"\",\"\",'Caseload Reporting'!R759)","v":""},{"$f":"IF('Caseload Reporting'!E759 = \"\",\"\",'Caseload Reporting'!E759)","v":""},{"$f":"IF('Caseload Reporting'!S759 = \"\",\"\",'Caseload Reporting'!S759)","v":""}]
[{"$f":"IF('Caseload Reporting'!A760 = \"\",\"\",'Caseload Reporting'!A760)","v":""},{"$f":"IF('Caseload Reporting'!B760 = \"\",\"\",'Caseload Reporting'!B760)","v":""},{"$f":"IF('Caseload Reporting'!C760 = \"\",\"\",'Caseload Reporting'!C760)","v":""},{"$f":"IF('Caseload Reporting'!D760 = \"\",\"\",'Caseload Reporting'!D760)","v":""},{"$f":"IF('Caseload Reporting'!G760 = \"\",\"\",'Caseload Reporting'!G760)","v":""},{"$f":"IF('Caseload Reporting'!H760 = \"\",\"\",'Caseload Reporting'!H760)","v":""},{"$f":"IF('Caseload Reporting'!I760 = \"\",\"\",'Caseload Reporting'!I760)","v":""},{"$f":"IF('Caseload Reporting'!J760 = \"\",\"\",'Caseload Reporting'!J760)","v":""},{"$f":"IF('Caseload Reporting'!K760 = \"\",\"\",'Caseload Reporting'!K760)","v":""},{"$f":"IF('Caseload Reporting'!L760 = \"\",\"\",'Caseload Reporting'!L760)","v":""},{"$f":"IF('Caseload Reporting'!M760 = \"\",\"\",'Caseload Reporting'!M760)","v":""},{"$f":"IF('Caseload Reporting'!N760 = \"\",\"\",'Caseload Reporting'!N760)","v":""},{"$f":"IF('Caseload Reporting'!P760 = \"\",\"\",'Caseload Reporting'!P760)","v":""},{"$f":"IF('Caseload Reporting'!O760 = \"\",\"\",'Caseload Reporting'!O760)","v":""},{"$f":"IF('Caseload Reporting'!Q760 = \"\",\"\",'Caseload Reporting'!Q760)","v":""},{"$f":"IF('Caseload Reporting'!R760 = \"\",\"\",'Caseload Reporting'!R760)","v":""},{"$f":"IF('Caseload Reporting'!E760 = \"\",\"\",'Caseload Reporting'!E760)","v":""},{"$f":"IF('Caseload Reporting'!S760 = \"\",\"\",'Caseload Reporting'!S760)","v":""}]
[{"$f":"IF('Caseload Reporting'!A761 = \"\",\"\",'Caseload Reporting'!A761)","v":""},{"$f":"IF('Caseload Reporting'!B761 = \"\",\"\",'Caseload Reporting'!B761)","v":""},{"$f":"IF('Caseload Reporting'!C761 = \"\",\"\",'Caseload Reporting'!C761)","v":""},{"$f":"IF('Caseload Reporting'!D761 = \"\",\"\",'Caseload Reporting'!D761)","v":""},{"$f":"IF('Caseload Reporting'!G761 = \"\",\"\",'Caseload Reporting'!G761)","v":""},{"$f":"IF('Caseload Reporting'!H761 = \"\",\"\",'Caseload Reporting'!H761)","v":""},{"$f":"IF('Caseload Reporting'!I761 = \"\",\"\",'Caseload Reporting'!I761)","v":""},{"$f":"IF('Caseload Reporting'!J761 = \"\",\"\",'Caseload Reporting'!J761)","v":""},{"$f":"IF('Caseload Reporting'!K761 = \"\",\"\",'Caseload Reporting'!K761)","v":""},{"$f":"IF('Caseload Reporting'!L761 = \"\",\"\",'Caseload Reporting'!L761)","v":""},{"$f":"IF('Caseload Reporting'!M761 = \"\",\"\",'Caseload Reporting'!M761)","v":""},{"$f":"IF('Caseload Reporting'!N761 = \"\",\"\",'Caseload Reporting'!N761)","v":""},{"$f":"IF('Caseload Reporting'!P761 = \"\",\"\",'Caseload Reporting'!P761)","v":""},{"$f":"IF('Caseload Reporting'!O761 = \"\",\"\",'Caseload Reporting'!O761)","v":""},{"$f":"IF('Caseload Reporting'!Q761 = \"\",\"\",'Caseload Reporting'!Q761)","v":""},{"$f":"IF('Caseload Reporting'!R761 = \"\",\"\",'Caseload Reporting'!R761)","v":""},{"$f":"IF('Caseload Reporting'!E761 = \"\",\"\",'Caseload Reporting'!E761)","v":""},{"$f":"IF('Caseload Reporting'!S761 = \"\",\"\",'Caseload Reporting'!S761)","v":""}]
[{"$f":"IF('Caseload Reporting'!A762 = \"\",\"\",'Caseload Reporting'!A762)","v":""},{"$f":"IF('Caseload Reporting'!B762 = \"\",\"\",'Caseload Reporting'!B762)","v":""},{"$f":"IF('Caseload Reporting'!C762 = \"\",\"\",'Caseload Reporting'!C762)","v":""},{"$f":"IF('Caseload Reporting'!D762 = \"\",\"\",'Caseload Reporting'!D762)","v":""},{"$f":"IF('Caseload Reporting'!G762 = \"\",\"\",'Caseload Reporting'!G762)","v":""},{"$f":"IF('Caseload Reporting'!H762 = \"\",\"\",'Caseload Reporting'!H762)","v":""},{"$f":"IF('Caseload Reporting'!I762 = \"\",\"\",'Caseload Reporting'!I762)","v":""},{"$f":"IF('Caseload Reporting'!J762 = \"\",\"\",'Caseload Reporting'!J762)","v":""},{"$f":"IF('Caseload Reporting'!K762 = \"\",\"\",'Caseload Reporting'!K762)","v":""},{"$f":"IF('Caseload Reporting'!L762 = \"\",\"\",'Caseload Reporting'!L762)","v":""},{"$f":"IF('Caseload Reporting'!M762 = \"\",\"\",'Caseload Reporting'!M762)","v":""},{"$f":"IF('Caseload Reporting'!N762 = \"\",\"\",'Caseload Reporting'!N762)","v":""},{"$f":"IF('Caseload Reporting'!P762 = \"\",\"\",'Caseload Reporting'!P762)","v":""},{"$f":"IF('Caseload Reporting'!O762 = \"\",\"\",'Caseload Reporting'!O762)","v":""},{"$f":"IF('Caseload Reporting'!Q762 = \"\",\"\",'Caseload Reporting'!Q762)","v":""},{"$f":"IF('Caseload Reporting'!R762 = \"\",\"\",'Caseload Reporting'!R762)","v":""},{"$f":"IF('Caseload Reporting'!E762 = \"\",\"\",'Caseload Reporting'!E762)","v":""},{"$f":"IF('Caseload Reporting'!S762 = \"\",\"\",'Caseload Reporting'!S762)","v":""}]
[{"$f":"IF('Caseload Reporting'!A763 = \"\",\"\",'Caseload Reporting'!A763)","v":""},{"$f":"IF('Caseload Reporting'!B763 = \"\",\"\",'Caseload Reporting'!B763)","v":""},{"$f":"IF('Caseload Reporting'!C763 = \"\",\"\",'Caseload Reporting'!C763)","v":""},{"$f":"IF('Caseload Reporting'!D763 = \"\",\"\",'Caseload Reporting'!D763)","v":""},{"$f":"IF('Caseload Reporting'!G763 = \"\",\"\",'Caseload Reporting'!G763)","v":""},{"$f":"IF('Caseload Reporting'!H763 = \"\",\"\",'Caseload Reporting'!H763)","v":""},{"$f":"IF('Caseload Reporting'!I763 = \"\",\"\",'Caseload Reporting'!I763)","v":""},{"$f":"IF('Caseload Reporting'!J763 = \"\",\"\",'Caseload Reporting'!J763)","v":""},{"$f":"IF('Caseload Reporting'!K763 = \"\",\"\",'Caseload Reporting'!K763)","v":""},{"$f":"IF('Caseload Reporting'!L763 = \"\",\"\",'Caseload Reporting'!L763)","v":""},{"$f":"IF('Caseload Reporting'!M763 = \"\",\"\",'Caseload Reporting'!M763)","v":""},{"$f":"IF('Caseload Reporting'!N763 = \"\",\"\",'Caseload Reporting'!N763)","v":""},{"$f":"IF('Caseload Reporting'!P763 = \"\",\"\",'Caseload Reporting'!P763)","v":""},{"$f":"IF('Caseload Reporting'!O763 = \"\",\"\",'Caseload Reporting'!O763)","v":""},{"$f":"IF('Caseload Reporting'!Q763 = \"\",\"\",'Caseload Reporting'!Q763)","v":""},{"$f":"IF('Caseload Reporting'!R763 = \"\",\"\",'Caseload Reporting'!R763)","v":""},{"$f":"IF('Caseload Reporting'!E763 = \"\",\"\",'Caseload Reporting'!E763)","v":""},{"$f":"IF('Caseload Reporting'!S763 = \"\",\"\",'Caseload Reporting'!S763)","v":""}]
[{"$f":"IF('Caseload Reporting'!A764 = \"\",\"\",'Caseload Reporting'!A764)","v":""},{"$f":"IF('Caseload Reporting'!B764 = \"\",\"\",'Caseload Reporting'!B764)","v":""},{"$f":"IF('Caseload Reporting'!C764 = \"\",\"\",'Caseload Reporting'!C764)","v":""},{"$f":"IF('Caseload Reporting'!D764 = \"\",\"\",'Caseload Reporting'!D764)","v":""},{"$f":"IF('Caseload Reporting'!G764 = \"\",\"\",'Caseload Reporting'!G764)","v":""},{"$f":"IF('Caseload Reporting'!H764 = \"\",\"\",'Caseload Reporting'!H764)","v":""},{"$f":"IF('Caseload Reporting'!I764 = \"\",\"\",'Caseload Reporting'!I764)","v":""},{"$f":"IF('Caseload Reporting'!J764 = \"\",\"\",'Caseload Reporting'!J764)","v":""},{"$f":"IF('Caseload Reporting'!K764 = \"\",\"\",'Caseload Reporting'!K764)","v":""},{"$f":"IF('Caseload Reporting'!L764 = \"\",\"\",'Caseload Reporting'!L764)","v":""},{"$f":"IF('Caseload Reporting'!M764 = \"\",\"\",'Caseload Reporting'!M764)","v":""},{"$f":"IF('Caseload Reporting'!N764 = \"\",\"\",'Caseload Reporting'!N764)","v":""},{"$f":"IF('Caseload Reporting'!P764 = \"\",\"\",'Caseload Reporting'!P764)","v":""},{"$f":"IF('Caseload Reporting'!O764 = \"\",\"\",'Caseload Reporting'!O764)","v":""},{"$f":"IF('Caseload Reporting'!Q764 = \"\",\"\",'Caseload Reporting'!Q764)","v":""},{"$f":"IF('Caseload Reporting'!R764 = \"\",\"\",'Caseload Reporting'!R764)","v":""},{"$f":"IF('Caseload Reporting'!E764 = \"\",\"\",'Caseload Reporting'!E764)","v":""},{"$f":"IF('Caseload Reporting'!S764 = \"\",\"\",'Caseload Reporting'!S764)","v":""}]
[{"$f":"IF('Caseload Reporting'!A765 = \"\",\"\",'Caseload Reporting'!A765)","v":""},{"$f":"IF('Caseload Reporting'!B765 = \"\",\"\",'Caseload Reporting'!B765)","v":""},{"$f":"IF('Caseload Reporting'!C765 = \"\",\"\",'Caseload Reporting'!C765)","v":""},{"$f":"IF('Caseload Reporting'!D765 = \"\",\"\",'Caseload Reporting'!D765)","v":""},{"$f":"IF('Caseload Reporting'!G765 = \"\",\"\",'Caseload Reporting'!G765)","v":""},{"$f":"IF('Caseload Reporting'!H765 = \"\",\"\",'Caseload Reporting'!H765)","v":""},{"$f":"IF('Caseload Reporting'!I765 = \"\",\"\",'Caseload Reporting'!I765)","v":""},{"$f":"IF('Caseload Reporting'!J765 = \"\",\"\",'Caseload Reporting'!J765)","v":""},{"$f":"IF('Caseload Reporting'!K765 = \"\",\"\",'Caseload Reporting'!K765)","v":""},{"$f":"IF('Caseload Reporting'!L765 = \"\",\"\",'Caseload Reporting'!L765)","v":""},{"$f":"IF('Caseload Reporting'!M765 = \"\",\"\",'Caseload Reporting'!M765)","v":""},{"$f":"IF('Caseload Reporting'!N765 = \"\",\"\",'Caseload Reporting'!N765)","v":""},{"$f":"IF('Caseload Reporting'!P765 = \"\",\"\",'Caseload Reporting'!P765)","v":""},{"$f":"IF('Caseload Reporting'!O765 = \"\",\"\",'Caseload Reporting'!O765)","v":""},{"$f":"IF('Caseload Reporting'!Q765 = \"\",\"\",'Caseload Reporting'!Q765)","v":""},{"$f":"IF('Caseload Reporting'!R765 = \"\",\"\",'Caseload Reporting'!R765)","v":""},{"$f":"IF('Caseload Reporting'!E765 = \"\",\"\",'Caseload Reporting'!E765)","v":""},{"$f":"IF('Caseload Reporting'!S765 = \"\",\"\",'Caseload Reporting'!S765)","v":""}]
[{"$f":"IF('Caseload Reporting'!A766 = \"\",\"\",'Caseload Reporting'!A766)","v":""},{"$f":"IF('Caseload Reporting'!B766 = \"\",\"\",'Caseload Reporting'!B766)","v":""},{"$f":"IF('Caseload Reporting'!C766 = \"\",\"\",'Caseload Reporting'!C766)","v":""},{"$f":"IF('Caseload Reporting'!D766 = \"\",\"\",'Caseload Reporting'!D766)","v":""},{"$f":"IF('Caseload Reporting'!G766 = \"\",\"\",'Caseload Reporting'!G766)","v":""},{"$f":"IF('Caseload Reporting'!H766 = \"\",\"\",'Caseload Reporting'!H766)","v":""},{"$f":"IF('Caseload Reporting'!I766 = \"\",\"\",'Caseload Reporting'!I766)","v":""},{"$f":"IF('Caseload Reporting'!J766 = \"\",\"\",'Caseload Reporting'!J766)","v":""},{"$f":"IF('Caseload Reporting'!K766 = \"\",\"\",'Caseload Reporting'!K766)","v":""},{"$f":"IF('Caseload Reporting'!L766 = \"\",\"\",'Caseload Reporting'!L766)","v":""},{"$f":"IF('Caseload Reporting'!M766 = \"\",\"\",'Caseload Reporting'!M766)","v":""},{"$f":"IF('Caseload Reporting'!N766 = \"\",\"\",'Caseload Reporting'!N766)","v":""},{"$f":"IF('Caseload Reporting'!P766 = \"\",\"\",'Caseload Reporting'!P766)","v":""},{"$f":"IF('Caseload Reporting'!O766 = \"\",\"\",'Caseload Reporting'!O766)","v":""},{"$f":"IF('Caseload Reporting'!Q766 = \"\",\"\",'Caseload Reporting'!Q766)","v":""},{"$f":"IF('Caseload Reporting'!R766 = \"\",\"\",'Caseload Reporting'!R766)","v":""},{"$f":"IF('Caseload Reporting'!E766 = \"\",\"\",'Caseload Reporting'!E766)","v":""},{"$f":"IF('Caseload Reporting'!S766 = \"\",\"\",'Caseload Reporting'!S766)","v":""}]
[{"$f":"IF('Caseload Reporting'!A767 = \"\",\"\",'Caseload Reporting'!A767)","v":""},{"$f":"IF('Caseload Reporting'!B767 = \"\",\"\",'Caseload Reporting'!B767)","v":""},{"$f":"IF('Caseload Reporting'!C767 = \"\",\"\",'Caseload Reporting'!C767)","v":""},{"$f":"IF('Caseload Reporting'!D767 = \"\",\"\",'Caseload Reporting'!D767)","v":""},{"$f":"IF('Caseload Reporting'!G767 = \"\",\"\",'Caseload Reporting'!G767)","v":""},{"$f":"IF('Caseload Reporting'!H767 = \"\",\"\",'Caseload Reporting'!H767)","v":""},{"$f":"IF('Caseload Reporting'!I767 = \"\",\"\",'Caseload Reporting'!I767)","v":""},{"$f":"IF('Caseload Reporting'!J767 = \"\",\"\",'Caseload Reporting'!J767)","v":""},{"$f":"IF('Caseload Reporting'!K767 = \"\",\"\",'Caseload Reporting'!K767)","v":""},{"$f":"IF('Caseload Reporting'!L767 = \"\",\"\",'Caseload Reporting'!L767)","v":""},{"$f":"IF('Caseload Reporting'!M767 = \"\",\"\",'Caseload Reporting'!M767)","v":""},{"$f":"IF('Caseload Reporting'!N767 = \"\",\"\",'Caseload Reporting'!N767)","v":""},{"$f":"IF('Caseload Reporting'!P767 = \"\",\"\",'Caseload Reporting'!P767)","v":""},{"$f":"IF('Caseload Reporting'!O767 = \"\",\"\",'Caseload Reporting'!O767)","v":""},{"$f":"IF('Caseload Reporting'!Q767 = \"\",\"\",'Caseload Reporting'!Q767)","v":""},{"$f":"IF('Caseload Reporting'!R767 = \"\",\"\",'Caseload Reporting'!R767)","v":""},{"$f":"IF('Caseload Reporting'!E767 = \"\",\"\",'Caseload Reporting'!E767)","v":""},{"$f":"IF('Caseload Reporting'!S767 = \"\",\"\",'Caseload Reporting'!S767)","v":""}]
[{"$f":"IF('Caseload Reporting'!A768 = \"\",\"\",'Caseload Reporting'!A768)","v":""},{"$f":"IF('Caseload Reporting'!B768 = \"\",\"\",'Caseload Reporting'!B768)","v":""},{"$f":"IF('Caseload Reporting'!C768 = \"\",\"\",'Caseload Reporting'!C768)","v":""},{"$f":"IF('Caseload Reporting'!D768 = \"\",\"\",'Caseload Reporting'!D768)","v":""},{"$f":"IF('Caseload Reporting'!G768 = \"\",\"\",'Caseload Reporting'!G768)","v":""},{"$f":"IF('Caseload Reporting'!H768 = \"\",\"\",'Caseload Reporting'!H768)","v":""},{"$f":"IF('Caseload Reporting'!I768 = \"\",\"\",'Caseload Reporting'!I768)","v":""},{"$f":"IF('Caseload Reporting'!J768 = \"\",\"\",'Caseload Reporting'!J768)","v":""},{"$f":"IF('Caseload Reporting'!K768 = \"\",\"\",'Caseload Reporting'!K768)","v":""},{"$f":"IF('Caseload Reporting'!L768 = \"\",\"\",'Caseload Reporting'!L768)","v":""},{"$f":"IF('Caseload Reporting'!M768 = \"\",\"\",'Caseload Reporting'!M768)","v":""},{"$f":"IF('Caseload Reporting'!N768 = \"\",\"\",'Caseload Reporting'!N768)","v":""},{"$f":"IF('Caseload Reporting'!P768 = \"\",\"\",'Caseload Reporting'!P768)","v":""},{"$f":"IF('Caseload Reporting'!O768 = \"\",\"\",'Caseload Reporting'!O768)","v":""},{"$f":"IF('Caseload Reporting'!Q768 = \"\",\"\",'Caseload Reporting'!Q768)","v":""},{"$f":"IF('Caseload Reporting'!R768 = \"\",\"\",'Caseload Reporting'!R768)","v":""},{"$f":"IF('Caseload Reporting'!E768 = \"\",\"\",'Caseload Reporting'!E768)","v":""},{"$f":"IF('Caseload Reporting'!S768 = \"\",\"\",'Caseload Reporting'!S768)","v":""}]
[{"$f":"IF('Caseload Reporting'!A769 = \"\",\"\",'Caseload Reporting'!A769)","v":""},{"$f":"IF('Caseload Reporting'!B769 = \"\",\"\",'Caseload Reporting'!B769)","v":""},{"$f":"IF('Caseload Reporting'!C769 = \"\",\"\",'Caseload Reporting'!C769)","v":""},{"$f":"IF('Caseload Reporting'!D769 = \"\",\"\",'Caseload Reporting'!D769)","v":""},{"$f":"IF('Caseload Reporting'!G769 = \"\",\"\",'Caseload Reporting'!G769)","v":""},{"$f":"IF('Caseload Reporting'!H769 = \"\",\"\",'Caseload Reporting'!H769)","v":""},{"$f":"IF('Caseload Reporting'!I769 = \"\",\"\",'Caseload Reporting'!I769)","v":""},{"$f":"IF('Caseload Reporting'!J769 = \"\",\"\",'Caseload Reporting'!J769)","v":""},{"$f":"IF('Caseload Reporting'!K769 = \"\",\"\",'Caseload Reporting'!K769)","v":""},{"$f":"IF('Caseload Reporting'!L769 = \"\",\"\",'Caseload Reporting'!L769)","v":""},{"$f":"IF('Caseload Reporting'!M769 = \"\",\"\",'Caseload Reporting'!M769)","v":""},{"$f":"IF('Caseload Reporting'!N769 = \"\",\"\",'Caseload Reporting'!N769)","v":""},{"$f":"IF('Caseload Reporting'!P769 = \"\",\"\",'Caseload Reporting'!P769)","v":""},{"$f":"IF('Caseload Reporting'!O769 = \"\",\"\",'Caseload Reporting'!O769)","v":""},{"$f":"IF('Caseload Reporting'!Q769 = \"\",\"\",'Caseload Reporting'!Q769)","v":""},{"$f":"IF('Caseload Reporting'!R769 = \"\",\"\",'Caseload Reporting'!R769)","v":""},{"$f":"IF('Caseload Reporting'!E769 = \"\",\"\",'Caseload Reporting'!E769)","v":""},{"$f":"IF('Caseload Reporting'!S769 = \"\",\"\",'Caseload Reporting'!S769)","v":""}]
[{"$f":"IF('Caseload Reporting'!A770 = \"\",\"\",'Caseload Reporting'!A770)","v":""},{"$f":"IF('Caseload Reporting'!B770 = \"\",\"\",'Caseload Reporting'!B770)","v":""},{"$f":"IF('Caseload Reporting'!C770 = \"\",\"\",'Caseload Reporting'!C770)","v":""},{"$f":"IF('Caseload Reporting'!D770 = \"\",\"\",'Caseload Reporting'!D770)","v":""},{"$f":"IF('Caseload Reporting'!G770 = \"\",\"\",'Caseload Reporting'!G770)","v":""},{"$f":"IF('Caseload Reporting'!H770 = \"\",\"\",'Caseload Reporting'!H770)","v":""},{"$f":"IF('Caseload Reporting'!I770 = \"\",\"\",'Caseload Reporting'!I770)","v":""},{"$f":"IF('Caseload Reporting'!J770 = \"\",\"\",'Caseload Reporting'!J770)","v":""},{"$f":"IF('Caseload Reporting'!K770 = \"\",\"\",'Caseload Reporting'!K770)","v":""},{"$f":"IF('Caseload Reporting'!L770 = \"\",\"\",'Caseload Reporting'!L770)","v":""},{"$f":"IF('Caseload Reporting'!M770 = \"\",\"\",'Caseload Reporting'!M770)","v":""},{"$f":"IF('Caseload Reporting'!N770 = \"\",\"\",'Caseload Reporting'!N770)","v":""},{"$f":"IF('Caseload Reporting'!P770 = \"\",\"\",'Caseload Reporting'!P770)","v":""},{"$f":"IF('Caseload Reporting'!O770 = \"\",\"\",'Caseload Reporting'!O770)","v":""},{"$f":"IF('Caseload Reporting'!Q770 = \"\",\"\",'Caseload Reporting'!Q770)","v":""},{"$f":"IF('Caseload Reporting'!R770 = \"\",\"\",'Caseload Reporting'!R770)","v":""},{"$f":"IF('Caseload Reporting'!E770 = \"\",\"\",'Caseload Reporting'!E770)","v":""},{"$f":"IF('Caseload Reporting'!S770 = \"\",\"\",'Caseload Reporting'!S770)","v":""}]
[{"$f":"IF('Caseload Reporting'!A771 = \"\",\"\",'Caseload Reporting'!A771)","v":""},{"$f":"IF('Caseload Reporting'!B771 = \"\",\"\",'Caseload Reporting'!B771)","v":""},{"$f":"IF('Caseload Reporting'!C771 = \"\",\"\",'Caseload Reporting'!C771)","v":""},{"$f":"IF('Caseload Reporting'!D771 = \"\",\"\",'Caseload Reporting'!D771)","v":""},{"$f":"IF('Caseload Reporting'!G771 = \"\",\"\",'Caseload Reporting'!G771)","v":""},{"$f":"IF('Caseload Reporting'!H771 = \"\",\"\",'Caseload Reporting'!H771)","v":""},{"$f":"IF('Caseload Reporting'!I771 = \"\",\"\",'Caseload Reporting'!I771)","v":""},{"$f":"IF('Caseload Reporting'!J771 = \"\",\"\",'Caseload Reporting'!J771)","v":""},{"$f":"IF('Caseload Reporting'!K771 = \"\",\"\",'Caseload Reporting'!K771)","v":""},{"$f":"IF('Caseload Reporting'!L771 = \"\",\"\",'Caseload Reporting'!L771)","v":""},{"$f":"IF('Caseload Reporting'!M771 = \"\",\"\",'Caseload Reporting'!M771)","v":""},{"$f":"IF('Caseload Reporting'!N771 = \"\",\"\",'Caseload Reporting'!N771)","v":""},{"$f":"IF('Caseload Reporting'!P771 = \"\",\"\",'Caseload Reporting'!P771)","v":""},{"$f":"IF('Caseload Reporting'!O771 = \"\",\"\",'Caseload Reporting'!O771)","v":""},{"$f":"IF('Caseload Reporting'!Q771 = \"\",\"\",'Caseload Reporting'!Q771)","v":""},{"$f":"IF('Caseload Reporting'!R771 = \"\",\"\",'Caseload Reporting'!R771)","v":""},{"$f":"IF('Caseload Reporting'!E771 = \"\",\"\",'Caseload Reporting'!E771)","v":""},{"$f":"IF('Caseload Reporting'!S771 = \"\",\"\",'Caseload Reporting'!S771)","v":""}]
[{"$f":"IF('Caseload Reporting'!A772 = \"\",\"\",'Caseload Reporting'!A772)","v":""},{"$f":"IF('Caseload Reporting'!B772 = \"\",\"\",'Caseload Reporting'!B772)","v":""},{"$f":"IF('Caseload Reporting'!C772 = \"\",\"\",'Caseload Reporting'!C772)","v":""},{"$f":"IF('Caseload Reporting'!D772 = \"\",\"\",'Caseload Reporting'!D772)","v":""},{"$f":"IF('Caseload Reporting'!G772 = \"\",\"\",'Caseload Reporting'!G772)","v":""},{"$f":"IF('Caseload Reporting'!H772 = \"\",\"\",'Caseload Reporting'!H772)","v":""},{"$f":"IF('Caseload Reporting'!I772 = \"\",\"\",'Caseload Reporting'!I772)","v":""},{"$f":"IF('Caseload Reporting'!J772 = \"\",\"\",'Caseload Reporting'!J772)","v":""},{"$f":"IF('Caseload Reporting'!K772 = \"\",\"\",'Caseload Reporting'!K772)","v":""},{"$f":"IF('Caseload Reporting'!L772 = \"\",\"\",'Caseload Reporting'!L772)","v":""},{"$f":"IF('Caseload Reporting'!M772 = \"\",\"\",'Caseload Reporting'!M772)","v":""},{"$f":"IF('Caseload Reporting'!N772 = \"\",\"\",'Caseload Reporting'!N772)","v":""},{"$f":"IF('Caseload Reporting'!P772 = \"\",\"\",'Caseload Reporting'!P772)","v":""},{"$f":"IF('Caseload Reporting'!O772 = \"\",\"\",'Caseload Reporting'!O772)","v":""},{"$f":"IF('Caseload Reporting'!Q772 = \"\",\"\",'Caseload Reporting'!Q772)","v":""},{"$f":"IF('Caseload Reporting'!R772 = \"\",\"\",'Caseload Reporting'!R772)","v":""},{"$f":"IF('Caseload Reporting'!E772 = \"\",\"\",'Caseload Reporting'!E772)","v":""},{"$f":"IF('Caseload Reporting'!S772 = \"\",\"\",'Caseload Reporting'!S772)","v":""}]
[{"$f":"IF('Caseload Reporting'!A773 = \"\",\"\",'Caseload Reporting'!A773)","v":""},{"$f":"IF('Caseload Reporting'!B773 = \"\",\"\",'Caseload Reporting'!B773)","v":""},{"$f":"IF('Caseload Reporting'!C773 = \"\",\"\",'Caseload Reporting'!C773)","v":""},{"$f":"IF('Caseload Reporting'!D773 = \"\",\"\",'Caseload Reporting'!D773)","v":""},{"$f":"IF('Caseload Reporting'!G773 = \"\",\"\",'Caseload Reporting'!G773)","v":""},{"$f":"IF('Caseload Reporting'!H773 = \"\",\"\",'Caseload Reporting'!H773)","v":""},{"$f":"IF('Caseload Reporting'!I773 = \"\",\"\",'Caseload Reporting'!I773)","v":""},{"$f":"IF('Caseload Reporting'!J773 = \"\",\"\",'Caseload Reporting'!J773)","v":""},{"$f":"IF('Caseload Reporting'!K773 = \"\",\"\",'Caseload Reporting'!K773)","v":""},{"$f":"IF('Caseload Reporting'!L773 = \"\",\"\",'Caseload Reporting'!L773)","v":""},{"$f":"IF('Caseload Reporting'!M773 = \"\",\"\",'Caseload Reporting'!M773)","v":""},{"$f":"IF('Caseload Reporting'!N773 = \"\",\"\",'Caseload Reporting'!N773)","v":""},{"$f":"IF('Caseload Reporting'!P773 = \"\",\"\",'Caseload Reporting'!P773)","v":""},{"$f":"IF('Caseload Reporting'!O773 = \"\",\"\",'Caseload Reporting'!O773)","v":""},{"$f":"IF('Caseload Reporting'!Q773 = \"\",\"\",'Caseload Reporting'!Q773)","v":""},{"$f":"IF('Caseload Reporting'!R773 = \"\",\"\",'Caseload Reporting'!R773)","v":""},{"$f":"IF('Caseload Reporting'!E773 = \"\",\"\",'Caseload Reporting'!E773)","v":""},{"$f":"IF('Caseload Reporting'!S773 = \"\",\"\",'Caseload Reporting'!S773)","v":""}]
[{"$f":"IF('Caseload Reporting'!A774 = \"\",\"\",'Caseload Reporting'!A774)","v":""},{"$f":"IF('Caseload Reporting'!B774 = \"\",\"\",'Caseload Reporting'!B774)","v":""},{"$f":"IF('Caseload Reporting'!C774 = \"\",\"\",'Caseload Reporting'!C774)","v":""},{"$f":"IF('Caseload Reporting'!D774 = \"\",\"\",'Caseload Reporting'!D774)","v":""},{"$f":"IF('Caseload Reporting'!G774 = \"\",\"\",'Caseload Reporting'!G774)","v":""},{"$f":"IF('Caseload Reporting'!H774 = \"\",\"\",'Caseload Reporting'!H774)","v":""},{"$f":"IF('Caseload Reporting'!I774 = \"\",\"\",'Caseload Reporting'!I774)","v":""},{"$f":"IF('Caseload Reporting'!J774 = \"\",\"\",'Caseload Reporting'!J774)","v":""},{"$f":"IF('Caseload Reporting'!K774 = \"\",\"\",'Caseload Reporting'!K774)","v":""},{"$f":"IF('Caseload Reporting'!L774 = \"\",\"\",'Caseload Reporting'!L774)","v":""},{"$f":"IF('Caseload Reporting'!M774 = \"\",\"\",'Caseload Reporting'!M774)","v":""},{"$f":"IF('Caseload Reporting'!N774 = \"\",\"\",'Caseload Reporting'!N774)","v":""},{"$f":"IF('Caseload Reporting'!P774 = \"\",\"\",'Caseload Reporting'!P774)","v":""},{"$f":"IF('Caseload Reporting'!O774 = \"\",\"\",'Caseload Reporting'!O774)","v":""},{"$f":"IF('Caseload Reporting'!Q774 = \"\",\"\",'Caseload Reporting'!Q774)","v":""},{"$f":"IF('Caseload Reporting'!R774 = \"\",\"\",'Caseload Reporting'!R774)","v":""},{"$f":"IF('Caseload Reporting'!E774 = \"\",\"\",'Caseload Reporting'!E774)","v":""},{"$f":"IF('Caseload Reporting'!S774 = \"\",\"\",'Caseload Reporting'!S774)","v":""}]
[{"$f":"IF('Caseload Reporting'!A775 = \"\",\"\",'Caseload Reporting'!A775)","v":""},{"$f":"IF('Caseload Reporting'!B775 = \"\",\"\",'Caseload Reporting'!B775)","v":""},{"$f":"IF('Caseload Reporting'!C775 = \"\",\"\",'Caseload Reporting'!C775)","v":""},{"$f":"IF('Caseload Reporting'!D775 = \"\",\"\",'Caseload Reporting'!D775)","v":""},{"$f":"IF('Caseload Reporting'!G775 = \"\",\"\",'Caseload Reporting'!G775)","v":""},{"$f":"IF('Caseload Reporting'!H775 = \"\",\"\",'Caseload Reporting'!H775)","v":""},{"$f":"IF('Caseload Reporting'!I775 = \"\",\"\",'Caseload Reporting'!I775)","v":""},{"$f":"IF('Caseload Reporting'!J775 = \"\",\"\",'Caseload Reporting'!J775)","v":""},{"$f":"IF('Caseload Reporting'!K775 = \"\",\"\",'Caseload Reporting'!K775)","v":""},{"$f":"IF('Caseload Reporting'!L775 = \"\",\"\",'Caseload Reporting'!L775)","v":""},{"$f":"IF('Caseload Reporting'!M775 = \"\",\"\",'Caseload Reporting'!M775)","v":""},{"$f":"IF('Caseload Reporting'!N775 = \"\",\"\",'Caseload Reporting'!N775)","v":""},{"$f":"IF('Caseload Reporting'!P775 = \"\",\"\",'Caseload Reporting'!P775)","v":""},{"$f":"IF('Caseload Reporting'!O775 = \"\",\"\",'Caseload Reporting'!O775)","v":""},{"$f":"IF('Caseload Reporting'!Q775 = \"\",\"\",'Caseload Reporting'!Q775)","v":""},{"$f":"IF('Caseload Reporting'!R775 = \"\",\"\",'Caseload Reporting'!R775)","v":""},{"$f":"IF('Caseload Reporting'!E775 = \"\",\"\",'Caseload Reporting'!E775)","v":""},{"$f":"IF('Caseload Reporting'!S775 = \"\",\"\",'Caseload Reporting'!S775)","v":""}]
[{"$f":"IF('Caseload Reporting'!A776 = \"\",\"\",'Caseload Reporting'!A776)","v":""},{"$f":"IF('Caseload Reporting'!B776 = \"\",\"\",'Caseload Reporting'!B776)","v":""},{"$f":"IF('Caseload Reporting'!C776 = \"\",\"\",'Caseload Reporting'!C776)","v":""},{"$f":"IF('Caseload Reporting'!D776 = \"\",\"\",'Caseload Reporting'!D776)","v":""},{"$f":"IF('Caseload Reporting'!G776 = \"\",\"\",'Caseload Reporting'!G776)","v":""},{"$f":"IF('Caseload Reporting'!H776 = \"\",\"\",'Caseload Reporting'!H776)","v":""},{"$f":"IF('Caseload Reporting'!I776 = \"\",\"\",'Caseload Reporting'!I776)","v":""},{"$f":"IF('Caseload Reporting'!J776 = \"\",\"\",'Caseload Reporting'!J776)","v":""},{"$f":"IF('Caseload Reporting'!K776 = \"\",\"\",'Caseload Reporting'!K776)","v":""},{"$f":"IF('Caseload Reporting'!L776 = \"\",\"\",'Caseload Reporting'!L776)","v":""},{"$f":"IF('Caseload Reporting'!M776 = \"\",\"\",'Caseload Reporting'!M776)","v":""},{"$f":"IF('Caseload Reporting'!N776 = \"\",\"\",'Caseload Reporting'!N776)","v":""},{"$f":"IF('Caseload Reporting'!P776 = \"\",\"\",'Caseload Reporting'!P776)","v":""},{"$f":"IF('Caseload Reporting'!O776 = \"\",\"\",'Caseload Reporting'!O776)","v":""},{"$f":"IF('Caseload Reporting'!Q776 = \"\",\"\",'Caseload Reporting'!Q776)","v":""},{"$f":"IF('Caseload Reporting'!R776 = \"\",\"\",'Caseload Reporting'!R776)","v":""},{"$f":"IF('Caseload Reporting'!E776 = \"\",\"\",'Caseload Reporting'!E776)","v":""},{"$f":"IF('Caseload Reporting'!S776 = \"\",\"\",'Caseload Reporting'!S776)","v":""}]
[{"$f":"IF('Caseload Reporting'!A777 = \"\",\"\",'Caseload Reporting'!A777)","v":""},{"$f":"IF('Caseload Reporting'!B777 = \"\",\"\",'Caseload Reporting'!B777)","v":""},{"$f":"IF('Caseload Reporting'!C777 = \"\",\"\",'Caseload Reporting'!C777)","v":""},{"$f":"IF('Caseload Reporting'!D777 = \"\",\"\",'Caseload Reporting'!D777)","v":""},{"$f":"IF('Caseload Reporting'!G777 = \"\",\"\",'Caseload Reporting'!G777)","v":""},{"$f":"IF('Caseload Reporting'!H777 = \"\",\"\",'Caseload Reporting'!H777)","v":""},{"$f":"IF('Caseload Reporting'!I777 = \"\",\"\",'Caseload Reporting'!I777)","v":""},{"$f":"IF('Caseload Reporting'!J777 = \"\",\"\",'Caseload Reporting'!J777)","v":""},{"$f":"IF('Caseload Reporting'!K777 = \"\",\"\",'Caseload Reporting'!K777)","v":""},{"$f":"IF('Caseload Reporting'!L777 = \"\",\"\",'Caseload Reporting'!L777)","v":""},{"$f":"IF('Caseload Reporting'!M777 = \"\",\"\",'Caseload Reporting'!M777)","v":""},{"$f":"IF('Caseload Reporting'!N777 = \"\",\"\",'Caseload Reporting'!N777)","v":""},{"$f":"IF('Caseload Reporting'!P777 = \"\",\"\",'Caseload Reporting'!P777)","v":""},{"$f":"IF('Caseload Reporting'!O777 = \"\",\"\",'Caseload Reporting'!O777)","v":""},{"$f":"IF('Caseload Reporting'!Q777 = \"\",\"\",'Caseload Reporting'!Q777)","v":""},{"$f":"IF('Caseload Reporting'!R777 = \"\",\"\",'Caseload Reporting'!R777)","v":""},{"$f":"IF('Caseload Reporting'!E777 = \"\",\"\",'Caseload Reporting'!E777)","v":""},{"$f":"IF('Caseload Reporting'!S777 = \"\",\"\",'Caseload Reporting'!S777)","v":""}]
[{"$f":"IF('Caseload Reporting'!A778 = \"\",\"\",'Caseload Reporting'!A778)","v":""},{"$f":"IF('Caseload Reporting'!B778 = \"\",\"\",'Caseload Reporting'!B778)","v":""},{"$f":"IF('Caseload Reporting'!C778 = \"\",\"\",'Caseload Reporting'!C778)","v":""},{"$f":"IF('Caseload Reporting'!D778 = \"\",\"\",'Caseload Reporting'!D778)","v":""},{"$f":"IF('Caseload Reporting'!G778 = \"\",\"\",'Caseload Reporting'!G778)","v":""},{"$f":"IF('Caseload Reporting'!H778 = \"\",\"\",'Caseload Reporting'!H778)","v":""},{"$f":"IF('Caseload Reporting'!I778 = \"\",\"\",'Caseload Reporting'!I778)","v":""},{"$f":"IF('Caseload Reporting'!J778 = \"\",\"\",'Caseload Reporting'!J778)","v":""},{"$f":"IF('Caseload Reporting'!K778 = \"\",\"\",'Caseload Reporting'!K778)","v":""},{"$f":"IF('Caseload Reporting'!L778 = \"\",\"\",'Caseload Reporting'!L778)","v":""},{"$f":"IF('Caseload Reporting'!M778 = \"\",\"\",'Caseload Reporting'!M778)","v":""},{"$f":"IF('Caseload Reporting'!N778 = \"\",\"\",'Caseload Reporting'!N778)","v":""},{"$f":"IF('Caseload Reporting'!P778 = \"\",\"\",'Caseload Reporting'!P778)","v":""},{"$f":"IF('Caseload Reporting'!O778 = \"\",\"\",'Caseload Reporting'!O778)","v":""},{"$f":"IF('Caseload Reporting'!Q778 = \"\",\"\",'Caseload Reporting'!Q778)","v":""},{"$f":"IF('Caseload Reporting'!R778 = \"\",\"\",'Caseload Reporting'!R778)","v":""},{"$f":"IF('Caseload Reporting'!E778 = \"\",\"\",'Caseload Reporting'!E778)","v":""},{"$f":"IF('Caseload Reporting'!S778 = \"\",\"\",'Caseload Reporting'!S778)","v":""}]
[{"$f":"IF('Caseload Reporting'!A779 = \"\",\"\",'Caseload Reporting'!A779)","v":""},{"$f":"IF('Caseload Reporting'!B779 = \"\",\"\",'Caseload Reporting'!B779)","v":""},{"$f":"IF('Caseload Reporting'!C779 = \"\",\"\",'Caseload Reporting'!C779)","v":""},{"$f":"IF('Caseload Reporting'!D779 = \"\",\"\",'Caseload Reporting'!D779)","v":""},{"$f":"IF('Caseload Reporting'!G779 = \"\",\"\",'Caseload Reporting'!G779)","v":""},{"$f":"IF('Caseload Reporting'!H779 = \"\",\"\",'Caseload Reporting'!H779)","v":""},{"$f":"IF('Caseload Reporting'!I779 = \"\",\"\",'Caseload Reporting'!I779)","v":""},{"$f":"IF('Caseload Reporting'!J779 = \"\",\"\",'Caseload Reporting'!J779)","v":""},{"$f":"IF('Caseload Reporting'!K779 = \"\",\"\",'Caseload Reporting'!K779)","v":""},{"$f":"IF('Caseload Reporting'!L779 = \"\",\"\",'Caseload Reporting'!L779)","v":""},{"$f":"IF('Caseload Reporting'!M779 = \"\",\"\",'Caseload Reporting'!M779)","v":""},{"$f":"IF('Caseload Reporting'!N779 = \"\",\"\",'Caseload Reporting'!N779)","v":""},{"$f":"IF('Caseload Reporting'!P779 = \"\",\"\",'Caseload Reporting'!P779)","v":""},{"$f":"IF('Caseload Reporting'!O779 = \"\",\"\",'Caseload Reporting'!O779)","v":""},{"$f":"IF('Caseload Reporting'!Q779 = \"\",\"\",'Caseload Reporting'!Q779)","v":""},{"$f":"IF('Caseload Reporting'!R779 = \"\",\"\",'Caseload Reporting'!R779)","v":""},{"$f":"IF('Caseload Reporting'!E779 = \"\",\"\",'Caseload Reporting'!E779)","v":""},{"$f":"IF('Caseload Reporting'!S779 = \"\",\"\",'Caseload Reporting'!S779)","v":""}]
[{"$f":"IF('Caseload Reporting'!A780 = \"\",\"\",'Caseload Reporting'!A780)","v":""},{"$f":"IF('Caseload Reporting'!B780 = \"\",\"\",'Caseload Reporting'!B780)","v":""},{"$f":"IF('Caseload Reporting'!C780 = \"\",\"\",'Caseload Reporting'!C780)","v":""},{"$f":"IF('Caseload Reporting'!D780 = \"\",\"\",'Caseload Reporting'!D780)","v":""},{"$f":"IF('Caseload Reporting'!G780 = \"\",\"\",'Caseload Reporting'!G780)","v":""},{"$f":"IF('Caseload Reporting'!H780 = \"\",\"\",'Caseload Reporting'!H780)","v":""},{"$f":"IF('Caseload Reporting'!I780 = \"\",\"\",'Caseload Reporting'!I780)","v":""},{"$f":"IF('Caseload Reporting'!J780 = \"\",\"\",'Caseload Reporting'!J780)","v":""},{"$f":"IF('Caseload Reporting'!K780 = \"\",\"\",'Caseload Reporting'!K780)","v":""},{"$f":"IF('Caseload Reporting'!L780 = \"\",\"\",'Caseload Reporting'!L780)","v":""},{"$f":"IF('Caseload Reporting'!M780 = \"\",\"\",'Caseload Reporting'!M780)","v":""},{"$f":"IF('Caseload Reporting'!N780 = \"\",\"\",'Caseload Reporting'!N780)","v":""},{"$f":"IF('Caseload Reporting'!P780 = \"\",\"\",'Caseload Reporting'!P780)","v":""},{"$f":"IF('Caseload Reporting'!O780 = \"\",\"\",'Caseload Reporting'!O780)","v":""},{"$f":"IF('Caseload Reporting'!Q780 = \"\",\"\",'Caseload Reporting'!Q780)","v":""},{"$f":"IF('Caseload Reporting'!R780 = \"\",\"\",'Caseload Reporting'!R780)","v":""},{"$f":"IF('Caseload Reporting'!E780 = \"\",\"\",'Caseload Reporting'!E780)","v":""},{"$f":"IF('Caseload Reporting'!S780 = \"\",\"\",'Caseload Reporting'!S780)","v":""}]
[{"$f":"IF('Caseload Reporting'!A781 = \"\",\"\",'Caseload Reporting'!A781)","v":""},{"$f":"IF('Caseload Reporting'!B781 = \"\",\"\",'Caseload Reporting'!B781)","v":""},{"$f":"IF('Caseload Reporting'!C781 = \"\",\"\",'Caseload Reporting'!C781)","v":""},{"$f":"IF('Caseload Reporting'!D781 = \"\",\"\",'Caseload Reporting'!D781)","v":""},{"$f":"IF('Caseload Reporting'!G781 = \"\",\"\",'Caseload Reporting'!G781)","v":""},{"$f":"IF('Caseload Reporting'!H781 = \"\",\"\",'Caseload Reporting'!H781)","v":""},{"$f":"IF('Caseload Reporting'!I781 = \"\",\"\",'Caseload Reporting'!I781)","v":""},{"$f":"IF('Caseload Reporting'!J781 = \"\",\"\",'Caseload Reporting'!J781)","v":""},{"$f":"IF('Caseload Reporting'!K781 = \"\",\"\",'Caseload Reporting'!K781)","v":""},{"$f":"IF('Caseload Reporting'!L781 = \"\",\"\",'Caseload Reporting'!L781)","v":""},{"$f":"IF('Caseload Reporting'!M781 = \"\",\"\",'Caseload Reporting'!M781)","v":""},{"$f":"IF('Caseload Reporting'!N781 = \"\",\"\",'Caseload Reporting'!N781)","v":""},{"$f":"IF('Caseload Reporting'!P781 = \"\",\"\",'Caseload Reporting'!P781)","v":""},{"$f":"IF('Caseload Reporting'!O781 = \"\",\"\",'Caseload Reporting'!O781)","v":""},{"$f":"IF('Caseload Reporting'!Q781 = \"\",\"\",'Caseload Reporting'!Q781)","v":""},{"$f":"IF('Caseload Reporting'!R781 = \"\",\"\",'Caseload Reporting'!R781)","v":""},{"$f":"IF('Caseload Reporting'!E781 = \"\",\"\",'Caseload Reporting'!E781)","v":""},{"$f":"IF('Caseload Reporting'!S781 = \"\",\"\",'Caseload Reporting'!S781)","v":""}]
[{"$f":"IF('Caseload Reporting'!A782 = \"\",\"\",'Caseload Reporting'!A782)","v":""},{"$f":"IF('Caseload Reporting'!B782 = \"\",\"\",'Caseload Reporting'!B782)","v":""},{"$f":"IF('Caseload Reporting'!C782 = \"\",\"\",'Caseload Reporting'!C782)","v":""},{"$f":"IF('Caseload Reporting'!D782 = \"\",\"\",'Caseload Reporting'!D782)","v":""},{"$f":"IF('Caseload Reporting'!G782 = \"\",\"\",'Caseload Reporting'!G782)","v":""},{"$f":"IF('Caseload Reporting'!H782 = \"\",\"\",'Caseload Reporting'!H782)","v":""},{"$f":"IF('Caseload Reporting'!I782 = \"\",\"\",'Caseload Reporting'!I782)","v":""},{"$f":"IF('Caseload Reporting'!J782 = \"\",\"\",'Caseload Reporting'!J782)","v":""},{"$f":"IF('Caseload Reporting'!K782 = \"\",\"\",'Caseload Reporting'!K782)","v":""},{"$f":"IF('Caseload Reporting'!L782 = \"\",\"\",'Caseload Reporting'!L782)","v":""},{"$f":"IF('Caseload Reporting'!M782 = \"\",\"\",'Caseload Reporting'!M782)","v":""},{"$f":"IF('Caseload Reporting'!N782 = \"\",\"\",'Caseload Reporting'!N782)","v":""},{"$f":"IF('Caseload Reporting'!P782 = \"\",\"\",'Caseload Reporting'!P782)","v":""},{"$f":"IF('Caseload Reporting'!O782 = \"\",\"\",'Caseload Reporting'!O782)","v":""},{"$f":"IF('Caseload Reporting'!Q782 = \"\",\"\",'Caseload Reporting'!Q782)","v":""},{"$f":"IF('Caseload Reporting'!R782 = \"\",\"\",'Caseload Reporting'!R782)","v":""},{"$f":"IF('Caseload Reporting'!E782 = \"\",\"\",'Caseload Reporting'!E782)","v":""},{"$f":"IF('Caseload Reporting'!S782 = \"\",\"\",'Caseload Reporting'!S782)","v":""}]
[{"$f":"IF('Caseload Reporting'!A783 = \"\",\"\",'Caseload Reporting'!A783)","v":""},{"$f":"IF('Caseload Reporting'!B783 = \"\",\"\",'Caseload Reporting'!B783)","v":""},{"$f":"IF('Caseload Reporting'!C783 = \"\",\"\",'Caseload Reporting'!C783)","v":""},{"$f":"IF('Caseload Reporting'!D783 = \"\",\"\",'Caseload Reporting'!D783)","v":""},{"$f":"IF('Caseload Reporting'!G783 = \"\",\"\",'Caseload Reporting'!G783)","v":""},{"$f":"IF('Caseload Reporting'!H783 = \"\",\"\",'Caseload Reporting'!H783)","v":""},{"$f":"IF('Caseload Reporting'!I783 = \"\",\"\",'Caseload Reporting'!I783)","v":""},{"$f":"IF('Caseload Reporting'!J783 = \"\",\"\",'Caseload Reporting'!J783)","v":""},{"$f":"IF('Caseload Reporting'!K783 = \"\",\"\",'Caseload Reporting'!K783)","v":""},{"$f":"IF('Caseload Reporting'!L783 = \"\",\"\",'Caseload Reporting'!L783)","v":""},{"$f":"IF('Caseload Reporting'!M783 = \"\",\"\",'Caseload Reporting'!M783)","v":""},{"$f":"IF('Caseload Reporting'!N783 = \"\",\"\",'Caseload Reporting'!N783)","v":""},{"$f":"IF('Caseload Reporting'!P783 = \"\",\"\",'Caseload Reporting'!P783)","v":""},{"$f":"IF('Caseload Reporting'!O783 = \"\",\"\",'Caseload Reporting'!O783)","v":""},{"$f":"IF('Caseload Reporting'!Q783 = \"\",\"\",'Caseload Reporting'!Q783)","v":""},{"$f":"IF('Caseload Reporting'!R783 = \"\",\"\",'Caseload Reporting'!R783)","v":""},{"$f":"IF('Caseload Reporting'!E783 = \"\",\"\",'Caseload Reporting'!E783)","v":""},{"$f":"IF('Caseload Reporting'!S783 = \"\",\"\",'Caseload Reporting'!S783)","v":""}]
[{"$f":"IF('Caseload Reporting'!A784 = \"\",\"\",'Caseload Reporting'!A784)","v":""},{"$f":"IF('Caseload Reporting'!B784 = \"\",\"\",'Caseload Reporting'!B784)","v":""},{"$f":"IF('Caseload Reporting'!C784 = \"\",\"\",'Caseload Reporting'!C784)","v":""},{"$f":"IF('Caseload Reporting'!D784 = \"\",\"\",'Caseload Reporting'!D784)","v":""},{"$f":"IF('Caseload Reporting'!G784 = \"\",\"\",'Caseload Reporting'!G784)","v":""},{"$f":"IF('Caseload Reporting'!H784 = \"\",\"\",'Caseload Reporting'!H784)","v":""},{"$f":"IF('Caseload Reporting'!I784 = \"\",\"\",'Caseload Reporting'!I784)","v":""},{"$f":"IF('Caseload Reporting'!J784 = \"\",\"\",'Caseload Reporting'!J784)","v":""},{"$f":"IF('Caseload Reporting'!K784 = \"\",\"\",'Caseload Reporting'!K784)","v":""},{"$f":"IF('Caseload Reporting'!L784 = \"\",\"\",'Caseload Reporting'!L784)","v":""},{"$f":"IF('Caseload Reporting'!M784 = \"\",\"\",'Caseload Reporting'!M784)","v":""},{"$f":"IF('Caseload Reporting'!N784 = \"\",\"\",'Caseload Reporting'!N784)","v":""},{"$f":"IF('Caseload Reporting'!P784 = \"\",\"\",'Caseload Reporting'!P784)","v":""},{"$f":"IF('Caseload Reporting'!O784 = \"\",\"\",'Caseload Reporting'!O784)","v":""},{"$f":"IF('Caseload Reporting'!Q784 = \"\",\"\",'Caseload Reporting'!Q784)","v":""},{"$f":"IF('Caseload Reporting'!R784 = \"\",\"\",'Caseload Reporting'!R784)","v":""},{"$f":"IF('Caseload Reporting'!E784 = \"\",\"\",'Caseload Reporting'!E784)","v":""},{"$f":"IF('Caseload Reporting'!S784 = \"\",\"\",'Caseload Reporting'!S784)","v":""}]
[{"$f":"IF('Caseload Reporting'!A785 = \"\",\"\",'Caseload Reporting'!A785)","v":""},{"$f":"IF('Caseload Reporting'!B785 = \"\",\"\",'Caseload Reporting'!B785)","v":""},{"$f":"IF('Caseload Reporting'!C785 = \"\",\"\",'Caseload Reporting'!C785)","v":""},{"$f":"IF('Caseload Reporting'!D785 = \"\",\"\",'Caseload Reporting'!D785)","v":""},{"$f":"IF('Caseload Reporting'!G785 = \"\",\"\",'Caseload Reporting'!G785)","v":""},{"$f":"IF('Caseload Reporting'!H785 = \"\",\"\",'Caseload Reporting'!H785)","v":""},{"$f":"IF('Caseload Reporting'!I785 = \"\",\"\",'Caseload Reporting'!I785)","v":""},{"$f":"IF('Caseload Reporting'!J785 = \"\",\"\",'Caseload Reporting'!J785)","v":""},{"$f":"IF('Caseload Reporting'!K785 = \"\",\"\",'Caseload Reporting'!K785)","v":""},{"$f":"IF('Caseload Reporting'!L785 = \"\",\"\",'Caseload Reporting'!L785)","v":""},{"$f":"IF('Caseload Reporting'!M785 = \"\",\"\",'Caseload Reporting'!M785)","v":""},{"$f":"IF('Caseload Reporting'!N785 = \"\",\"\",'Caseload Reporting'!N785)","v":""},{"$f":"IF('Caseload Reporting'!P785 = \"\",\"\",'Caseload Reporting'!P785)","v":""},{"$f":"IF('Caseload Reporting'!O785 = \"\",\"\",'Caseload Reporting'!O785)","v":""},{"$f":"IF('Caseload Reporting'!Q785 = \"\",\"\",'Caseload Reporting'!Q785)","v":""},{"$f":"IF('Caseload Reporting'!R785 = \"\",\"\",'Caseload Reporting'!R785)","v":""},{"$f":"IF('Caseload Reporting'!E785 = \"\",\"\",'Caseload Reporting'!E785)","v":""},{"$f":"IF('Caseload Reporting'!S785 = \"\",\"\",'Caseload Reporting'!S785)","v":""}]
[{"$f":"IF('Caseload Reporting'!A786 = \"\",\"\",'Caseload Reporting'!A786)","v":""},{"$f":"IF('Caseload Reporting'!B786 = \"\",\"\",'Caseload Reporting'!B786)","v":""},{"$f":"IF('Caseload Reporting'!C786 = \"\",\"\",'Caseload Reporting'!C786)","v":""},{"$f":"IF('Caseload Reporting'!D786 = \"\",\"\",'Caseload Reporting'!D786)","v":""},{"$f":"IF('Caseload Reporting'!G786 = \"\",\"\",'Caseload Reporting'!G786)","v":""},{"$f":"IF('Caseload Reporting'!H786 = \"\",\"\",'Caseload Reporting'!H786)","v":""},{"$f":"IF('Caseload Reporting'!I786 = \"\",\"\",'Caseload Reporting'!I786)","v":""},{"$f":"IF('Caseload Reporting'!J786 = \"\",\"\",'Caseload Reporting'!J786)","v":""},{"$f":"IF('Caseload Reporting'!K786 = \"\",\"\",'Caseload Reporting'!K786)","v":""},{"$f":"IF('Caseload Reporting'!L786 = \"\",\"\",'Caseload Reporting'!L786)","v":""},{"$f":"IF('Caseload Reporting'!M786 = \"\",\"\",'Caseload Reporting'!M786)","v":""},{"$f":"IF('Caseload Reporting'!N786 = \"\",\"\",'Caseload Reporting'!N786)","v":""},{"$f":"IF('Caseload Reporting'!P786 = \"\",\"\",'Caseload Reporting'!P786)","v":""},{"$f":"IF('Caseload Reporting'!O786 = \"\",\"\",'Caseload Reporting'!O786)","v":""},{"$f":"IF('Caseload Reporting'!Q786 = \"\",\"\",'Caseload Reporting'!Q786)","v":""},{"$f":"IF('Caseload Reporting'!R786 = \"\",\"\",'Caseload Reporting'!R786)","v":""},{"$f":"IF('Caseload Reporting'!E786 = \"\",\"\",'Caseload Reporting'!E786)","v":""},{"$f":"IF('Caseload Reporting'!S786 = \"\",\"\",'Caseload Reporting'!S786)","v":""}]
[{"$f":"IF('Caseload Reporting'!A787 = \"\",\"\",'Caseload Reporting'!A787)","v":""},{"$f":"IF('Caseload Reporting'!B787 = \"\",\"\",'Caseload Reporting'!B787)","v":""},{"$f":"IF('Caseload Reporting'!C787 = \"\",\"\",'Caseload Reporting'!C787)","v":""},{"$f":"IF('Caseload Reporting'!D787 = \"\",\"\",'Caseload Reporting'!D787)","v":""},{"$f":"IF('Caseload Reporting'!G787 = \"\",\"\",'Caseload Reporting'!G787)","v":""},{"$f":"IF('Caseload Reporting'!H787 = \"\",\"\",'Caseload Reporting'!H787)","v":""},{"$f":"IF('Caseload Reporting'!I787 = \"\",\"\",'Caseload Reporting'!I787)","v":""},{"$f":"IF('Caseload Reporting'!J787 = \"\",\"\",'Caseload Reporting'!J787)","v":""},{"$f":"IF('Caseload Reporting'!K787 = \"\",\"\",'Caseload Reporting'!K787)","v":""},{"$f":"IF('Caseload Reporting'!L787 = \"\",\"\",'Caseload Reporting'!L787)","v":""},{"$f":"IF('Caseload Reporting'!M787 = \"\",\"\",'Caseload Reporting'!M787)","v":""},{"$f":"IF('Caseload Reporting'!N787 = \"\",\"\",'Caseload Reporting'!N787)","v":""},{"$f":"IF('Caseload Reporting'!P787 = \"\",\"\",'Caseload Reporting'!P787)","v":""},{"$f":"IF('Caseload Reporting'!O787 = \"\",\"\",'Caseload Reporting'!O787)","v":""},{"$f":"IF('Caseload Reporting'!Q787 = \"\",\"\",'Caseload Reporting'!Q787)","v":""},{"$f":"IF('Caseload Reporting'!R787 = \"\",\"\",'Caseload Reporting'!R787)","v":""},{"$f":"IF('Caseload Reporting'!E787 = \"\",\"\",'Caseload Reporting'!E787)","v":""},{"$f":"IF('Caseload Reporting'!S787 = \"\",\"\",'Caseload Reporting'!S787)","v":""}]
[{"$f":"IF('Caseload Reporting'!A788 = \"\",\"\",'Caseload Reporting'!A788)","v":""},{"$f":"IF('Caseload Reporting'!B788 = \"\",\"\",'Caseload Reporting'!B788)","v":""},{"$f":"IF('Caseload Reporting'!C788 = \"\",\"\",'Caseload Reporting'!C788)","v":""},{"$f":"IF('Caseload Reporting'!D788 = \"\",\"\",'Caseload Reporting'!D788)","v":""},{"$f":"IF('Caseload Reporting'!G788 = \"\",\"\",'Caseload Reporting'!G788)","v":""},{"$f":"IF('Caseload Reporting'!H788 = \"\",\"\",'Caseload Reporting'!H788)","v":""},{"$f":"IF('Caseload Reporting'!I788 = \"\",\"\",'Caseload Reporting'!I788)","v":""},{"$f":"IF('Caseload Reporting'!J788 = \"\",\"\",'Caseload Reporting'!J788)","v":""},{"$f":"IF('Caseload Reporting'!K788 = \"\",\"\",'Caseload Reporting'!K788)","v":""},{"$f":"IF('Caseload Reporting'!L788 = \"\",\"\",'Caseload Reporting'!L788)","v":""},{"$f":"IF('Caseload Reporting'!M788 = \"\",\"\",'Caseload Reporting'!M788)","v":""},{"$f":"IF('Caseload Reporting'!N788 = \"\",\"\",'Caseload Reporting'!N788)","v":""},{"$f":"IF('Caseload Reporting'!P788 = \"\",\"\",'Caseload Reporting'!P788)","v":""},{"$f":"IF('Caseload Reporting'!O788 = \"\",\"\",'Caseload Reporting'!O788)","v":""},{"$f":"IF('Caseload Reporting'!Q788 = \"\",\"\",'Caseload Reporting'!Q788)","v":""},{"$f":"IF('Caseload Reporting'!R788 = \"\",\"\",'Caseload Reporting'!R788)","v":""},{"$f":"IF('Caseload Reporting'!E788 = \"\",\"\",'Caseload Reporting'!E788)","v":""},{"$f":"IF('Caseload Reporting'!S788 = \"\",\"\",'Caseload Reporting'!S788)","v":""}]
[{"$f":"IF('Caseload Reporting'!A789 = \"\",\"\",'Caseload Reporting'!A789)","v":""},{"$f":"IF('Caseload Reporting'!B789 = \"\",\"\",'Caseload Reporting'!B789)","v":""},{"$f":"IF('Caseload Reporting'!C789 = \"\",\"\",'Caseload Reporting'!C789)","v":""},{"$f":"IF('Caseload Reporting'!D789 = \"\",\"\",'Caseload Reporting'!D789)","v":""},{"$f":"IF('Caseload Reporting'!G789 = \"\",\"\",'Caseload Reporting'!G789)","v":""},{"$f":"IF('Caseload Reporting'!H789 = \"\",\"\",'Caseload Reporting'!H789)","v":""},{"$f":"IF('Caseload Reporting'!I789 = \"\",\"\",'Caseload Reporting'!I789)","v":""},{"$f":"IF('Caseload Reporting'!J789 = \"\",\"\",'Caseload Reporting'!J789)","v":""},{"$f":"IF('Caseload Reporting'!K789 = \"\",\"\",'Caseload Reporting'!K789)","v":""},{"$f":"IF('Caseload Reporting'!L789 = \"\",\"\",'Caseload Reporting'!L789)","v":""},{"$f":"IF('Caseload Reporting'!M789 = \"\",\"\",'Caseload Reporting'!M789)","v":""},{"$f":"IF('Caseload Reporting'!N789 = \"\",\"\",'Caseload Reporting'!N789)","v":""},{"$f":"IF('Caseload Reporting'!P789 = \"\",\"\",'Caseload Reporting'!P789)","v":""},{"$f":"IF('Caseload Reporting'!O789 = \"\",\"\",'Caseload Reporting'!O789)","v":""},{"$f":"IF('Caseload Reporting'!Q789 = \"\",\"\",'Caseload Reporting'!Q789)","v":""},{"$f":"IF('Caseload Reporting'!R789 = \"\",\"\",'Caseload Reporting'!R789)","v":""},{"$f":"IF('Caseload Reporting'!E789 = \"\",\"\",'Caseload Reporting'!E789)","v":""},{"$f":"IF('Caseload Reporting'!S789 = \"\",\"\",'Caseload Reporting'!S789)","v":""}]
[{"$f":"IF('Caseload Reporting'!A790 = \"\",\"\",'Caseload Reporting'!A790)","v":""},{"$f":"IF('Caseload Reporting'!B790 = \"\",\"\",'Caseload Reporting'!B790)","v":""},{"$f":"IF('Caseload Reporting'!C790 = \"\",\"\",'Caseload Reporting'!C790)","v":""},{"$f":"IF('Caseload Reporting'!D790 = \"\",\"\",'Caseload Reporting'!D790)","v":""},{"$f":"IF('Caseload Reporting'!G790 = \"\",\"\",'Caseload Reporting'!G790)","v":""},{"$f":"IF('Caseload Reporting'!H790 = \"\",\"\",'Caseload Reporting'!H790)","v":""},{"$f":"IF('Caseload Reporting'!I790 = \"\",\"\",'Caseload Reporting'!I790)","v":""},{"$f":"IF('Caseload Reporting'!J790 = \"\",\"\",'Caseload Reporting'!J790)","v":""},{"$f":"IF('Caseload Reporting'!K790 = \"\",\"\",'Caseload Reporting'!K790)","v":""},{"$f":"IF('Caseload Reporting'!L790 = \"\",\"\",'Caseload Reporting'!L790)","v":""},{"$f":"IF('Caseload Reporting'!M790 = \"\",\"\",'Caseload Reporting'!M790)","v":""},{"$f":"IF('Caseload Reporting'!N790 = \"\",\"\",'Caseload Reporting'!N790)","v":""},{"$f":"IF('Caseload Reporting'!P790 = \"\",\"\",'Caseload Reporting'!P790)","v":""},{"$f":"IF('Caseload Reporting'!O790 = \"\",\"\",'Caseload Reporting'!O790)","v":""},{"$f":"IF('Caseload Reporting'!Q790 = \"\",\"\",'Caseload Reporting'!Q790)","v":""},{"$f":"IF('Caseload Reporting'!R790 = \"\",\"\",'Caseload Reporting'!R790)","v":""},{"$f":"IF('Caseload Reporting'!E790 = \"\",\"\",'Caseload Reporting'!E790)","v":""},{"$f":"IF('Caseload Reporting'!S790 = \"\",\"\",'Caseload Reporting'!S790)","v":""}]
[{"$f":"IF('Caseload Reporting'!A791 = \"\",\"\",'Caseload Reporting'!A791)","v":""},{"$f":"IF('Caseload Reporting'!B791 = \"\",\"\",'Caseload Reporting'!B791)","v":""},{"$f":"IF('Caseload Reporting'!C791 = \"\",\"\",'Caseload Reporting'!C791)","v":""},{"$f":"IF('Caseload Reporting'!D791 = \"\",\"\",'Caseload Reporting'!D791)","v":""},{"$f":"IF('Caseload Reporting'!G791 = \"\",\"\",'Caseload Reporting'!G791)","v":""},{"$f":"IF('Caseload Reporting'!H791 = \"\",\"\",'Caseload Reporting'!H791)","v":""},{"$f":"IF('Caseload Reporting'!I791 = \"\",\"\",'Caseload Reporting'!I791)","v":""},{"$f":"IF('Caseload Reporting'!J791 = \"\",\"\",'Caseload Reporting'!J791)","v":""},{"$f":"IF('Caseload Reporting'!K791 = \"\",\"\",'Caseload Reporting'!K791)","v":""},{"$f":"IF('Caseload Reporting'!L791 = \"\",\"\",'Caseload Reporting'!L791)","v":""},{"$f":"IF('Caseload Reporting'!M791 = \"\",\"\",'Caseload Reporting'!M791)","v":""},{"$f":"IF('Caseload Reporting'!N791 = \"\",\"\",'Caseload Reporting'!N791)","v":""},{"$f":"IF('Caseload Reporting'!P791 = \"\",\"\",'Caseload Reporting'!P791)","v":""},{"$f":"IF('Caseload Reporting'!O791 = \"\",\"\",'Caseload Reporting'!O791)","v":""},{"$f":"IF('Caseload Reporting'!Q791 = \"\",\"\",'Caseload Reporting'!Q791)","v":""},{"$f":"IF('Caseload Reporting'!R791 = \"\",\"\",'Caseload Reporting'!R791)","v":""},{"$f":"IF('Caseload Reporting'!E791 = \"\",\"\",'Caseload Reporting'!E791)","v":""},{"$f":"IF('Caseload Reporting'!S791 = \"\",\"\",'Caseload Reporting'!S791)","v":""}]
[{"$f":"IF('Caseload Reporting'!A792 = \"\",\"\",'Caseload Reporting'!A792)","v":""},{"$f":"IF('Caseload Reporting'!B792 = \"\",\"\",'Caseload Reporting'!B792)","v":""},{"$f":"IF('Caseload Reporting'!C792 = \"\",\"\",'Caseload Reporting'!C792)","v":""},{"$f":"IF('Caseload Reporting'!D792 = \"\",\"\",'Caseload Reporting'!D792)","v":""},{"$f":"IF('Caseload Reporting'!G792 = \"\",\"\",'Caseload Reporting'!G792)","v":""},{"$f":"IF('Caseload Reporting'!H792 = \"\",\"\",'Caseload Reporting'!H792)","v":""},{"$f":"IF('Caseload Reporting'!I792 = \"\",\"\",'Caseload Reporting'!I792)","v":""},{"$f":"IF('Caseload Reporting'!J792 = \"\",\"\",'Caseload Reporting'!J792)","v":""},{"$f":"IF('Caseload Reporting'!K792 = \"\",\"\",'Caseload Reporting'!K792)","v":""},{"$f":"IF('Caseload Reporting'!L792 = \"\",\"\",'Caseload Reporting'!L792)","v":""},{"$f":"IF('Caseload Reporting'!M792 = \"\",\"\",'Caseload Reporting'!M792)","v":""},{"$f":"IF('Caseload Reporting'!N792 = \"\",\"\",'Caseload Reporting'!N792)","v":""},{"$f":"IF('Caseload Reporting'!P792 = \"\",\"\",'Caseload Reporting'!P792)","v":""},{"$f":"IF('Caseload Reporting'!O792 = \"\",\"\",'Caseload Reporting'!O792)","v":""},{"$f":"IF('Caseload Reporting'!Q792 = \"\",\"\",'Caseload Reporting'!Q792)","v":""},{"$f":"IF('Caseload Reporting'!R792 = \"\",\"\",'Caseload Reporting'!R792)","v":""},{"$f":"IF('Caseload Reporting'!E792 = \"\",\"\",'Caseload Reporting'!E792)","v":""},{"$f":"IF('Caseload Reporting'!S792 = \"\",\"\",'Caseload Reporting'!S792)","v":""}]
[{"$f":"IF('Caseload Reporting'!A793 = \"\",\"\",'Caseload Reporting'!A793)","v":""},{"$f":"IF('Caseload Reporting'!B793 = \"\",\"\",'Caseload Reporting'!B793)","v":""},{"$f":"IF('Caseload Reporting'!C793 = \"\",\"\",'Caseload Reporting'!C793)","v":""},{"$f":"IF('Caseload Reporting'!D793 = \"\",\"\",'Caseload Reporting'!D793)","v":""},{"$f":"IF('Caseload Reporting'!G793 = \"\",\"\",'Caseload Reporting'!G793)","v":""},{"$f":"IF('Caseload Reporting'!H793 = \"\",\"\",'Caseload Reporting'!H793)","v":""},{"$f":"IF('Caseload Reporting'!I793 = \"\",\"\",'Caseload Reporting'!I793)","v":""},{"$f":"IF('Caseload Reporting'!J793 = \"\",\"\",'Caseload Reporting'!J793)","v":""},{"$f":"IF('Caseload Reporting'!K793 = \"\",\"\",'Caseload Reporting'!K793)","v":""},{"$f":"IF('Caseload Reporting'!L793 = \"\",\"\",'Caseload Reporting'!L793)","v":""},{"$f":"IF('Caseload Reporting'!M793 = \"\",\"\",'Caseload Reporting'!M793)","v":""},{"$f":"IF('Caseload Reporting'!N793 = \"\",\"\",'Caseload Reporting'!N793)","v":""},{"$f":"IF('Caseload Reporting'!P793 = \"\",\"\",'Caseload Reporting'!P793)","v":""},{"$f":"IF('Caseload Reporting'!O793 = \"\",\"\",'Caseload Reporting'!O793)","v":""},{"$f":"IF('Caseload Reporting'!Q793 = \"\",\"\",'Caseload Reporting'!Q793)","v":""},{"$f":"IF('Caseload Reporting'!R793 = \"\",\"\",'Caseload Reporting'!R793)","v":""},{"$f":"IF('Caseload Reporting'!E793 = \"\",\"\",'Caseload Reporting'!E793)","v":""},{"$f":"IF('Caseload Reporting'!S793 = \"\",\"\",'Caseload Reporting'!S793)","v":""}]
[{"$f":"IF('Caseload Reporting'!A794 = \"\",\"\",'Caseload Reporting'!A794)","v":""},{"$f":"IF('Caseload Reporting'!B794 = \"\",\"\",'Caseload Reporting'!B794)","v":""},{"$f":"IF('Caseload Reporting'!C794 = \"\",\"\",'Caseload Reporting'!C794)","v":""},{"$f":"IF('Caseload Reporting'!D794 = \"\",\"\",'Caseload Reporting'!D794)","v":""},{"$f":"IF('Caseload Reporting'!G794 = \"\",\"\",'Caseload Reporting'!G794)","v":""},{"$f":"IF('Caseload Reporting'!H794 = \"\",\"\",'Caseload Reporting'!H794)","v":""},{"$f":"IF('Caseload Reporting'!I794 = \"\",\"\",'Caseload Reporting'!I794)","v":""},{"$f":"IF('Caseload Reporting'!J794 = \"\",\"\",'Caseload Reporting'!J794)","v":""},{"$f":"IF('Caseload Reporting'!K794 = \"\",\"\",'Caseload Reporting'!K794)","v":""},{"$f":"IF('Caseload Reporting'!L794 = \"\",\"\",'Caseload Reporting'!L794)","v":""},{"$f":"IF('Caseload Reporting'!M794 = \"\",\"\",'Caseload Reporting'!M794)","v":""},{"$f":"IF('Caseload Reporting'!N794 = \"\",\"\",'Caseload Reporting'!N794)","v":""},{"$f":"IF('Caseload Reporting'!P794 = \"\",\"\",'Caseload Reporting'!P794)","v":""},{"$f":"IF('Caseload Reporting'!O794 = \"\",\"\",'Caseload Reporting'!O794)","v":""},{"$f":"IF('Caseload Reporting'!Q794 = \"\",\"\",'Caseload Reporting'!Q794)","v":""},{"$f":"IF('Caseload Reporting'!R794 = \"\",\"\",'Caseload Reporting'!R794)","v":""},{"$f":"IF('Caseload Reporting'!E794 = \"\",\"\",'Caseload Reporting'!E794)","v":""},{"$f":"IF('Caseload Reporting'!S794 = \"\",\"\",'Caseload Reporting'!S794)","v":""}]
[{"$f":"IF('Caseload Reporting'!A795 = \"\",\"\",'Caseload Reporting'!A795)","v":""},{"$f":"IF('Caseload Reporting'!B795 = \"\",\"\",'Caseload Reporting'!B795)","v":""},{"$f":"IF('Caseload Reporting'!C795 = \"\",\"\",'Caseload Reporting'!C795)","v":""},{"$f":"IF('Caseload Reporting'!D795 = \"\",\"\",'Caseload Reporting'!D795)","v":""},{"$f":"IF('Caseload Reporting'!G795 = \"\",\"\",'Caseload Reporting'!G795)","v":""},{"$f":"IF('Caseload Reporting'!H795 = \"\",\"\",'Caseload Reporting'!H795)","v":""},{"$f":"IF('Caseload Reporting'!I795 = \"\",\"\",'Caseload Reporting'!I795)","v":""},{"$f":"IF('Caseload Reporting'!J795 = \"\",\"\",'Caseload Reporting'!J795)","v":""},{"$f":"IF('Caseload Reporting'!K795 = \"\",\"\",'Caseload Reporting'!K795)","v":""},{"$f":"IF('Caseload Reporting'!L795 = \"\",\"\",'Caseload Reporting'!L795)","v":""},{"$f":"IF('Caseload Reporting'!M795 = \"\",\"\",'Caseload Reporting'!M795)","v":""},{"$f":"IF('Caseload Reporting'!N795 = \"\",\"\",'Caseload Reporting'!N795)","v":""},{"$f":"IF('Caseload Reporting'!P795 = \"\",\"\",'Caseload Reporting'!P795)","v":""},{"$f":"IF('Caseload Reporting'!O795 = \"\",\"\",'Caseload Reporting'!O795)","v":""},{"$f":"IF('Caseload Reporting'!Q795 = \"\",\"\",'Caseload Reporting'!Q795)","v":""},{"$f":"IF('Caseload Reporting'!R795 = \"\",\"\",'Caseload Reporting'!R795)","v":""},{"$f":"IF('Caseload Reporting'!E795 = \"\",\"\",'Caseload Reporting'!E795)","v":""},{"$f":"IF('Caseload Reporting'!S795 = \"\",\"\",'Caseload Reporting'!S795)","v":""}]
[{"$f":"IF('Caseload Reporting'!A796 = \"\",\"\",'Caseload Reporting'!A796)","v":""},{"$f":"IF('Caseload Reporting'!B796 = \"\",\"\",'Caseload Reporting'!B796)","v":""},{"$f":"IF('Caseload Reporting'!C796 = \"\",\"\",'Caseload Reporting'!C796)","v":""},{"$f":"IF('Caseload Reporting'!D796 = \"\",\"\",'Caseload Reporting'!D796)","v":""},{"$f":"IF('Caseload Reporting'!G796 = \"\",\"\",'Caseload Reporting'!G796)","v":""},{"$f":"IF('Caseload Reporting'!H796 = \"\",\"\",'Caseload Reporting'!H796)","v":""},{"$f":"IF('Caseload Reporting'!I796 = \"\",\"\",'Caseload Reporting'!I796)","v":""},{"$f":"IF('Caseload Reporting'!J796 = \"\",\"\",'Caseload Reporting'!J796)","v":""},{"$f":"IF('Caseload Reporting'!K796 = \"\",\"\",'Caseload Reporting'!K796)","v":""},{"$f":"IF('Caseload Reporting'!L796 = \"\",\"\",'Caseload Reporting'!L796)","v":""},{"$f":"IF('Caseload Reporting'!M796 = \"\",\"\",'Caseload Reporting'!M796)","v":""},{"$f":"IF('Caseload Reporting'!N796 = \"\",\"\",'Caseload Reporting'!N796)","v":""},{"$f":"IF('Caseload Reporting'!P796 = \"\",\"\",'Caseload Reporting'!P796)","v":""},{"$f":"IF('Caseload Reporting'!O796 = \"\",\"\",'Caseload Reporting'!O796)","v":""},{"$f":"IF('Caseload Reporting'!Q796 = \"\",\"\",'Caseload Reporting'!Q796)","v":""},{"$f":"IF('Caseload Reporting'!R796 = \"\",\"\",'Caseload Reporting'!R796)","v":""},{"$f":"IF('Caseload Reporting'!E796 = \"\",\"\",'Caseload Reporting'!E796)","v":""},{"$f":"IF('Caseload Reporting'!S796 = \"\",\"\",'Caseload Reporting'!S796)","v":""}]
[{"$f":"IF('Caseload Reporting'!A797 = \"\",\"\",'Caseload Reporting'!A797)","v":""},{"$f":"IF('Caseload Reporting'!B797 = \"\",\"\",'Caseload Reporting'!B797)","v":""},{"$f":"IF('Caseload Reporting'!C797 = \"\",\"\",'Caseload Reporting'!C797)","v":""},{"$f":"IF('Caseload Reporting'!D797 = \"\",\"\",'Caseload Reporting'!D797)","v":""},{"$f":"IF('Caseload Reporting'!G797 = \"\",\"\",'Caseload Reporting'!G797)","v":""},{"$f":"IF('Caseload Reporting'!H797 = \"\",\"\",'Caseload Reporting'!H797)","v":""},{"$f":"IF('Caseload Reporting'!I797 = \"\",\"\",'Caseload Reporting'!I797)","v":""},{"$f":"IF('Caseload Reporting'!J797 = \"\",\"\",'Caseload Reporting'!J797)","v":""},{"$f":"IF('Caseload Reporting'!K797 = \"\",\"\",'Caseload Reporting'!K797)","v":""},{"$f":"IF('Caseload Reporting'!L797 = \"\",\"\",'Caseload Reporting'!L797)","v":""},{"$f":"IF('Caseload Reporting'!M797 = \"\",\"\",'Caseload Reporting'!M797)","v":""},{"$f":"IF('Caseload Reporting'!N797 = \"\",\"\",'Caseload Reporting'!N797)","v":""},{"$f":"IF('Caseload Reporting'!P797 = \"\",\"\",'Caseload Reporting'!P797)","v":""},{"$f":"IF('Caseload Reporting'!O797 = \"\",\"\",'Caseload Reporting'!O797)","v":""},{"$f":"IF('Caseload Reporting'!Q797 = \"\",\"\",'Caseload Reporting'!Q797)","v":""},{"$f":"IF('Caseload Reporting'!R797 = \"\",\"\",'Caseload Reporting'!R797)","v":""},{"$f":"IF('Caseload Reporting'!E797 = \"\",\"\",'Caseload Reporting'!E797)","v":""},{"$f":"IF('Caseload Reporting'!S797 = \"\",\"\",'Caseload Reporting'!S797)","v":""}]
[{"$f":"IF('Caseload Reporting'!A798 = \"\",\"\",'Caseload Reporting'!A798)","v":""},{"$f":"IF('Caseload Reporting'!B798 = \"\",\"\",'Caseload Reporting'!B798)","v":""},{"$f":"IF('Caseload Reporting'!C798 = \"\",\"\",'Caseload Reporting'!C798)","v":""},{"$f":"IF('Caseload Reporting'!D798 = \"\",\"\",'Caseload Reporting'!D798)","v":""},{"$f":"IF('Caseload Reporting'!G798 = \"\",\"\",'Caseload Reporting'!G798)","v":""},{"$f":"IF('Caseload Reporting'!H798 = \"\",\"\",'Caseload Reporting'!H798)","v":""},{"$f":"IF('Caseload Reporting'!I798 = \"\",\"\",'Caseload Reporting'!I798)","v":""},{"$f":"IF('Caseload Reporting'!J798 = \"\",\"\",'Caseload Reporting'!J798)","v":""},{"$f":"IF('Caseload Reporting'!K798 = \"\",\"\",'Caseload Reporting'!K798)","v":""},{"$f":"IF('Caseload Reporting'!L798 = \"\",\"\",'Caseload Reporting'!L798)","v":""},{"$f":"IF('Caseload Reporting'!M798 = \"\",\"\",'Caseload Reporting'!M798)","v":""},{"$f":"IF('Caseload Reporting'!N798 = \"\",\"\",'Caseload Reporting'!N798)","v":""},{"$f":"IF('Caseload Reporting'!P798 = \"\",\"\",'Caseload Reporting'!P798)","v":""},{"$f":"IF('Caseload Reporting'!O798 = \"\",\"\",'Caseload Reporting'!O798)","v":""},{"$f":"IF('Caseload Reporting'!Q798 = \"\",\"\",'Caseload Reporting'!Q798)","v":""},{"$f":"IF('Caseload Reporting'!R798 = \"\",\"\",'Caseload Reporting'!R798)","v":""},{"$f":"IF('Caseload Reporting'!E798 = \"\",\"\",'Caseload Reporting'!E798)","v":""},{"$f":"IF('Caseload Reporting'!S798 = \"\",\"\",'Caseload Reporting'!S798)","v":""}]
[{"$f":"IF('Caseload Reporting'!A799 = \"\",\"\",'Caseload Reporting'!A799)","v":""},{"$f":"IF('Caseload Reporting'!B799 = \"\",\"\",'Caseload Reporting'!B799)","v":""},{"$f":"IF('Caseload Reporting'!C799 = \"\",\"\",'Caseload Reporting'!C799)","v":""},{"$f":"IF('Caseload Reporting'!D799 = \"\",\"\",'Caseload Reporting'!D799)","v":""},{"$f":"IF('Caseload Reporting'!G799 = \"\",\"\",'Caseload Reporting'!G799)","v":""},{"$f":"IF('Caseload Reporting'!H799 = \"\",\"\",'Caseload Reporting'!H799)","v":""},{"$f":"IF('Caseload Reporting'!I799 = \"\",\"\",'Caseload Reporting'!I799)","v":""},{"$f":"IF('Caseload Reporting'!J799 = \"\",\"\",'Caseload Reporting'!J799)","v":""},{"$f":"IF('Caseload Reporting'!K799 = \"\",\"\",'Caseload Reporting'!K799)","v":""},{"$f":"IF('Caseload Reporting'!L799 = \"\",\"\",'Caseload Reporting'!L799)","v":""},{"$f":"IF('Caseload Reporting'!M799 = \"\",\"\",'Caseload Reporting'!M799)","v":""},{"$f":"IF('Caseload Reporting'!N799 = \"\",\"\",'Caseload Reporting'!N799)","v":""},{"$f":"IF('Caseload Reporting'!P799 = \"\",\"\",'Caseload Reporting'!P799)","v":""},{"$f":"IF('Caseload Reporting'!O799 = \"\",\"\",'Caseload Reporting'!O799)","v":""},{"$f":"IF('Caseload Reporting'!Q799 = \"\",\"\",'Caseload Reporting'!Q799)","v":""},{"$f":"IF('Caseload Reporting'!R799 = \"\",\"\",'Caseload Reporting'!R799)","v":""},{"$f":"IF('Caseload Reporting'!E799 = \"\",\"\",'Caseload Reporting'!E799)","v":""},{"$f":"IF('Caseload Reporting'!S799 = \"\",\"\",'Caseload Reporting'!S799)","v":""}]
[{"$f":"IF('Caseload Reporting'!A800 = \"\",\"\",'Caseload Reporting'!A800)","v":""},{"$f":"IF('Caseload Reporting'!B800 = \"\",\"\",'Caseload Reporting'!B800)","v":""},{"$f":"IF('Caseload Reporting'!C800 = \"\",\"\",'Caseload Reporting'!C800)","v":""},{"$f":"IF('Caseload Reporting'!D800 = \"\",\"\",'Caseload Reporting'!D800)","v":""},{"$f":"IF('Caseload Reporting'!G800 = \"\",\"\",'Caseload Reporting'!G800)","v":""},{"$f":"IF('Caseload Reporting'!H800 = \"\",\"\",'Caseload Reporting'!H800)","v":""},{"$f":"IF('Caseload Reporting'!I800 = \"\",\"\",'Caseload Reporting'!I800)","v":""},{"$f":"IF('Caseload Reporting'!J800 = \"\",\"\",'Caseload Reporting'!J800)","v":""},{"$f":"IF('Caseload Reporting'!K800 = \"\",\"\",'Caseload Reporting'!K800)","v":""},{"$f":"IF('Caseload Reporting'!L800 = \"\",\"\",'Caseload Reporting'!L800)","v":""},{"$f":"IF('Caseload Reporting'!M800 = \"\",\"\",'Caseload Reporting'!M800)","v":""},{"$f":"IF('Caseload Reporting'!N800 = \"\",\"\",'Caseload Reporting'!N800)","v":""},{"$f":"IF('Caseload Reporting'!P800 = \"\",\"\",'Caseload Reporting'!P800)","v":""},{"$f":"IF('Caseload Reporting'!O800 = \"\",\"\",'Caseload Reporting'!O800)","v":""},{"$f":"IF('Caseload Reporting'!Q800 = \"\",\"\",'Caseload Reporting'!Q800)","v":""},{"$f":"IF('Caseload Reporting'!R800 = \"\",\"\",'Caseload Reporting'!R800)","v":""},{"$f":"IF('Caseload Reporting'!E800 = \"\",\"\",'Caseload Reporting'!E800)","v":""},{"$f":"IF('Caseload Reporting'!S800 = \"\",\"\",'Caseload Reporting'!S800)","v":""}]
[{"$f":"IF('Caseload Reporting'!A801 = \"\",\"\",'Caseload Reporting'!A801)","v":""},{"$f":"IF('Caseload Reporting'!B801 = \"\",\"\",'Caseload Reporting'!B801)","v":""},{"$f":"IF('Caseload Reporting'!C801 = \"\",\"\",'Caseload Reporting'!C801)","v":""},{"$f":"IF('Caseload Reporting'!D801 = \"\",\"\",'Caseload Reporting'!D801)","v":""},{"$f":"IF('Caseload Reporting'!G801 = \"\",\"\",'Caseload Reporting'!G801)","v":""},{"$f":"IF('Caseload Reporting'!H801 = \"\",\"\",'Caseload Reporting'!H801)","v":""},{"$f":"IF('Caseload Reporting'!I801 = \"\",\"\",'Caseload Reporting'!I801)","v":""},{"$f":"IF('Caseload Reporting'!J801 = \"\",\"\",'Caseload Reporting'!J801)","v":""},{"$f":"IF('Caseload Reporting'!K801 = \"\",\"\",'Caseload Reporting'!K801)","v":""},{"$f":"IF('Caseload Reporting'!L801 = \"\",\"\",'Caseload Reporting'!L801)","v":""},{"$f":"IF('Caseload Reporting'!M801 = \"\",\"\",'Caseload Reporting'!M801)","v":""},{"$f":"IF('Caseload Reporting'!N801 = \"\",\"\",'Caseload Reporting'!N801)","v":""},{"$f":"IF('Caseload Reporting'!P801 = \"\",\"\",'Caseload Reporting'!P801)","v":""},{"$f":"IF('Caseload Reporting'!O801 = \"\",\"\",'Caseload Reporting'!O801)","v":""},{"$f":"IF('Caseload Reporting'!Q801 = \"\",\"\",'Caseload Reporting'!Q801)","v":""},{"$f":"IF('Caseload Reporting'!R801 = \"\",\"\",'Caseload Reporting'!R801)","v":""},{"$f":"IF('Caseload Reporting'!E801 = \"\",\"\",'Caseload Reporting'!E801)","v":""},{"$f":"IF('Caseload Reporting'!S801 = \"\",\"\",'Caseload Reporting'!S801)","v":""}]
[{"$f":"IF('Caseload Reporting'!A802 = \"\",\"\",'Caseload Reporting'!A802)","v":""},{"$f":"IF('Caseload Reporting'!B802 = \"\",\"\",'Caseload Reporting'!B802)","v":""},{"$f":"IF('Caseload Reporting'!C802 = \"\",\"\",'Caseload Reporting'!C802)","v":""},{"$f":"IF('Caseload Reporting'!D802 = \"\",\"\",'Caseload Reporting'!D802)","v":""},{"$f":"IF('Caseload Reporting'!G802 = \"\",\"\",'Caseload Reporting'!G802)","v":""},{"$f":"IF('Caseload Reporting'!H802 = \"\",\"\",'Caseload Reporting'!H802)","v":""},{"$f":"IF('Caseload Reporting'!I802 = \"\",\"\",'Caseload Reporting'!I802)","v":""},{"$f":"IF('Caseload Reporting'!J802 = \"\",\"\",'Caseload Reporting'!J802)","v":""},{"$f":"IF('Caseload Reporting'!K802 = \"\",\"\",'Caseload Reporting'!K802)","v":""},{"$f":"IF('Caseload Reporting'!L802 = \"\",\"\",'Caseload Reporting'!L802)","v":""},{"$f":"IF('Caseload Reporting'!M802 = \"\",\"\",'Caseload Reporting'!M802)","v":""},{"$f":"IF('Caseload Reporting'!N802 = \"\",\"\",'Caseload Reporting'!N802)","v":""},{"$f":"IF('Caseload Reporting'!P802 = \"\",\"\",'Caseload Reporting'!P802)","v":""},{"$f":"IF('Caseload Reporting'!O802 = \"\",\"\",'Caseload Reporting'!O802)","v":""},{"$f":"IF('Caseload Reporting'!Q802 = \"\",\"\",'Caseload Reporting'!Q802)","v":""},{"$f":"IF('Caseload Reporting'!R802 = \"\",\"\",'Caseload Reporting'!R802)","v":""},{"$f":"IF('Caseload Reporting'!E802 = \"\",\"\",'Caseload Reporting'!E802)","v":""},{"$f":"IF('Caseload Reporting'!S802 = \"\",\"\",'Caseload Reporting'!S802)","v":""}]
[{"$f":"IF('Caseload Reporting'!A803 = \"\",\"\",'Caseload Reporting'!A803)","v":""},{"$f":"IF('Caseload Reporting'!B803 = \"\",\"\",'Caseload Reporting'!B803)","v":""},{"$f":"IF('Caseload Reporting'!C803 = \"\",\"\",'Caseload Reporting'!C803)","v":""},{"$f":"IF('Caseload Reporting'!D803 = \"\",\"\",'Caseload Reporting'!D803)","v":""},{"$f":"IF('Caseload Reporting'!G803 = \"\",\"\",'Caseload Reporting'!G803)","v":""},{"$f":"IF('Caseload Reporting'!H803 = \"\",\"\",'Caseload Reporting'!H803)","v":""},{"$f":"IF('Caseload Reporting'!I803 = \"\",\"\",'Caseload Reporting'!I803)","v":""},{"$f":"IF('Caseload Reporting'!J803 = \"\",\"\",'Caseload Reporting'!J803)","v":""},{"$f":"IF('Caseload Reporting'!K803 = \"\",\"\",'Caseload Reporting'!K803)","v":""},{"$f":"IF('Caseload Reporting'!L803 = \"\",\"\",'Caseload Reporting'!L803)","v":""},{"$f":"IF('Caseload Reporting'!M803 = \"\",\"\",'Caseload Reporting'!M803)","v":""},{"$f":"IF('Caseload Reporting'!N803 = \"\",\"\",'Caseload Reporting'!N803)","v":""},{"$f":"IF('Caseload Reporting'!P803 = \"\",\"\",'Caseload Reporting'!P803)","v":""},{"$f":"IF('Caseload Reporting'!O803 = \"\",\"\",'Caseload Reporting'!O803)","v":""},{"$f":"IF('Caseload Reporting'!Q803 = \"\",\"\",'Caseload Reporting'!Q803)","v":""},{"$f":"IF('Caseload Reporting'!R803 = \"\",\"\",'Caseload Reporting'!R803)","v":""},{"$f":"IF('Caseload Reporting'!E803 = \"\",\"\",'Caseload Reporting'!E803)","v":""},{"$f":"IF('Caseload Reporting'!S803 = \"\",\"\",'Caseload Reporting'!S803)","v":""}]
[{"$f":"IF('Caseload Reporting'!A804 = \"\",\"\",'Caseload Reporting'!A804)","v":""},{"$f":"IF('Caseload Reporting'!B804 = \"\",\"\",'Caseload Reporting'!B804)","v":""},{"$f":"IF('Caseload Reporting'!C804 = \"\",\"\",'Caseload Reporting'!C804)","v":""},{"$f":"IF('Caseload Reporting'!D804 = \"\",\"\",'Caseload Reporting'!D804)","v":""},{"$f":"IF('Caseload Reporting'!G804 = \"\",\"\",'Caseload Reporting'!G804)","v":""},{"$f":"IF('Caseload Reporting'!H804 = \"\",\"\",'Caseload Reporting'!H804)","v":""},{"$f":"IF('Caseload Reporting'!I804 = \"\",\"\",'Caseload Reporting'!I804)","v":""},{"$f":"IF('Caseload Reporting'!J804 = \"\",\"\",'Caseload Reporting'!J804)","v":""},{"$f":"IF('Caseload Reporting'!K804 = \"\",\"\",'Caseload Reporting'!K804)","v":""},{"$f":"IF('Caseload Reporting'!L804 = \"\",\"\",'Caseload Reporting'!L804)","v":""},{"$f":"IF('Caseload Reporting'!M804 = \"\",\"\",'Caseload Reporting'!M804)","v":""},{"$f":"IF('Caseload Reporting'!N804 = \"\",\"\",'Caseload Reporting'!N804)","v":""},{"$f":"IF('Caseload Reporting'!P804 = \"\",\"\",'Caseload Reporting'!P804)","v":""},{"$f":"IF('Caseload Reporting'!O804 = \"\",\"\",'Caseload Reporting'!O804)","v":""},{"$f":"IF('Caseload Reporting'!Q804 = \"\",\"\",'Caseload Reporting'!Q804)","v":""},{"$f":"IF('Caseload Reporting'!R804 = \"\",\"\",'Caseload Reporting'!R804)","v":""},{"$f":"IF('Caseload Reporting'!E804 = \"\",\"\",'Caseload Reporting'!E804)","v":""},{"$f":"IF('Caseload Reporting'!S804 = \"\",\"\",'Caseload Reporting'!S804)","v":""}]
[{"$f":"IF('Caseload Reporting'!A805 = \"\",\"\",'Caseload Reporting'!A805)","v":""},{"$f":"IF('Caseload Reporting'!B805 = \"\",\"\",'Caseload Reporting'!B805)","v":""},{"$f":"IF('Caseload Reporting'!C805 = \"\",\"\",'Caseload Reporting'!C805)","v":""},{"$f":"IF('Caseload Reporting'!D805 = \"\",\"\",'Caseload Reporting'!D805)","v":""},{"$f":"IF('Caseload Reporting'!G805 = \"\",\"\",'Caseload Reporting'!G805)","v":""},{"$f":"IF('Caseload Reporting'!H805 = \"\",\"\",'Caseload Reporting'!H805)","v":""},{"$f":"IF('Caseload Reporting'!I805 = \"\",\"\",'Caseload Reporting'!I805)","v":""},{"$f":"IF('Caseload Reporting'!J805 = \"\",\"\",'Caseload Reporting'!J805)","v":""},{"$f":"IF('Caseload Reporting'!K805 = \"\",\"\",'Caseload Reporting'!K805)","v":""},{"$f":"IF('Caseload Reporting'!L805 = \"\",\"\",'Caseload Reporting'!L805)","v":""},{"$f":"IF('Caseload Reporting'!M805 = \"\",\"\",'Caseload Reporting'!M805)","v":""},{"$f":"IF('Caseload Reporting'!N805 = \"\",\"\",'Caseload Reporting'!N805)","v":""},{"$f":"IF('Caseload Reporting'!P805 = \"\",\"\",'Caseload Reporting'!P805)","v":""},{"$f":"IF('Caseload Reporting'!O805 = \"\",\"\",'Caseload Reporting'!O805)","v":""},{"$f":"IF('Caseload Reporting'!Q805 = \"\",\"\",'Caseload Reporting'!Q805)","v":""},{"$f":"IF('Caseload Reporting'!R805 = \"\",\"\",'Caseload Reporting'!R805)","v":""},{"$f":"IF('Caseload Reporting'!E805 = \"\",\"\",'Caseload Reporting'!E805)","v":""},{"$f":"IF('Caseload Reporting'!S805 = \"\",\"\",'Caseload Reporting'!S805)","v":""}]
[{"$f":"IF('Caseload Reporting'!A806 = \"\",\"\",'Caseload Reporting'!A806)","v":""},{"$f":"IF('Caseload Reporting'!B806 = \"\",\"\",'Caseload Reporting'!B806)","v":""},{"$f":"IF('Caseload Reporting'!C806 = \"\",\"\",'Caseload Reporting'!C806)","v":""},{"$f":"IF('Caseload Reporting'!D806 = \"\",\"\",'Caseload Reporting'!D806)","v":""},{"$f":"IF('Caseload Reporting'!G806 = \"\",\"\",'Caseload Reporting'!G806)","v":""},{"$f":"IF('Caseload Reporting'!H806 = \"\",\"\",'Caseload Reporting'!H806)","v":""},{"$f":"IF('Caseload Reporting'!I806 = \"\",\"\",'Caseload Reporting'!I806)","v":""},{"$f":"IF('Caseload Reporting'!J806 = \"\",\"\",'Caseload Reporting'!J806)","v":""},{"$f":"IF('Caseload Reporting'!K806 = \"\",\"\",'Caseload Reporting'!K806)","v":""},{"$f":"IF('Caseload Reporting'!L806 = \"\",\"\",'Caseload Reporting'!L806)","v":""},{"$f":"IF('Caseload Reporting'!M806 = \"\",\"\",'Caseload Reporting'!M806)","v":""},{"$f":"IF('Caseload Reporting'!N806 = \"\",\"\",'Caseload Reporting'!N806)","v":""},{"$f":"IF('Caseload Reporting'!P806 = \"\",\"\",'Caseload Reporting'!P806)","v":""},{"$f":"IF('Caseload Reporting'!O806 = \"\",\"\",'Caseload Reporting'!O806)","v":""},{"$f":"IF('Caseload Reporting'!Q806 = \"\",\"\",'Caseload Reporting'!Q806)","v":""},{"$f":"IF('Caseload Reporting'!R806 = \"\",\"\",'Caseload Reporting'!R806)","v":""},{"$f":"IF('Caseload Reporting'!E806 = \"\",\"\",'Caseload Reporting'!E806)","v":""},{"$f":"IF('Caseload Reporting'!S806 = \"\",\"\",'Caseload Reporting'!S806)","v":""}]
[{"$f":"IF('Caseload Reporting'!A807 = \"\",\"\",'Caseload Reporting'!A807)","v":""},{"$f":"IF('Caseload Reporting'!B807 = \"\",\"\",'Caseload Reporting'!B807)","v":""},{"$f":"IF('Caseload Reporting'!C807 = \"\",\"\",'Caseload Reporting'!C807)","v":""},{"$f":"IF('Caseload Reporting'!D807 = \"\",\"\",'Caseload Reporting'!D807)","v":""},{"$f":"IF('Caseload Reporting'!G807 = \"\",\"\",'Caseload Reporting'!G807)","v":""},{"$f":"IF('Caseload Reporting'!H807 = \"\",\"\",'Caseload Reporting'!H807)","v":""},{"$f":"IF('Caseload Reporting'!I807 = \"\",\"\",'Caseload Reporting'!I807)","v":""},{"$f":"IF('Caseload Reporting'!J807 = \"\",\"\",'Caseload Reporting'!J807)","v":""},{"$f":"IF('Caseload Reporting'!K807 = \"\",\"\",'Caseload Reporting'!K807)","v":""},{"$f":"IF('Caseload Reporting'!L807 = \"\",\"\",'Caseload Reporting'!L807)","v":""},{"$f":"IF('Caseload Reporting'!M807 = \"\",\"\",'Caseload Reporting'!M807)","v":""},{"$f":"IF('Caseload Reporting'!N807 = \"\",\"\",'Caseload Reporting'!N807)","v":""},{"$f":"IF('Caseload Reporting'!P807 = \"\",\"\",'Caseload Reporting'!P807)","v":""},{"$f":"IF('Caseload Reporting'!O807 = \"\",\"\",'Caseload Reporting'!O807)","v":""},{"$f":"IF('Caseload Reporting'!Q807 = \"\",\"\",'Caseload Reporting'!Q807)","v":""},{"$f":"IF('Caseload Reporting'!R807 = \"\",\"\",'Caseload Reporting'!R807)","v":""},{"$f":"IF('Caseload Reporting'!E807 = \"\",\"\",'Caseload Reporting'!E807)","v":""},{"$f":"IF('Caseload Reporting'!S807 = \"\",\"\",'Caseload Reporting'!S807)","v":""}]
[{"$f":"IF('Caseload Reporting'!A808 = \"\",\"\",'Caseload Reporting'!A808)","v":""},{"$f":"IF('Caseload Reporting'!B808 = \"\",\"\",'Caseload Reporting'!B808)","v":""},{"$f":"IF('Caseload Reporting'!C808 = \"\",\"\",'Caseload Reporting'!C808)","v":""},{"$f":"IF('Caseload Reporting'!D808 = \"\",\"\",'Caseload Reporting'!D808)","v":""},{"$f":"IF('Caseload Reporting'!G808 = \"\",\"\",'Caseload Reporting'!G808)","v":""},{"$f":"IF('Caseload Reporting'!H808 = \"\",\"\",'Caseload Reporting'!H808)","v":""},{"$f":"IF('Caseload Reporting'!I808 = \"\",\"\",'Caseload Reporting'!I808)","v":""},{"$f":"IF('Caseload Reporting'!J808 = \"\",\"\",'Caseload Reporting'!J808)","v":""},{"$f":"IF('Caseload Reporting'!K808 = \"\",\"\",'Caseload Reporting'!K808)","v":""},{"$f":"IF('Caseload Reporting'!L808 = \"\",\"\",'Caseload Reporting'!L808)","v":""},{"$f":"IF('Caseload Reporting'!M808 = \"\",\"\",'Caseload Reporting'!M808)","v":""},{"$f":"IF('Caseload Reporting'!N808 = \"\",\"\",'Caseload Reporting'!N808)","v":""},{"$f":"IF('Caseload Reporting'!P808 = \"\",\"\",'Caseload Reporting'!P808)","v":""},{"$f":"IF('Caseload Reporting'!O808 = \"\",\"\",'Caseload Reporting'!O808)","v":""},{"$f":"IF('Caseload Reporting'!Q808 = \"\",\"\",'Caseload Reporting'!Q808)","v":""},{"$f":"IF('Caseload Reporting'!R808 = \"\",\"\",'Caseload Reporting'!R808)","v":""},{"$f":"IF('Caseload Reporting'!E808 = \"\",\"\",'Caseload Reporting'!E808)","v":""},{"$f":"IF('Caseload Reporting'!S808 = \"\",\"\",'Caseload Reporting'!S808)","v":""}]
[{"$f":"IF('Caseload Reporting'!A809 = \"\",\"\",'Caseload Reporting'!A809)","v":""},{"$f":"IF('Caseload Reporting'!B809 = \"\",\"\",'Caseload Reporting'!B809)","v":""},{"$f":"IF('Caseload Reporting'!C809 = \"\",\"\",'Caseload Reporting'!C809)","v":""},{"$f":"IF('Caseload Reporting'!D809 = \"\",\"\",'Caseload Reporting'!D809)","v":""},{"$f":"IF('Caseload Reporting'!G809 = \"\",\"\",'Caseload Reporting'!G809)","v":""},{"$f":"IF('Caseload Reporting'!H809 = \"\",\"\",'Caseload Reporting'!H809)","v":""},{"$f":"IF('Caseload Reporting'!I809 = \"\",\"\",'Caseload Reporting'!I809)","v":""},{"$f":"IF('Caseload Reporting'!J809 = \"\",\"\",'Caseload Reporting'!J809)","v":""},{"$f":"IF('Caseload Reporting'!K809 = \"\",\"\",'Caseload Reporting'!K809)","v":""},{"$f":"IF('Caseload Reporting'!L809 = \"\",\"\",'Caseload Reporting'!L809)","v":""},{"$f":"IF('Caseload Reporting'!M809 = \"\",\"\",'Caseload Reporting'!M809)","v":""},{"$f":"IF('Caseload Reporting'!N809 = \"\",\"\",'Caseload Reporting'!N809)","v":""},{"$f":"IF('Caseload Reporting'!P809 = \"\",\"\",'Caseload Reporting'!P809)","v":""},{"$f":"IF('Caseload Reporting'!O809 = \"\",\"\",'Caseload Reporting'!O809)","v":""},{"$f":"IF('Caseload Reporting'!Q809 = \"\",\"\",'Caseload Reporting'!Q809)","v":""},{"$f":"IF('Caseload Reporting'!R809 = \"\",\"\",'Caseload Reporting'!R809)","v":""},{"$f":"IF('Caseload Reporting'!E809 = \"\",\"\",'Caseload Reporting'!E809)","v":""},{"$f":"IF('Caseload Reporting'!S809 = \"\",\"\",'Caseload Reporting'!S809)","v":""}]
[{"$f":"IF('Caseload Reporting'!A810 = \"\",\"\",'Caseload Reporting'!A810)","v":""},{"$f":"IF('Caseload Reporting'!B810 = \"\",\"\",'Caseload Reporting'!B810)","v":""},{"$f":"IF('Caseload Reporting'!C810 = \"\",\"\",'Caseload Reporting'!C810)","v":""},{"$f":"IF('Caseload Reporting'!D810 = \"\",\"\",'Caseload Reporting'!D810)","v":""},{"$f":"IF('Caseload Reporting'!G810 = \"\",\"\",'Caseload Reporting'!G810)","v":""},{"$f":"IF('Caseload Reporting'!H810 = \"\",\"\",'Caseload Reporting'!H810)","v":""},{"$f":"IF('Caseload Reporting'!I810 = \"\",\"\",'Caseload Reporting'!I810)","v":""},{"$f":"IF('Caseload Reporting'!J810 = \"\",\"\",'Caseload Reporting'!J810)","v":""},{"$f":"IF('Caseload Reporting'!K810 = \"\",\"\",'Caseload Reporting'!K810)","v":""},{"$f":"IF('Caseload Reporting'!L810 = \"\",\"\",'Caseload Reporting'!L810)","v":""},{"$f":"IF('Caseload Reporting'!M810 = \"\",\"\",'Caseload Reporting'!M810)","v":""},{"$f":"IF('Caseload Reporting'!N810 = \"\",\"\",'Caseload Reporting'!N810)","v":""},{"$f":"IF('Caseload Reporting'!P810 = \"\",\"\",'Caseload Reporting'!P810)","v":""},{"$f":"IF('Caseload Reporting'!O810 = \"\",\"\",'Caseload Reporting'!O810)","v":""},{"$f":"IF('Caseload Reporting'!Q810 = \"\",\"\",'Caseload Reporting'!Q810)","v":""},{"$f":"IF('Caseload Reporting'!R810 = \"\",\"\",'Caseload Reporting'!R810)","v":""},{"$f":"IF('Caseload Reporting'!E810 = \"\",\"\",'Caseload Reporting'!E810)","v":""},{"$f":"IF('Caseload Reporting'!S810 = \"\",\"\",'Caseload Reporting'!S810)","v":""}]
[{"$f":"IF('Caseload Reporting'!A811 = \"\",\"\",'Caseload Reporting'!A811)","v":""},{"$f":"IF('Caseload Reporting'!B811 = \"\",\"\",'Caseload Reporting'!B811)","v":""},{"$f":"IF('Caseload Reporting'!C811 = \"\",\"\",'Caseload Reporting'!C811)","v":""},{"$f":"IF('Caseload Reporting'!D811 = \"\",\"\",'Caseload Reporting'!D811)","v":""},{"$f":"IF('Caseload Reporting'!G811 = \"\",\"\",'Caseload Reporting'!G811)","v":""},{"$f":"IF('Caseload Reporting'!H811 = \"\",\"\",'Caseload Reporting'!H811)","v":""},{"$f":"IF('Caseload Reporting'!I811 = \"\",\"\",'Caseload Reporting'!I811)","v":""},{"$f":"IF('Caseload Reporting'!J811 = \"\",\"\",'Caseload Reporting'!J811)","v":""},{"$f":"IF('Caseload Reporting'!K811 = \"\",\"\",'Caseload Reporting'!K811)","v":""},{"$f":"IF('Caseload Reporting'!L811 = \"\",\"\",'Caseload Reporting'!L811)","v":""},{"$f":"IF('Caseload Reporting'!M811 = \"\",\"\",'Caseload Reporting'!M811)","v":""},{"$f":"IF('Caseload Reporting'!N811 = \"\",\"\",'Caseload Reporting'!N811)","v":""},{"$f":"IF('Caseload Reporting'!P811 = \"\",\"\",'Caseload Reporting'!P811)","v":""},{"$f":"IF('Caseload Reporting'!O811 = \"\",\"\",'Caseload Reporting'!O811)","v":""},{"$f":"IF('Caseload Reporting'!Q811 = \"\",\"\",'Caseload Reporting'!Q811)","v":""},{"$f":"IF('Caseload Reporting'!R811 = \"\",\"\",'Caseload Reporting'!R811)","v":""},{"$f":"IF('Caseload Reporting'!E811 = \"\",\"\",'Caseload Reporting'!E811)","v":""},{"$f":"IF('Caseload Reporting'!S811 = \"\",\"\",'Caseload Reporting'!S811)","v":""}]
[{"$f":"IF('Caseload Reporting'!A812 = \"\",\"\",'Caseload Reporting'!A812)","v":""},{"$f":"IF('Caseload Reporting'!B812 = \"\",\"\",'Caseload Reporting'!B812)","v":""},{"$f":"IF('Caseload Reporting'!C812 = \"\",\"\",'Caseload Reporting'!C812)","v":""},{"$f":"IF('Caseload Reporting'!D812 = \"\",\"\",'Caseload Reporting'!D812)","v":""},{"$f":"IF('Caseload Reporting'!G812 = \"\",\"\",'Caseload Reporting'!G812)","v":""},{"$f":"IF('Caseload Reporting'!H812 = \"\",\"\",'Caseload Reporting'!H812)","v":""},{"$f":"IF('Caseload Reporting'!I812 = \"\",\"\",'Caseload Reporting'!I812)","v":""},{"$f":"IF('Caseload Reporting'!J812 = \"\",\"\",'Caseload Reporting'!J812)","v":""},{"$f":"IF('Caseload Reporting'!K812 = \"\",\"\",'Caseload Reporting'!K812)","v":""},{"$f":"IF('Caseload Reporting'!L812 = \"\",\"\",'Caseload Reporting'!L812)","v":""},{"$f":"IF('Caseload Reporting'!M812 = \"\",\"\",'Caseload Reporting'!M812)","v":""},{"$f":"IF('Caseload Reporting'!N812 = \"\",\"\",'Caseload Reporting'!N812)","v":""},{"$f":"IF('Caseload Reporting'!P812 = \"\",\"\",'Caseload Reporting'!P812)","v":""},{"$f":"IF('Caseload Reporting'!O812 = \"\",\"\",'Caseload Reporting'!O812)","v":""},{"$f":"IF('Caseload Reporting'!Q812 = \"\",\"\",'Caseload Reporting'!Q812)","v":""},{"$f":"IF('Caseload Reporting'!R812 = \"\",\"\",'Caseload Reporting'!R812)","v":""},{"$f":"IF('Caseload Reporting'!E812 = \"\",\"\",'Caseload Reporting'!E812)","v":""},{"$f":"IF('Caseload Reporting'!S812 = \"\",\"\",'Caseload Reporting'!S812)","v":""}]
[{"$f":"IF('Caseload Reporting'!A813 = \"\",\"\",'Caseload Reporting'!A813)","v":""},{"$f":"IF('Caseload Reporting'!B813 = \"\",\"\",'Caseload Reporting'!B813)","v":""},{"$f":"IF('Caseload Reporting'!C813 = \"\",\"\",'Caseload Reporting'!C813)","v":""},{"$f":"IF('Caseload Reporting'!D813 = \"\",\"\",'Caseload Reporting'!D813)","v":""},{"$f":"IF('Caseload Reporting'!G813 = \"\",\"\",'Caseload Reporting'!G813)","v":""},{"$f":"IF('Caseload Reporting'!H813 = \"\",\"\",'Caseload Reporting'!H813)","v":""},{"$f":"IF('Caseload Reporting'!I813 = \"\",\"\",'Caseload Reporting'!I813)","v":""},{"$f":"IF('Caseload Reporting'!J813 = \"\",\"\",'Caseload Reporting'!J813)","v":""},{"$f":"IF('Caseload Reporting'!K813 = \"\",\"\",'Caseload Reporting'!K813)","v":""},{"$f":"IF('Caseload Reporting'!L813 = \"\",\"\",'Caseload Reporting'!L813)","v":""},{"$f":"IF('Caseload Reporting'!M813 = \"\",\"\",'Caseload Reporting'!M813)","v":""},{"$f":"IF('Caseload Reporting'!N813 = \"\",\"\",'Caseload Reporting'!N813)","v":""},{"$f":"IF('Caseload Reporting'!P813 = \"\",\"\",'Caseload Reporting'!P813)","v":""},{"$f":"IF('Caseload Reporting'!O813 = \"\",\"\",'Caseload Reporting'!O813)","v":""},{"$f":"IF('Caseload Reporting'!Q813 = \"\",\"\",'Caseload Reporting'!Q813)","v":""},{"$f":"IF('Caseload Reporting'!R813 = \"\",\"\",'Caseload Reporting'!R813)","v":""},{"$f":"IF('Caseload Reporting'!E813 = \"\",\"\",'Caseload Reporting'!E813)","v":""},{"$f":"IF('Caseload Reporting'!S813 = \"\",\"\",'Caseload Reporting'!S813)","v":""}]
[{"$f":"IF('Caseload Reporting'!A814 = \"\",\"\",'Caseload Reporting'!A814)","v":""},{"$f":"IF('Caseload Reporting'!B814 = \"\",\"\",'Caseload Reporting'!B814)","v":""},{"$f":"IF('Caseload Reporting'!C814 = \"\",\"\",'Caseload Reporting'!C814)","v":""},{"$f":"IF('Caseload Reporting'!D814 = \"\",\"\",'Caseload Reporting'!D814)","v":""},{"$f":"IF('Caseload Reporting'!G814 = \"\",\"\",'Caseload Reporting'!G814)","v":""},{"$f":"IF('Caseload Reporting'!H814 = \"\",\"\",'Caseload Reporting'!H814)","v":""},{"$f":"IF('Caseload Reporting'!I814 = \"\",\"\",'Caseload Reporting'!I814)","v":""},{"$f":"IF('Caseload Reporting'!J814 = \"\",\"\",'Caseload Reporting'!J814)","v":""},{"$f":"IF('Caseload Reporting'!K814 = \"\",\"\",'Caseload Reporting'!K814)","v":""},{"$f":"IF('Caseload Reporting'!L814 = \"\",\"\",'Caseload Reporting'!L814)","v":""},{"$f":"IF('Caseload Reporting'!M814 = \"\",\"\",'Caseload Reporting'!M814)","v":""},{"$f":"IF('Caseload Reporting'!N814 = \"\",\"\",'Caseload Reporting'!N814)","v":""},{"$f":"IF('Caseload Reporting'!P814 = \"\",\"\",'Caseload Reporting'!P814)","v":""},{"$f":"IF('Caseload Reporting'!O814 = \"\",\"\",'Caseload Reporting'!O814)","v":""},{"$f":"IF('Caseload Reporting'!Q814 = \"\",\"\",'Caseload Reporting'!Q814)","v":""},{"$f":"IF('Caseload Reporting'!R814 = \"\",\"\",'Caseload Reporting'!R814)","v":""},{"$f":"IF('Caseload Reporting'!E814 = \"\",\"\",'Caseload Reporting'!E814)","v":""},{"$f":"IF('Caseload Reporting'!S814 = \"\",\"\",'Caseload Reporting'!S814)","v":""}]
[{"$f":"IF('Caseload Reporting'!A815 = \"\",\"\",'Caseload Reporting'!A815)","v":""},{"$f":"IF('Caseload Reporting'!B815 = \"\",\"\",'Caseload Reporting'!B815)","v":""},{"$f":"IF('Caseload Reporting'!C815 = \"\",\"\",'Caseload Reporting'!C815)","v":""},{"$f":"IF('Caseload Reporting'!D815 = \"\",\"\",'Caseload Reporting'!D815)","v":""},{"$f":"IF('Caseload Reporting'!G815 = \"\",\"\",'Caseload Reporting'!G815)","v":""},{"$f":"IF('Caseload Reporting'!H815 = \"\",\"\",'Caseload Reporting'!H815)","v":""},{"$f":"IF('Caseload Reporting'!I815 = \"\",\"\",'Caseload Reporting'!I815)","v":""},{"$f":"IF('Caseload Reporting'!J815 = \"\",\"\",'Caseload Reporting'!J815)","v":""},{"$f":"IF('Caseload Reporting'!K815 = \"\",\"\",'Caseload Reporting'!K815)","v":""},{"$f":"IF('Caseload Reporting'!L815 = \"\",\"\",'Caseload Reporting'!L815)","v":""},{"$f":"IF('Caseload Reporting'!M815 = \"\",\"\",'Caseload Reporting'!M815)","v":""},{"$f":"IF('Caseload Reporting'!N815 = \"\",\"\",'Caseload Reporting'!N815)","v":""},{"$f":"IF('Caseload Reporting'!P815 = \"\",\"\",'Caseload Reporting'!P815)","v":""},{"$f":"IF('Caseload Reporting'!O815 = \"\",\"\",'Caseload Reporting'!O815)","v":""},{"$f":"IF('Caseload Reporting'!Q815 = \"\",\"\",'Caseload Reporting'!Q815)","v":""},{"$f":"IF('Caseload Reporting'!R815 = \"\",\"\",'Caseload Reporting'!R815)","v":""},{"$f":"IF('Caseload Reporting'!E815 = \"\",\"\",'Caseload Reporting'!E815)","v":""},{"$f":"IF('Caseload Reporting'!S815 = \"\",\"\",'Caseload Reporting'!S815)","v":""}]
[{"$f":"IF('Caseload Reporting'!A816 = \"\",\"\",'Caseload Reporting'!A816)","v":""},{"$f":"IF('Caseload Reporting'!B816 = \"\",\"\",'Caseload Reporting'!B816)","v":""},{"$f":"IF('Caseload Reporting'!C816 = \"\",\"\",'Caseload Reporting'!C816)","v":""},{"$f":"IF('Caseload Reporting'!D816 = \"\",\"\",'Caseload Reporting'!D816)","v":""},{"$f":"IF('Caseload Reporting'!G816 = \"\",\"\",'Caseload Reporting'!G816)","v":""},{"$f":"IF('Caseload Reporting'!H816 = \"\",\"\",'Caseload Reporting'!H816)","v":""},{"$f":"IF('Caseload Reporting'!I816 = \"\",\"\",'Caseload Reporting'!I816)","v":""},{"$f":"IF('Caseload Reporting'!J816 = \"\",\"\",'Caseload Reporting'!J816)","v":""},{"$f":"IF('Caseload Reporting'!K816 = \"\",\"\",'Caseload Reporting'!K816)","v":""},{"$f":"IF('Caseload Reporting'!L816 = \"\",\"\",'Caseload Reporting'!L816)","v":""},{"$f":"IF('Caseload Reporting'!M816 = \"\",\"\",'Caseload Reporting'!M816)","v":""},{"$f":"IF('Caseload Reporting'!N816 = \"\",\"\",'Caseload Reporting'!N816)","v":""},{"$f":"IF('Caseload Reporting'!P816 = \"\",\"\",'Caseload Reporting'!P816)","v":""},{"$f":"IF('Caseload Reporting'!O816 = \"\",\"\",'Caseload Reporting'!O816)","v":""},{"$f":"IF('Caseload Reporting'!Q816 = \"\",\"\",'Caseload Reporting'!Q816)","v":""},{"$f":"IF('Caseload Reporting'!R816 = \"\",\"\",'Caseload Reporting'!R816)","v":""},{"$f":"IF('Caseload Reporting'!E816 = \"\",\"\",'Caseload Reporting'!E816)","v":""},{"$f":"IF('Caseload Reporting'!S816 = \"\",\"\",'Caseload Reporting'!S816)","v":""}]
[{"$f":"IF('Caseload Reporting'!A817 = \"\",\"\",'Caseload Reporting'!A817)","v":""},{"$f":"IF('Caseload Reporting'!B817 = \"\",\"\",'Caseload Reporting'!B817)","v":""},{"$f":"IF('Caseload Reporting'!C817 = \"\",\"\",'Caseload Reporting'!C817)","v":""},{"$f":"IF('Caseload Reporting'!D817 = \"\",\"\",'Caseload Reporting'!D817)","v":""},{"$f":"IF('Caseload Reporting'!G817 = \"\",\"\",'Caseload Reporting'!G817)","v":""},{"$f":"IF('Caseload Reporting'!H817 = \"\",\"\",'Caseload Reporting'!H817)","v":""},{"$f":"IF('Caseload Reporting'!I817 = \"\",\"\",'Caseload Reporting'!I817)","v":""},{"$f":"IF('Caseload Reporting'!J817 = \"\",\"\",'Caseload Reporting'!J817)","v":""},{"$f":"IF('Caseload Reporting'!K817 = \"\",\"\",'Caseload Reporting'!K817)","v":""},{"$f":"IF('Caseload Reporting'!L817 = \"\",\"\",'Caseload Reporting'!L817)","v":""},{"$f":"IF('Caseload Reporting'!M817 = \"\",\"\",'Caseload Reporting'!M817)","v":""},{"$f":"IF('Caseload Reporting'!N817 = \"\",\"\",'Caseload Reporting'!N817)","v":""},{"$f":"IF('Caseload Reporting'!P817 = \"\",\"\",'Caseload Reporting'!P817)","v":""},{"$f":"IF('Caseload Reporting'!O817 = \"\",\"\",'Caseload Reporting'!O817)","v":""},{"$f":"IF('Caseload Reporting'!Q817 = \"\",\"\",'Caseload Reporting'!Q817)","v":""},{"$f":"IF('Caseload Reporting'!R817 = \"\",\"\",'Caseload Reporting'!R817)","v":""},{"$f":"IF('Caseload Reporting'!E817 = \"\",\"\",'Caseload Reporting'!E817)","v":""},{"$f":"IF('Caseload Reporting'!S817 = \"\",\"\",'Caseload Reporting'!S817)","v":""}]
[{"$f":"IF('Caseload Reporting'!A818 = \"\",\"\",'Caseload Reporting'!A818)","v":""},{"$f":"IF('Caseload Reporting'!B818 = \"\",\"\",'Caseload Reporting'!B818)","v":""},{"$f":"IF('Caseload Reporting'!C818 = \"\",\"\",'Caseload Reporting'!C818)","v":""},{"$f":"IF('Caseload Reporting'!D818 = \"\",\"\",'Caseload Reporting'!D818)","v":""},{"$f":"IF('Caseload Reporting'!G818 = \"\",\"\",'Caseload Reporting'!G818)","v":""},{"$f":"IF('Caseload Reporting'!H818 = \"\",\"\",'Caseload Reporting'!H818)","v":""},{"$f":"IF('Caseload Reporting'!I818 = \"\",\"\",'Caseload Reporting'!I818)","v":""},{"$f":"IF('Caseload Reporting'!J818 = \"\",\"\",'Caseload Reporting'!J818)","v":""},{"$f":"IF('Caseload Reporting'!K818 = \"\",\"\",'Caseload Reporting'!K818)","v":""},{"$f":"IF('Caseload Reporting'!L818 = \"\",\"\",'Caseload Reporting'!L818)","v":""},{"$f":"IF('Caseload Reporting'!M818 = \"\",\"\",'Caseload Reporting'!M818)","v":""},{"$f":"IF('Caseload Reporting'!N818 = \"\",\"\",'Caseload Reporting'!N818)","v":""},{"$f":"IF('Caseload Reporting'!P818 = \"\",\"\",'Caseload Reporting'!P818)","v":""},{"$f":"IF('Caseload Reporting'!O818 = \"\",\"\",'Caseload Reporting'!O818)","v":""},{"$f":"IF('Caseload Reporting'!Q818 = \"\",\"\",'Caseload Reporting'!Q818)","v":""},{"$f":"IF('Caseload Reporting'!R818 = \"\",\"\",'Caseload Reporting'!R818)","v":""},{"$f":"IF('Caseload Reporting'!E818 = \"\",\"\",'Caseload Reporting'!E818)","v":""},{"$f":"IF('Caseload Reporting'!S818 = \"\",\"\",'Caseload Reporting'!S818)","v":""}]
[{"$f":"IF('Caseload Reporting'!A819 = \"\",\"\",'Caseload Reporting'!A819)","v":""},{"$f":"IF('Caseload Reporting'!B819 = \"\",\"\",'Caseload Reporting'!B819)","v":""},{"$f":"IF('Caseload Reporting'!C819 = \"\",\"\",'Caseload Reporting'!C819)","v":""},{"$f":"IF('Caseload Reporting'!D819 = \"\",\"\",'Caseload Reporting'!D819)","v":""},{"$f":"IF('Caseload Reporting'!G819 = \"\",\"\",'Caseload Reporting'!G819)","v":""},{"$f":"IF('Caseload Reporting'!H819 = \"\",\"\",'Caseload Reporting'!H819)","v":""},{"$f":"IF('Caseload Reporting'!I819 = \"\",\"\",'Caseload Reporting'!I819)","v":""},{"$f":"IF('Caseload Reporting'!J819 = \"\",\"\",'Caseload Reporting'!J819)","v":""},{"$f":"IF('Caseload Reporting'!K819 = \"\",\"\",'Caseload Reporting'!K819)","v":""},{"$f":"IF('Caseload Reporting'!L819 = \"\",\"\",'Caseload Reporting'!L819)","v":""},{"$f":"IF('Caseload Reporting'!M819 = \"\",\"\",'Caseload Reporting'!M819)","v":""},{"$f":"IF('Caseload Reporting'!N819 = \"\",\"\",'Caseload Reporting'!N819)","v":""},{"$f":"IF('Caseload Reporting'!P819 = \"\",\"\",'Caseload Reporting'!P819)","v":""},{"$f":"IF('Caseload Reporting'!O819 = \"\",\"\",'Caseload Reporting'!O819)","v":""},{"$f":"IF('Caseload Reporting'!Q819 = \"\",\"\",'Caseload Reporting'!Q819)","v":""},{"$f":"IF('Caseload Reporting'!R819 = \"\",\"\",'Caseload Reporting'!R819)","v":""},{"$f":"IF('Caseload Reporting'!E819 = \"\",\"\",'Caseload Reporting'!E819)","v":""},{"$f":"IF('Caseload Reporting'!S819 = \"\",\"\",'Caseload Reporting'!S819)","v":""}]
[{"$f":"IF('Caseload Reporting'!A820 = \"\",\"\",'Caseload Reporting'!A820)","v":""},{"$f":"IF('Caseload Reporting'!B820 = \"\",\"\",'Caseload Reporting'!B820)","v":""},{"$f":"IF('Caseload Reporting'!C820 = \"\",\"\",'Caseload Reporting'!C820)","v":""},{"$f":"IF('Caseload Reporting'!D820 = \"\",\"\",'Caseload Reporting'!D820)","v":""},{"$f":"IF('Caseload Reporting'!G820 = \"\",\"\",'Caseload Reporting'!G820)","v":""},{"$f":"IF('Caseload Reporting'!H820 = \"\",\"\",'Caseload Reporting'!H820)","v":""},{"$f":"IF('Caseload Reporting'!I820 = \"\",\"\",'Caseload Reporting'!I820)","v":""},{"$f":"IF('Caseload Reporting'!J820 = \"\",\"\",'Caseload Reporting'!J820)","v":""},{"$f":"IF('Caseload Reporting'!K820 = \"\",\"\",'Caseload Reporting'!K820)","v":""},{"$f":"IF('Caseload Reporting'!L820 = \"\",\"\",'Caseload Reporting'!L820)","v":""},{"$f":"IF('Caseload Reporting'!M820 = \"\",\"\",'Caseload Reporting'!M820)","v":""},{"$f":"IF('Caseload Reporting'!N820 = \"\",\"\",'Caseload Reporting'!N820)","v":""},{"$f":"IF('Caseload Reporting'!P820 = \"\",\"\",'Caseload Reporting'!P820)","v":""},{"$f":"IF('Caseload Reporting'!O820 = \"\",\"\",'Caseload Reporting'!O820)","v":""},{"$f":"IF('Caseload Reporting'!Q820 = \"\",\"\",'Caseload Reporting'!Q820)","v":""},{"$f":"IF('Caseload Reporting'!R820 = \"\",\"\",'Caseload Reporting'!R820)","v":""},{"$f":"IF('Caseload Reporting'!E820 = \"\",\"\",'Caseload Reporting'!E820)","v":""},{"$f":"IF('Caseload Reporting'!S820 = \"\",\"\",'Caseload Reporting'!S820)","v":""}]
[{"$f":"IF('Caseload Reporting'!A821 = \"\",\"\",'Caseload Reporting'!A821)","v":""},{"$f":"IF('Caseload Reporting'!B821 = \"\",\"\",'Caseload Reporting'!B821)","v":""},{"$f":"IF('Caseload Reporting'!C821 = \"\",\"\",'Caseload Reporting'!C821)","v":""},{"$f":"IF('Caseload Reporting'!D821 = \"\",\"\",'Caseload Reporting'!D821)","v":""},{"$f":"IF('Caseload Reporting'!G821 = \"\",\"\",'Caseload Reporting'!G821)","v":""},{"$f":"IF('Caseload Reporting'!H821 = \"\",\"\",'Caseload Reporting'!H821)","v":""},{"$f":"IF('Caseload Reporting'!I821 = \"\",\"\",'Caseload Reporting'!I821)","v":""},{"$f":"IF('Caseload Reporting'!J821 = \"\",\"\",'Caseload Reporting'!J821)","v":""},{"$f":"IF('Caseload Reporting'!K821 = \"\",\"\",'Caseload Reporting'!K821)","v":""},{"$f":"IF('Caseload Reporting'!L821 = \"\",\"\",'Caseload Reporting'!L821)","v":""},{"$f":"IF('Caseload Reporting'!M821 = \"\",\"\",'Caseload Reporting'!M821)","v":""},{"$f":"IF('Caseload Reporting'!N821 = \"\",\"\",'Caseload Reporting'!N821)","v":""},{"$f":"IF('Caseload Reporting'!P821 = \"\",\"\",'Caseload Reporting'!P821)","v":""},{"$f":"IF('Caseload Reporting'!O821 = \"\",\"\",'Caseload Reporting'!O821)","v":""},{"$f":"IF('Caseload Reporting'!Q821 = \"\",\"\",'Caseload Reporting'!Q821)","v":""},{"$f":"IF('Caseload Reporting'!R821 = \"\",\"\",'Caseload Reporting'!R821)","v":""},{"$f":"IF('Caseload Reporting'!E821 = \"\",\"\",'Caseload Reporting'!E821)","v":""},{"$f":"IF('Caseload Reporting'!S821 = \"\",\"\",'Caseload Reporting'!S821)","v":""}]
[{"$f":"IF('Caseload Reporting'!A822 = \"\",\"\",'Caseload Reporting'!A822)","v":""},{"$f":"IF('Caseload Reporting'!B822 = \"\",\"\",'Caseload Reporting'!B822)","v":""},{"$f":"IF('Caseload Reporting'!C822 = \"\",\"\",'Caseload Reporting'!C822)","v":""},{"$f":"IF('Caseload Reporting'!D822 = \"\",\"\",'Caseload Reporting'!D822)","v":""},{"$f":"IF('Caseload Reporting'!G822 = \"\",\"\",'Caseload Reporting'!G822)","v":""},{"$f":"IF('Caseload Reporting'!H822 = \"\",\"\",'Caseload Reporting'!H822)","v":""},{"$f":"IF('Caseload Reporting'!I822 = \"\",\"\",'Caseload Reporting'!I822)","v":""},{"$f":"IF('Caseload Reporting'!J822 = \"\",\"\",'Caseload Reporting'!J822)","v":""},{"$f":"IF('Caseload Reporting'!K822 = \"\",\"\",'Caseload Reporting'!K822)","v":""},{"$f":"IF('Caseload Reporting'!L822 = \"\",\"\",'Caseload Reporting'!L822)","v":""},{"$f":"IF('Caseload Reporting'!M822 = \"\",\"\",'Caseload Reporting'!M822)","v":""},{"$f":"IF('Caseload Reporting'!N822 = \"\",\"\",'Caseload Reporting'!N822)","v":""},{"$f":"IF('Caseload Reporting'!P822 = \"\",\"\",'Caseload Reporting'!P822)","v":""},{"$f":"IF('Caseload Reporting'!O822 = \"\",\"\",'Caseload Reporting'!O822)","v":""},{"$f":"IF('Caseload Reporting'!Q822 = \"\",\"\",'Caseload Reporting'!Q822)","v":""},{"$f":"IF('Caseload Reporting'!R822 = \"\",\"\",'Caseload Reporting'!R822)","v":""},{"$f":"IF('Caseload Reporting'!E822 = \"\",\"\",'Caseload Reporting'!E822)","v":""},{"$f":"IF('Caseload Reporting'!S822 = \"\",\"\",'Caseload Reporting'!S822)","v":""}]
[{"$f":"IF('Caseload Reporting'!A823 = \"\",\"\",'Caseload Reporting'!A823)","v":""},{"$f":"IF('Caseload Reporting'!B823 = \"\",\"\",'Caseload Reporting'!B823)","v":""},{"$f":"IF('Caseload Reporting'!C823 = \"\",\"\",'Caseload Reporting'!C823)","v":""},{"$f":"IF('Caseload Reporting'!D823 = \"\",\"\",'Caseload Reporting'!D823)","v":""},{"$f":"IF('Caseload Reporting'!G823 = \"\",\"\",'Caseload Reporting'!G823)","v":""},{"$f":"IF('Caseload Reporting'!H823 = \"\",\"\",'Caseload Reporting'!H823)","v":""},{"$f":"IF('Caseload Reporting'!I823 = \"\",\"\",'Caseload Reporting'!I823)","v":""},{"$f":"IF('Caseload Reporting'!J823 = \"\",\"\",'Caseload Reporting'!J823)","v":""},{"$f":"IF('Caseload Reporting'!K823 = \"\",\"\",'Caseload Reporting'!K823)","v":""},{"$f":"IF('Caseload Reporting'!L823 = \"\",\"\",'Caseload Reporting'!L823)","v":""},{"$f":"IF('Caseload Reporting'!M823 = \"\",\"\",'Caseload Reporting'!M823)","v":""},{"$f":"IF('Caseload Reporting'!N823 = \"\",\"\",'Caseload Reporting'!N823)","v":""},{"$f":"IF('Caseload Reporting'!P823 = \"\",\"\",'Caseload Reporting'!P823)","v":""},{"$f":"IF('Caseload Reporting'!O823 = \"\",\"\",'Caseload Reporting'!O823)","v":""},{"$f":"IF('Caseload Reporting'!Q823 = \"\",\"\",'Caseload Reporting'!Q823)","v":""},{"$f":"IF('Caseload Reporting'!R823 = \"\",\"\",'Caseload Reporting'!R823)","v":""},{"$f":"IF('Caseload Reporting'!E823 = \"\",\"\",'Caseload Reporting'!E823)","v":""},{"$f":"IF('Caseload Reporting'!S823 = \"\",\"\",'Caseload Reporting'!S823)","v":""}]
[{"$f":"IF('Caseload Reporting'!A824 = \"\",\"\",'Caseload Reporting'!A824)","v":""},{"$f":"IF('Caseload Reporting'!B824 = \"\",\"\",'Caseload Reporting'!B824)","v":""},{"$f":"IF('Caseload Reporting'!C824 = \"\",\"\",'Caseload Reporting'!C824)","v":""},{"$f":"IF('Caseload Reporting'!D824 = \"\",\"\",'Caseload Reporting'!D824)","v":""},{"$f":"IF('Caseload Reporting'!G824 = \"\",\"\",'Caseload Reporting'!G824)","v":""},{"$f":"IF('Caseload Reporting'!H824 = \"\",\"\",'Caseload Reporting'!H824)","v":""},{"$f":"IF('Caseload Reporting'!I824 = \"\",\"\",'Caseload Reporting'!I824)","v":""},{"$f":"IF('Caseload Reporting'!J824 = \"\",\"\",'Caseload Reporting'!J824)","v":""},{"$f":"IF('Caseload Reporting'!K824 = \"\",\"\",'Caseload Reporting'!K824)","v":""},{"$f":"IF('Caseload Reporting'!L824 = \"\",\"\",'Caseload Reporting'!L824)","v":""},{"$f":"IF('Caseload Reporting'!M824 = \"\",\"\",'Caseload Reporting'!M824)","v":""},{"$f":"IF('Caseload Reporting'!N824 = \"\",\"\",'Caseload Reporting'!N824)","v":""},{"$f":"IF('Caseload Reporting'!P824 = \"\",\"\",'Caseload Reporting'!P824)","v":""},{"$f":"IF('Caseload Reporting'!O824 = \"\",\"\",'Caseload Reporting'!O824)","v":""},{"$f":"IF('Caseload Reporting'!Q824 = \"\",\"\",'Caseload Reporting'!Q824)","v":""},{"$f":"IF('Caseload Reporting'!R824 = \"\",\"\",'Caseload Reporting'!R824)","v":""},{"$f":"IF('Caseload Reporting'!E824 = \"\",\"\",'Caseload Reporting'!E824)","v":""},{"$f":"IF('Caseload Reporting'!S824 = \"\",\"\",'Caseload Reporting'!S824)","v":""}]
[{"$f":"IF('Caseload Reporting'!A825 = \"\",\"\",'Caseload Reporting'!A825)","v":""},{"$f":"IF('Caseload Reporting'!B825 = \"\",\"\",'Caseload Reporting'!B825)","v":""},{"$f":"IF('Caseload Reporting'!C825 = \"\",\"\",'Caseload Reporting'!C825)","v":""},{"$f":"IF('Caseload Reporting'!D825 = \"\",\"\",'Caseload Reporting'!D825)","v":""},{"$f":"IF('Caseload Reporting'!G825 = \"\",\"\",'Caseload Reporting'!G825)","v":""},{"$f":"IF('Caseload Reporting'!H825 = \"\",\"\",'Caseload Reporting'!H825)","v":""},{"$f":"IF('Caseload Reporting'!I825 = \"\",\"\",'Caseload Reporting'!I825)","v":""},{"$f":"IF('Caseload Reporting'!J825 = \"\",\"\",'Caseload Reporting'!J825)","v":""},{"$f":"IF('Caseload Reporting'!K825 = \"\",\"\",'Caseload Reporting'!K825)","v":""},{"$f":"IF('Caseload Reporting'!L825 = \"\",\"\",'Caseload Reporting'!L825)","v":""},{"$f":"IF('Caseload Reporting'!M825 = \"\",\"\",'Caseload Reporting'!M825)","v":""},{"$f":"IF('Caseload Reporting'!N825 = \"\",\"\",'Caseload Reporting'!N825)","v":""},{"$f":"IF('Caseload Reporting'!P825 = \"\",\"\",'Caseload Reporting'!P825)","v":""},{"$f":"IF('Caseload Reporting'!O825 = \"\",\"\",'Caseload Reporting'!O825)","v":""},{"$f":"IF('Caseload Reporting'!Q825 = \"\",\"\",'Caseload Reporting'!Q825)","v":""},{"$f":"IF('Caseload Reporting'!R825 = \"\",\"\",'Caseload Reporting'!R825)","v":""},{"$f":"IF('Caseload Reporting'!E825 = \"\",\"\",'Caseload Reporting'!E825)","v":""},{"$f":"IF('Caseload Reporting'!S825 = \"\",\"\",'Caseload Reporting'!S825)","v":""}]
[{"$f":"IF('Caseload Reporting'!A826 = \"\",\"\",'Caseload Reporting'!A826)","v":""},{"$f":"IF('Caseload Reporting'!B826 = \"\",\"\",'Caseload Reporting'!B826)","v":""},{"$f":"IF('Caseload Reporting'!C826 = \"\",\"\",'Caseload Reporting'!C826)","v":""},{"$f":"IF('Caseload Reporting'!D826 = \"\",\"\",'Caseload Reporting'!D826)","v":""},{"$f":"IF('Caseload Reporting'!G826 = \"\",\"\",'Caseload Reporting'!G826)","v":""},{"$f":"IF('Caseload Reporting'!H826 = \"\",\"\",'Caseload Reporting'!H826)","v":""},{"$f":"IF('Caseload Reporting'!I826 = \"\",\"\",'Caseload Reporting'!I826)","v":""},{"$f":"IF('Caseload Reporting'!J826 = \"\",\"\",'Caseload Reporting'!J826)","v":""},{"$f":"IF('Caseload Reporting'!K826 = \"\",\"\",'Caseload Reporting'!K826)","v":""},{"$f":"IF('Caseload Reporting'!L826 = \"\",\"\",'Caseload Reporting'!L826)","v":""},{"$f":"IF('Caseload Reporting'!M826 = \"\",\"\",'Caseload Reporting'!M826)","v":""},{"$f":"IF('Caseload Reporting'!N826 = \"\",\"\",'Caseload Reporting'!N826)","v":""},{"$f":"IF('Caseload Reporting'!P826 = \"\",\"\",'Caseload Reporting'!P826)","v":""},{"$f":"IF('Caseload Reporting'!O826 = \"\",\"\",'Caseload Reporting'!O826)","v":""},{"$f":"IF('Caseload Reporting'!Q826 = \"\",\"\",'Caseload Reporting'!Q826)","v":""},{"$f":"IF('Caseload Reporting'!R826 = \"\",\"\",'Caseload Reporting'!R826)","v":""},{"$f":"IF('Caseload Reporting'!E826 = \"\",\"\",'Caseload Reporting'!E826)","v":""},{"$f":"IF('Caseload Reporting'!S826 = \"\",\"\",'Caseload Reporting'!S826)","v":""}]
[{"$f":"IF('Caseload Reporting'!A827 = \"\",\"\",'Caseload Reporting'!A827)","v":""},{"$f":"IF('Caseload Reporting'!B827 = \"\",\"\",'Caseload Reporting'!B827)","v":""},{"$f":"IF('Caseload Reporting'!C827 = \"\",\"\",'Caseload Reporting'!C827)","v":""},{"$f":"IF('Caseload Reporting'!D827 = \"\",\"\",'Caseload Reporting'!D827)","v":""},{"$f":"IF('Caseload Reporting'!G827 = \"\",\"\",'Caseload Reporting'!G827)","v":""},{"$f":"IF('Caseload Reporting'!H827 = \"\",\"\",'Caseload Reporting'!H827)","v":""},{"$f":"IF('Caseload Reporting'!I827 = \"\",\"\",'Caseload Reporting'!I827)","v":""},{"$f":"IF('Caseload Reporting'!J827 = \"\",\"\",'Caseload Reporting'!J827)","v":""},{"$f":"IF('Caseload Reporting'!K827 = \"\",\"\",'Caseload Reporting'!K827)","v":""},{"$f":"IF('Caseload Reporting'!L827 = \"\",\"\",'Caseload Reporting'!L827)","v":""},{"$f":"IF('Caseload Reporting'!M827 = \"\",\"\",'Caseload Reporting'!M827)","v":""},{"$f":"IF('Caseload Reporting'!N827 = \"\",\"\",'Caseload Reporting'!N827)","v":""},{"$f":"IF('Caseload Reporting'!P827 = \"\",\"\",'Caseload Reporting'!P827)","v":""},{"$f":"IF('Caseload Reporting'!O827 = \"\",\"\",'Caseload Reporting'!O827)","v":""},{"$f":"IF('Caseload Reporting'!Q827 = \"\",\"\",'Caseload Reporting'!Q827)","v":""},{"$f":"IF('Caseload Reporting'!R827 = \"\",\"\",'Caseload Reporting'!R827)","v":""},{"$f":"IF('Caseload Reporting'!E827 = \"\",\"\",'Caseload Reporting'!E827)","v":""},{"$f":"IF('Caseload Reporting'!S827 = \"\",\"\",'Caseload Reporting'!S827)","v":""}]
[{"$f":"IF('Caseload Reporting'!A828 = \"\",\"\",'Caseload Reporting'!A828)","v":""},{"$f":"IF('Caseload Reporting'!B828 = \"\",\"\",'Caseload Reporting'!B828)","v":""},{"$f":"IF('Caseload Reporting'!C828 = \"\",\"\",'Caseload Reporting'!C828)","v":""},{"$f":"IF('Caseload Reporting'!D828 = \"\",\"\",'Caseload Reporting'!D828)","v":""},{"$f":"IF('Caseload Reporting'!G828 = \"\",\"\",'Caseload Reporting'!G828)","v":""},{"$f":"IF('Caseload Reporting'!H828 = \"\",\"\",'Caseload Reporting'!H828)","v":""},{"$f":"IF('Caseload Reporting'!I828 = \"\",\"\",'Caseload Reporting'!I828)","v":""},{"$f":"IF('Caseload Reporting'!J828 = \"\",\"\",'Caseload Reporting'!J828)","v":""},{"$f":"IF('Caseload Reporting'!K828 = \"\",\"\",'Caseload Reporting'!K828)","v":""},{"$f":"IF('Caseload Reporting'!L828 = \"\",\"\",'Caseload Reporting'!L828)","v":""},{"$f":"IF('Caseload Reporting'!M828 = \"\",\"\",'Caseload Reporting'!M828)","v":""},{"$f":"IF('Caseload Reporting'!N828 = \"\",\"\",'Caseload Reporting'!N828)","v":""},{"$f":"IF('Caseload Reporting'!P828 = \"\",\"\",'Caseload Reporting'!P828)","v":""},{"$f":"IF('Caseload Reporting'!O828 = \"\",\"\",'Caseload Reporting'!O828)","v":""},{"$f":"IF('Caseload Reporting'!Q828 = \"\",\"\",'Caseload Reporting'!Q828)","v":""},{"$f":"IF('Caseload Reporting'!R828 = \"\",\"\",'Caseload Reporting'!R828)","v":""},{"$f":"IF('Caseload Reporting'!E828 = \"\",\"\",'Caseload Reporting'!E828)","v":""},{"$f":"IF('Caseload Reporting'!S828 = \"\",\"\",'Caseload Reporting'!S828)","v":""}]
[{"$f":"IF('Caseload Reporting'!A829 = \"\",\"\",'Caseload Reporting'!A829)","v":""},{"$f":"IF('Caseload Reporting'!B829 = \"\",\"\",'Caseload Reporting'!B829)","v":""},{"$f":"IF('Caseload Reporting'!C829 = \"\",\"\",'Caseload Reporting'!C829)","v":""},{"$f":"IF('Caseload Reporting'!D829 = \"\",\"\",'Caseload Reporting'!D829)","v":""},{"$f":"IF('Caseload Reporting'!G829 = \"\",\"\",'Caseload Reporting'!G829)","v":""},{"$f":"IF('Caseload Reporting'!H829 = \"\",\"\",'Caseload Reporting'!H829)","v":""},{"$f":"IF('Caseload Reporting'!I829 = \"\",\"\",'Caseload Reporting'!I829)","v":""},{"$f":"IF('Caseload Reporting'!J829 = \"\",\"\",'Caseload Reporting'!J829)","v":""},{"$f":"IF('Caseload Reporting'!K829 = \"\",\"\",'Caseload Reporting'!K829)","v":""},{"$f":"IF('Caseload Reporting'!L829 = \"\",\"\",'Caseload Reporting'!L829)","v":""},{"$f":"IF('Caseload Reporting'!M829 = \"\",\"\",'Caseload Reporting'!M829)","v":""},{"$f":"IF('Caseload Reporting'!N829 = \"\",\"\",'Caseload Reporting'!N829)","v":""},{"$f":"IF('Caseload Reporting'!P829 = \"\",\"\",'Caseload Reporting'!P829)","v":""},{"$f":"IF('Caseload Reporting'!O829 = \"\",\"\",'Caseload Reporting'!O829)","v":""},{"$f":"IF('Caseload Reporting'!Q829 = \"\",\"\",'Caseload Reporting'!Q829)","v":""},{"$f":"IF('Caseload Reporting'!R829 = \"\",\"\",'Caseload Reporting'!R829)","v":""},{"$f":"IF('Caseload Reporting'!E829 = \"\",\"\",'Caseload Reporting'!E829)","v":""},{"$f":"IF('Caseload Reporting'!S829 = \"\",\"\",'Caseload Reporting'!S829)","v":""}]
[{"$f":"IF('Caseload Reporting'!A830 = \"\",\"\",'Caseload Reporting'!A830)","v":""},{"$f":"IF('Caseload Reporting'!B830 = \"\",\"\",'Caseload Reporting'!B830)","v":""},{"$f":"IF('Caseload Reporting'!C830 = \"\",\"\",'Caseload Reporting'!C830)","v":""},{"$f":"IF('Caseload Reporting'!D830 = \"\",\"\",'Caseload Reporting'!D830)","v":""},{"$f":"IF('Caseload Reporting'!G830 = \"\",\"\",'Caseload Reporting'!G830)","v":""},{"$f":"IF('Caseload Reporting'!H830 = \"\",\"\",'Caseload Reporting'!H830)","v":""},{"$f":"IF('Caseload Reporting'!I830 = \"\",\"\",'Caseload Reporting'!I830)","v":""},{"$f":"IF('Caseload Reporting'!J830 = \"\",\"\",'Caseload Reporting'!J830)","v":""},{"$f":"IF('Caseload Reporting'!K830 = \"\",\"\",'Caseload Reporting'!K830)","v":""},{"$f":"IF('Caseload Reporting'!L830 = \"\",\"\",'Caseload Reporting'!L830)","v":""},{"$f":"IF('Caseload Reporting'!M830 = \"\",\"\",'Caseload Reporting'!M830)","v":""},{"$f":"IF('Caseload Reporting'!N830 = \"\",\"\",'Caseload Reporting'!N830)","v":""},{"$f":"IF('Caseload Reporting'!P830 = \"\",\"\",'Caseload Reporting'!P830)","v":""},{"$f":"IF('Caseload Reporting'!O830 = \"\",\"\",'Caseload Reporting'!O830)","v":""},{"$f":"IF('Caseload Reporting'!Q830 = \"\",\"\",'Caseload Reporting'!Q830)","v":""},{"$f":"IF('Caseload Reporting'!R830 = \"\",\"\",'Caseload Reporting'!R830)","v":""},{"$f":"IF('Caseload Reporting'!E830 = \"\",\"\",'Caseload Reporting'!E830)","v":""},{"$f":"IF('Caseload Reporting'!S830 = \"\",\"\",'Caseload Reporting'!S830)","v":""}]
[{"$f":"IF('Caseload Reporting'!A831 = \"\",\"\",'Caseload Reporting'!A831)","v":""},{"$f":"IF('Caseload Reporting'!B831 = \"\",\"\",'Caseload Reporting'!B831)","v":""},{"$f":"IF('Caseload Reporting'!C831 = \"\",\"\",'Caseload Reporting'!C831)","v":""},{"$f":"IF('Caseload Reporting'!D831 = \"\",\"\",'Caseload Reporting'!D831)","v":""},{"$f":"IF('Caseload Reporting'!G831 = \"\",\"\",'Caseload Reporting'!G831)","v":""},{"$f":"IF('Caseload Reporting'!H831 = \"\",\"\",'Caseload Reporting'!H831)","v":""},{"$f":"IF('Caseload Reporting'!I831 = \"\",\"\",'Caseload Reporting'!I831)","v":""},{"$f":"IF('Caseload Reporting'!J831 = \"\",\"\",'Caseload Reporting'!J831)","v":""},{"$f":"IF('Caseload Reporting'!K831 = \"\",\"\",'Caseload Reporting'!K831)","v":""},{"$f":"IF('Caseload Reporting'!L831 = \"\",\"\",'Caseload Reporting'!L831)","v":""},{"$f":"IF('Caseload Reporting'!M831 = \"\",\"\",'Caseload Reporting'!M831)","v":""},{"$f":"IF('Caseload Reporting'!N831 = \"\",\"\",'Caseload Reporting'!N831)","v":""},{"$f":"IF('Caseload Reporting'!P831 = \"\",\"\",'Caseload Reporting'!P831)","v":""},{"$f":"IF('Caseload Reporting'!O831 = \"\",\"\",'Caseload Reporting'!O831)","v":""},{"$f":"IF('Caseload Reporting'!Q831 = \"\",\"\",'Caseload Reporting'!Q831)","v":""},{"$f":"IF('Caseload Reporting'!R831 = \"\",\"\",'Caseload Reporting'!R831)","v":""},{"$f":"IF('Caseload Reporting'!E831 = \"\",\"\",'Caseload Reporting'!E831)","v":""},{"$f":"IF('Caseload Reporting'!S831 = \"\",\"\",'Caseload Reporting'!S831)","v":""}]
[{"$f":"IF('Caseload Reporting'!A832 = \"\",\"\",'Caseload Reporting'!A832)","v":""},{"$f":"IF('Caseload Reporting'!B832 = \"\",\"\",'Caseload Reporting'!B832)","v":""},{"$f":"IF('Caseload Reporting'!C832 = \"\",\"\",'Caseload Reporting'!C832)","v":""},{"$f":"IF('Caseload Reporting'!D832 = \"\",\"\",'Caseload Reporting'!D832)","v":""},{"$f":"IF('Caseload Reporting'!G832 = \"\",\"\",'Caseload Reporting'!G832)","v":""},{"$f":"IF('Caseload Reporting'!H832 = \"\",\"\",'Caseload Reporting'!H832)","v":""},{"$f":"IF('Caseload Reporting'!I832 = \"\",\"\",'Caseload Reporting'!I832)","v":""},{"$f":"IF('Caseload Reporting'!J832 = \"\",\"\",'Caseload Reporting'!J832)","v":""},{"$f":"IF('Caseload Reporting'!K832 = \"\",\"\",'Caseload Reporting'!K832)","v":""},{"$f":"IF('Caseload Reporting'!L832 = \"\",\"\",'Caseload Reporting'!L832)","v":""},{"$f":"IF('Caseload Reporting'!M832 = \"\",\"\",'Caseload Reporting'!M832)","v":""},{"$f":"IF('Caseload Reporting'!N832 = \"\",\"\",'Caseload Reporting'!N832)","v":""},{"$f":"IF('Caseload Reporting'!P832 = \"\",\"\",'Caseload Reporting'!P832)","v":""},{"$f":"IF('Caseload Reporting'!O832 = \"\",\"\",'Caseload Reporting'!O832)","v":""},{"$f":"IF('Caseload Reporting'!Q832 = \"\",\"\",'Caseload Reporting'!Q832)","v":""},{"$f":"IF('Caseload Reporting'!R832 = \"\",\"\",'Caseload Reporting'!R832)","v":""},{"$f":"IF('Caseload Reporting'!E832 = \"\",\"\",'Caseload Reporting'!E832)","v":""},{"$f":"IF('Caseload Reporting'!S832 = \"\",\"\",'Caseload Reporting'!S832)","v":""}]
[{"$f":"IF('Caseload Reporting'!A833 = \"\",\"\",'Caseload Reporting'!A833)","v":""},{"$f":"IF('Caseload Reporting'!B833 = \"\",\"\",'Caseload Reporting'!B833)","v":""},{"$f":"IF('Caseload Reporting'!C833 = \"\",\"\",'Caseload Reporting'!C833)","v":""},{"$f":"IF('Caseload Reporting'!D833 = \"\",\"\",'Caseload Reporting'!D833)","v":""},{"$f":"IF('Caseload Reporting'!G833 = \"\",\"\",'Caseload Reporting'!G833)","v":""},{"$f":"IF('Caseload Reporting'!H833 = \"\",\"\",'Caseload Reporting'!H833)","v":""},{"$f":"IF('Caseload Reporting'!I833 = \"\",\"\",'Caseload Reporting'!I833)","v":""},{"$f":"IF('Caseload Reporting'!J833 = \"\",\"\",'Caseload Reporting'!J833)","v":""},{"$f":"IF('Caseload Reporting'!K833 = \"\",\"\",'Caseload Reporting'!K833)","v":""},{"$f":"IF('Caseload Reporting'!L833 = \"\",\"\",'Caseload Reporting'!L833)","v":""},{"$f":"IF('Caseload Reporting'!M833 = \"\",\"\",'Caseload Reporting'!M833)","v":""},{"$f":"IF('Caseload Reporting'!N833 = \"\",\"\",'Caseload Reporting'!N833)","v":""},{"$f":"IF('Caseload Reporting'!P833 = \"\",\"\",'Caseload Reporting'!P833)","v":""},{"$f":"IF('Caseload Reporting'!O833 = \"\",\"\",'Caseload Reporting'!O833)","v":""},{"$f":"IF('Caseload Reporting'!Q833 = \"\",\"\",'Caseload Reporting'!Q833)","v":""},{"$f":"IF('Caseload Reporting'!R833 = \"\",\"\",'Caseload Reporting'!R833)","v":""},{"$f":"IF('Caseload Reporting'!E833 = \"\",\"\",'Caseload Reporting'!E833)","v":""},{"$f":"IF('Caseload Reporting'!S833 = \"\",\"\",'Caseload Reporting'!S833)","v":""}]
[{"$f":"IF('Caseload Reporting'!A834 = \"\",\"\",'Caseload Reporting'!A834)","v":""},{"$f":"IF('Caseload Reporting'!B834 = \"\",\"\",'Caseload Reporting'!B834)","v":""},{"$f":"IF('Caseload Reporting'!C834 = \"\",\"\",'Caseload Reporting'!C834)","v":""},{"$f":"IF('Caseload Reporting'!D834 = \"\",\"\",'Caseload Reporting'!D834)","v":""},{"$f":"IF('Caseload Reporting'!G834 = \"\",\"\",'Caseload Reporting'!G834)","v":""},{"$f":"IF('Caseload Reporting'!H834 = \"\",\"\",'Caseload Reporting'!H834)","v":""},{"$f":"IF('Caseload Reporting'!I834 = \"\",\"\",'Caseload Reporting'!I834)","v":""},{"$f":"IF('Caseload Reporting'!J834 = \"\",\"\",'Caseload Reporting'!J834)","v":""},{"$f":"IF('Caseload Reporting'!K834 = \"\",\"\",'Caseload Reporting'!K834)","v":""},{"$f":"IF('Caseload Reporting'!L834 = \"\",\"\",'Caseload Reporting'!L834)","v":""},{"$f":"IF('Caseload Reporting'!M834 = \"\",\"\",'Caseload Reporting'!M834)","v":""},{"$f":"IF('Caseload Reporting'!N834 = \"\",\"\",'Caseload Reporting'!N834)","v":""},{"$f":"IF('Caseload Reporting'!P834 = \"\",\"\",'Caseload Reporting'!P834)","v":""},{"$f":"IF('Caseload Reporting'!O834 = \"\",\"\",'Caseload Reporting'!O834)","v":""},{"$f":"IF('Caseload Reporting'!Q834 = \"\",\"\",'Caseload Reporting'!Q834)","v":""},{"$f":"IF('Caseload Reporting'!R834 = \"\",\"\",'Caseload Reporting'!R834)","v":""},{"$f":"IF('Caseload Reporting'!E834 = \"\",\"\",'Caseload Reporting'!E834)","v":""},{"$f":"IF('Caseload Reporting'!S834 = \"\",\"\",'Caseload Reporting'!S834)","v":""}]
[{"$f":"IF('Caseload Reporting'!A835 = \"\",\"\",'Caseload Reporting'!A835)","v":""},{"$f":"IF('Caseload Reporting'!B835 = \"\",\"\",'Caseload Reporting'!B835)","v":""},{"$f":"IF('Caseload Reporting'!C835 = \"\",\"\",'Caseload Reporting'!C835)","v":""},{"$f":"IF('Caseload Reporting'!D835 = \"\",\"\",'Caseload Reporting'!D835)","v":""},{"$f":"IF('Caseload Reporting'!G835 = \"\",\"\",'Caseload Reporting'!G835)","v":""},{"$f":"IF('Caseload Reporting'!H835 = \"\",\"\",'Caseload Reporting'!H835)","v":""},{"$f":"IF('Caseload Reporting'!I835 = \"\",\"\",'Caseload Reporting'!I835)","v":""},{"$f":"IF('Caseload Reporting'!J835 = \"\",\"\",'Caseload Reporting'!J835)","v":""},{"$f":"IF('Caseload Reporting'!K835 = \"\",\"\",'Caseload Reporting'!K835)","v":""},{"$f":"IF('Caseload Reporting'!L835 = \"\",\"\",'Caseload Reporting'!L835)","v":""},{"$f":"IF('Caseload Reporting'!M835 = \"\",\"\",'Caseload Reporting'!M835)","v":""},{"$f":"IF('Caseload Reporting'!N835 = \"\",\"\",'Caseload Reporting'!N835)","v":""},{"$f":"IF('Caseload Reporting'!P835 = \"\",\"\",'Caseload Reporting'!P835)","v":""},{"$f":"IF('Caseload Reporting'!O835 = \"\",\"\",'Caseload Reporting'!O835)","v":""},{"$f":"IF('Caseload Reporting'!Q835 = \"\",\"\",'Caseload Reporting'!Q835)","v":""},{"$f":"IF('Caseload Reporting'!R835 = \"\",\"\",'Caseload Reporting'!R835)","v":""},{"$f":"IF('Caseload Reporting'!E835 = \"\",\"\",'Caseload Reporting'!E835)","v":""},{"$f":"IF('Caseload Reporting'!S835 = \"\",\"\",'Caseload Reporting'!S835)","v":""}]
[{"$f":"IF('Caseload Reporting'!A836 = \"\",\"\",'Caseload Reporting'!A836)","v":""},{"$f":"IF('Caseload Reporting'!B836 = \"\",\"\",'Caseload Reporting'!B836)","v":""},{"$f":"IF('Caseload Reporting'!C836 = \"\",\"\",'Caseload Reporting'!C836)","v":""},{"$f":"IF('Caseload Reporting'!D836 = \"\",\"\",'Caseload Reporting'!D836)","v":""},{"$f":"IF('Caseload Reporting'!G836 = \"\",\"\",'Caseload Reporting'!G836)","v":""},{"$f":"IF('Caseload Reporting'!H836 = \"\",\"\",'Caseload Reporting'!H836)","v":""},{"$f":"IF('Caseload Reporting'!I836 = \"\",\"\",'Caseload Reporting'!I836)","v":""},{"$f":"IF('Caseload Reporting'!J836 = \"\",\"\",'Caseload Reporting'!J836)","v":""},{"$f":"IF('Caseload Reporting'!K836 = \"\",\"\",'Caseload Reporting'!K836)","v":""},{"$f":"IF('Caseload Reporting'!L836 = \"\",\"\",'Caseload Reporting'!L836)","v":""},{"$f":"IF('Caseload Reporting'!M836 = \"\",\"\",'Caseload Reporting'!M836)","v":""},{"$f":"IF('Caseload Reporting'!N836 = \"\",\"\",'Caseload Reporting'!N836)","v":""},{"$f":"IF('Caseload Reporting'!P836 = \"\",\"\",'Caseload Reporting'!P836)","v":""},{"$f":"IF('Caseload Reporting'!O836 = \"\",\"\",'Caseload Reporting'!O836)","v":""},{"$f":"IF('Caseload Reporting'!Q836 = \"\",\"\",'Caseload Reporting'!Q836)","v":""},{"$f":"IF('Caseload Reporting'!R836 = \"\",\"\",'Caseload Reporting'!R836)","v":""},{"$f":"IF('Caseload Reporting'!E836 = \"\",\"\",'Caseload Reporting'!E836)","v":""},{"$f":"IF('Caseload Reporting'!S836 = \"\",\"\",'Caseload Reporting'!S836)","v":""}]
[{"$f":"IF('Caseload Reporting'!A837 = \"\",\"\",'Caseload Reporting'!A837)","v":""},{"$f":"IF('Caseload Reporting'!B837 = \"\",\"\",'Caseload Reporting'!B837)","v":""},{"$f":"IF('Caseload Reporting'!C837 = \"\",\"\",'Caseload Reporting'!C837)","v":""},{"$f":"IF('Caseload Reporting'!D837 = \"\",\"\",'Caseload Reporting'!D837)","v":""},{"$f":"IF('Caseload Reporting'!G837 = \"\",\"\",'Caseload Reporting'!G837)","v":""},{"$f":"IF('Caseload Reporting'!H837 = \"\",\"\",'Caseload Reporting'!H837)","v":""},{"$f":"IF('Caseload Reporting'!I837 = \"\",\"\",'Caseload Reporting'!I837)","v":""},{"$f":"IF('Caseload Reporting'!J837 = \"\",\"\",'Caseload Reporting'!J837)","v":""},{"$f":"IF('Caseload Reporting'!K837 = \"\",\"\",'Caseload Reporting'!K837)","v":""},{"$f":"IF('Caseload Reporting'!L837 = \"\",\"\",'Caseload Reporting'!L837)","v":""},{"$f":"IF('Caseload Reporting'!M837 = \"\",\"\",'Caseload Reporting'!M837)","v":""},{"$f":"IF('Caseload Reporting'!N837 = \"\",\"\",'Caseload Reporting'!N837)","v":""},{"$f":"IF('Caseload Reporting'!P837 = \"\",\"\",'Caseload Reporting'!P837)","v":""},{"$f":"IF('Caseload Reporting'!O837 = \"\",\"\",'Caseload Reporting'!O837)","v":""},{"$f":"IF('Caseload Reporting'!Q837 = \"\",\"\",'Caseload Reporting'!Q837)","v":""},{"$f":"IF('Caseload Reporting'!R837 = \"\",\"\",'Caseload Reporting'!R837)","v":""},{"$f":"IF('Caseload Reporting'!E837 = \"\",\"\",'Caseload Reporting'!E837)","v":""},{"$f":"IF('Caseload Reporting'!S837 = \"\",\"\",'Caseload Reporting'!S837)","v":""}]
[{"$f":"IF('Caseload Reporting'!A838 = \"\",\"\",'Caseload Reporting'!A838)","v":""},{"$f":"IF('Caseload Reporting'!B838 = \"\",\"\",'Caseload Reporting'!B838)","v":""},{"$f":"IF('Caseload Reporting'!C838 = \"\",\"\",'Caseload Reporting'!C838)","v":""},{"$f":"IF('Caseload Reporting'!D838 = \"\",\"\",'Caseload Reporting'!D838)","v":""},{"$f":"IF('Caseload Reporting'!G838 = \"\",\"\",'Caseload Reporting'!G838)","v":""},{"$f":"IF('Caseload Reporting'!H838 = \"\",\"\",'Caseload Reporting'!H838)","v":""},{"$f":"IF('Caseload Reporting'!I838 = \"\",\"\",'Caseload Reporting'!I838)","v":""},{"$f":"IF('Caseload Reporting'!J838 = \"\",\"\",'Caseload Reporting'!J838)","v":""},{"$f":"IF('Caseload Reporting'!K838 = \"\",\"\",'Caseload Reporting'!K838)","v":""},{"$f":"IF('Caseload Reporting'!L838 = \"\",\"\",'Caseload Reporting'!L838)","v":""},{"$f":"IF('Caseload Reporting'!M838 = \"\",\"\",'Caseload Reporting'!M838)","v":""},{"$f":"IF('Caseload Reporting'!N838 = \"\",\"\",'Caseload Reporting'!N838)","v":""},{"$f":"IF('Caseload Reporting'!P838 = \"\",\"\",'Caseload Reporting'!P838)","v":""},{"$f":"IF('Caseload Reporting'!O838 = \"\",\"\",'Caseload Reporting'!O838)","v":""},{"$f":"IF('Caseload Reporting'!Q838 = \"\",\"\",'Caseload Reporting'!Q838)","v":""},{"$f":"IF('Caseload Reporting'!R838 = \"\",\"\",'Caseload Reporting'!R838)","v":""},{"$f":"IF('Caseload Reporting'!E838 = \"\",\"\",'Caseload Reporting'!E838)","v":""},{"$f":"IF('Caseload Reporting'!S838 = \"\",\"\",'Caseload Reporting'!S838)","v":""}]
[{"$f":"IF('Caseload Reporting'!A839 = \"\",\"\",'Caseload Reporting'!A839)","v":""},{"$f":"IF('Caseload Reporting'!B839 = \"\",\"\",'Caseload Reporting'!B839)","v":""},{"$f":"IF('Caseload Reporting'!C839 = \"\",\"\",'Caseload Reporting'!C839)","v":""},{"$f":"IF('Caseload Reporting'!D839 = \"\",\"\",'Caseload Reporting'!D839)","v":""},{"$f":"IF('Caseload Reporting'!G839 = \"\",\"\",'Caseload Reporting'!G839)","v":""},{"$f":"IF('Caseload Reporting'!H839 = \"\",\"\",'Caseload Reporting'!H839)","v":""},{"$f":"IF('Caseload Reporting'!I839 = \"\",\"\",'Caseload Reporting'!I839)","v":""},{"$f":"IF('Caseload Reporting'!J839 = \"\",\"\",'Caseload Reporting'!J839)","v":""},{"$f":"IF('Caseload Reporting'!K839 = \"\",\"\",'Caseload Reporting'!K839)","v":""},{"$f":"IF('Caseload Reporting'!L839 = \"\",\"\",'Caseload Reporting'!L839)","v":""},{"$f":"IF('Caseload Reporting'!M839 = \"\",\"\",'Caseload Reporting'!M839)","v":""},{"$f":"IF('Caseload Reporting'!N839 = \"\",\"\",'Caseload Reporting'!N839)","v":""},{"$f":"IF('Caseload Reporting'!P839 = \"\",\"\",'Caseload Reporting'!P839)","v":""},{"$f":"IF('Caseload Reporting'!O839 = \"\",\"\",'Caseload Reporting'!O839)","v":""},{"$f":"IF('Caseload Reporting'!Q839 = \"\",\"\",'Caseload Reporting'!Q839)","v":""},{"$f":"IF('Caseload Reporting'!R839 = \"\",\"\",'Caseload Reporting'!R839)","v":""},{"$f":"IF('Caseload Reporting'!E839 = \"\",\"\",'Caseload Reporting'!E839)","v":""},{"$f":"IF('Caseload Reporting'!S839 = \"\",\"\",'Caseload Reporting'!S839)","v":""}]
[{"$f":"IF('Caseload Reporting'!A840 = \"\",\"\",'Caseload Reporting'!A840)","v":""},{"$f":"IF('Caseload Reporting'!B840 = \"\",\"\",'Caseload Reporting'!B840)","v":""},{"$f":"IF('Caseload Reporting'!C840 = \"\",\"\",'Caseload Reporting'!C840)","v":""},{"$f":"IF('Caseload Reporting'!D840 = \"\",\"\",'Caseload Reporting'!D840)","v":""},{"$f":"IF('Caseload Reporting'!G840 = \"\",\"\",'Caseload Reporting'!G840)","v":""},{"$f":"IF('Caseload Reporting'!H840 = \"\",\"\",'Caseload Reporting'!H840)","v":""},{"$f":"IF('Caseload Reporting'!I840 = \"\",\"\",'Caseload Reporting'!I840)","v":""},{"$f":"IF('Caseload Reporting'!J840 = \"\",\"\",'Caseload Reporting'!J840)","v":""},{"$f":"IF('Caseload Reporting'!K840 = \"\",\"\",'Caseload Reporting'!K840)","v":""},{"$f":"IF('Caseload Reporting'!L840 = \"\",\"\",'Caseload Reporting'!L840)","v":""},{"$f":"IF('Caseload Reporting'!M840 = \"\",\"\",'Caseload Reporting'!M840)","v":""},{"$f":"IF('Caseload Reporting'!N840 = \"\",\"\",'Caseload Reporting'!N840)","v":""},{"$f":"IF('Caseload Reporting'!P840 = \"\",\"\",'Caseload Reporting'!P840)","v":""},{"$f":"IF('Caseload Reporting'!O840 = \"\",\"\",'Caseload Reporting'!O840)","v":""},{"$f":"IF('Caseload Reporting'!Q840 = \"\",\"\",'Caseload Reporting'!Q840)","v":""},{"$f":"IF('Caseload Reporting'!R840 = \"\",\"\",'Caseload Reporting'!R840)","v":""},{"$f":"IF('Caseload Reporting'!E840 = \"\",\"\",'Caseload Reporting'!E840)","v":""},{"$f":"IF('Caseload Reporting'!S840 = \"\",\"\",'Caseload Reporting'!S840)","v":""}]
[{"$f":"IF('Caseload Reporting'!A841 = \"\",\"\",'Caseload Reporting'!A841)","v":""},{"$f":"IF('Caseload Reporting'!B841 = \"\",\"\",'Caseload Reporting'!B841)","v":""},{"$f":"IF('Caseload Reporting'!C841 = \"\",\"\",'Caseload Reporting'!C841)","v":""},{"$f":"IF('Caseload Reporting'!D841 = \"\",\"\",'Caseload Reporting'!D841)","v":""},{"$f":"IF('Caseload Reporting'!G841 = \"\",\"\",'Caseload Reporting'!G841)","v":""},{"$f":"IF('Caseload Reporting'!H841 = \"\",\"\",'Caseload Reporting'!H841)","v":""},{"$f":"IF('Caseload Reporting'!I841 = \"\",\"\",'Caseload Reporting'!I841)","v":""},{"$f":"IF('Caseload Reporting'!J841 = \"\",\"\",'Caseload Reporting'!J841)","v":""},{"$f":"IF('Caseload Reporting'!K841 = \"\",\"\",'Caseload Reporting'!K841)","v":""},{"$f":"IF('Caseload Reporting'!L841 = \"\",\"\",'Caseload Reporting'!L841)","v":""},{"$f":"IF('Caseload Reporting'!M841 = \"\",\"\",'Caseload Reporting'!M841)","v":""},{"$f":"IF('Caseload Reporting'!N841 = \"\",\"\",'Caseload Reporting'!N841)","v":""},{"$f":"IF('Caseload Reporting'!P841 = \"\",\"\",'Caseload Reporting'!P841)","v":""},{"$f":"IF('Caseload Reporting'!O841 = \"\",\"\",'Caseload Reporting'!O841)","v":""},{"$f":"IF('Caseload Reporting'!Q841 = \"\",\"\",'Caseload Reporting'!Q841)","v":""},{"$f":"IF('Caseload Reporting'!R841 = \"\",\"\",'Caseload Reporting'!R841)","v":""},{"$f":"IF('Caseload Reporting'!E841 = \"\",\"\",'Caseload Reporting'!E841)","v":""},{"$f":"IF('Caseload Reporting'!S841 = \"\",\"\",'Caseload Reporting'!S841)","v":""}]
[{"$f":"IF('Caseload Reporting'!A842 = \"\",\"\",'Caseload Reporting'!A842)","v":""},{"$f":"IF('Caseload Reporting'!B842 = \"\",\"\",'Caseload Reporting'!B842)","v":""},{"$f":"IF('Caseload Reporting'!C842 = \"\",\"\",'Caseload Reporting'!C842)","v":""},{"$f":"IF('Caseload Reporting'!D842 = \"\",\"\",'Caseload Reporting'!D842)","v":""},{"$f":"IF('Caseload Reporting'!G842 = \"\",\"\",'Caseload Reporting'!G842)","v":""},{"$f":"IF('Caseload Reporting'!H842 = \"\",\"\",'Caseload Reporting'!H842)","v":""},{"$f":"IF('Caseload Reporting'!I842 = \"\",\"\",'Caseload Reporting'!I842)","v":""},{"$f":"IF('Caseload Reporting'!J842 = \"\",\"\",'Caseload Reporting'!J842)","v":""},{"$f":"IF('Caseload Reporting'!K842 = \"\",\"\",'Caseload Reporting'!K842)","v":""},{"$f":"IF('Caseload Reporting'!L842 = \"\",\"\",'Caseload Reporting'!L842)","v":""},{"$f":"IF('Caseload Reporting'!M842 = \"\",\"\",'Caseload Reporting'!M842)","v":""},{"$f":"IF('Caseload Reporting'!N842 = \"\",\"\",'Caseload Reporting'!N842)","v":""},{"$f":"IF('Caseload Reporting'!P842 = \"\",\"\",'Caseload Reporting'!P842)","v":""},{"$f":"IF('Caseload Reporting'!O842 = \"\",\"\",'Caseload Reporting'!O842)","v":""},{"$f":"IF('Caseload Reporting'!Q842 = \"\",\"\",'Caseload Reporting'!Q842)","v":""},{"$f":"IF('Caseload Reporting'!R842 = \"\",\"\",'Caseload Reporting'!R842)","v":""},{"$f":"IF('Caseload Reporting'!E842 = \"\",\"\",'Caseload Reporting'!E842)","v":""},{"$f":"IF('Caseload Reporting'!S842 = \"\",\"\",'Caseload Reporting'!S842)","v":""}]
[{"$f":"IF('Caseload Reporting'!A843 = \"\",\"\",'Caseload Reporting'!A843)","v":""},{"$f":"IF('Caseload Reporting'!B843 = \"\",\"\",'Caseload Reporting'!B843)","v":""},{"$f":"IF('Caseload Reporting'!C843 = \"\",\"\",'Caseload Reporting'!C843)","v":""},{"$f":"IF('Caseload Reporting'!D843 = \"\",\"\",'Caseload Reporting'!D843)","v":""},{"$f":"IF('Caseload Reporting'!G843 = \"\",\"\",'Caseload Reporting'!G843)","v":""},{"$f":"IF('Caseload Reporting'!H843 = \"\",\"\",'Caseload Reporting'!H843)","v":""},{"$f":"IF('Caseload Reporting'!I843 = \"\",\"\",'Caseload Reporting'!I843)","v":""},{"$f":"IF('Caseload Reporting'!J843 = \"\",\"\",'Caseload Reporting'!J843)","v":""},{"$f":"IF('Caseload Reporting'!K843 = \"\",\"\",'Caseload Reporting'!K843)","v":""},{"$f":"IF('Caseload Reporting'!L843 = \"\",\"\",'Caseload Reporting'!L843)","v":""},{"$f":"IF('Caseload Reporting'!M843 = \"\",\"\",'Caseload Reporting'!M843)","v":""},{"$f":"IF('Caseload Reporting'!N843 = \"\",\"\",'Caseload Reporting'!N843)","v":""},{"$f":"IF('Caseload Reporting'!P843 = \"\",\"\",'Caseload Reporting'!P843)","v":""},{"$f":"IF('Caseload Reporting'!O843 = \"\",\"\",'Caseload Reporting'!O843)","v":""},{"$f":"IF('Caseload Reporting'!Q843 = \"\",\"\",'Caseload Reporting'!Q843)","v":""},{"$f":"IF('Caseload Reporting'!R843 = \"\",\"\",'Caseload Reporting'!R843)","v":""},{"$f":"IF('Caseload Reporting'!E843 = \"\",\"\",'Caseload Reporting'!E843)","v":""},{"$f":"IF('Caseload Reporting'!S843 = \"\",\"\",'Caseload Reporting'!S843)","v":""}]
[{"$f":"IF('Caseload Reporting'!A844 = \"\",\"\",'Caseload Reporting'!A844)","v":""},{"$f":"IF('Caseload Reporting'!B844 = \"\",\"\",'Caseload Reporting'!B844)","v":""},{"$f":"IF('Caseload Reporting'!C844 = \"\",\"\",'Caseload Reporting'!C844)","v":""},{"$f":"IF('Caseload Reporting'!D844 = \"\",\"\",'Caseload Reporting'!D844)","v":""},{"$f":"IF('Caseload Reporting'!G844 = \"\",\"\",'Caseload Reporting'!G844)","v":""},{"$f":"IF('Caseload Reporting'!H844 = \"\",\"\",'Caseload Reporting'!H844)","v":""},{"$f":"IF('Caseload Reporting'!I844 = \"\",\"\",'Caseload Reporting'!I844)","v":""},{"$f":"IF('Caseload Reporting'!J844 = \"\",\"\",'Caseload Reporting'!J844)","v":""},{"$f":"IF('Caseload Reporting'!K844 = \"\",\"\",'Caseload Reporting'!K844)","v":""},{"$f":"IF('Caseload Reporting'!L844 = \"\",\"\",'Caseload Reporting'!L844)","v":""},{"$f":"IF('Caseload Reporting'!M844 = \"\",\"\",'Caseload Reporting'!M844)","v":""},{"$f":"IF('Caseload Reporting'!N844 = \"\",\"\",'Caseload Reporting'!N844)","v":""},{"$f":"IF('Caseload Reporting'!P844 = \"\",\"\",'Caseload Reporting'!P844)","v":""},{"$f":"IF('Caseload Reporting'!O844 = \"\",\"\",'Caseload Reporting'!O844)","v":""},{"$f":"IF('Caseload Reporting'!Q844 = \"\",\"\",'Caseload Reporting'!Q844)","v":""},{"$f":"IF('Caseload Reporting'!R844 = \"\",\"\",'Caseload Reporting'!R844)","v":""},{"$f":"IF('Caseload Reporting'!E844 = \"\",\"\",'Caseload Reporting'!E844)","v":""},{"$f":"IF('Caseload Reporting'!S844 = \"\",\"\",'Caseload Reporting'!S844)","v":""}]
[{"$f":"IF('Caseload Reporting'!A845 = \"\",\"\",'Caseload Reporting'!A845)","v":""},{"$f":"IF('Caseload Reporting'!B845 = \"\",\"\",'Caseload Reporting'!B845)","v":""},{"$f":"IF('Caseload Reporting'!C845 = \"\",\"\",'Caseload Reporting'!C845)","v":""},{"$f":"IF('Caseload Reporting'!D845 = \"\",\"\",'Caseload Reporting'!D845)","v":""},{"$f":"IF('Caseload Reporting'!G845 = \"\",\"\",'Caseload Reporting'!G845)","v":""},{"$f":"IF('Caseload Reporting'!H845 = \"\",\"\",'Caseload Reporting'!H845)","v":""},{"$f":"IF('Caseload Reporting'!I845 = \"\",\"\",'Caseload Reporting'!I845)","v":""},{"$f":"IF('Caseload Reporting'!J845 = \"\",\"\",'Caseload Reporting'!J845)","v":""},{"$f":"IF('Caseload Reporting'!K845 = \"\",\"\",'Caseload Reporting'!K845)","v":""},{"$f":"IF('Caseload Reporting'!L845 = \"\",\"\",'Caseload Reporting'!L845)","v":""},{"$f":"IF('Caseload Reporting'!M845 = \"\",\"\",'Caseload Reporting'!M845)","v":""},{"$f":"IF('Caseload Reporting'!N845 = \"\",\"\",'Caseload Reporting'!N845)","v":""},{"$f":"IF('Caseload Reporting'!P845 = \"\",\"\",'Caseload Reporting'!P845)","v":""},{"$f":"IF('Caseload Reporting'!O845 = \"\",\"\",'Caseload Reporting'!O845)","v":""},{"$f":"IF('Caseload Reporting'!Q845 = \"\",\"\",'Caseload Reporting'!Q845)","v":""},{"$f":"IF('Caseload Reporting'!R845 = \"\",\"\",'Caseload Reporting'!R845)","v":""},{"$f":"IF('Caseload Reporting'!E845 = \"\",\"\",'Caseload Reporting'!E845)","v":""},{"$f":"IF('Caseload Reporting'!S845 = \"\",\"\",'Caseload Reporting'!S845)","v":""}]
[{"$f":"IF('Caseload Reporting'!A846 = \"\",\"\",'Caseload Reporting'!A846)","v":""},{"$f":"IF('Caseload Reporting'!B846 = \"\",\"\",'Caseload Reporting'!B846)","v":""},{"$f":"IF('Caseload Reporting'!C846 = \"\",\"\",'Caseload Reporting'!C846)","v":""},{"$f":"IF('Caseload Reporting'!D846 = \"\",\"\",'Caseload Reporting'!D846)","v":""},{"$f":"IF('Caseload Reporting'!G846 = \"\",\"\",'Caseload Reporting'!G846)","v":""},{"$f":"IF('Caseload Reporting'!H846 = \"\",\"\",'Caseload Reporting'!H846)","v":""},{"$f":"IF('Caseload Reporting'!I846 = \"\",\"\",'Caseload Reporting'!I846)","v":""},{"$f":"IF('Caseload Reporting'!J846 = \"\",\"\",'Caseload Reporting'!J846)","v":""},{"$f":"IF('Caseload Reporting'!K846 = \"\",\"\",'Caseload Reporting'!K846)","v":""},{"$f":"IF('Caseload Reporting'!L846 = \"\",\"\",'Caseload Reporting'!L846)","v":""},{"$f":"IF('Caseload Reporting'!M846 = \"\",\"\",'Caseload Reporting'!M846)","v":""},{"$f":"IF('Caseload Reporting'!N846 = \"\",\"\",'Caseload Reporting'!N846)","v":""},{"$f":"IF('Caseload Reporting'!P846 = \"\",\"\",'Caseload Reporting'!P846)","v":""},{"$f":"IF('Caseload Reporting'!O846 = \"\",\"\",'Caseload Reporting'!O846)","v":""},{"$f":"IF('Caseload Reporting'!Q846 = \"\",\"\",'Caseload Reporting'!Q846)","v":""},{"$f":"IF('Caseload Reporting'!R846 = \"\",\"\",'Caseload Reporting'!R846)","v":""},{"$f":"IF('Caseload Reporting'!E846 = \"\",\"\",'Caseload Reporting'!E846)","v":""},{"$f":"IF('Caseload Reporting'!S846 = \"\",\"\",'Caseload Reporting'!S846)","v":""}]
[{"$f":"IF('Caseload Reporting'!A847 = \"\",\"\",'Caseload Reporting'!A847)","v":""},{"$f":"IF('Caseload Reporting'!B847 = \"\",\"\",'Caseload Reporting'!B847)","v":""},{"$f":"IF('Caseload Reporting'!C847 = \"\",\"\",'Caseload Reporting'!C847)","v":""},{"$f":"IF('Caseload Reporting'!D847 = \"\",\"\",'Caseload Reporting'!D847)","v":""},{"$f":"IF('Caseload Reporting'!G847 = \"\",\"\",'Caseload Reporting'!G847)","v":""},{"$f":"IF('Caseload Reporting'!H847 = \"\",\"\",'Caseload Reporting'!H847)","v":""},{"$f":"IF('Caseload Reporting'!I847 = \"\",\"\",'Caseload Reporting'!I847)","v":""},{"$f":"IF('Caseload Reporting'!J847 = \"\",\"\",'Caseload Reporting'!J847)","v":""},{"$f":"IF('Caseload Reporting'!K847 = \"\",\"\",'Caseload Reporting'!K847)","v":""},{"$f":"IF('Caseload Reporting'!L847 = \"\",\"\",'Caseload Reporting'!L847)","v":""},{"$f":"IF('Caseload Reporting'!M847 = \"\",\"\",'Caseload Reporting'!M847)","v":""},{"$f":"IF('Caseload Reporting'!N847 = \"\",\"\",'Caseload Reporting'!N847)","v":""},{"$f":"IF('Caseload Reporting'!P847 = \"\",\"\",'Caseload Reporting'!P847)","v":""},{"$f":"IF('Caseload Reporting'!O847 = \"\",\"\",'Caseload Reporting'!O847)","v":""},{"$f":"IF('Caseload Reporting'!Q847 = \"\",\"\",'Caseload Reporting'!Q847)","v":""},{"$f":"IF('Caseload Reporting'!R847 = \"\",\"\",'Caseload Reporting'!R847)","v":""},{"$f":"IF('Caseload Reporting'!E847 = \"\",\"\",'Caseload Reporting'!E847)","v":""},{"$f":"IF('Caseload Reporting'!S847 = \"\",\"\",'Caseload Reporting'!S847)","v":""}]
[{"$f":"IF('Caseload Reporting'!A848 = \"\",\"\",'Caseload Reporting'!A848)","v":""},{"$f":"IF('Caseload Reporting'!B848 = \"\",\"\",'Caseload Reporting'!B848)","v":""},{"$f":"IF('Caseload Reporting'!C848 = \"\",\"\",'Caseload Reporting'!C848)","v":""},{"$f":"IF('Caseload Reporting'!D848 = \"\",\"\",'Caseload Reporting'!D848)","v":""},{"$f":"IF('Caseload Reporting'!G848 = \"\",\"\",'Caseload Reporting'!G848)","v":""},{"$f":"IF('Caseload Reporting'!H848 = \"\",\"\",'Caseload Reporting'!H848)","v":""},{"$f":"IF('Caseload Reporting'!I848 = \"\",\"\",'Caseload Reporting'!I848)","v":""},{"$f":"IF('Caseload Reporting'!J848 = \"\",\"\",'Caseload Reporting'!J848)","v":""},{"$f":"IF('Caseload Reporting'!K848 = \"\",\"\",'Caseload Reporting'!K848)","v":""},{"$f":"IF('Caseload Reporting'!L848 = \"\",\"\",'Caseload Reporting'!L848)","v":""},{"$f":"IF('Caseload Reporting'!M848 = \"\",\"\",'Caseload Reporting'!M848)","v":""},{"$f":"IF('Caseload Reporting'!N848 = \"\",\"\",'Caseload Reporting'!N848)","v":""},{"$f":"IF('Caseload Reporting'!P848 = \"\",\"\",'Caseload Reporting'!P848)","v":""},{"$f":"IF('Caseload Reporting'!O848 = \"\",\"\",'Caseload Reporting'!O848)","v":""},{"$f":"IF('Caseload Reporting'!Q848 = \"\",\"\",'Caseload Reporting'!Q848)","v":""},{"$f":"IF('Caseload Reporting'!R848 = \"\",\"\",'Caseload Reporting'!R848)","v":""},{"$f":"IF('Caseload Reporting'!E848 = \"\",\"\",'Caseload Reporting'!E848)","v":""},{"$f":"IF('Caseload Reporting'!S848 = \"\",\"\",'Caseload Reporting'!S848)","v":""}]
[{"$f":"IF('Caseload Reporting'!A849 = \"\",\"\",'Caseload Reporting'!A849)","v":""},{"$f":"IF('Caseload Reporting'!B849 = \"\",\"\",'Caseload Reporting'!B849)","v":""},{"$f":"IF('Caseload Reporting'!C849 = \"\",\"\",'Caseload Reporting'!C849)","v":""},{"$f":"IF('Caseload Reporting'!D849 = \"\",\"\",'Caseload Reporting'!D849)","v":""},{"$f":"IF('Caseload Reporting'!G849 = \"\",\"\",'Caseload Reporting'!G849)","v":""},{"$f":"IF('Caseload Reporting'!H849 = \"\",\"\",'Caseload Reporting'!H849)","v":""},{"$f":"IF('Caseload Reporting'!I849 = \"\",\"\",'Caseload Reporting'!I849)","v":""},{"$f":"IF('Caseload Reporting'!J849 = \"\",\"\",'Caseload Reporting'!J849)","v":""},{"$f":"IF('Caseload Reporting'!K849 = \"\",\"\",'Caseload Reporting'!K849)","v":""},{"$f":"IF('Caseload Reporting'!L849 = \"\",\"\",'Caseload Reporting'!L849)","v":""},{"$f":"IF('Caseload Reporting'!M849 = \"\",\"\",'Caseload Reporting'!M849)","v":""},{"$f":"IF('Caseload Reporting'!N849 = \"\",\"\",'Caseload Reporting'!N849)","v":""},{"$f":"IF('Caseload Reporting'!P849 = \"\",\"\",'Caseload Reporting'!P849)","v":""},{"$f":"IF('Caseload Reporting'!O849 = \"\",\"\",'Caseload Reporting'!O849)","v":""},{"$f":"IF('Caseload Reporting'!Q849 = \"\",\"\",'Caseload Reporting'!Q849)","v":""},{"$f":"IF('Caseload Reporting'!R849 = \"\",\"\",'Caseload Reporting'!R849)","v":""},{"$f":"IF('Caseload Reporting'!E849 = \"\",\"\",'Caseload Reporting'!E849)","v":""},{"$f":"IF('Caseload Reporting'!S849 = \"\",\"\",'Caseload Reporting'!S849)","v":""}]
[{"$f":"IF('Caseload Reporting'!A850 = \"\",\"\",'Caseload Reporting'!A850)","v":""},{"$f":"IF('Caseload Reporting'!B850 = \"\",\"\",'Caseload Reporting'!B850)","v":""},{"$f":"IF('Caseload Reporting'!C850 = \"\",\"\",'Caseload Reporting'!C850)","v":""},{"$f":"IF('Caseload Reporting'!D850 = \"\",\"\",'Caseload Reporting'!D850)","v":""},{"$f":"IF('Caseload Reporting'!G850 = \"\",\"\",'Caseload Reporting'!G850)","v":""},{"$f":"IF('Caseload Reporting'!H850 = \"\",\"\",'Caseload Reporting'!H850)","v":""},{"$f":"IF('Caseload Reporting'!I850 = \"\",\"\",'Caseload Reporting'!I850)","v":""},{"$f":"IF('Caseload Reporting'!J850 = \"\",\"\",'Caseload Reporting'!J850)","v":""},{"$f":"IF('Caseload Reporting'!K850 = \"\",\"\",'Caseload Reporting'!K850)","v":""},{"$f":"IF('Caseload Reporting'!L850 = \"\",\"\",'Caseload Reporting'!L850)","v":""},{"$f":"IF('Caseload Reporting'!M850 = \"\",\"\",'Caseload Reporting'!M850)","v":""},{"$f":"IF('Caseload Reporting'!N850 = \"\",\"\",'Caseload Reporting'!N850)","v":""},{"$f":"IF('Caseload Reporting'!P850 = \"\",\"\",'Caseload Reporting'!P850)","v":""},{"$f":"IF('Caseload Reporting'!O850 = \"\",\"\",'Caseload Reporting'!O850)","v":""},{"$f":"IF('Caseload Reporting'!Q850 = \"\",\"\",'Caseload Reporting'!Q850)","v":""},{"$f":"IF('Caseload Reporting'!R850 = \"\",\"\",'Caseload Reporting'!R850)","v":""},{"$f":"IF('Caseload Reporting'!E850 = \"\",\"\",'Caseload Reporting'!E850)","v":""},{"$f":"IF('Caseload Reporting'!S850 = \"\",\"\",'Caseload Reporting'!S850)","v":""}]
[{"$f":"IF('Caseload Reporting'!A851 = \"\",\"\",'Caseload Reporting'!A851)","v":""},{"$f":"IF('Caseload Reporting'!B851 = \"\",\"\",'Caseload Reporting'!B851)","v":""},{"$f":"IF('Caseload Reporting'!C851 = \"\",\"\",'Caseload Reporting'!C851)","v":""},{"$f":"IF('Caseload Reporting'!D851 = \"\",\"\",'Caseload Reporting'!D851)","v":""},{"$f":"IF('Caseload Reporting'!G851 = \"\",\"\",'Caseload Reporting'!G851)","v":""},{"$f":"IF('Caseload Reporting'!H851 = \"\",\"\",'Caseload Reporting'!H851)","v":""},{"$f":"IF('Caseload Reporting'!I851 = \"\",\"\",'Caseload Reporting'!I851)","v":""},{"$f":"IF('Caseload Reporting'!J851 = \"\",\"\",'Caseload Reporting'!J851)","v":""},{"$f":"IF('Caseload Reporting'!K851 = \"\",\"\",'Caseload Reporting'!K851)","v":""},{"$f":"IF('Caseload Reporting'!L851 = \"\",\"\",'Caseload Reporting'!L851)","v":""},{"$f":"IF('Caseload Reporting'!M851 = \"\",\"\",'Caseload Reporting'!M851)","v":""},{"$f":"IF('Caseload Reporting'!N851 = \"\",\"\",'Caseload Reporting'!N851)","v":""},{"$f":"IF('Caseload Reporting'!P851 = \"\",\"\",'Caseload Reporting'!P851)","v":""},{"$f":"IF('Caseload Reporting'!O851 = \"\",\"\",'Caseload Reporting'!O851)","v":""},{"$f":"IF('Caseload Reporting'!Q851 = \"\",\"\",'Caseload Reporting'!Q851)","v":""},{"$f":"IF('Caseload Reporting'!R851 = \"\",\"\",'Caseload Reporting'!R851)","v":""},{"$f":"IF('Caseload Reporting'!E851 = \"\",\"\",'Caseload Reporting'!E851)","v":""},{"$f":"IF('Caseload Reporting'!S851 = \"\",\"\",'Caseload Reporting'!S851)","v":""}]
[{"$f":"IF('Caseload Reporting'!A852 = \"\",\"\",'Caseload Reporting'!A852)","v":""},{"$f":"IF('Caseload Reporting'!B852 = \"\",\"\",'Caseload Reporting'!B852)","v":""},{"$f":"IF('Caseload Reporting'!C852 = \"\",\"\",'Caseload Reporting'!C852)","v":""},{"$f":"IF('Caseload Reporting'!D852 = \"\",\"\",'Caseload Reporting'!D852)","v":""},{"$f":"IF('Caseload Reporting'!G852 = \"\",\"\",'Caseload Reporting'!G852)","v":""},{"$f":"IF('Caseload Reporting'!H852 = \"\",\"\",'Caseload Reporting'!H852)","v":""},{"$f":"IF('Caseload Reporting'!I852 = \"\",\"\",'Caseload Reporting'!I852)","v":""},{"$f":"IF('Caseload Reporting'!J852 = \"\",\"\",'Caseload Reporting'!J852)","v":""},{"$f":"IF('Caseload Reporting'!K852 = \"\",\"\",'Caseload Reporting'!K852)","v":""},{"$f":"IF('Caseload Reporting'!L852 = \"\",\"\",'Caseload Reporting'!L852)","v":""},{"$f":"IF('Caseload Reporting'!M852 = \"\",\"\",'Caseload Reporting'!M852)","v":""},{"$f":"IF('Caseload Reporting'!N852 = \"\",\"\",'Caseload Reporting'!N852)","v":""},{"$f":"IF('Caseload Reporting'!P852 = \"\",\"\",'Caseload Reporting'!P852)","v":""},{"$f":"IF('Caseload Reporting'!O852 = \"\",\"\",'Caseload Reporting'!O852)","v":""},{"$f":"IF('Caseload Reporting'!Q852 = \"\",\"\",'Caseload Reporting'!Q852)","v":""},{"$f":"IF('Caseload Reporting'!R852 = \"\",\"\",'Caseload Reporting'!R852)","v":""},{"$f":"IF('Caseload Reporting'!E852 = \"\",\"\",'Caseload Reporting'!E852)","v":""},{"$f":"IF('Caseload Reporting'!S852 = \"\",\"\",'Caseload Reporting'!S852)","v":""}]
[{"$f":"IF('Caseload Reporting'!A853 = \"\",\"\",'Caseload Reporting'!A853)","v":""},{"$f":"IF('Caseload Reporting'!B853 = \"\",\"\",'Caseload Reporting'!B853)","v":""},{"$f":"IF('Caseload Reporting'!C853 = \"\",\"\",'Caseload Reporting'!C853)","v":""},{"$f":"IF('Caseload Reporting'!D853 = \"\",\"\",'Caseload Reporting'!D853)","v":""},{"$f":"IF('Caseload Reporting'!G853 = \"\",\"\",'Caseload Reporting'!G853)","v":""},{"$f":"IF('Caseload Reporting'!H853 = \"\",\"\",'Caseload Reporting'!H853)","v":""},{"$f":"IF('Caseload Reporting'!I853 = \"\",\"\",'Caseload Reporting'!I853)","v":""},{"$f":"IF('Caseload Reporting'!J853 = \"\",\"\",'Caseload Reporting'!J853)","v":""},{"$f":"IF('Caseload Reporting'!K853 = \"\",\"\",'Caseload Reporting'!K853)","v":""},{"$f":"IF('Caseload Reporting'!L853 = \"\",\"\",'Caseload Reporting'!L853)","v":""},{"$f":"IF('Caseload Reporting'!M853 = \"\",\"\",'Caseload Reporting'!M853)","v":""},{"$f":"IF('Caseload Reporting'!N853 = \"\",\"\",'Caseload Reporting'!N853)","v":""},{"$f":"IF('Caseload Reporting'!P853 = \"\",\"\",'Caseload Reporting'!P853)","v":""},{"$f":"IF('Caseload Reporting'!O853 = \"\",\"\",'Caseload Reporting'!O853)","v":""},{"$f":"IF('Caseload Reporting'!Q853 = \"\",\"\",'Caseload Reporting'!Q853)","v":""},{"$f":"IF('Caseload Reporting'!R853 = \"\",\"\",'Caseload Reporting'!R853)","v":""},{"$f":"IF('Caseload Reporting'!E853 = \"\",\"\",'Caseload Reporting'!E853)","v":""},{"$f":"IF('Caseload Reporting'!S853 = \"\",\"\",'Caseload Reporting'!S853)","v":""}]
[{"$f":"IF('Caseload Reporting'!A854 = \"\",\"\",'Caseload Reporting'!A854)","v":""},{"$f":"IF('Caseload Reporting'!B854 = \"\",\"\",'Caseload Reporting'!B854)","v":""},{"$f":"IF('Caseload Reporting'!C854 = \"\",\"\",'Caseload Reporting'!C854)","v":""},{"$f":"IF('Caseload Reporting'!D854 = \"\",\"\",'Caseload Reporting'!D854)","v":""},{"$f":"IF('Caseload Reporting'!G854 = \"\",\"\",'Caseload Reporting'!G854)","v":""},{"$f":"IF('Caseload Reporting'!H854 = \"\",\"\",'Caseload Reporting'!H854)","v":""},{"$f":"IF('Caseload Reporting'!I854 = \"\",\"\",'Caseload Reporting'!I854)","v":""},{"$f":"IF('Caseload Reporting'!J854 = \"\",\"\",'Caseload Reporting'!J854)","v":""},{"$f":"IF('Caseload Reporting'!K854 = \"\",\"\",'Caseload Reporting'!K854)","v":""},{"$f":"IF('Caseload Reporting'!L854 = \"\",\"\",'Caseload Reporting'!L854)","v":""},{"$f":"IF('Caseload Reporting'!M854 = \"\",\"\",'Caseload Reporting'!M854)","v":""},{"$f":"IF('Caseload Reporting'!N854 = \"\",\"\",'Caseload Reporting'!N854)","v":""},{"$f":"IF('Caseload Reporting'!P854 = \"\",\"\",'Caseload Reporting'!P854)","v":""},{"$f":"IF('Caseload Reporting'!O854 = \"\",\"\",'Caseload Reporting'!O854)","v":""},{"$f":"IF('Caseload Reporting'!Q854 = \"\",\"\",'Caseload Reporting'!Q854)","v":""},{"$f":"IF('Caseload Reporting'!R854 = \"\",\"\",'Caseload Reporting'!R854)","v":""},{"$f":"IF('Caseload Reporting'!E854 = \"\",\"\",'Caseload Reporting'!E854)","v":""},{"$f":"IF('Caseload Reporting'!S854 = \"\",\"\",'Caseload Reporting'!S854)","v":""}]
[{"$f":"IF('Caseload Reporting'!A855 = \"\",\"\",'Caseload Reporting'!A855)","v":""},{"$f":"IF('Caseload Reporting'!B855 = \"\",\"\",'Caseload Reporting'!B855)","v":""},{"$f":"IF('Caseload Reporting'!C855 = \"\",\"\",'Caseload Reporting'!C855)","v":""},{"$f":"IF('Caseload Reporting'!D855 = \"\",\"\",'Caseload Reporting'!D855)","v":""},{"$f":"IF('Caseload Reporting'!G855 = \"\",\"\",'Caseload Reporting'!G855)","v":""},{"$f":"IF('Caseload Reporting'!H855 = \"\",\"\",'Caseload Reporting'!H855)","v":""},{"$f":"IF('Caseload Reporting'!I855 = \"\",\"\",'Caseload Reporting'!I855)","v":""},{"$f":"IF('Caseload Reporting'!J855 = \"\",\"\",'Caseload Reporting'!J855)","v":""},{"$f":"IF('Caseload Reporting'!K855 = \"\",\"\",'Caseload Reporting'!K855)","v":""},{"$f":"IF('Caseload Reporting'!L855 = \"\",\"\",'Caseload Reporting'!L855)","v":""},{"$f":"IF('Caseload Reporting'!M855 = \"\",\"\",'Caseload Reporting'!M855)","v":""},{"$f":"IF('Caseload Reporting'!N855 = \"\",\"\",'Caseload Reporting'!N855)","v":""},{"$f":"IF('Caseload Reporting'!P855 = \"\",\"\",'Caseload Reporting'!P855)","v":""},{"$f":"IF('Caseload Reporting'!O855 = \"\",\"\",'Caseload Reporting'!O855)","v":""},{"$f":"IF('Caseload Reporting'!Q855 = \"\",\"\",'Caseload Reporting'!Q855)","v":""},{"$f":"IF('Caseload Reporting'!R855 = \"\",\"\",'Caseload Reporting'!R855)","v":""},{"$f":"IF('Caseload Reporting'!E855 = \"\",\"\",'Caseload Reporting'!E855)","v":""},{"$f":"IF('Caseload Reporting'!S855 = \"\",\"\",'Caseload Reporting'!S855)","v":""}]
[{"$f":"IF('Caseload Reporting'!A856 = \"\",\"\",'Caseload Reporting'!A856)","v":""},{"$f":"IF('Caseload Reporting'!B856 = \"\",\"\",'Caseload Reporting'!B856)","v":""},{"$f":"IF('Caseload Reporting'!C856 = \"\",\"\",'Caseload Reporting'!C856)","v":""},{"$f":"IF('Caseload Reporting'!D856 = \"\",\"\",'Caseload Reporting'!D856)","v":""},{"$f":"IF('Caseload Reporting'!G856 = \"\",\"\",'Caseload Reporting'!G856)","v":""},{"$f":"IF('Caseload Reporting'!H856 = \"\",\"\",'Caseload Reporting'!H856)","v":""},{"$f":"IF('Caseload Reporting'!I856 = \"\",\"\",'Caseload Reporting'!I856)","v":""},{"$f":"IF('Caseload Reporting'!J856 = \"\",\"\",'Caseload Reporting'!J856)","v":""},{"$f":"IF('Caseload Reporting'!K856 = \"\",\"\",'Caseload Reporting'!K856)","v":""},{"$f":"IF('Caseload Reporting'!L856 = \"\",\"\",'Caseload Reporting'!L856)","v":""},{"$f":"IF('Caseload Reporting'!M856 = \"\",\"\",'Caseload Reporting'!M856)","v":""},{"$f":"IF('Caseload Reporting'!N856 = \"\",\"\",'Caseload Reporting'!N856)","v":""},{"$f":"IF('Caseload Reporting'!P856 = \"\",\"\",'Caseload Reporting'!P856)","v":""},{"$f":"IF('Caseload Reporting'!O856 = \"\",\"\",'Caseload Reporting'!O856)","v":""},{"$f":"IF('Caseload Reporting'!Q856 = \"\",\"\",'Caseload Reporting'!Q856)","v":""},{"$f":"IF('Caseload Reporting'!R856 = \"\",\"\",'Caseload Reporting'!R856)","v":""},{"$f":"IF('Caseload Reporting'!E856 = \"\",\"\",'Caseload Reporting'!E856)","v":""},{"$f":"IF('Caseload Reporting'!S856 = \"\",\"\",'Caseload Reporting'!S856)","v":""}]
[{"$f":"IF('Caseload Reporting'!A857 = \"\",\"\",'Caseload Reporting'!A857)","v":""},{"$f":"IF('Caseload Reporting'!B857 = \"\",\"\",'Caseload Reporting'!B857)","v":""},{"$f":"IF('Caseload Reporting'!C857 = \"\",\"\",'Caseload Reporting'!C857)","v":""},{"$f":"IF('Caseload Reporting'!D857 = \"\",\"\",'Caseload Reporting'!D857)","v":""},{"$f":"IF('Caseload Reporting'!G857 = \"\",\"\",'Caseload Reporting'!G857)","v":""},{"$f":"IF('Caseload Reporting'!H857 = \"\",\"\",'Caseload Reporting'!H857)","v":""},{"$f":"IF('Caseload Reporting'!I857 = \"\",\"\",'Caseload Reporting'!I857)","v":""},{"$f":"IF('Caseload Reporting'!J857 = \"\",\"\",'Caseload Reporting'!J857)","v":""},{"$f":"IF('Caseload Reporting'!K857 = \"\",\"\",'Caseload Reporting'!K857)","v":""},{"$f":"IF('Caseload Reporting'!L857 = \"\",\"\",'Caseload Reporting'!L857)","v":""},{"$f":"IF('Caseload Reporting'!M857 = \"\",\"\",'Caseload Reporting'!M857)","v":""},{"$f":"IF('Caseload Reporting'!N857 = \"\",\"\",'Caseload Reporting'!N857)","v":""},{"$f":"IF('Caseload Reporting'!P857 = \"\",\"\",'Caseload Reporting'!P857)","v":""},{"$f":"IF('Caseload Reporting'!O857 = \"\",\"\",'Caseload Reporting'!O857)","v":""},{"$f":"IF('Caseload Reporting'!Q857 = \"\",\"\",'Caseload Reporting'!Q857)","v":""},{"$f":"IF('Caseload Reporting'!R857 = \"\",\"\",'Caseload Reporting'!R857)","v":""},{"$f":"IF('Caseload Reporting'!E857 = \"\",\"\",'Caseload Reporting'!E857)","v":""},{"$f":"IF('Caseload Reporting'!S857 = \"\",\"\",'Caseload Reporting'!S857)","v":""}]
[{"$f":"IF('Caseload Reporting'!A858 = \"\",\"\",'Caseload Reporting'!A858)","v":""},{"$f":"IF('Caseload Reporting'!B858 = \"\",\"\",'Caseload Reporting'!B858)","v":""},{"$f":"IF('Caseload Reporting'!C858 = \"\",\"\",'Caseload Reporting'!C858)","v":""},{"$f":"IF('Caseload Reporting'!D858 = \"\",\"\",'Caseload Reporting'!D858)","v":""},{"$f":"IF('Caseload Reporting'!G858 = \"\",\"\",'Caseload Reporting'!G858)","v":""},{"$f":"IF('Caseload Reporting'!H858 = \"\",\"\",'Caseload Reporting'!H858)","v":""},{"$f":"IF('Caseload Reporting'!I858 = \"\",\"\",'Caseload Reporting'!I858)","v":""},{"$f":"IF('Caseload Reporting'!J858 = \"\",\"\",'Caseload Reporting'!J858)","v":""},{"$f":"IF('Caseload Reporting'!K858 = \"\",\"\",'Caseload Reporting'!K858)","v":""},{"$f":"IF('Caseload Reporting'!L858 = \"\",\"\",'Caseload Reporting'!L858)","v":""},{"$f":"IF('Caseload Reporting'!M858 = \"\",\"\",'Caseload Reporting'!M858)","v":""},{"$f":"IF('Caseload Reporting'!N858 = \"\",\"\",'Caseload Reporting'!N858)","v":""},{"$f":"IF('Caseload Reporting'!P858 = \"\",\"\",'Caseload Reporting'!P858)","v":""},{"$f":"IF('Caseload Reporting'!O858 = \"\",\"\",'Caseload Reporting'!O858)","v":""},{"$f":"IF('Caseload Reporting'!Q858 = \"\",\"\",'Caseload Reporting'!Q858)","v":""},{"$f":"IF('Caseload Reporting'!R858 = \"\",\"\",'Caseload Reporting'!R858)","v":""},{"$f":"IF('Caseload Reporting'!E858 = \"\",\"\",'Caseload Reporting'!E858)","v":""},{"$f":"IF('Caseload Reporting'!S858 = \"\",\"\",'Caseload Reporting'!S858)","v":""}]
[{"$f":"IF('Caseload Reporting'!A859 = \"\",\"\",'Caseload Reporting'!A859)","v":""},{"$f":"IF('Caseload Reporting'!B859 = \"\",\"\",'Caseload Reporting'!B859)","v":""},{"$f":"IF('Caseload Reporting'!C859 = \"\",\"\",'Caseload Reporting'!C859)","v":""},{"$f":"IF('Caseload Reporting'!D859 = \"\",\"\",'Caseload Reporting'!D859)","v":""},{"$f":"IF('Caseload Reporting'!G859 = \"\",\"\",'Caseload Reporting'!G859)","v":""},{"$f":"IF('Caseload Reporting'!H859 = \"\",\"\",'Caseload Reporting'!H859)","v":""},{"$f":"IF('Caseload Reporting'!I859 = \"\",\"\",'Caseload Reporting'!I859)","v":""},{"$f":"IF('Caseload Reporting'!J859 = \"\",\"\",'Caseload Reporting'!J859)","v":""},{"$f":"IF('Caseload Reporting'!K859 = \"\",\"\",'Caseload Reporting'!K859)","v":""},{"$f":"IF('Caseload Reporting'!L859 = \"\",\"\",'Caseload Reporting'!L859)","v":""},{"$f":"IF('Caseload Reporting'!M859 = \"\",\"\",'Caseload Reporting'!M859)","v":""},{"$f":"IF('Caseload Reporting'!N859 = \"\",\"\",'Caseload Reporting'!N859)","v":""},{"$f":"IF('Caseload Reporting'!P859 = \"\",\"\",'Caseload Reporting'!P859)","v":""},{"$f":"IF('Caseload Reporting'!O859 = \"\",\"\",'Caseload Reporting'!O859)","v":""},{"$f":"IF('Caseload Reporting'!Q859 = \"\",\"\",'Caseload Reporting'!Q859)","v":""},{"$f":"IF('Caseload Reporting'!R859 = \"\",\"\",'Caseload Reporting'!R859)","v":""},{"$f":"IF('Caseload Reporting'!E859 = \"\",\"\",'Caseload Reporting'!E859)","v":""},{"$f":"IF('Caseload Reporting'!S859 = \"\",\"\",'Caseload Reporting'!S859)","v":""}]
[{"$f":"IF('Caseload Reporting'!A860 = \"\",\"\",'Caseload Reporting'!A860)","v":""},{"$f":"IF('Caseload Reporting'!B860 = \"\",\"\",'Caseload Reporting'!B860)","v":""},{"$f":"IF('Caseload Reporting'!C860 = \"\",\"\",'Caseload Reporting'!C860)","v":""},{"$f":"IF('Caseload Reporting'!D860 = \"\",\"\",'Caseload Reporting'!D860)","v":""},{"$f":"IF('Caseload Reporting'!G860 = \"\",\"\",'Caseload Reporting'!G860)","v":""},{"$f":"IF('Caseload Reporting'!H860 = \"\",\"\",'Caseload Reporting'!H860)","v":""},{"$f":"IF('Caseload Reporting'!I860 = \"\",\"\",'Caseload Reporting'!I860)","v":""},{"$f":"IF('Caseload Reporting'!J860 = \"\",\"\",'Caseload Reporting'!J860)","v":""},{"$f":"IF('Caseload Reporting'!K860 = \"\",\"\",'Caseload Reporting'!K860)","v":""},{"$f":"IF('Caseload Reporting'!L860 = \"\",\"\",'Caseload Reporting'!L860)","v":""},{"$f":"IF('Caseload Reporting'!M860 = \"\",\"\",'Caseload Reporting'!M860)","v":""},{"$f":"IF('Caseload Reporting'!N860 = \"\",\"\",'Caseload Reporting'!N860)","v":""},{"$f":"IF('Caseload Reporting'!P860 = \"\",\"\",'Caseload Reporting'!P860)","v":""},{"$f":"IF('Caseload Reporting'!O860 = \"\",\"\",'Caseload Reporting'!O860)","v":""},{"$f":"IF('Caseload Reporting'!Q860 = \"\",\"\",'Caseload Reporting'!Q860)","v":""},{"$f":"IF('Caseload Reporting'!R860 = \"\",\"\",'Caseload Reporting'!R860)","v":""},{"$f":"IF('Caseload Reporting'!E860 = \"\",\"\",'Caseload Reporting'!E860)","v":""},{"$f":"IF('Caseload Reporting'!S860 = \"\",\"\",'Caseload Reporting'!S860)","v":""}]
[{"$f":"IF('Caseload Reporting'!A861 = \"\",\"\",'Caseload Reporting'!A861)","v":""},{"$f":"IF('Caseload Reporting'!B861 = \"\",\"\",'Caseload Reporting'!B861)","v":""},{"$f":"IF('Caseload Reporting'!C861 = \"\",\"\",'Caseload Reporting'!C861)","v":""},{"$f":"IF('Caseload Reporting'!D861 = \"\",\"\",'Caseload Reporting'!D861)","v":""},{"$f":"IF('Caseload Reporting'!G861 = \"\",\"\",'Caseload Reporting'!G861)","v":""},{"$f":"IF('Caseload Reporting'!H861 = \"\",\"\",'Caseload Reporting'!H861)","v":""},{"$f":"IF('Caseload Reporting'!I861 = \"\",\"\",'Caseload Reporting'!I861)","v":""},{"$f":"IF('Caseload Reporting'!J861 = \"\",\"\",'Caseload Reporting'!J861)","v":""},{"$f":"IF('Caseload Reporting'!K861 = \"\",\"\",'Caseload Reporting'!K861)","v":""},{"$f":"IF('Caseload Reporting'!L861 = \"\",\"\",'Caseload Reporting'!L861)","v":""},{"$f":"IF('Caseload Reporting'!M861 = \"\",\"\",'Caseload Reporting'!M861)","v":""},{"$f":"IF('Caseload Reporting'!N861 = \"\",\"\",'Caseload Reporting'!N861)","v":""},{"$f":"IF('Caseload Reporting'!P861 = \"\",\"\",'Caseload Reporting'!P861)","v":""},{"$f":"IF('Caseload Reporting'!O861 = \"\",\"\",'Caseload Reporting'!O861)","v":""},{"$f":"IF('Caseload Reporting'!Q861 = \"\",\"\",'Caseload Reporting'!Q861)","v":""},{"$f":"IF('Caseload Reporting'!R861 = \"\",\"\",'Caseload Reporting'!R861)","v":""},{"$f":"IF('Caseload Reporting'!E861 = \"\",\"\",'Caseload Reporting'!E861)","v":""},{"$f":"IF('Caseload Reporting'!S861 = \"\",\"\",'Caseload Reporting'!S861)","v":""}]
[{"$f":"IF('Caseload Reporting'!A862 = \"\",\"\",'Caseload Reporting'!A862)","v":""},{"$f":"IF('Caseload Reporting'!B862 = \"\",\"\",'Caseload Reporting'!B862)","v":""},{"$f":"IF('Caseload Reporting'!C862 = \"\",\"\",'Caseload Reporting'!C862)","v":""},{"$f":"IF('Caseload Reporting'!D862 = \"\",\"\",'Caseload Reporting'!D862)","v":""},{"$f":"IF('Caseload Reporting'!G862 = \"\",\"\",'Caseload Reporting'!G862)","v":""},{"$f":"IF('Caseload Reporting'!H862 = \"\",\"\",'Caseload Reporting'!H862)","v":""},{"$f":"IF('Caseload Reporting'!I862 = \"\",\"\",'Caseload Reporting'!I862)","v":""},{"$f":"IF('Caseload Reporting'!J862 = \"\",\"\",'Caseload Reporting'!J862)","v":""},{"$f":"IF('Caseload Reporting'!K862 = \"\",\"\",'Caseload Reporting'!K862)","v":""},{"$f":"IF('Caseload Reporting'!L862 = \"\",\"\",'Caseload Reporting'!L862)","v":""},{"$f":"IF('Caseload Reporting'!M862 = \"\",\"\",'Caseload Reporting'!M862)","v":""},{"$f":"IF('Caseload Reporting'!N862 = \"\",\"\",'Caseload Reporting'!N862)","v":""},{"$f":"IF('Caseload Reporting'!P862 = \"\",\"\",'Caseload Reporting'!P862)","v":""},{"$f":"IF('Caseload Reporting'!O862 = \"\",\"\",'Caseload Reporting'!O862)","v":""},{"$f":"IF('Caseload Reporting'!Q862 = \"\",\"\",'Caseload Reporting'!Q862)","v":""},{"$f":"IF('Caseload Reporting'!R862 = \"\",\"\",'Caseload Reporting'!R862)","v":""},{"$f":"IF('Caseload Reporting'!E862 = \"\",\"\",'Caseload Reporting'!E862)","v":""},{"$f":"IF('Caseload Reporting'!S862 = \"\",\"\",'Caseload Reporting'!S862)","v":""}]
[{"$f":"IF('Caseload Reporting'!A863 = \"\",\"\",'Caseload Reporting'!A863)","v":""},{"$f":"IF('Caseload Reporting'!B863 = \"\",\"\",'Caseload Reporting'!B863)","v":""},{"$f":"IF('Caseload Reporting'!C863 = \"\",\"\",'Caseload Reporting'!C863)","v":""},{"$f":"IF('Caseload Reporting'!D863 = \"\",\"\",'Caseload Reporting'!D863)","v":""},{"$f":"IF('Caseload Reporting'!G863 = \"\",\"\",'Caseload Reporting'!G863)","v":""},{"$f":"IF('Caseload Reporting'!H863 = \"\",\"\",'Caseload Reporting'!H863)","v":""},{"$f":"IF('Caseload Reporting'!I863 = \"\",\"\",'Caseload Reporting'!I863)","v":""},{"$f":"IF('Caseload Reporting'!J863 = \"\",\"\",'Caseload Reporting'!J863)","v":""},{"$f":"IF('Caseload Reporting'!K863 = \"\",\"\",'Caseload Reporting'!K863)","v":""},{"$f":"IF('Caseload Reporting'!L863 = \"\",\"\",'Caseload Reporting'!L863)","v":""},{"$f":"IF('Caseload Reporting'!M863 = \"\",\"\",'Caseload Reporting'!M863)","v":""},{"$f":"IF('Caseload Reporting'!N863 = \"\",\"\",'Caseload Reporting'!N863)","v":""},{"$f":"IF('Caseload Reporting'!P863 = \"\",\"\",'Caseload Reporting'!P863)","v":""},{"$f":"IF('Caseload Reporting'!O863 = \"\",\"\",'Caseload Reporting'!O863)","v":""},{"$f":"IF('Caseload Reporting'!Q863 = \"\",\"\",'Caseload Reporting'!Q863)","v":""},{"$f":"IF('Caseload Reporting'!R863 = \"\",\"\",'Caseload Reporting'!R863)","v":""},{"$f":"IF('Caseload Reporting'!E863 = \"\",\"\",'Caseload Reporting'!E863)","v":""},{"$f":"IF('Caseload Reporting'!S863 = \"\",\"\",'Caseload Reporting'!S863)","v":""}]
[{"$f":"IF('Caseload Reporting'!A864 = \"\",\"\",'Caseload Reporting'!A864)","v":""},{"$f":"IF('Caseload Reporting'!B864 = \"\",\"\",'Caseload Reporting'!B864)","v":""},{"$f":"IF('Caseload Reporting'!C864 = \"\",\"\",'Caseload Reporting'!C864)","v":""},{"$f":"IF('Caseload Reporting'!D864 = \"\",\"\",'Caseload Reporting'!D864)","v":""},{"$f":"IF('Caseload Reporting'!G864 = \"\",\"\",'Caseload Reporting'!G864)","v":""},{"$f":"IF('Caseload Reporting'!H864 = \"\",\"\",'Caseload Reporting'!H864)","v":""},{"$f":"IF('Caseload Reporting'!I864 = \"\",\"\",'Caseload Reporting'!I864)","v":""},{"$f":"IF('Caseload Reporting'!J864 = \"\",\"\",'Caseload Reporting'!J864)","v":""},{"$f":"IF('Caseload Reporting'!K864 = \"\",\"\",'Caseload Reporting'!K864)","v":""},{"$f":"IF('Caseload Reporting'!L864 = \"\",\"\",'Caseload Reporting'!L864)","v":""},{"$f":"IF('Caseload Reporting'!M864 = \"\",\"\",'Caseload Reporting'!M864)","v":""},{"$f":"IF('Caseload Reporting'!N864 = \"\",\"\",'Caseload Reporting'!N864)","v":""},{"$f":"IF('Caseload Reporting'!P864 = \"\",\"\",'Caseload Reporting'!P864)","v":""},{"$f":"IF('Caseload Reporting'!O864 = \"\",\"\",'Caseload Reporting'!O864)","v":""},{"$f":"IF('Caseload Reporting'!Q864 = \"\",\"\",'Caseload Reporting'!Q864)","v":""},{"$f":"IF('Caseload Reporting'!R864 = \"\",\"\",'Caseload Reporting'!R864)","v":""},{"$f":"IF('Caseload Reporting'!E864 = \"\",\"\",'Caseload Reporting'!E864)","v":""},{"$f":"IF('Caseload Reporting'!S864 = \"\",\"\",'Caseload Reporting'!S864)","v":""}]
[{"$f":"IF('Caseload Reporting'!A865 = \"\",\"\",'Caseload Reporting'!A865)","v":""},{"$f":"IF('Caseload Reporting'!B865 = \"\",\"\",'Caseload Reporting'!B865)","v":""},{"$f":"IF('Caseload Reporting'!C865 = \"\",\"\",'Caseload Reporting'!C865)","v":""},{"$f":"IF('Caseload Reporting'!D865 = \"\",\"\",'Caseload Reporting'!D865)","v":""},{"$f":"IF('Caseload Reporting'!G865 = \"\",\"\",'Caseload Reporting'!G865)","v":""},{"$f":"IF('Caseload Reporting'!H865 = \"\",\"\",'Caseload Reporting'!H865)","v":""},{"$f":"IF('Caseload Reporting'!I865 = \"\",\"\",'Caseload Reporting'!I865)","v":""},{"$f":"IF('Caseload Reporting'!J865 = \"\",\"\",'Caseload Reporting'!J865)","v":""},{"$f":"IF('Caseload Reporting'!K865 = \"\",\"\",'Caseload Reporting'!K865)","v":""},{"$f":"IF('Caseload Reporting'!L865 = \"\",\"\",'Caseload Reporting'!L865)","v":""},{"$f":"IF('Caseload Reporting'!M865 = \"\",\"\",'Caseload Reporting'!M865)","v":""},{"$f":"IF('Caseload Reporting'!N865 = \"\",\"\",'Caseload Reporting'!N865)","v":""},{"$f":"IF('Caseload Reporting'!P865 = \"\",\"\",'Caseload Reporting'!P865)","v":""},{"$f":"IF('Caseload Reporting'!O865 = \"\",\"\",'Caseload Reporting'!O865)","v":""},{"$f":"IF('Caseload Reporting'!Q865 = \"\",\"\",'Caseload Reporting'!Q865)","v":""},{"$f":"IF('Caseload Reporting'!R865 = \"\",\"\",'Caseload Reporting'!R865)","v":""},{"$f":"IF('Caseload Reporting'!E865 = \"\",\"\",'Caseload Reporting'!E865)","v":""},{"$f":"IF('Caseload Reporting'!S865 = \"\",\"\",'Caseload Reporting'!S865)","v":""}]
[{"$f":"IF('Caseload Reporting'!A866 = \"\",\"\",'Caseload Reporting'!A866)","v":""},{"$f":"IF('Caseload Reporting'!B866 = \"\",\"\",'Caseload Reporting'!B866)","v":""},{"$f":"IF('Caseload Reporting'!C866 = \"\",\"\",'Caseload Reporting'!C866)","v":""},{"$f":"IF('Caseload Reporting'!D866 = \"\",\"\",'Caseload Reporting'!D866)","v":""},{"$f":"IF('Caseload Reporting'!G866 = \"\",\"\",'Caseload Reporting'!G866)","v":""},{"$f":"IF('Caseload Reporting'!H866 = \"\",\"\",'Caseload Reporting'!H866)","v":""},{"$f":"IF('Caseload Reporting'!I866 = \"\",\"\",'Caseload Reporting'!I866)","v":""},{"$f":"IF('Caseload Reporting'!J866 = \"\",\"\",'Caseload Reporting'!J866)","v":""},{"$f":"IF('Caseload Reporting'!K866 = \"\",\"\",'Caseload Reporting'!K866)","v":""},{"$f":"IF('Caseload Reporting'!L866 = \"\",\"\",'Caseload Reporting'!L866)","v":""},{"$f":"IF('Caseload Reporting'!M866 = \"\",\"\",'Caseload Reporting'!M866)","v":""},{"$f":"IF('Caseload Reporting'!N866 = \"\",\"\",'Caseload Reporting'!N866)","v":""},{"$f":"IF('Caseload Reporting'!P866 = \"\",\"\",'Caseload Reporting'!P866)","v":""},{"$f":"IF('Caseload Reporting'!O866 = \"\",\"\",'Caseload Reporting'!O866)","v":""},{"$f":"IF('Caseload Reporting'!Q866 = \"\",\"\",'Caseload Reporting'!Q866)","v":""},{"$f":"IF('Caseload Reporting'!R866 = \"\",\"\",'Caseload Reporting'!R866)","v":""},{"$f":"IF('Caseload Reporting'!E866 = \"\",\"\",'Caseload Reporting'!E866)","v":""},{"$f":"IF('Caseload Reporting'!S866 = \"\",\"\",'Caseload Reporting'!S866)","v":""}]
[{"$f":"IF('Caseload Reporting'!A867 = \"\",\"\",'Caseload Reporting'!A867)","v":""},{"$f":"IF('Caseload Reporting'!B867 = \"\",\"\",'Caseload Reporting'!B867)","v":""},{"$f":"IF('Caseload Reporting'!C867 = \"\",\"\",'Caseload Reporting'!C867)","v":""},{"$f":"IF('Caseload Reporting'!D867 = \"\",\"\",'Caseload Reporting'!D867)","v":""},{"$f":"IF('Caseload Reporting'!G867 = \"\",\"\",'Caseload Reporting'!G867)","v":""},{"$f":"IF('Caseload Reporting'!H867 = \"\",\"\",'Caseload Reporting'!H867)","v":""},{"$f":"IF('Caseload Reporting'!I867 = \"\",\"\",'Caseload Reporting'!I867)","v":""},{"$f":"IF('Caseload Reporting'!J867 = \"\",\"\",'Caseload Reporting'!J867)","v":""},{"$f":"IF('Caseload Reporting'!K867 = \"\",\"\",'Caseload Reporting'!K867)","v":""},{"$f":"IF('Caseload Reporting'!L867 = \"\",\"\",'Caseload Reporting'!L867)","v":""},{"$f":"IF('Caseload Reporting'!M867 = \"\",\"\",'Caseload Reporting'!M867)","v":""},{"$f":"IF('Caseload Reporting'!N867 = \"\",\"\",'Caseload Reporting'!N867)","v":""},{"$f":"IF('Caseload Reporting'!P867 = \"\",\"\",'Caseload Reporting'!P867)","v":""},{"$f":"IF('Caseload Reporting'!O867 = \"\",\"\",'Caseload Reporting'!O867)","v":""},{"$f":"IF('Caseload Reporting'!Q867 = \"\",\"\",'Caseload Reporting'!Q867)","v":""},{"$f":"IF('Caseload Reporting'!R867 = \"\",\"\",'Caseload Reporting'!R867)","v":""},{"$f":"IF('Caseload Reporting'!E867 = \"\",\"\",'Caseload Reporting'!E867)","v":""},{"$f":"IF('Caseload Reporting'!S867 = \"\",\"\",'Caseload Reporting'!S867)","v":""}]
[{"$f":"IF('Caseload Reporting'!A868 = \"\",\"\",'Caseload Reporting'!A868)","v":""},{"$f":"IF('Caseload Reporting'!B868 = \"\",\"\",'Caseload Reporting'!B868)","v":""},{"$f":"IF('Caseload Reporting'!C868 = \"\",\"\",'Caseload Reporting'!C868)","v":""},{"$f":"IF('Caseload Reporting'!D868 = \"\",\"\",'Caseload Reporting'!D868)","v":""},{"$f":"IF('Caseload Reporting'!G868 = \"\",\"\",'Caseload Reporting'!G868)","v":""},{"$f":"IF('Caseload Reporting'!H868 = \"\",\"\",'Caseload Reporting'!H868)","v":""},{"$f":"IF('Caseload Reporting'!I868 = \"\",\"\",'Caseload Reporting'!I868)","v":""},{"$f":"IF('Caseload Reporting'!J868 = \"\",\"\",'Caseload Reporting'!J868)","v":""},{"$f":"IF('Caseload Reporting'!K868 = \"\",\"\",'Caseload Reporting'!K868)","v":""},{"$f":"IF('Caseload Reporting'!L868 = \"\",\"\",'Caseload Reporting'!L868)","v":""},{"$f":"IF('Caseload Reporting'!M868 = \"\",\"\",'Caseload Reporting'!M868)","v":""},{"$f":"IF('Caseload Reporting'!N868 = \"\",\"\",'Caseload Reporting'!N868)","v":""},{"$f":"IF('Caseload Reporting'!P868 = \"\",\"\",'Caseload Reporting'!P868)","v":""},{"$f":"IF('Caseload Reporting'!O868 = \"\",\"\",'Caseload Reporting'!O868)","v":""},{"$f":"IF('Caseload Reporting'!Q868 = \"\",\"\",'Caseload Reporting'!Q868)","v":""},{"$f":"IF('Caseload Reporting'!R868 = \"\",\"\",'Caseload Reporting'!R868)","v":""},{"$f":"IF('Caseload Reporting'!E868 = \"\",\"\",'Caseload Reporting'!E868)","v":""},{"$f":"IF('Caseload Reporting'!S868 = \"\",\"\",'Caseload Reporting'!S868)","v":""}]
[{"$f":"IF('Caseload Reporting'!A869 = \"\",\"\",'Caseload Reporting'!A869)","v":""},{"$f":"IF('Caseload Reporting'!B869 = \"\",\"\",'Caseload Reporting'!B869)","v":""},{"$f":"IF('Caseload Reporting'!C869 = \"\",\"\",'Caseload Reporting'!C869)","v":""},{"$f":"IF('Caseload Reporting'!D869 = \"\",\"\",'Caseload Reporting'!D869)","v":""},{"$f":"IF('Caseload Reporting'!G869 = \"\",\"\",'Caseload Reporting'!G869)","v":""},{"$f":"IF('Caseload Reporting'!H869 = \"\",\"\",'Caseload Reporting'!H869)","v":""},{"$f":"IF('Caseload Reporting'!I869 = \"\",\"\",'Caseload Reporting'!I869)","v":""},{"$f":"IF('Caseload Reporting'!J869 = \"\",\"\",'Caseload Reporting'!J869)","v":""},{"$f":"IF('Caseload Reporting'!K869 = \"\",\"\",'Caseload Reporting'!K869)","v":""},{"$f":"IF('Caseload Reporting'!L869 = \"\",\"\",'Caseload Reporting'!L869)","v":""},{"$f":"IF('Caseload Reporting'!M869 = \"\",\"\",'Caseload Reporting'!M869)","v":""},{"$f":"IF('Caseload Reporting'!N869 = \"\",\"\",'Caseload Reporting'!N869)","v":""},{"$f":"IF('Caseload Reporting'!P869 = \"\",\"\",'Caseload Reporting'!P869)","v":""},{"$f":"IF('Caseload Reporting'!O869 = \"\",\"\",'Caseload Reporting'!O869)","v":""},{"$f":"IF('Caseload Reporting'!Q869 = \"\",\"\",'Caseload Reporting'!Q869)","v":""},{"$f":"IF('Caseload Reporting'!R869 = \"\",\"\",'Caseload Reporting'!R869)","v":""},{"$f":"IF('Caseload Reporting'!E869 = \"\",\"\",'Caseload Reporting'!E869)","v":""},{"$f":"IF('Caseload Reporting'!S869 = \"\",\"\",'Caseload Reporting'!S869)","v":""}]
[{"$f":"IF('Caseload Reporting'!A870 = \"\",\"\",'Caseload Reporting'!A870)","v":""},{"$f":"IF('Caseload Reporting'!B870 = \"\",\"\",'Caseload Reporting'!B870)","v":""},{"$f":"IF('Caseload Reporting'!C870 = \"\",\"\",'Caseload Reporting'!C870)","v":""},{"$f":"IF('Caseload Reporting'!D870 = \"\",\"\",'Caseload Reporting'!D870)","v":""},{"$f":"IF('Caseload Reporting'!G870 = \"\",\"\",'Caseload Reporting'!G870)","v":""},{"$f":"IF('Caseload Reporting'!H870 = \"\",\"\",'Caseload Reporting'!H870)","v":""},{"$f":"IF('Caseload Reporting'!I870 = \"\",\"\",'Caseload Reporting'!I870)","v":""},{"$f":"IF('Caseload Reporting'!J870 = \"\",\"\",'Caseload Reporting'!J870)","v":""},{"$f":"IF('Caseload Reporting'!K870 = \"\",\"\",'Caseload Reporting'!K870)","v":""},{"$f":"IF('Caseload Reporting'!L870 = \"\",\"\",'Caseload Reporting'!L870)","v":""},{"$f":"IF('Caseload Reporting'!M870 = \"\",\"\",'Caseload Reporting'!M870)","v":""},{"$f":"IF('Caseload Reporting'!N870 = \"\",\"\",'Caseload Reporting'!N870)","v":""},{"$f":"IF('Caseload Reporting'!P870 = \"\",\"\",'Caseload Reporting'!P870)","v":""},{"$f":"IF('Caseload Reporting'!O870 = \"\",\"\",'Caseload Reporting'!O870)","v":""},{"$f":"IF('Caseload Reporting'!Q870 = \"\",\"\",'Caseload Reporting'!Q870)","v":""},{"$f":"IF('Caseload Reporting'!R870 = \"\",\"\",'Caseload Reporting'!R870)","v":""},{"$f":"IF('Caseload Reporting'!E870 = \"\",\"\",'Caseload Reporting'!E870)","v":""},{"$f":"IF('Caseload Reporting'!S870 = \"\",\"\",'Caseload Reporting'!S870)","v":""}]
[{"$f":"IF('Caseload Reporting'!A871 = \"\",\"\",'Caseload Reporting'!A871)","v":""},{"$f":"IF('Caseload Reporting'!B871 = \"\",\"\",'Caseload Reporting'!B871)","v":""},{"$f":"IF('Caseload Reporting'!C871 = \"\",\"\",'Caseload Reporting'!C871)","v":""},{"$f":"IF('Caseload Reporting'!D871 = \"\",\"\",'Caseload Reporting'!D871)","v":""},{"$f":"IF('Caseload Reporting'!G871 = \"\",\"\",'Caseload Reporting'!G871)","v":""},{"$f":"IF('Caseload Reporting'!H871 = \"\",\"\",'Caseload Reporting'!H871)","v":""},{"$f":"IF('Caseload Reporting'!I871 = \"\",\"\",'Caseload Reporting'!I871)","v":""},{"$f":"IF('Caseload Reporting'!J871 = \"\",\"\",'Caseload Reporting'!J871)","v":""},{"$f":"IF('Caseload Reporting'!K871 = \"\",\"\",'Caseload Reporting'!K871)","v":""},{"$f":"IF('Caseload Reporting'!L871 = \"\",\"\",'Caseload Reporting'!L871)","v":""},{"$f":"IF('Caseload Reporting'!M871 = \"\",\"\",'Caseload Reporting'!M871)","v":""},{"$f":"IF('Caseload Reporting'!N871 = \"\",\"\",'Caseload Reporting'!N871)","v":""},{"$f":"IF('Caseload Reporting'!P871 = \"\",\"\",'Caseload Reporting'!P871)","v":""},{"$f":"IF('Caseload Reporting'!O871 = \"\",\"\",'Caseload Reporting'!O871)","v":""},{"$f":"IF('Caseload Reporting'!Q871 = \"\",\"\",'Caseload Reporting'!Q871)","v":""},{"$f":"IF('Caseload Reporting'!R871 = \"\",\"\",'Caseload Reporting'!R871)","v":""},{"$f":"IF('Caseload Reporting'!E871 = \"\",\"\",'Caseload Reporting'!E871)","v":""},{"$f":"IF('Caseload Reporting'!S871 = \"\",\"\",'Caseload Reporting'!S871)","v":""}]
[{"$f":"IF('Caseload Reporting'!A872 = \"\",\"\",'Caseload Reporting'!A872)","v":""},{"$f":"IF('Caseload Reporting'!B872 = \"\",\"\",'Caseload Reporting'!B872)","v":""},{"$f":"IF('Caseload Reporting'!C872 = \"\",\"\",'Caseload Reporting'!C872)","v":""},{"$f":"IF('Caseload Reporting'!D872 = \"\",\"\",'Caseload Reporting'!D872)","v":""},{"$f":"IF('Caseload Reporting'!G872 = \"\",\"\",'Caseload Reporting'!G872)","v":""},{"$f":"IF('Caseload Reporting'!H872 = \"\",\"\",'Caseload Reporting'!H872)","v":""},{"$f":"IF('Caseload Reporting'!I872 = \"\",\"\",'Caseload Reporting'!I872)","v":""},{"$f":"IF('Caseload Reporting'!J872 = \"\",\"\",'Caseload Reporting'!J872)","v":""},{"$f":"IF('Caseload Reporting'!K872 = \"\",\"\",'Caseload Reporting'!K872)","v":""},{"$f":"IF('Caseload Reporting'!L872 = \"\",\"\",'Caseload Reporting'!L872)","v":""},{"$f":"IF('Caseload Reporting'!M872 = \"\",\"\",'Caseload Reporting'!M872)","v":""},{"$f":"IF('Caseload Reporting'!N872 = \"\",\"\",'Caseload Reporting'!N872)","v":""},{"$f":"IF('Caseload Reporting'!P872 = \"\",\"\",'Caseload Reporting'!P872)","v":""},{"$f":"IF('Caseload Reporting'!O872 = \"\",\"\",'Caseload Reporting'!O872)","v":""},{"$f":"IF('Caseload Reporting'!Q872 = \"\",\"\",'Caseload Reporting'!Q872)","v":""},{"$f":"IF('Caseload Reporting'!R872 = \"\",\"\",'Caseload Reporting'!R872)","v":""},{"$f":"IF('Caseload Reporting'!E872 = \"\",\"\",'Caseload Reporting'!E872)","v":""},{"$f":"IF('Caseload Reporting'!S872 = \"\",\"\",'Caseload Reporting'!S872)","v":""}]
[{"$f":"IF('Caseload Reporting'!A873 = \"\",\"\",'Caseload Reporting'!A873)","v":""},{"$f":"IF('Caseload Reporting'!B873 = \"\",\"\",'Caseload Reporting'!B873)","v":""},{"$f":"IF('Caseload Reporting'!C873 = \"\",\"\",'Caseload Reporting'!C873)","v":""},{"$f":"IF('Caseload Reporting'!D873 = \"\",\"\",'Caseload Reporting'!D873)","v":""},{"$f":"IF('Caseload Reporting'!G873 = \"\",\"\",'Caseload Reporting'!G873)","v":""},{"$f":"IF('Caseload Reporting'!H873 = \"\",\"\",'Caseload Reporting'!H873)","v":""},{"$f":"IF('Caseload Reporting'!I873 = \"\",\"\",'Caseload Reporting'!I873)","v":""},{"$f":"IF('Caseload Reporting'!J873 = \"\",\"\",'Caseload Reporting'!J873)","v":""},{"$f":"IF('Caseload Reporting'!K873 = \"\",\"\",'Caseload Reporting'!K873)","v":""},{"$f":"IF('Caseload Reporting'!L873 = \"\",\"\",'Caseload Reporting'!L873)","v":""},{"$f":"IF('Caseload Reporting'!M873 = \"\",\"\",'Caseload Reporting'!M873)","v":""},{"$f":"IF('Caseload Reporting'!N873 = \"\",\"\",'Caseload Reporting'!N873)","v":""},{"$f":"IF('Caseload Reporting'!P873 = \"\",\"\",'Caseload Reporting'!P873)","v":""},{"$f":"IF('Caseload Reporting'!O873 = \"\",\"\",'Caseload Reporting'!O873)","v":""},{"$f":"IF('Caseload Reporting'!Q873 = \"\",\"\",'Caseload Reporting'!Q873)","v":""},{"$f":"IF('Caseload Reporting'!R873 = \"\",\"\",'Caseload Reporting'!R873)","v":""},{"$f":"IF('Caseload Reporting'!E873 = \"\",\"\",'Caseload Reporting'!E873)","v":""},{"$f":"IF('Caseload Reporting'!S873 = \"\",\"\",'Caseload Reporting'!S873)","v":""}]
[{"$f":"IF('Caseload Reporting'!A874 = \"\",\"\",'Caseload Reporting'!A874)","v":""},{"$f":"IF('Caseload Reporting'!B874 = \"\",\"\",'Caseload Reporting'!B874)","v":""},{"$f":"IF('Caseload Reporting'!C874 = \"\",\"\",'Caseload Reporting'!C874)","v":""},{"$f":"IF('Caseload Reporting'!D874 = \"\",\"\",'Caseload Reporting'!D874)","v":""},{"$f":"IF('Caseload Reporting'!G874 = \"\",\"\",'Caseload Reporting'!G874)","v":""},{"$f":"IF('Caseload Reporting'!H874 = \"\",\"\",'Caseload Reporting'!H874)","v":""},{"$f":"IF('Caseload Reporting'!I874 = \"\",\"\",'Caseload Reporting'!I874)","v":""},{"$f":"IF('Caseload Reporting'!J874 = \"\",\"\",'Caseload Reporting'!J874)","v":""},{"$f":"IF('Caseload Reporting'!K874 = \"\",\"\",'Caseload Reporting'!K874)","v":""},{"$f":"IF('Caseload Reporting'!L874 = \"\",\"\",'Caseload Reporting'!L874)","v":""},{"$f":"IF('Caseload Reporting'!M874 = \"\",\"\",'Caseload Reporting'!M874)","v":""},{"$f":"IF('Caseload Reporting'!N874 = \"\",\"\",'Caseload Reporting'!N874)","v":""},{"$f":"IF('Caseload Reporting'!P874 = \"\",\"\",'Caseload Reporting'!P874)","v":""},{"$f":"IF('Caseload Reporting'!O874 = \"\",\"\",'Caseload Reporting'!O874)","v":""},{"$f":"IF('Caseload Reporting'!Q874 = \"\",\"\",'Caseload Reporting'!Q874)","v":""},{"$f":"IF('Caseload Reporting'!R874 = \"\",\"\",'Caseload Reporting'!R874)","v":""},{"$f":"IF('Caseload Reporting'!E874 = \"\",\"\",'Caseload Reporting'!E874)","v":""},{"$f":"IF('Caseload Reporting'!S874 = \"\",\"\",'Caseload Reporting'!S874)","v":""}]
[{"$f":"IF('Caseload Reporting'!A875 = \"\",\"\",'Caseload Reporting'!A875)","v":""},{"$f":"IF('Caseload Reporting'!B875 = \"\",\"\",'Caseload Reporting'!B875)","v":""},{"$f":"IF('Caseload Reporting'!C875 = \"\",\"\",'Caseload Reporting'!C875)","v":""},{"$f":"IF('Caseload Reporting'!D875 = \"\",\"\",'Caseload Reporting'!D875)","v":""},{"$f":"IF('Caseload Reporting'!G875 = \"\",\"\",'Caseload Reporting'!G875)","v":""},{"$f":"IF('Caseload Reporting'!H875 = \"\",\"\",'Caseload Reporting'!H875)","v":""},{"$f":"IF('Caseload Reporting'!I875 = \"\",\"\",'Caseload Reporting'!I875)","v":""},{"$f":"IF('Caseload Reporting'!J875 = \"\",\"\",'Caseload Reporting'!J875)","v":""},{"$f":"IF('Caseload Reporting'!K875 = \"\",\"\",'Caseload Reporting'!K875)","v":""},{"$f":"IF('Caseload Reporting'!L875 = \"\",\"\",'Caseload Reporting'!L875)","v":""},{"$f":"IF('Caseload Reporting'!M875 = \"\",\"\",'Caseload Reporting'!M875)","v":""},{"$f":"IF('Caseload Reporting'!N875 = \"\",\"\",'Caseload Reporting'!N875)","v":""},{"$f":"IF('Caseload Reporting'!P875 = \"\",\"\",'Caseload Reporting'!P875)","v":""},{"$f":"IF('Caseload Reporting'!O875 = \"\",\"\",'Caseload Reporting'!O875)","v":""},{"$f":"IF('Caseload Reporting'!Q875 = \"\",\"\",'Caseload Reporting'!Q875)","v":""},{"$f":"IF('Caseload Reporting'!R875 = \"\",\"\",'Caseload Reporting'!R875)","v":""},{"$f":"IF('Caseload Reporting'!E875 = \"\",\"\",'Caseload Reporting'!E875)","v":""},{"$f":"IF('Caseload Reporting'!S875 = \"\",\"\",'Caseload Reporting'!S875)","v":""}]
[{"$f":"IF('Caseload Reporting'!A876 = \"\",\"\",'Caseload Reporting'!A876)","v":""},{"$f":"IF('Caseload Reporting'!B876 = \"\",\"\",'Caseload Reporting'!B876)","v":""},{"$f":"IF('Caseload Reporting'!C876 = \"\",\"\",'Caseload Reporting'!C876)","v":""},{"$f":"IF('Caseload Reporting'!D876 = \"\",\"\",'Caseload Reporting'!D876)","v":""},{"$f":"IF('Caseload Reporting'!G876 = \"\",\"\",'Caseload Reporting'!G876)","v":""},{"$f":"IF('Caseload Reporting'!H876 = \"\",\"\",'Caseload Reporting'!H876)","v":""},{"$f":"IF('Caseload Reporting'!I876 = \"\",\"\",'Caseload Reporting'!I876)","v":""},{"$f":"IF('Caseload Reporting'!J876 = \"\",\"\",'Caseload Reporting'!J876)","v":""},{"$f":"IF('Caseload Reporting'!K876 = \"\",\"\",'Caseload Reporting'!K876)","v":""},{"$f":"IF('Caseload Reporting'!L876 = \"\",\"\",'Caseload Reporting'!L876)","v":""},{"$f":"IF('Caseload Reporting'!M876 = \"\",\"\",'Caseload Reporting'!M876)","v":""},{"$f":"IF('Caseload Reporting'!N876 = \"\",\"\",'Caseload Reporting'!N876)","v":""},{"$f":"IF('Caseload Reporting'!P876 = \"\",\"\",'Caseload Reporting'!P876)","v":""},{"$f":"IF('Caseload Reporting'!O876 = \"\",\"\",'Caseload Reporting'!O876)","v":""},{"$f":"IF('Caseload Reporting'!Q876 = \"\",\"\",'Caseload Reporting'!Q876)","v":""},{"$f":"IF('Caseload Reporting'!R876 = \"\",\"\",'Caseload Reporting'!R876)","v":""},{"$f":"IF('Caseload Reporting'!E876 = \"\",\"\",'Caseload Reporting'!E876)","v":""},{"$f":"IF('Caseload Reporting'!S876 = \"\",\"\",'Caseload Reporting'!S876)","v":""}]
[{"$f":"IF('Caseload Reporting'!A877 = \"\",\"\",'Caseload Reporting'!A877)","v":""},{"$f":"IF('Caseload Reporting'!B877 = \"\",\"\",'Caseload Reporting'!B877)","v":""},{"$f":"IF('Caseload Reporting'!C877 = \"\",\"\",'Caseload Reporting'!C877)","v":""},{"$f":"IF('Caseload Reporting'!D877 = \"\",\"\",'Caseload Reporting'!D877)","v":""},{"$f":"IF('Caseload Reporting'!G877 = \"\",\"\",'Caseload Reporting'!G877)","v":""},{"$f":"IF('Caseload Reporting'!H877 = \"\",\"\",'Caseload Reporting'!H877)","v":""},{"$f":"IF('Caseload Reporting'!I877 = \"\",\"\",'Caseload Reporting'!I877)","v":""},{"$f":"IF('Caseload Reporting'!J877 = \"\",\"\",'Caseload Reporting'!J877)","v":""},{"$f":"IF('Caseload Reporting'!K877 = \"\",\"\",'Caseload Reporting'!K877)","v":""},{"$f":"IF('Caseload Reporting'!L877 = \"\",\"\",'Caseload Reporting'!L877)","v":""},{"$f":"IF('Caseload Reporting'!M877 = \"\",\"\",'Caseload Reporting'!M877)","v":""},{"$f":"IF('Caseload Reporting'!N877 = \"\",\"\",'Caseload Reporting'!N877)","v":""},{"$f":"IF('Caseload Reporting'!P877 = \"\",\"\",'Caseload Reporting'!P877)","v":""},{"$f":"IF('Caseload Reporting'!O877 = \"\",\"\",'Caseload Reporting'!O877)","v":""},{"$f":"IF('Caseload Reporting'!Q877 = \"\",\"\",'Caseload Reporting'!Q877)","v":""},{"$f":"IF('Caseload Reporting'!R877 = \"\",\"\",'Caseload Reporting'!R877)","v":""},{"$f":"IF('Caseload Reporting'!E877 = \"\",\"\",'Caseload Reporting'!E877)","v":""},{"$f":"IF('Caseload Reporting'!S877 = \"\",\"\",'Caseload Reporting'!S877)","v":""}]
[{"$f":"IF('Caseload Reporting'!A878 = \"\",\"\",'Caseload Reporting'!A878)","v":""},{"$f":"IF('Caseload Reporting'!B878 = \"\",\"\",'Caseload Reporting'!B878)","v":""},{"$f":"IF('Caseload Reporting'!C878 = \"\",\"\",'Caseload Reporting'!C878)","v":""},{"$f":"IF('Caseload Reporting'!D878 = \"\",\"\",'Caseload Reporting'!D878)","v":""},{"$f":"IF('Caseload Reporting'!G878 = \"\",\"\",'Caseload Reporting'!G878)","v":""},{"$f":"IF('Caseload Reporting'!H878 = \"\",\"\",'Caseload Reporting'!H878)","v":""},{"$f":"IF('Caseload Reporting'!I878 = \"\",\"\",'Caseload Reporting'!I878)","v":""},{"$f":"IF('Caseload Reporting'!J878 = \"\",\"\",'Caseload Reporting'!J878)","v":""},{"$f":"IF('Caseload Reporting'!K878 = \"\",\"\",'Caseload Reporting'!K878)","v":""},{"$f":"IF('Caseload Reporting'!L878 = \"\",\"\",'Caseload Reporting'!L878)","v":""},{"$f":"IF('Caseload Reporting'!M878 = \"\",\"\",'Caseload Reporting'!M878)","v":""},{"$f":"IF('Caseload Reporting'!N878 = \"\",\"\",'Caseload Reporting'!N878)","v":""},{"$f":"IF('Caseload Reporting'!P878 = \"\",\"\",'Caseload Reporting'!P878)","v":""},{"$f":"IF('Caseload Reporting'!O878 = \"\",\"\",'Caseload Reporting'!O878)","v":""},{"$f":"IF('Caseload Reporting'!Q878 = \"\",\"\",'Caseload Reporting'!Q878)","v":""},{"$f":"IF('Caseload Reporting'!R878 = \"\",\"\",'Caseload Reporting'!R878)","v":""},{"$f":"IF('Caseload Reporting'!E878 = \"\",\"\",'Caseload Reporting'!E878)","v":""},{"$f":"IF('Caseload Reporting'!S878 = \"\",\"\",'Caseload Reporting'!S878)","v":""}]
[{"$f":"IF('Caseload Reporting'!A879 = \"\",\"\",'Caseload Reporting'!A879)","v":""},{"$f":"IF('Caseload Reporting'!B879 = \"\",\"\",'Caseload Reporting'!B879)","v":""},{"$f":"IF('Caseload Reporting'!C879 = \"\",\"\",'Caseload Reporting'!C879)","v":""},{"$f":"IF('Caseload Reporting'!D879 = \"\",\"\",'Caseload Reporting'!D879)","v":""},{"$f":"IF('Caseload Reporting'!G879 = \"\",\"\",'Caseload Reporting'!G879)","v":""},{"$f":"IF('Caseload Reporting'!H879 = \"\",\"\",'Caseload Reporting'!H879)","v":""},{"$f":"IF('Caseload Reporting'!I879 = \"\",\"\",'Caseload Reporting'!I879)","v":""},{"$f":"IF('Caseload Reporting'!J879 = \"\",\"\",'Caseload Reporting'!J879)","v":""},{"$f":"IF('Caseload Reporting'!K879 = \"\",\"\",'Caseload Reporting'!K879)","v":""},{"$f":"IF('Caseload Reporting'!L879 = \"\",\"\",'Caseload Reporting'!L879)","v":""},{"$f":"IF('Caseload Reporting'!M879 = \"\",\"\",'Caseload Reporting'!M879)","v":""},{"$f":"IF('Caseload Reporting'!N879 = \"\",\"\",'Caseload Reporting'!N879)","v":""},{"$f":"IF('Caseload Reporting'!P879 = \"\",\"\",'Caseload Reporting'!P879)","v":""},{"$f":"IF('Caseload Reporting'!O879 = \"\",\"\",'Caseload Reporting'!O879)","v":""},{"$f":"IF('Caseload Reporting'!Q879 = \"\",\"\",'Caseload Reporting'!Q879)","v":""},{"$f":"IF('Caseload Reporting'!R879 = \"\",\"\",'Caseload Reporting'!R879)","v":""},{"$f":"IF('Caseload Reporting'!E879 = \"\",\"\",'Caseload Reporting'!E879)","v":""},{"$f":"IF('Caseload Reporting'!S879 = \"\",\"\",'Caseload Reporting'!S879)","v":""}]
[{"$f":"IF('Caseload Reporting'!A880 = \"\",\"\",'Caseload Reporting'!A880)","v":""},{"$f":"IF('Caseload Reporting'!B880 = \"\",\"\",'Caseload Reporting'!B880)","v":""},{"$f":"IF('Caseload Reporting'!C880 = \"\",\"\",'Caseload Reporting'!C880)","v":""},{"$f":"IF('Caseload Reporting'!D880 = \"\",\"\",'Caseload Reporting'!D880)","v":""},{"$f":"IF('Caseload Reporting'!G880 = \"\",\"\",'Caseload Reporting'!G880)","v":""},{"$f":"IF('Caseload Reporting'!H880 = \"\",\"\",'Caseload Reporting'!H880)","v":""},{"$f":"IF('Caseload Reporting'!I880 = \"\",\"\",'Caseload Reporting'!I880)","v":""},{"$f":"IF('Caseload Reporting'!J880 = \"\",\"\",'Caseload Reporting'!J880)","v":""},{"$f":"IF('Caseload Reporting'!K880 = \"\",\"\",'Caseload Reporting'!K880)","v":""},{"$f":"IF('Caseload Reporting'!L880 = \"\",\"\",'Caseload Reporting'!L880)","v":""},{"$f":"IF('Caseload Reporting'!M880 = \"\",\"\",'Caseload Reporting'!M880)","v":""},{"$f":"IF('Caseload Reporting'!N880 = \"\",\"\",'Caseload Reporting'!N880)","v":""},{"$f":"IF('Caseload Reporting'!P880 = \"\",\"\",'Caseload Reporting'!P880)","v":""},{"$f":"IF('Caseload Reporting'!O880 = \"\",\"\",'Caseload Reporting'!O880)","v":""},{"$f":"IF('Caseload Reporting'!Q880 = \"\",\"\",'Caseload Reporting'!Q880)","v":""},{"$f":"IF('Caseload Reporting'!R880 = \"\",\"\",'Caseload Reporting'!R880)","v":""},{"$f":"IF('Caseload Reporting'!E880 = \"\",\"\",'Caseload Reporting'!E880)","v":""},{"$f":"IF('Caseload Reporting'!S880 = \"\",\"\",'Caseload Reporting'!S880)","v":""}]
[{"$f":"IF('Caseload Reporting'!A881 = \"\",\"\",'Caseload Reporting'!A881)","v":""},{"$f":"IF('Caseload Reporting'!B881 = \"\",\"\",'Caseload Reporting'!B881)","v":""},{"$f":"IF('Caseload Reporting'!C881 = \"\",\"\",'Caseload Reporting'!C881)","v":""},{"$f":"IF('Caseload Reporting'!D881 = \"\",\"\",'Caseload Reporting'!D881)","v":""},{"$f":"IF('Caseload Reporting'!G881 = \"\",\"\",'Caseload Reporting'!G881)","v":""},{"$f":"IF('Caseload Reporting'!H881 = \"\",\"\",'Caseload Reporting'!H881)","v":""},{"$f":"IF('Caseload Reporting'!I881 = \"\",\"\",'Caseload Reporting'!I881)","v":""},{"$f":"IF('Caseload Reporting'!J881 = \"\",\"\",'Caseload Reporting'!J881)","v":""},{"$f":"IF('Caseload Reporting'!K881 = \"\",\"\",'Caseload Reporting'!K881)","v":""},{"$f":"IF('Caseload Reporting'!L881 = \"\",\"\",'Caseload Reporting'!L881)","v":""},{"$f":"IF('Caseload Reporting'!M881 = \"\",\"\",'Caseload Reporting'!M881)","v":""},{"$f":"IF('Caseload Reporting'!N881 = \"\",\"\",'Caseload Reporting'!N881)","v":""},{"$f":"IF('Caseload Reporting'!P881 = \"\",\"\",'Caseload Reporting'!P881)","v":""},{"$f":"IF('Caseload Reporting'!O881 = \"\",\"\",'Caseload Reporting'!O881)","v":""},{"$f":"IF('Caseload Reporting'!Q881 = \"\",\"\",'Caseload Reporting'!Q881)","v":""},{"$f":"IF('Caseload Reporting'!R881 = \"\",\"\",'Caseload Reporting'!R881)","v":""},{"$f":"IF('Caseload Reporting'!E881 = \"\",\"\",'Caseload Reporting'!E881)","v":""},{"$f":"IF('Caseload Reporting'!S881 = \"\",\"\",'Caseload Reporting'!S881)","v":""}]
[{"$f":"IF('Caseload Reporting'!A882 = \"\",\"\",'Caseload Reporting'!A882)","v":""},{"$f":"IF('Caseload Reporting'!B882 = \"\",\"\",'Caseload Reporting'!B882)","v":""},{"$f":"IF('Caseload Reporting'!C882 = \"\",\"\",'Caseload Reporting'!C882)","v":""},{"$f":"IF('Caseload Reporting'!D882 = \"\",\"\",'Caseload Reporting'!D882)","v":""},{"$f":"IF('Caseload Reporting'!G882 = \"\",\"\",'Caseload Reporting'!G882)","v":""},{"$f":"IF('Caseload Reporting'!H882 = \"\",\"\",'Caseload Reporting'!H882)","v":""},{"$f":"IF('Caseload Reporting'!I882 = \"\",\"\",'Caseload Reporting'!I882)","v":""},{"$f":"IF('Caseload Reporting'!J882 = \"\",\"\",'Caseload Reporting'!J882)","v":""},{"$f":"IF('Caseload Reporting'!K882 = \"\",\"\",'Caseload Reporting'!K882)","v":""},{"$f":"IF('Caseload Reporting'!L882 = \"\",\"\",'Caseload Reporting'!L882)","v":""},{"$f":"IF('Caseload Reporting'!M882 = \"\",\"\",'Caseload Reporting'!M882)","v":""},{"$f":"IF('Caseload Reporting'!N882 = \"\",\"\",'Caseload Reporting'!N882)","v":""},{"$f":"IF('Caseload Reporting'!P882 = \"\",\"\",'Caseload Reporting'!P882)","v":""},{"$f":"IF('Caseload Reporting'!O882 = \"\",\"\",'Caseload Reporting'!O882)","v":""},{"$f":"IF('Caseload Reporting'!Q882 = \"\",\"\",'Caseload Reporting'!Q882)","v":""},{"$f":"IF('Caseload Reporting'!R882 = \"\",\"\",'Caseload Reporting'!R882)","v":""},{"$f":"IF('Caseload Reporting'!E882 = \"\",\"\",'Caseload Reporting'!E882)","v":""},{"$f":"IF('Caseload Reporting'!S882 = \"\",\"\",'Caseload Reporting'!S882)","v":""}]
[{"$f":"IF('Caseload Reporting'!A883 = \"\",\"\",'Caseload Reporting'!A883)","v":""},{"$f":"IF('Caseload Reporting'!B883 = \"\",\"\",'Caseload Reporting'!B883)","v":""},{"$f":"IF('Caseload Reporting'!C883 = \"\",\"\",'Caseload Reporting'!C883)","v":""},{"$f":"IF('Caseload Reporting'!D883 = \"\",\"\",'Caseload Reporting'!D883)","v":""},{"$f":"IF('Caseload Reporting'!G883 = \"\",\"\",'Caseload Reporting'!G883)","v":""},{"$f":"IF('Caseload Reporting'!H883 = \"\",\"\",'Caseload Reporting'!H883)","v":""},{"$f":"IF('Caseload Reporting'!I883 = \"\",\"\",'Caseload Reporting'!I883)","v":""},{"$f":"IF('Caseload Reporting'!J883 = \"\",\"\",'Caseload Reporting'!J883)","v":""},{"$f":"IF('Caseload Reporting'!K883 = \"\",\"\",'Caseload Reporting'!K883)","v":""},{"$f":"IF('Caseload Reporting'!L883 = \"\",\"\",'Caseload Reporting'!L883)","v":""},{"$f":"IF('Caseload Reporting'!M883 = \"\",\"\",'Caseload Reporting'!M883)","v":""},{"$f":"IF('Caseload Reporting'!N883 = \"\",\"\",'Caseload Reporting'!N883)","v":""},{"$f":"IF('Caseload Reporting'!P883 = \"\",\"\",'Caseload Reporting'!P883)","v":""},{"$f":"IF('Caseload Reporting'!O883 = \"\",\"\",'Caseload Reporting'!O883)","v":""},{"$f":"IF('Caseload Reporting'!Q883 = \"\",\"\",'Caseload Reporting'!Q883)","v":""},{"$f":"IF('Caseload Reporting'!R883 = \"\",\"\",'Caseload Reporting'!R883)","v":""},{"$f":"IF('Caseload Reporting'!E883 = \"\",\"\",'Caseload Reporting'!E883)","v":""},{"$f":"IF('Caseload Reporting'!S883 = \"\",\"\",'Caseload Reporting'!S883)","v":""}]
[{"$f":"IF('Caseload Reporting'!A884 = \"\",\"\",'Caseload Reporting'!A884)","v":""},{"$f":"IF('Caseload Reporting'!B884 = \"\",\"\",'Caseload Reporting'!B884)","v":""},{"$f":"IF('Caseload Reporting'!C884 = \"\",\"\",'Caseload Reporting'!C884)","v":""},{"$f":"IF('Caseload Reporting'!D884 = \"\",\"\",'Caseload Reporting'!D884)","v":""},{"$f":"IF('Caseload Reporting'!G884 = \"\",\"\",'Caseload Reporting'!G884)","v":""},{"$f":"IF('Caseload Reporting'!H884 = \"\",\"\",'Caseload Reporting'!H884)","v":""},{"$f":"IF('Caseload Reporting'!I884 = \"\",\"\",'Caseload Reporting'!I884)","v":""},{"$f":"IF('Caseload Reporting'!J884 = \"\",\"\",'Caseload Reporting'!J884)","v":""},{"$f":"IF('Caseload Reporting'!K884 = \"\",\"\",'Caseload Reporting'!K884)","v":""},{"$f":"IF('Caseload Reporting'!L884 = \"\",\"\",'Caseload Reporting'!L884)","v":""},{"$f":"IF('Caseload Reporting'!M884 = \"\",\"\",'Caseload Reporting'!M884)","v":""},{"$f":"IF('Caseload Reporting'!N884 = \"\",\"\",'Caseload Reporting'!N884)","v":""},{"$f":"IF('Caseload Reporting'!P884 = \"\",\"\",'Caseload Reporting'!P884)","v":""},{"$f":"IF('Caseload Reporting'!O884 = \"\",\"\",'Caseload Reporting'!O884)","v":""},{"$f":"IF('Caseload Reporting'!Q884 = \"\",\"\",'Caseload Reporting'!Q884)","v":""},{"$f":"IF('Caseload Reporting'!R884 = \"\",\"\",'Caseload Reporting'!R884)","v":""},{"$f":"IF('Caseload Reporting'!E884 = \"\",\"\",'Caseload Reporting'!E884)","v":""},{"$f":"IF('Caseload Reporting'!S884 = \"\",\"\",'Caseload Reporting'!S884)","v":""}]
[{"$f":"IF('Caseload Reporting'!A885 = \"\",\"\",'Caseload Reporting'!A885)","v":""},{"$f":"IF('Caseload Reporting'!B885 = \"\",\"\",'Caseload Reporting'!B885)","v":""},{"$f":"IF('Caseload Reporting'!C885 = \"\",\"\",'Caseload Reporting'!C885)","v":""},{"$f":"IF('Caseload Reporting'!D885 = \"\",\"\",'Caseload Reporting'!D885)","v":""},{"$f":"IF('Caseload Reporting'!G885 = \"\",\"\",'Caseload Reporting'!G885)","v":""},{"$f":"IF('Caseload Reporting'!H885 = \"\",\"\",'Caseload Reporting'!H885)","v":""},{"$f":"IF('Caseload Reporting'!I885 = \"\",\"\",'Caseload Reporting'!I885)","v":""},{"$f":"IF('Caseload Reporting'!J885 = \"\",\"\",'Caseload Reporting'!J885)","v":""},{"$f":"IF('Caseload Reporting'!K885 = \"\",\"\",'Caseload Reporting'!K885)","v":""},{"$f":"IF('Caseload Reporting'!L885 = \"\",\"\",'Caseload Reporting'!L885)","v":""},{"$f":"IF('Caseload Reporting'!M885 = \"\",\"\",'Caseload Reporting'!M885)","v":""},{"$f":"IF('Caseload Reporting'!N885 = \"\",\"\",'Caseload Reporting'!N885)","v":""},{"$f":"IF('Caseload Reporting'!P885 = \"\",\"\",'Caseload Reporting'!P885)","v":""},{"$f":"IF('Caseload Reporting'!O885 = \"\",\"\",'Caseload Reporting'!O885)","v":""},{"$f":"IF('Caseload Reporting'!Q885 = \"\",\"\",'Caseload Reporting'!Q885)","v":""},{"$f":"IF('Caseload Reporting'!R885 = \"\",\"\",'Caseload Reporting'!R885)","v":""},{"$f":"IF('Caseload Reporting'!E885 = \"\",\"\",'Caseload Reporting'!E885)","v":""},{"$f":"IF('Caseload Reporting'!S885 = \"\",\"\",'Caseload Reporting'!S885)","v":""}]
[{"$f":"IF('Caseload Reporting'!A886 = \"\",\"\",'Caseload Reporting'!A886)","v":""},{"$f":"IF('Caseload Reporting'!B886 = \"\",\"\",'Caseload Reporting'!B886)","v":""},{"$f":"IF('Caseload Reporting'!C886 = \"\",\"\",'Caseload Reporting'!C886)","v":""},{"$f":"IF('Caseload Reporting'!D886 = \"\",\"\",'Caseload Reporting'!D886)","v":""},{"$f":"IF('Caseload Reporting'!G886 = \"\",\"\",'Caseload Reporting'!G886)","v":""},{"$f":"IF('Caseload Reporting'!H886 = \"\",\"\",'Caseload Reporting'!H886)","v":""},{"$f":"IF('Caseload Reporting'!I886 = \"\",\"\",'Caseload Reporting'!I886)","v":""},{"$f":"IF('Caseload Reporting'!J886 = \"\",\"\",'Caseload Reporting'!J886)","v":""},{"$f":"IF('Caseload Reporting'!K886 = \"\",\"\",'Caseload Reporting'!K886)","v":""},{"$f":"IF('Caseload Reporting'!L886 = \"\",\"\",'Caseload Reporting'!L886)","v":""},{"$f":"IF('Caseload Reporting'!M886 = \"\",\"\",'Caseload Reporting'!M886)","v":""},{"$f":"IF('Caseload Reporting'!N886 = \"\",\"\",'Caseload Reporting'!N886)","v":""},{"$f":"IF('Caseload Reporting'!P886 = \"\",\"\",'Caseload Reporting'!P886)","v":""},{"$f":"IF('Caseload Reporting'!O886 = \"\",\"\",'Caseload Reporting'!O886)","v":""},{"$f":"IF('Caseload Reporting'!Q886 = \"\",\"\",'Caseload Reporting'!Q886)","v":""},{"$f":"IF('Caseload Reporting'!R886 = \"\",\"\",'Caseload Reporting'!R886)","v":""},{"$f":"IF('Caseload Reporting'!E886 = \"\",\"\",'Caseload Reporting'!E886)","v":""},{"$f":"IF('Caseload Reporting'!S886 = \"\",\"\",'Caseload Reporting'!S886)","v":""}]
[{"$f":"IF('Caseload Reporting'!A887 = \"\",\"\",'Caseload Reporting'!A887)","v":""},{"$f":"IF('Caseload Reporting'!B887 = \"\",\"\",'Caseload Reporting'!B887)","v":""},{"$f":"IF('Caseload Reporting'!C887 = \"\",\"\",'Caseload Reporting'!C887)","v":""},{"$f":"IF('Caseload Reporting'!D887 = \"\",\"\",'Caseload Reporting'!D887)","v":""},{"$f":"IF('Caseload Reporting'!G887 = \"\",\"\",'Caseload Reporting'!G887)","v":""},{"$f":"IF('Caseload Reporting'!H887 = \"\",\"\",'Caseload Reporting'!H887)","v":""},{"$f":"IF('Caseload Reporting'!I887 = \"\",\"\",'Caseload Reporting'!I887)","v":""},{"$f":"IF('Caseload Reporting'!J887 = \"\",\"\",'Caseload Reporting'!J887)","v":""},{"$f":"IF('Caseload Reporting'!K887 = \"\",\"\",'Caseload Reporting'!K887)","v":""},{"$f":"IF('Caseload Reporting'!L887 = \"\",\"\",'Caseload Reporting'!L887)","v":""},{"$f":"IF('Caseload Reporting'!M887 = \"\",\"\",'Caseload Reporting'!M887)","v":""},{"$f":"IF('Caseload Reporting'!N887 = \"\",\"\",'Caseload Reporting'!N887)","v":""},{"$f":"IF('Caseload Reporting'!P887 = \"\",\"\",'Caseload Reporting'!P887)","v":""},{"$f":"IF('Caseload Reporting'!O887 = \"\",\"\",'Caseload Reporting'!O887)","v":""},{"$f":"IF('Caseload Reporting'!Q887 = \"\",\"\",'Caseload Reporting'!Q887)","v":""},{"$f":"IF('Caseload Reporting'!R887 = \"\",\"\",'Caseload Reporting'!R887)","v":""},{"$f":"IF('Caseload Reporting'!E887 = \"\",\"\",'Caseload Reporting'!E887)","v":""},{"$f":"IF('Caseload Reporting'!S887 = \"\",\"\",'Caseload Reporting'!S887)","v":""}]
[{"$f":"IF('Caseload Reporting'!A888 = \"\",\"\",'Caseload Reporting'!A888)","v":""},{"$f":"IF('Caseload Reporting'!B888 = \"\",\"\",'Caseload Reporting'!B888)","v":""},{"$f":"IF('Caseload Reporting'!C888 = \"\",\"\",'Caseload Reporting'!C888)","v":""},{"$f":"IF('Caseload Reporting'!D888 = \"\",\"\",'Caseload Reporting'!D888)","v":""},{"$f":"IF('Caseload Reporting'!G888 = \"\",\"\",'Caseload Reporting'!G888)","v":""},{"$f":"IF('Caseload Reporting'!H888 = \"\",\"\",'Caseload Reporting'!H888)","v":""},{"$f":"IF('Caseload Reporting'!I888 = \"\",\"\",'Caseload Reporting'!I888)","v":""},{"$f":"IF('Caseload Reporting'!J888 = \"\",\"\",'Caseload Reporting'!J888)","v":""},{"$f":"IF('Caseload Reporting'!K888 = \"\",\"\",'Caseload Reporting'!K888)","v":""},{"$f":"IF('Caseload Reporting'!L888 = \"\",\"\",'Caseload Reporting'!L888)","v":""},{"$f":"IF('Caseload Reporting'!M888 = \"\",\"\",'Caseload Reporting'!M888)","v":""},{"$f":"IF('Caseload Reporting'!N888 = \"\",\"\",'Caseload Reporting'!N888)","v":""},{"$f":"IF('Caseload Reporting'!P888 = \"\",\"\",'Caseload Reporting'!P888)","v":""},{"$f":"IF('Caseload Reporting'!O888 = \"\",\"\",'Caseload Reporting'!O888)","v":""},{"$f":"IF('Caseload Reporting'!Q888 = \"\",\"\",'Caseload Reporting'!Q888)","v":""},{"$f":"IF('Caseload Reporting'!R888 = \"\",\"\",'Caseload Reporting'!R888)","v":""},{"$f":"IF('Caseload Reporting'!E888 = \"\",\"\",'Caseload Reporting'!E888)","v":""},{"$f":"IF('Caseload Reporting'!S888 = \"\",\"\",'Caseload Reporting'!S888)","v":""}]
[{"$f":"IF('Caseload Reporting'!A889 = \"\",\"\",'Caseload Reporting'!A889)","v":""},{"$f":"IF('Caseload Reporting'!B889 = \"\",\"\",'Caseload Reporting'!B889)","v":""},{"$f":"IF('Caseload Reporting'!C889 = \"\",\"\",'Caseload Reporting'!C889)","v":""},{"$f":"IF('Caseload Reporting'!D889 = \"\",\"\",'Caseload Reporting'!D889)","v":""},{"$f":"IF('Caseload Reporting'!G889 = \"\",\"\",'Caseload Reporting'!G889)","v":""},{"$f":"IF('Caseload Reporting'!H889 = \"\",\"\",'Caseload Reporting'!H889)","v":""},{"$f":"IF('Caseload Reporting'!I889 = \"\",\"\",'Caseload Reporting'!I889)","v":""},{"$f":"IF('Caseload Reporting'!J889 = \"\",\"\",'Caseload Reporting'!J889)","v":""},{"$f":"IF('Caseload Reporting'!K889 = \"\",\"\",'Caseload Reporting'!K889)","v":""},{"$f":"IF('Caseload Reporting'!L889 = \"\",\"\",'Caseload Reporting'!L889)","v":""},{"$f":"IF('Caseload Reporting'!M889 = \"\",\"\",'Caseload Reporting'!M889)","v":""},{"$f":"IF('Caseload Reporting'!N889 = \"\",\"\",'Caseload Reporting'!N889)","v":""},{"$f":"IF('Caseload Reporting'!P889 = \"\",\"\",'Caseload Reporting'!P889)","v":""},{"$f":"IF('Caseload Reporting'!O889 = \"\",\"\",'Caseload Reporting'!O889)","v":""},{"$f":"IF('Caseload Reporting'!Q889 = \"\",\"\",'Caseload Reporting'!Q889)","v":""},{"$f":"IF('Caseload Reporting'!R889 = \"\",\"\",'Caseload Reporting'!R889)","v":""},{"$f":"IF('Caseload Reporting'!E889 = \"\",\"\",'Caseload Reporting'!E889)","v":""},{"$f":"IF('Caseload Reporting'!S889 = \"\",\"\",'Caseload Reporting'!S889)","v":""}]
[{"$f":"IF('Caseload Reporting'!A890 = \"\",\"\",'Caseload Reporting'!A890)","v":""},{"$f":"IF('Caseload Reporting'!B890 = \"\",\"\",'Caseload Reporting'!B890)","v":""},{"$f":"IF('Caseload Reporting'!C890 = \"\",\"\",'Caseload Reporting'!C890)","v":""},{"$f":"IF('Caseload Reporting'!D890 = \"\",\"\",'Caseload Reporting'!D890)","v":""},{"$f":"IF('Caseload Reporting'!G890 = \"\",\"\",'Caseload Reporting'!G890)","v":""},{"$f":"IF('Caseload Reporting'!H890 = \"\",\"\",'Caseload Reporting'!H890)","v":""},{"$f":"IF('Caseload Reporting'!I890 = \"\",\"\",'Caseload Reporting'!I890)","v":""},{"$f":"IF('Caseload Reporting'!J890 = \"\",\"\",'Caseload Reporting'!J890)","v":""},{"$f":"IF('Caseload Reporting'!K890 = \"\",\"\",'Caseload Reporting'!K890)","v":""},{"$f":"IF('Caseload Reporting'!L890 = \"\",\"\",'Caseload Reporting'!L890)","v":""},{"$f":"IF('Caseload Reporting'!M890 = \"\",\"\",'Caseload Reporting'!M890)","v":""},{"$f":"IF('Caseload Reporting'!N890 = \"\",\"\",'Caseload Reporting'!N890)","v":""},{"$f":"IF('Caseload Reporting'!P890 = \"\",\"\",'Caseload Reporting'!P890)","v":""},{"$f":"IF('Caseload Reporting'!O890 = \"\",\"\",'Caseload Reporting'!O890)","v":""},{"$f":"IF('Caseload Reporting'!Q890 = \"\",\"\",'Caseload Reporting'!Q890)","v":""},{"$f":"IF('Caseload Reporting'!R890 = \"\",\"\",'Caseload Reporting'!R890)","v":""},{"$f":"IF('Caseload Reporting'!E890 = \"\",\"\",'Caseload Reporting'!E890)","v":""},{"$f":"IF('Caseload Reporting'!S890 = \"\",\"\",'Caseload Reporting'!S890)","v":""}]
[{"$f":"IF('Caseload Reporting'!A891 = \"\",\"\",'Caseload Reporting'!A891)","v":""},{"$f":"IF('Caseload Reporting'!B891 = \"\",\"\",'Caseload Reporting'!B891)","v":""},{"$f":"IF('Caseload Reporting'!C891 = \"\",\"\",'Caseload Reporting'!C891)","v":""},{"$f":"IF('Caseload Reporting'!D891 = \"\",\"\",'Caseload Reporting'!D891)","v":""},{"$f":"IF('Caseload Reporting'!G891 = \"\",\"\",'Caseload Reporting'!G891)","v":""},{"$f":"IF('Caseload Reporting'!H891 = \"\",\"\",'Caseload Reporting'!H891)","v":""},{"$f":"IF('Caseload Reporting'!I891 = \"\",\"\",'Caseload Reporting'!I891)","v":""},{"$f":"IF('Caseload Reporting'!J891 = \"\",\"\",'Caseload Reporting'!J891)","v":""},{"$f":"IF('Caseload Reporting'!K891 = \"\",\"\",'Caseload Reporting'!K891)","v":""},{"$f":"IF('Caseload Reporting'!L891 = \"\",\"\",'Caseload Reporting'!L891)","v":""},{"$f":"IF('Caseload Reporting'!M891 = \"\",\"\",'Caseload Reporting'!M891)","v":""},{"$f":"IF('Caseload Reporting'!N891 = \"\",\"\",'Caseload Reporting'!N891)","v":""},{"$f":"IF('Caseload Reporting'!P891 = \"\",\"\",'Caseload Reporting'!P891)","v":""},{"$f":"IF('Caseload Reporting'!O891 = \"\",\"\",'Caseload Reporting'!O891)","v":""},{"$f":"IF('Caseload Reporting'!Q891 = \"\",\"\",'Caseload Reporting'!Q891)","v":""},{"$f":"IF('Caseload Reporting'!R891 = \"\",\"\",'Caseload Reporting'!R891)","v":""},{"$f":"IF('Caseload Reporting'!E891 = \"\",\"\",'Caseload Reporting'!E891)","v":""},{"$f":"IF('Caseload Reporting'!S891 = \"\",\"\",'Caseload Reporting'!S891)","v":""}]
[{"$f":"IF('Caseload Reporting'!A892 = \"\",\"\",'Caseload Reporting'!A892)","v":""},{"$f":"IF('Caseload Reporting'!B892 = \"\",\"\",'Caseload Reporting'!B892)","v":""},{"$f":"IF('Caseload Reporting'!C892 = \"\",\"\",'Caseload Reporting'!C892)","v":""},{"$f":"IF('Caseload Reporting'!D892 = \"\",\"\",'Caseload Reporting'!D892)","v":""},{"$f":"IF('Caseload Reporting'!G892 = \"\",\"\",'Caseload Reporting'!G892)","v":""},{"$f":"IF('Caseload Reporting'!H892 = \"\",\"\",'Caseload Reporting'!H892)","v":""},{"$f":"IF('Caseload Reporting'!I892 = \"\",\"\",'Caseload Reporting'!I892)","v":""},{"$f":"IF('Caseload Reporting'!J892 = \"\",\"\",'Caseload Reporting'!J892)","v":""},{"$f":"IF('Caseload Reporting'!K892 = \"\",\"\",'Caseload Reporting'!K892)","v":""},{"$f":"IF('Caseload Reporting'!L892 = \"\",\"\",'Caseload Reporting'!L892)","v":""},{"$f":"IF('Caseload Reporting'!M892 = \"\",\"\",'Caseload Reporting'!M892)","v":""},{"$f":"IF('Caseload Reporting'!N892 = \"\",\"\",'Caseload Reporting'!N892)","v":""},{"$f":"IF('Caseload Reporting'!P892 = \"\",\"\",'Caseload Reporting'!P892)","v":""},{"$f":"IF('Caseload Reporting'!O892 = \"\",\"\",'Caseload Reporting'!O892)","v":""},{"$f":"IF('Caseload Reporting'!Q892 = \"\",\"\",'Caseload Reporting'!Q892)","v":""},{"$f":"IF('Caseload Reporting'!R892 = \"\",\"\",'Caseload Reporting'!R892)","v":""},{"$f":"IF('Caseload Reporting'!E892 = \"\",\"\",'Caseload Reporting'!E892)","v":""},{"$f":"IF('Caseload Reporting'!S892 = \"\",\"\",'Caseload Reporting'!S892)","v":""}]
[{"$f":"IF('Caseload Reporting'!A893 = \"\",\"\",'Caseload Reporting'!A893)","v":""},{"$f":"IF('Caseload Reporting'!B893 = \"\",\"\",'Caseload Reporting'!B893)","v":""},{"$f":"IF('Caseload Reporting'!C893 = \"\",\"\",'Caseload Reporting'!C893)","v":""},{"$f":"IF('Caseload Reporting'!D893 = \"\",\"\",'Caseload Reporting'!D893)","v":""},{"$f":"IF('Caseload Reporting'!G893 = \"\",\"\",'Caseload Reporting'!G893)","v":""},{"$f":"IF('Caseload Reporting'!H893 = \"\",\"\",'Caseload Reporting'!H893)","v":""},{"$f":"IF('Caseload Reporting'!I893 = \"\",\"\",'Caseload Reporting'!I893)","v":""},{"$f":"IF('Caseload Reporting'!J893 = \"\",\"\",'Caseload Reporting'!J893)","v":""},{"$f":"IF('Caseload Reporting'!K893 = \"\",\"\",'Caseload Reporting'!K893)","v":""},{"$f":"IF('Caseload Reporting'!L893 = \"\",\"\",'Caseload Reporting'!L893)","v":""},{"$f":"IF('Caseload Reporting'!M893 = \"\",\"\",'Caseload Reporting'!M893)","v":""},{"$f":"IF('Caseload Reporting'!N893 = \"\",\"\",'Caseload Reporting'!N893)","v":""},{"$f":"IF('Caseload Reporting'!P893 = \"\",\"\",'Caseload Reporting'!P893)","v":""},{"$f":"IF('Caseload Reporting'!O893 = \"\",\"\",'Caseload Reporting'!O893)","v":""},{"$f":"IF('Caseload Reporting'!Q893 = \"\",\"\",'Caseload Reporting'!Q893)","v":""},{"$f":"IF('Caseload Reporting'!R893 = \"\",\"\",'Caseload Reporting'!R893)","v":""},{"$f":"IF('Caseload Reporting'!E893 = \"\",\"\",'Caseload Reporting'!E893)","v":""},{"$f":"IF('Caseload Reporting'!S893 = \"\",\"\",'Caseload Reporting'!S893)","v":""}]
[{"$f":"IF('Caseload Reporting'!A894 = \"\",\"\",'Caseload Reporting'!A894)","v":""},{"$f":"IF('Caseload Reporting'!B894 = \"\",\"\",'Caseload Reporting'!B894)","v":""},{"$f":"IF('Caseload Reporting'!C894 = \"\",\"\",'Caseload Reporting'!C894)","v":""},{"$f":"IF('Caseload Reporting'!D894 = \"\",\"\",'Caseload Reporting'!D894)","v":""},{"$f":"IF('Caseload Reporting'!G894 = \"\",\"\",'Caseload Reporting'!G894)","v":""},{"$f":"IF('Caseload Reporting'!H894 = \"\",\"\",'Caseload Reporting'!H894)","v":""},{"$f":"IF('Caseload Reporting'!I894 = \"\",\"\",'Caseload Reporting'!I894)","v":""},{"$f":"IF('Caseload Reporting'!J894 = \"\",\"\",'Caseload Reporting'!J894)","v":""},{"$f":"IF('Caseload Reporting'!K894 = \"\",\"\",'Caseload Reporting'!K894)","v":""},{"$f":"IF('Caseload Reporting'!L894 = \"\",\"\",'Caseload Reporting'!L894)","v":""},{"$f":"IF('Caseload Reporting'!M894 = \"\",\"\",'Caseload Reporting'!M894)","v":""},{"$f":"IF('Caseload Reporting'!N894 = \"\",\"\",'Caseload Reporting'!N894)","v":""},{"$f":"IF('Caseload Reporting'!P894 = \"\",\"\",'Caseload Reporting'!P894)","v":""},{"$f":"IF('Caseload Reporting'!O894 = \"\",\"\",'Caseload Reporting'!O894)","v":""},{"$f":"IF('Caseload Reporting'!Q894 = \"\",\"\",'Caseload Reporting'!Q894)","v":""},{"$f":"IF('Caseload Reporting'!R894 = \"\",\"\",'Caseload Reporting'!R894)","v":""},{"$f":"IF('Caseload Reporting'!E894 = \"\",\"\",'Caseload Reporting'!E894)","v":""},{"$f":"IF('Caseload Reporting'!S894 = \"\",\"\",'Caseload Reporting'!S894)","v":""}]
[{"$f":"IF('Caseload Reporting'!A895 = \"\",\"\",'Caseload Reporting'!A895)","v":""},{"$f":"IF('Caseload Reporting'!B895 = \"\",\"\",'Caseload Reporting'!B895)","v":""},{"$f":"IF('Caseload Reporting'!C895 = \"\",\"\",'Caseload Reporting'!C895)","v":""},{"$f":"IF('Caseload Reporting'!D895 = \"\",\"\",'Caseload Reporting'!D895)","v":""},{"$f":"IF('Caseload Reporting'!G895 = \"\",\"\",'Caseload Reporting'!G895)","v":""},{"$f":"IF('Caseload Reporting'!H895 = \"\",\"\",'Caseload Reporting'!H895)","v":""},{"$f":"IF('Caseload Reporting'!I895 = \"\",\"\",'Caseload Reporting'!I895)","v":""},{"$f":"IF('Caseload Reporting'!J895 = \"\",\"\",'Caseload Reporting'!J895)","v":""},{"$f":"IF('Caseload Reporting'!K895 = \"\",\"\",'Caseload Reporting'!K895)","v":""},{"$f":"IF('Caseload Reporting'!L895 = \"\",\"\",'Caseload Reporting'!L895)","v":""},{"$f":"IF('Caseload Reporting'!M895 = \"\",\"\",'Caseload Reporting'!M895)","v":""},{"$f":"IF('Caseload Reporting'!N895 = \"\",\"\",'Caseload Reporting'!N895)","v":""},{"$f":"IF('Caseload Reporting'!P895 = \"\",\"\",'Caseload Reporting'!P895)","v":""},{"$f":"IF('Caseload Reporting'!O895 = \"\",\"\",'Caseload Reporting'!O895)","v":""},{"$f":"IF('Caseload Reporting'!Q895 = \"\",\"\",'Caseload Reporting'!Q895)","v":""},{"$f":"IF('Caseload Reporting'!R895 = \"\",\"\",'Caseload Reporting'!R895)","v":""},{"$f":"IF('Caseload Reporting'!E895 = \"\",\"\",'Caseload Reporting'!E895)","v":""},{"$f":"IF('Caseload Reporting'!S895 = \"\",\"\",'Caseload Reporting'!S895)","v":""}]
[{"$f":"IF('Caseload Reporting'!A896 = \"\",\"\",'Caseload Reporting'!A896)","v":""},{"$f":"IF('Caseload Reporting'!B896 = \"\",\"\",'Caseload Reporting'!B896)","v":""},{"$f":"IF('Caseload Reporting'!C896 = \"\",\"\",'Caseload Reporting'!C896)","v":""},{"$f":"IF('Caseload Reporting'!D896 = \"\",\"\",'Caseload Reporting'!D896)","v":""},{"$f":"IF('Caseload Reporting'!G896 = \"\",\"\",'Caseload Reporting'!G896)","v":""},{"$f":"IF('Caseload Reporting'!H896 = \"\",\"\",'Caseload Reporting'!H896)","v":""},{"$f":"IF('Caseload Reporting'!I896 = \"\",\"\",'Caseload Reporting'!I896)","v":""},{"$f":"IF('Caseload Reporting'!J896 = \"\",\"\",'Caseload Reporting'!J896)","v":""},{"$f":"IF('Caseload Reporting'!K896 = \"\",\"\",'Caseload Reporting'!K896)","v":""},{"$f":"IF('Caseload Reporting'!L896 = \"\",\"\",'Caseload Reporting'!L896)","v":""},{"$f":"IF('Caseload Reporting'!M896 = \"\",\"\",'Caseload Reporting'!M896)","v":""},{"$f":"IF('Caseload Reporting'!N896 = \"\",\"\",'Caseload Reporting'!N896)","v":""},{"$f":"IF('Caseload Reporting'!P896 = \"\",\"\",'Caseload Reporting'!P896)","v":""},{"$f":"IF('Caseload Reporting'!O896 = \"\",\"\",'Caseload Reporting'!O896)","v":""},{"$f":"IF('Caseload Reporting'!Q896 = \"\",\"\",'Caseload Reporting'!Q896)","v":""},{"$f":"IF('Caseload Reporting'!R896 = \"\",\"\",'Caseload Reporting'!R896)","v":""},{"$f":"IF('Caseload Reporting'!E896 = \"\",\"\",'Caseload Reporting'!E896)","v":""},{"$f":"IF('Caseload Reporting'!S896 = \"\",\"\",'Caseload Reporting'!S896)","v":""}]
[{"$f":"IF('Caseload Reporting'!A897 = \"\",\"\",'Caseload Reporting'!A897)","v":""},{"$f":"IF('Caseload Reporting'!B897 = \"\",\"\",'Caseload Reporting'!B897)","v":""},{"$f":"IF('Caseload Reporting'!C897 = \"\",\"\",'Caseload Reporting'!C897)","v":""},{"$f":"IF('Caseload Reporting'!D897 = \"\",\"\",'Caseload Reporting'!D897)","v":""},{"$f":"IF('Caseload Reporting'!G897 = \"\",\"\",'Caseload Reporting'!G897)","v":""},{"$f":"IF('Caseload Reporting'!H897 = \"\",\"\",'Caseload Reporting'!H897)","v":""},{"$f":"IF('Caseload Reporting'!I897 = \"\",\"\",'Caseload Reporting'!I897)","v":""},{"$f":"IF('Caseload Reporting'!J897 = \"\",\"\",'Caseload Reporting'!J897)","v":""},{"$f":"IF('Caseload Reporting'!K897 = \"\",\"\",'Caseload Reporting'!K897)","v":""},{"$f":"IF('Caseload Reporting'!L897 = \"\",\"\",'Caseload Reporting'!L897)","v":""},{"$f":"IF('Caseload Reporting'!M897 = \"\",\"\",'Caseload Reporting'!M897)","v":""},{"$f":"IF('Caseload Reporting'!N897 = \"\",\"\",'Caseload Reporting'!N897)","v":""},{"$f":"IF('Caseload Reporting'!P897 = \"\",\"\",'Caseload Reporting'!P897)","v":""},{"$f":"IF('Caseload Reporting'!O897 = \"\",\"\",'Caseload Reporting'!O897)","v":""},{"$f":"IF('Caseload Reporting'!Q897 = \"\",\"\",'Caseload Reporting'!Q897)","v":""},{"$f":"IF('Caseload Reporting'!R897 = \"\",\"\",'Caseload Reporting'!R897)","v":""},{"$f":"IF('Caseload Reporting'!E897 = \"\",\"\",'Caseload Reporting'!E897)","v":""},{"$f":"IF('Caseload Reporting'!S897 = \"\",\"\",'Caseload Reporting'!S897)","v":""}]
[{"$f":"IF('Caseload Reporting'!A898 = \"\",\"\",'Caseload Reporting'!A898)","v":""},{"$f":"IF('Caseload Reporting'!B898 = \"\",\"\",'Caseload Reporting'!B898)","v":""},{"$f":"IF('Caseload Reporting'!C898 = \"\",\"\",'Caseload Reporting'!C898)","v":""},{"$f":"IF('Caseload Reporting'!D898 = \"\",\"\",'Caseload Reporting'!D898)","v":""},{"$f":"IF('Caseload Reporting'!G898 = \"\",\"\",'Caseload Reporting'!G898)","v":""},{"$f":"IF('Caseload Reporting'!H898 = \"\",\"\",'Caseload Reporting'!H898)","v":""},{"$f":"IF('Caseload Reporting'!I898 = \"\",\"\",'Caseload Reporting'!I898)","v":""},{"$f":"IF('Caseload Reporting'!J898 = \"\",\"\",'Caseload Reporting'!J898)","v":""},{"$f":"IF('Caseload Reporting'!K898 = \"\",\"\",'Caseload Reporting'!K898)","v":""},{"$f":"IF('Caseload Reporting'!L898 = \"\",\"\",'Caseload Reporting'!L898)","v":""},{"$f":"IF('Caseload Reporting'!M898 = \"\",\"\",'Caseload Reporting'!M898)","v":""},{"$f":"IF('Caseload Reporting'!N898 = \"\",\"\",'Caseload Reporting'!N898)","v":""},{"$f":"IF('Caseload Reporting'!P898 = \"\",\"\",'Caseload Reporting'!P898)","v":""},{"$f":"IF('Caseload Reporting'!O898 = \"\",\"\",'Caseload Reporting'!O898)","v":""},{"$f":"IF('Caseload Reporting'!Q898 = \"\",\"\",'Caseload Reporting'!Q898)","v":""},{"$f":"IF('Caseload Reporting'!R898 = \"\",\"\",'Caseload Reporting'!R898)","v":""},{"$f":"IF('Caseload Reporting'!E898 = \"\",\"\",'Caseload Reporting'!E898)","v":""},{"$f":"IF('Caseload Reporting'!S898 = \"\",\"\",'Caseload Reporting'!S898)","v":""}]
[{"$f":"IF('Caseload Reporting'!A899 = \"\",\"\",'Caseload Reporting'!A899)","v":""},{"$f":"IF('Caseload Reporting'!B899 = \"\",\"\",'Caseload Reporting'!B899)","v":""},{"$f":"IF('Caseload Reporting'!C899 = \"\",\"\",'Caseload Reporting'!C899)","v":""},{"$f":"IF('Caseload Reporting'!D899 = \"\",\"\",'Caseload Reporting'!D899)","v":""},{"$f":"IF('Caseload Reporting'!G899 = \"\",\"\",'Caseload Reporting'!G899)","v":""},{"$f":"IF('Caseload Reporting'!H899 = \"\",\"\",'Caseload Reporting'!H899)","v":""},{"$f":"IF('Caseload Reporting'!I899 = \"\",\"\",'Caseload Reporting'!I899)","v":""},{"$f":"IF('Caseload Reporting'!J899 = \"\",\"\",'Caseload Reporting'!J899)","v":""},{"$f":"IF('Caseload Reporting'!K899 = \"\",\"\",'Caseload Reporting'!K899)","v":""},{"$f":"IF('Caseload Reporting'!L899 = \"\",\"\",'Caseload Reporting'!L899)","v":""},{"$f":"IF('Caseload Reporting'!M899 = \"\",\"\",'Caseload Reporting'!M899)","v":""},{"$f":"IF('Caseload Reporting'!N899 = \"\",\"\",'Caseload Reporting'!N899)","v":""},{"$f":"IF('Caseload Reporting'!P899 = \"\",\"\",'Caseload Reporting'!P899)","v":""},{"$f":"IF('Caseload Reporting'!O899 = \"\",\"\",'Caseload Reporting'!O899)","v":""},{"$f":"IF('Caseload Reporting'!Q899 = \"\",\"\",'Caseload Reporting'!Q899)","v":""},{"$f":"IF('Caseload Reporting'!R899 = \"\",\"\",'Caseload Reporting'!R899)","v":""},{"$f":"IF('Caseload Reporting'!E899 = \"\",\"\",'Caseload Reporting'!E899)","v":""},{"$f":"IF('Caseload Reporting'!S899 = \"\",\"\",'Caseload Reporting'!S899)","v":""}]
[{"$f":"IF('Caseload Reporting'!A900 = \"\",\"\",'Caseload Reporting'!A900)","v":""},{"$f":"IF('Caseload Reporting'!B900 = \"\",\"\",'Caseload Reporting'!B900)","v":""},{"$f":"IF('Caseload Reporting'!C900 = \"\",\"\",'Caseload Reporting'!C900)","v":""},{"$f":"IF('Caseload Reporting'!D900 = \"\",\"\",'Caseload Reporting'!D900)","v":""},{"$f":"IF('Caseload Reporting'!G900 = \"\",\"\",'Caseload Reporting'!G900)","v":""},{"$f":"IF('Caseload Reporting'!H900 = \"\",\"\",'Caseload Reporting'!H900)","v":""},{"$f":"IF('Caseload Reporting'!I900 = \"\",\"\",'Caseload Reporting'!I900)","v":""},{"$f":"IF('Caseload Reporting'!J900 = \"\",\"\",'Caseload Reporting'!J900)","v":""},{"$f":"IF('Caseload Reporting'!K900 = \"\",\"\",'Caseload Reporting'!K900)","v":""},{"$f":"IF('Caseload Reporting'!L900 = \"\",\"\",'Caseload Reporting'!L900)","v":""},{"$f":"IF('Caseload Reporting'!M900 = \"\",\"\",'Caseload Reporting'!M900)","v":""},{"$f":"IF('Caseload Reporting'!N900 = \"\",\"\",'Caseload Reporting'!N900)","v":""},{"$f":"IF('Caseload Reporting'!P900 = \"\",\"\",'Caseload Reporting'!P900)","v":""},{"$f":"IF('Caseload Reporting'!O900 = \"\",\"\",'Caseload Reporting'!O900)","v":""},{"$f":"IF('Caseload Reporting'!Q900 = \"\",\"\",'Caseload Reporting'!Q900)","v":""},{"$f":"IF('Caseload Reporting'!R900 = \"\",\"\",'Caseload Reporting'!R900)","v":""},{"$f":"IF('Caseload Reporting'!E900 = \"\",\"\",'Caseload Reporting'!E900)","v":""},{"$f":"IF('Caseload Reporting'!S900 = \"\",\"\",'Caseload Reporting'!S900)","v":""}]
[{"$f":"IF('Caseload Reporting'!A901 = \"\",\"\",'Caseload Reporting'!A901)","v":""},{"$f":"IF('Caseload Reporting'!B901 = \"\",\"\",'Caseload Reporting'!B901)","v":""},{"$f":"IF('Caseload Reporting'!C901 = \"\",\"\",'Caseload Reporting'!C901)","v":""},{"$f":"IF('Caseload Reporting'!D901 = \"\",\"\",'Caseload Reporting'!D901)","v":""},{"$f":"IF('Caseload Reporting'!G901 = \"\",\"\",'Caseload Reporting'!G901)","v":""},{"$f":"IF('Caseload Reporting'!H901 = \"\",\"\",'Caseload Reporting'!H901)","v":""},{"$f":"IF('Caseload Reporting'!I901 = \"\",\"\",'Caseload Reporting'!I901)","v":""},{"$f":"IF('Caseload Reporting'!J901 = \"\",\"\",'Caseload Reporting'!J901)","v":""},{"$f":"IF('Caseload Reporting'!K901 = \"\",\"\",'Caseload Reporting'!K901)","v":""},{"$f":"IF('Caseload Reporting'!L901 = \"\",\"\",'Caseload Reporting'!L901)","v":""},{"$f":"IF('Caseload Reporting'!M901 = \"\",\"\",'Caseload Reporting'!M901)","v":""},{"$f":"IF('Caseload Reporting'!N901 = \"\",\"\",'Caseload Reporting'!N901)","v":""},{"$f":"IF('Caseload Reporting'!P901 = \"\",\"\",'Caseload Reporting'!P901)","v":""},{"$f":"IF('Caseload Reporting'!O901 = \"\",\"\",'Caseload Reporting'!O901)","v":""},{"$f":"IF('Caseload Reporting'!Q901 = \"\",\"\",'Caseload Reporting'!Q901)","v":""},{"$f":"IF('Caseload Reporting'!R901 = \"\",\"\",'Caseload Reporting'!R901)","v":""},{"$f":"IF('Caseload Reporting'!E901 = \"\",\"\",'Caseload Reporting'!E901)","v":""},{"$f":"IF('Caseload Reporting'!S901 = \"\",\"\",'Caseload Reporting'!S901)","v":""}]
[{"$f":"IF('Caseload Reporting'!A902 = \"\",\"\",'Caseload Reporting'!A902)","v":""},{"$f":"IF('Caseload Reporting'!B902 = \"\",\"\",'Caseload Reporting'!B902)","v":""},{"$f":"IF('Caseload Reporting'!C902 = \"\",\"\",'Caseload Reporting'!C902)","v":""},{"$f":"IF('Caseload Reporting'!D902 = \"\",\"\",'Caseload Reporting'!D902)","v":""},{"$f":"IF('Caseload Reporting'!G902 = \"\",\"\",'Caseload Reporting'!G902)","v":""},{"$f":"IF('Caseload Reporting'!H902 = \"\",\"\",'Caseload Reporting'!H902)","v":""},{"$f":"IF('Caseload Reporting'!I902 = \"\",\"\",'Caseload Reporting'!I902)","v":""},{"$f":"IF('Caseload Reporting'!J902 = \"\",\"\",'Caseload Reporting'!J902)","v":""},{"$f":"IF('Caseload Reporting'!K902 = \"\",\"\",'Caseload Reporting'!K902)","v":""},{"$f":"IF('Caseload Reporting'!L902 = \"\",\"\",'Caseload Reporting'!L902)","v":""},{"$f":"IF('Caseload Reporting'!M902 = \"\",\"\",'Caseload Reporting'!M902)","v":""},{"$f":"IF('Caseload Reporting'!N902 = \"\",\"\",'Caseload Reporting'!N902)","v":""},{"$f":"IF('Caseload Reporting'!P902 = \"\",\"\",'Caseload Reporting'!P902)","v":""},{"$f":"IF('Caseload Reporting'!O902 = \"\",\"\",'Caseload Reporting'!O902)","v":""},{"$f":"IF('Caseload Reporting'!Q902 = \"\",\"\",'Caseload Reporting'!Q902)","v":""},{"$f":"IF('Caseload Reporting'!R902 = \"\",\"\",'Caseload Reporting'!R902)","v":""},{"$f":"IF('Caseload Reporting'!E902 = \"\",\"\",'Caseload Reporting'!E902)","v":""},{"$f":"IF('Caseload Reporting'!S902 = \"\",\"\",'Caseload Reporting'!S902)","v":""}]
[{"$f":"IF('Caseload Reporting'!A903 = \"\",\"\",'Caseload Reporting'!A903)","v":""},{"$f":"IF('Caseload Reporting'!B903 = \"\",\"\",'Caseload Reporting'!B903)","v":""},{"$f":"IF('Caseload Reporting'!C903 = \"\",\"\",'Caseload Reporting'!C903)","v":""},{"$f":"IF('Caseload Reporting'!D903 = \"\",\"\",'Caseload Reporting'!D903)","v":""},{"$f":"IF('Caseload Reporting'!G903 = \"\",\"\",'Caseload Reporting'!G903)","v":""},{"$f":"IF('Caseload Reporting'!H903 = \"\",\"\",'Caseload Reporting'!H903)","v":""},{"$f":"IF('Caseload Reporting'!I903 = \"\",\"\",'Caseload Reporting'!I903)","v":""},{"$f":"IF('Caseload Reporting'!J903 = \"\",\"\",'Caseload Reporting'!J903)","v":""},{"$f":"IF('Caseload Reporting'!K903 = \"\",\"\",'Caseload Reporting'!K903)","v":""},{"$f":"IF('Caseload Reporting'!L903 = \"\",\"\",'Caseload Reporting'!L903)","v":""},{"$f":"IF('Caseload Reporting'!M903 = \"\",\"\",'Caseload Reporting'!M903)","v":""},{"$f":"IF('Caseload Reporting'!N903 = \"\",\"\",'Caseload Reporting'!N903)","v":""},{"$f":"IF('Caseload Reporting'!P903 = \"\",\"\",'Caseload Reporting'!P903)","v":""},{"$f":"IF('Caseload Reporting'!O903 = \"\",\"\",'Caseload Reporting'!O903)","v":""},{"$f":"IF('Caseload Reporting'!Q903 = \"\",\"\",'Caseload Reporting'!Q903)","v":""},{"$f":"IF('Caseload Reporting'!R903 = \"\",\"\",'Caseload Reporting'!R903)","v":""},{"$f":"IF('Caseload Reporting'!E903 = \"\",\"\",'Caseload Reporting'!E903)","v":""},{"$f":"IF('Caseload Reporting'!S903 = \"\",\"\",'Caseload Reporting'!S903)","v":""}]
[{"$f":"IF('Caseload Reporting'!A904 = \"\",\"\",'Caseload Reporting'!A904)","v":""},{"$f":"IF('Caseload Reporting'!B904 = \"\",\"\",'Caseload Reporting'!B904)","v":""},{"$f":"IF('Caseload Reporting'!C904 = \"\",\"\",'Caseload Reporting'!C904)","v":""},{"$f":"IF('Caseload Reporting'!D904 = \"\",\"\",'Caseload Reporting'!D904)","v":""},{"$f":"IF('Caseload Reporting'!G904 = \"\",\"\",'Caseload Reporting'!G904)","v":""},{"$f":"IF('Caseload Reporting'!H904 = \"\",\"\",'Caseload Reporting'!H904)","v":""},{"$f":"IF('Caseload Reporting'!I904 = \"\",\"\",'Caseload Reporting'!I904)","v":""},{"$f":"IF('Caseload Reporting'!J904 = \"\",\"\",'Caseload Reporting'!J904)","v":""},{"$f":"IF('Caseload Reporting'!K904 = \"\",\"\",'Caseload Reporting'!K904)","v":""},{"$f":"IF('Caseload Reporting'!L904 = \"\",\"\",'Caseload Reporting'!L904)","v":""},{"$f":"IF('Caseload Reporting'!M904 = \"\",\"\",'Caseload Reporting'!M904)","v":""},{"$f":"IF('Caseload Reporting'!N904 = \"\",\"\",'Caseload Reporting'!N904)","v":""},{"$f":"IF('Caseload Reporting'!P904 = \"\",\"\",'Caseload Reporting'!P904)","v":""},{"$f":"IF('Caseload Reporting'!O904 = \"\",\"\",'Caseload Reporting'!O904)","v":""},{"$f":"IF('Caseload Reporting'!Q904 = \"\",\"\",'Caseload Reporting'!Q904)","v":""},{"$f":"IF('Caseload Reporting'!R904 = \"\",\"\",'Caseload Reporting'!R904)","v":""},{"$f":"IF('Caseload Reporting'!E904 = \"\",\"\",'Caseload Reporting'!E904)","v":""},{"$f":"IF('Caseload Reporting'!S904 = \"\",\"\",'Caseload Reporting'!S904)","v":""}]
[{"$f":"IF('Caseload Reporting'!A905 = \"\",\"\",'Caseload Reporting'!A905)","v":""},{"$f":"IF('Caseload Reporting'!B905 = \"\",\"\",'Caseload Reporting'!B905)","v":""},{"$f":"IF('Caseload Reporting'!C905 = \"\",\"\",'Caseload Reporting'!C905)","v":""},{"$f":"IF('Caseload Reporting'!D905 = \"\",\"\",'Caseload Reporting'!D905)","v":""},{"$f":"IF('Caseload Reporting'!G905 = \"\",\"\",'Caseload Reporting'!G905)","v":""},{"$f":"IF('Caseload Reporting'!H905 = \"\",\"\",'Caseload Reporting'!H905)","v":""},{"$f":"IF('Caseload Reporting'!I905 = \"\",\"\",'Caseload Reporting'!I905)","v":""},{"$f":"IF('Caseload Reporting'!J905 = \"\",\"\",'Caseload Reporting'!J905)","v":""},{"$f":"IF('Caseload Reporting'!K905 = \"\",\"\",'Caseload Reporting'!K905)","v":""},{"$f":"IF('Caseload Reporting'!L905 = \"\",\"\",'Caseload Reporting'!L905)","v":""},{"$f":"IF('Caseload Reporting'!M905 = \"\",\"\",'Caseload Reporting'!M905)","v":""},{"$f":"IF('Caseload Reporting'!N905 = \"\",\"\",'Caseload Reporting'!N905)","v":""},{"$f":"IF('Caseload Reporting'!P905 = \"\",\"\",'Caseload Reporting'!P905)","v":""},{"$f":"IF('Caseload Reporting'!O905 = \"\",\"\",'Caseload Reporting'!O905)","v":""},{"$f":"IF('Caseload Reporting'!Q905 = \"\",\"\",'Caseload Reporting'!Q905)","v":""},{"$f":"IF('Caseload Reporting'!R905 = \"\",\"\",'Caseload Reporting'!R905)","v":""},{"$f":"IF('Caseload Reporting'!E905 = \"\",\"\",'Caseload Reporting'!E905)","v":""},{"$f":"IF('Caseload Reporting'!S905 = \"\",\"\",'Caseload Reporting'!S905)","v":""}]
[{"$f":"IF('Caseload Reporting'!A906 = \"\",\"\",'Caseload Reporting'!A906)","v":""},{"$f":"IF('Caseload Reporting'!B906 = \"\",\"\",'Caseload Reporting'!B906)","v":""},{"$f":"IF('Caseload Reporting'!C906 = \"\",\"\",'Caseload Reporting'!C906)","v":""},{"$f":"IF('Caseload Reporting'!D906 = \"\",\"\",'Caseload Reporting'!D906)","v":""},{"$f":"IF('Caseload Reporting'!G906 = \"\",\"\",'Caseload Reporting'!G906)","v":""},{"$f":"IF('Caseload Reporting'!H906 = \"\",\"\",'Caseload Reporting'!H906)","v":""},{"$f":"IF('Caseload Reporting'!I906 = \"\",\"\",'Caseload Reporting'!I906)","v":""},{"$f":"IF('Caseload Reporting'!J906 = \"\",\"\",'Caseload Reporting'!J906)","v":""},{"$f":"IF('Caseload Reporting'!K906 = \"\",\"\",'Caseload Reporting'!K906)","v":""},{"$f":"IF('Caseload Reporting'!L906 = \"\",\"\",'Caseload Reporting'!L906)","v":""},{"$f":"IF('Caseload Reporting'!M906 = \"\",\"\",'Caseload Reporting'!M906)","v":""},{"$f":"IF('Caseload Reporting'!N906 = \"\",\"\",'Caseload Reporting'!N906)","v":""},{"$f":"IF('Caseload Reporting'!P906 = \"\",\"\",'Caseload Reporting'!P906)","v":""},{"$f":"IF('Caseload Reporting'!O906 = \"\",\"\",'Caseload Reporting'!O906)","v":""},{"$f":"IF('Caseload Reporting'!Q906 = \"\",\"\",'Caseload Reporting'!Q906)","v":""},{"$f":"IF('Caseload Reporting'!R906 = \"\",\"\",'Caseload Reporting'!R906)","v":""},{"$f":"IF('Caseload Reporting'!E906 = \"\",\"\",'Caseload Reporting'!E906)","v":""},{"$f":"IF('Caseload Reporting'!S906 = \"\",\"\",'Caseload Reporting'!S906)","v":""}]
[{"$f":"IF('Caseload Reporting'!A907 = \"\",\"\",'Caseload Reporting'!A907)","v":""},{"$f":"IF('Caseload Reporting'!B907 = \"\",\"\",'Caseload Reporting'!B907)","v":""},{"$f":"IF('Caseload Reporting'!C907 = \"\",\"\",'Caseload Reporting'!C907)","v":""},{"$f":"IF('Caseload Reporting'!D907 = \"\",\"\",'Caseload Reporting'!D907)","v":""},{"$f":"IF('Caseload Reporting'!G907 = \"\",\"\",'Caseload Reporting'!G907)","v":""},{"$f":"IF('Caseload Reporting'!H907 = \"\",\"\",'Caseload Reporting'!H907)","v":""},{"$f":"IF('Caseload Reporting'!I907 = \"\",\"\",'Caseload Reporting'!I907)","v":""},{"$f":"IF('Caseload Reporting'!J907 = \"\",\"\",'Caseload Reporting'!J907)","v":""},{"$f":"IF('Caseload Reporting'!K907 = \"\",\"\",'Caseload Reporting'!K907)","v":""},{"$f":"IF('Caseload Reporting'!L907 = \"\",\"\",'Caseload Reporting'!L907)","v":""},{"$f":"IF('Caseload Reporting'!M907 = \"\",\"\",'Caseload Reporting'!M907)","v":""},{"$f":"IF('Caseload Reporting'!N907 = \"\",\"\",'Caseload Reporting'!N907)","v":""},{"$f":"IF('Caseload Reporting'!P907 = \"\",\"\",'Caseload Reporting'!P907)","v":""},{"$f":"IF('Caseload Reporting'!O907 = \"\",\"\",'Caseload Reporting'!O907)","v":""},{"$f":"IF('Caseload Reporting'!Q907 = \"\",\"\",'Caseload Reporting'!Q907)","v":""},{"$f":"IF('Caseload Reporting'!R907 = \"\",\"\",'Caseload Reporting'!R907)","v":""},{"$f":"IF('Caseload Reporting'!E907 = \"\",\"\",'Caseload Reporting'!E907)","v":""},{"$f":"IF('Caseload Reporting'!S907 = \"\",\"\",'Caseload Reporting'!S907)","v":""}]
[{"$f":"IF('Caseload Reporting'!A908 = \"\",\"\",'Caseload Reporting'!A908)","v":""},{"$f":"IF('Caseload Reporting'!B908 = \"\",\"\",'Caseload Reporting'!B908)","v":""},{"$f":"IF('Caseload Reporting'!C908 = \"\",\"\",'Caseload Reporting'!C908)","v":""},{"$f":"IF('Caseload Reporting'!D908 = \"\",\"\",'Caseload Reporting'!D908)","v":""},{"$f":"IF('Caseload Reporting'!G908 = \"\",\"\",'Caseload Reporting'!G908)","v":""},{"$f":"IF('Caseload Reporting'!H908 = \"\",\"\",'Caseload Reporting'!H908)","v":""},{"$f":"IF('Caseload Reporting'!I908 = \"\",\"\",'Caseload Reporting'!I908)","v":""},{"$f":"IF('Caseload Reporting'!J908 = \"\",\"\",'Caseload Reporting'!J908)","v":""},{"$f":"IF('Caseload Reporting'!K908 = \"\",\"\",'Caseload Reporting'!K908)","v":""},{"$f":"IF('Caseload Reporting'!L908 = \"\",\"\",'Caseload Reporting'!L908)","v":""},{"$f":"IF('Caseload Reporting'!M908 = \"\",\"\",'Caseload Reporting'!M908)","v":""},{"$f":"IF('Caseload Reporting'!N908 = \"\",\"\",'Caseload Reporting'!N908)","v":""},{"$f":"IF('Caseload Reporting'!P908 = \"\",\"\",'Caseload Reporting'!P908)","v":""},{"$f":"IF('Caseload Reporting'!O908 = \"\",\"\",'Caseload Reporting'!O908)","v":""},{"$f":"IF('Caseload Reporting'!Q908 = \"\",\"\",'Caseload Reporting'!Q908)","v":""},{"$f":"IF('Caseload Reporting'!R908 = \"\",\"\",'Caseload Reporting'!R908)","v":""},{"$f":"IF('Caseload Reporting'!E908 = \"\",\"\",'Caseload Reporting'!E908)","v":""},{"$f":"IF('Caseload Reporting'!S908 = \"\",\"\",'Caseload Reporting'!S908)","v":""}]
[{"$f":"IF('Caseload Reporting'!A909 = \"\",\"\",'Caseload Reporting'!A909)","v":""},{"$f":"IF('Caseload Reporting'!B909 = \"\",\"\",'Caseload Reporting'!B909)","v":""},{"$f":"IF('Caseload Reporting'!C909 = \"\",\"\",'Caseload Reporting'!C909)","v":""},{"$f":"IF('Caseload Reporting'!D909 = \"\",\"\",'Caseload Reporting'!D909)","v":""},{"$f":"IF('Caseload Reporting'!G909 = \"\",\"\",'Caseload Reporting'!G909)","v":""},{"$f":"IF('Caseload Reporting'!H909 = \"\",\"\",'Caseload Reporting'!H909)","v":""},{"$f":"IF('Caseload Reporting'!I909 = \"\",\"\",'Caseload Reporting'!I909)","v":""},{"$f":"IF('Caseload Reporting'!J909 = \"\",\"\",'Caseload Reporting'!J909)","v":""},{"$f":"IF('Caseload Reporting'!K909 = \"\",\"\",'Caseload Reporting'!K909)","v":""},{"$f":"IF('Caseload Reporting'!L909 = \"\",\"\",'Caseload Reporting'!L909)","v":""},{"$f":"IF('Caseload Reporting'!M909 = \"\",\"\",'Caseload Reporting'!M909)","v":""},{"$f":"IF('Caseload Reporting'!N909 = \"\",\"\",'Caseload Reporting'!N909)","v":""},{"$f":"IF('Caseload Reporting'!P909 = \"\",\"\",'Caseload Reporting'!P909)","v":""},{"$f":"IF('Caseload Reporting'!O909 = \"\",\"\",'Caseload Reporting'!O909)","v":""},{"$f":"IF('Caseload Reporting'!Q909 = \"\",\"\",'Caseload Reporting'!Q909)","v":""},{"$f":"IF('Caseload Reporting'!R909 = \"\",\"\",'Caseload Reporting'!R909)","v":""},{"$f":"IF('Caseload Reporting'!E909 = \"\",\"\",'Caseload Reporting'!E909)","v":""},{"$f":"IF('Caseload Reporting'!S909 = \"\",\"\",'Caseload Reporting'!S909)","v":""}]
[{"$f":"IF('Caseload Reporting'!A910 = \"\",\"\",'Caseload Reporting'!A910)","v":""},{"$f":"IF('Caseload Reporting'!B910 = \"\",\"\",'Caseload Reporting'!B910)","v":""},{"$f":"IF('Caseload Reporting'!C910 = \"\",\"\",'Caseload Reporting'!C910)","v":""},{"$f":"IF('Caseload Reporting'!D910 = \"\",\"\",'Caseload Reporting'!D910)","v":""},{"$f":"IF('Caseload Reporting'!G910 = \"\",\"\",'Caseload Reporting'!G910)","v":""},{"$f":"IF('Caseload Reporting'!H910 = \"\",\"\",'Caseload Reporting'!H910)","v":""},{"$f":"IF('Caseload Reporting'!I910 = \"\",\"\",'Caseload Reporting'!I910)","v":""},{"$f":"IF('Caseload Reporting'!J910 = \"\",\"\",'Caseload Reporting'!J910)","v":""},{"$f":"IF('Caseload Reporting'!K910 = \"\",\"\",'Caseload Reporting'!K910)","v":""},{"$f":"IF('Caseload Reporting'!L910 = \"\",\"\",'Caseload Reporting'!L910)","v":""},{"$f":"IF('Caseload Reporting'!M910 = \"\",\"\",'Caseload Reporting'!M910)","v":""},{"$f":"IF('Caseload Reporting'!N910 = \"\",\"\",'Caseload Reporting'!N910)","v":""},{"$f":"IF('Caseload Reporting'!P910 = \"\",\"\",'Caseload Reporting'!P910)","v":""},{"$f":"IF('Caseload Reporting'!O910 = \"\",\"\",'Caseload Reporting'!O910)","v":""},{"$f":"IF('Caseload Reporting'!Q910 = \"\",\"\",'Caseload Reporting'!Q910)","v":""},{"$f":"IF('Caseload Reporting'!R910 = \"\",\"\",'Caseload Reporting'!R910)","v":""},{"$f":"IF('Caseload Reporting'!E910 = \"\",\"\",'Caseload Reporting'!E910)","v":""},{"$f":"IF('Caseload Reporting'!S910 = \"\",\"\",'Caseload Reporting'!S910)","v":""}]
[{"$f":"IF('Caseload Reporting'!A911 = \"\",\"\",'Caseload Reporting'!A911)","v":""},{"$f":"IF('Caseload Reporting'!B911 = \"\",\"\",'Caseload Reporting'!B911)","v":""},{"$f":"IF('Caseload Reporting'!C911 = \"\",\"\",'Caseload Reporting'!C911)","v":""},{"$f":"IF('Caseload Reporting'!D911 = \"\",\"\",'Caseload Reporting'!D911)","v":""},{"$f":"IF('Caseload Reporting'!G911 = \"\",\"\",'Caseload Reporting'!G911)","v":""},{"$f":"IF('Caseload Reporting'!H911 = \"\",\"\",'Caseload Reporting'!H911)","v":""},{"$f":"IF('Caseload Reporting'!I911 = \"\",\"\",'Caseload Reporting'!I911)","v":""},{"$f":"IF('Caseload Reporting'!J911 = \"\",\"\",'Caseload Reporting'!J911)","v":""},{"$f":"IF('Caseload Reporting'!K911 = \"\",\"\",'Caseload Reporting'!K911)","v":""},{"$f":"IF('Caseload Reporting'!L911 = \"\",\"\",'Caseload Reporting'!L911)","v":""},{"$f":"IF('Caseload Reporting'!M911 = \"\",\"\",'Caseload Reporting'!M911)","v":""},{"$f":"IF('Caseload Reporting'!N911 = \"\",\"\",'Caseload Reporting'!N911)","v":""},{"$f":"IF('Caseload Reporting'!P911 = \"\",\"\",'Caseload Reporting'!P911)","v":""},{"$f":"IF('Caseload Reporting'!O911 = \"\",\"\",'Caseload Reporting'!O911)","v":""},{"$f":"IF('Caseload Reporting'!Q911 = \"\",\"\",'Caseload Reporting'!Q911)","v":""},{"$f":"IF('Caseload Reporting'!R911 = \"\",\"\",'Caseload Reporting'!R911)","v":""},{"$f":"IF('Caseload Reporting'!E911 = \"\",\"\",'Caseload Reporting'!E911)","v":""},{"$f":"IF('Caseload Reporting'!S911 = \"\",\"\",'Caseload Reporting'!S911)","v":""}]
[{"$f":"IF('Caseload Reporting'!A912 = \"\",\"\",'Caseload Reporting'!A912)","v":""},{"$f":"IF('Caseload Reporting'!B912 = \"\",\"\",'Caseload Reporting'!B912)","v":""},{"$f":"IF('Caseload Reporting'!C912 = \"\",\"\",'Caseload Reporting'!C912)","v":""},{"$f":"IF('Caseload Reporting'!D912 = \"\",\"\",'Caseload Reporting'!D912)","v":""},{"$f":"IF('Caseload Reporting'!G912 = \"\",\"\",'Caseload Reporting'!G912)","v":""},{"$f":"IF('Caseload Reporting'!H912 = \"\",\"\",'Caseload Reporting'!H912)","v":""},{"$f":"IF('Caseload Reporting'!I912 = \"\",\"\",'Caseload Reporting'!I912)","v":""},{"$f":"IF('Caseload Reporting'!J912 = \"\",\"\",'Caseload Reporting'!J912)","v":""},{"$f":"IF('Caseload Reporting'!K912 = \"\",\"\",'Caseload Reporting'!K912)","v":""},{"$f":"IF('Caseload Reporting'!L912 = \"\",\"\",'Caseload Reporting'!L912)","v":""},{"$f":"IF('Caseload Reporting'!M912 = \"\",\"\",'Caseload Reporting'!M912)","v":""},{"$f":"IF('Caseload Reporting'!N912 = \"\",\"\",'Caseload Reporting'!N912)","v":""},{"$f":"IF('Caseload Reporting'!P912 = \"\",\"\",'Caseload Reporting'!P912)","v":""},{"$f":"IF('Caseload Reporting'!O912 = \"\",\"\",'Caseload Reporting'!O912)","v":""},{"$f":"IF('Caseload Reporting'!Q912 = \"\",\"\",'Caseload Reporting'!Q912)","v":""},{"$f":"IF('Caseload Reporting'!R912 = \"\",\"\",'Caseload Reporting'!R912)","v":""},{"$f":"IF('Caseload Reporting'!E912 = \"\",\"\",'Caseload Reporting'!E912)","v":""},{"$f":"IF('Caseload Reporting'!S912 = \"\",\"\",'Caseload Reporting'!S912)","v":""}]
[{"$f":"IF('Caseload Reporting'!A913 = \"\",\"\",'Caseload Reporting'!A913)","v":""},{"$f":"IF('Caseload Reporting'!B913 = \"\",\"\",'Caseload Reporting'!B913)","v":""},{"$f":"IF('Caseload Reporting'!C913 = \"\",\"\",'Caseload Reporting'!C913)","v":""},{"$f":"IF('Caseload Reporting'!D913 = \"\",\"\",'Caseload Reporting'!D913)","v":""},{"$f":"IF('Caseload Reporting'!G913 = \"\",\"\",'Caseload Reporting'!G913)","v":""},{"$f":"IF('Caseload Reporting'!H913 = \"\",\"\",'Caseload Reporting'!H913)","v":""},{"$f":"IF('Caseload Reporting'!I913 = \"\",\"\",'Caseload Reporting'!I913)","v":""},{"$f":"IF('Caseload Reporting'!J913 = \"\",\"\",'Caseload Reporting'!J913)","v":""},{"$f":"IF('Caseload Reporting'!K913 = \"\",\"\",'Caseload Reporting'!K913)","v":""},{"$f":"IF('Caseload Reporting'!L913 = \"\",\"\",'Caseload Reporting'!L913)","v":""},{"$f":"IF('Caseload Reporting'!M913 = \"\",\"\",'Caseload Reporting'!M913)","v":""},{"$f":"IF('Caseload Reporting'!N913 = \"\",\"\",'Caseload Reporting'!N913)","v":""},{"$f":"IF('Caseload Reporting'!P913 = \"\",\"\",'Caseload Reporting'!P913)","v":""},{"$f":"IF('Caseload Reporting'!O913 = \"\",\"\",'Caseload Reporting'!O913)","v":""},{"$f":"IF('Caseload Reporting'!Q913 = \"\",\"\",'Caseload Reporting'!Q913)","v":""},{"$f":"IF('Caseload Reporting'!R913 = \"\",\"\",'Caseload Reporting'!R913)","v":""},{"$f":"IF('Caseload Reporting'!E913 = \"\",\"\",'Caseload Reporting'!E913)","v":""},{"$f":"IF('Caseload Reporting'!S913 = \"\",\"\",'Caseload Reporting'!S913)","v":""}]
[{"$f":"IF('Caseload Reporting'!A914 = \"\",\"\",'Caseload Reporting'!A914)","v":""},{"$f":"IF('Caseload Reporting'!B914 = \"\",\"\",'Caseload Reporting'!B914)","v":""},{"$f":"IF('Caseload Reporting'!C914 = \"\",\"\",'Caseload Reporting'!C914)","v":""},{"$f":"IF('Caseload Reporting'!D914 = \"\",\"\",'Caseload Reporting'!D914)","v":""},{"$f":"IF('Caseload Reporting'!G914 = \"\",\"\",'Caseload Reporting'!G914)","v":""},{"$f":"IF('Caseload Reporting'!H914 = \"\",\"\",'Caseload Reporting'!H914)","v":""},{"$f":"IF('Caseload Reporting'!I914 = \"\",\"\",'Caseload Reporting'!I914)","v":""},{"$f":"IF('Caseload Reporting'!J914 = \"\",\"\",'Caseload Reporting'!J914)","v":""},{"$f":"IF('Caseload Reporting'!K914 = \"\",\"\",'Caseload Reporting'!K914)","v":""},{"$f":"IF('Caseload Reporting'!L914 = \"\",\"\",'Caseload Reporting'!L914)","v":""},{"$f":"IF('Caseload Reporting'!M914 = \"\",\"\",'Caseload Reporting'!M914)","v":""},{"$f":"IF('Caseload Reporting'!N914 = \"\",\"\",'Caseload Reporting'!N914)","v":""},{"$f":"IF('Caseload Reporting'!P914 = \"\",\"\",'Caseload Reporting'!P914)","v":""},{"$f":"IF('Caseload Reporting'!O914 = \"\",\"\",'Caseload Reporting'!O914)","v":""},{"$f":"IF('Caseload Reporting'!Q914 = \"\",\"\",'Caseload Reporting'!Q914)","v":""},{"$f":"IF('Caseload Reporting'!R914 = \"\",\"\",'Caseload Reporting'!R914)","v":""},{"$f":"IF('Caseload Reporting'!E914 = \"\",\"\",'Caseload Reporting'!E914)","v":""},{"$f":"IF('Caseload Reporting'!S914 = \"\",\"\",'Caseload Reporting'!S914)","v":""}]
[{"$f":"IF('Caseload Reporting'!A915 = \"\",\"\",'Caseload Reporting'!A915)","v":""},{"$f":"IF('Caseload Reporting'!B915 = \"\",\"\",'Caseload Reporting'!B915)","v":""},{"$f":"IF('Caseload Reporting'!C915 = \"\",\"\",'Caseload Reporting'!C915)","v":""},{"$f":"IF('Caseload Reporting'!D915 = \"\",\"\",'Caseload Reporting'!D915)","v":""},{"$f":"IF('Caseload Reporting'!G915 = \"\",\"\",'Caseload Reporting'!G915)","v":""},{"$f":"IF('Caseload Reporting'!H915 = \"\",\"\",'Caseload Reporting'!H915)","v":""},{"$f":"IF('Caseload Reporting'!I915 = \"\",\"\",'Caseload Reporting'!I915)","v":""},{"$f":"IF('Caseload Reporting'!J915 = \"\",\"\",'Caseload Reporting'!J915)","v":""},{"$f":"IF('Caseload Reporting'!K915 = \"\",\"\",'Caseload Reporting'!K915)","v":""},{"$f":"IF('Caseload Reporting'!L915 = \"\",\"\",'Caseload Reporting'!L915)","v":""},{"$f":"IF('Caseload Reporting'!M915 = \"\",\"\",'Caseload Reporting'!M915)","v":""},{"$f":"IF('Caseload Reporting'!N915 = \"\",\"\",'Caseload Reporting'!N915)","v":""},{"$f":"IF('Caseload Reporting'!P915 = \"\",\"\",'Caseload Reporting'!P915)","v":""},{"$f":"IF('Caseload Reporting'!O915 = \"\",\"\",'Caseload Reporting'!O915)","v":""},{"$f":"IF('Caseload Reporting'!Q915 = \"\",\"\",'Caseload Reporting'!Q915)","v":""},{"$f":"IF('Caseload Reporting'!R915 = \"\",\"\",'Caseload Reporting'!R915)","v":""},{"$f":"IF('Caseload Reporting'!E915 = \"\",\"\",'Caseload Reporting'!E915)","v":""},{"$f":"IF('Caseload Reporting'!S915 = \"\",\"\",'Caseload Reporting'!S915)","v":""}]
[{"$f":"IF('Caseload Reporting'!A916 = \"\",\"\",'Caseload Reporting'!A916)","v":""},{"$f":"IF('Caseload Reporting'!B916 = \"\",\"\",'Caseload Reporting'!B916)","v":""},{"$f":"IF('Caseload Reporting'!C916 = \"\",\"\",'Caseload Reporting'!C916)","v":""},{"$f":"IF('Caseload Reporting'!D916 = \"\",\"\",'Caseload Reporting'!D916)","v":""},{"$f":"IF('Caseload Reporting'!G916 = \"\",\"\",'Caseload Reporting'!G916)","v":""},{"$f":"IF('Caseload Reporting'!H916 = \"\",\"\",'Caseload Reporting'!H916)","v":""},{"$f":"IF('Caseload Reporting'!I916 = \"\",\"\",'Caseload Reporting'!I916)","v":""},{"$f":"IF('Caseload Reporting'!J916 = \"\",\"\",'Caseload Reporting'!J916)","v":""},{"$f":"IF('Caseload Reporting'!K916 = \"\",\"\",'Caseload Reporting'!K916)","v":""},{"$f":"IF('Caseload Reporting'!L916 = \"\",\"\",'Caseload Reporting'!L916)","v":""},{"$f":"IF('Caseload Reporting'!M916 = \"\",\"\",'Caseload Reporting'!M916)","v":""},{"$f":"IF('Caseload Reporting'!N916 = \"\",\"\",'Caseload Reporting'!N916)","v":""},{"$f":"IF('Caseload Reporting'!P916 = \"\",\"\",'Caseload Reporting'!P916)","v":""},{"$f":"IF('Caseload Reporting'!O916 = \"\",\"\",'Caseload Reporting'!O916)","v":""},{"$f":"IF('Caseload Reporting'!Q916 = \"\",\"\",'Caseload Reporting'!Q916)","v":""},{"$f":"IF('Caseload Reporting'!R916 = \"\",\"\",'Caseload Reporting'!R916)","v":""},{"$f":"IF('Caseload Reporting'!E916 = \"\",\"\",'Caseload Reporting'!E916)","v":""},{"$f":"IF('Caseload Reporting'!S916 = \"\",\"\",'Caseload Reporting'!S916)","v":""}]
[{"$f":"IF('Caseload Reporting'!A917 = \"\",\"\",'Caseload Reporting'!A917)","v":""},{"$f":"IF('Caseload Reporting'!B917 = \"\",\"\",'Caseload Reporting'!B917)","v":""},{"$f":"IF('Caseload Reporting'!C917 = \"\",\"\",'Caseload Reporting'!C917)","v":""},{"$f":"IF('Caseload Reporting'!D917 = \"\",\"\",'Caseload Reporting'!D917)","v":""},{"$f":"IF('Caseload Reporting'!G917 = \"\",\"\",'Caseload Reporting'!G917)","v":""},{"$f":"IF('Caseload Reporting'!H917 = \"\",\"\",'Caseload Reporting'!H917)","v":""},{"$f":"IF('Caseload Reporting'!I917 = \"\",\"\",'Caseload Reporting'!I917)","v":""},{"$f":"IF('Caseload Reporting'!J917 = \"\",\"\",'Caseload Reporting'!J917)","v":""},{"$f":"IF('Caseload Reporting'!K917 = \"\",\"\",'Caseload Reporting'!K917)","v":""},{"$f":"IF('Caseload Reporting'!L917 = \"\",\"\",'Caseload Reporting'!L917)","v":""},{"$f":"IF('Caseload Reporting'!M917 = \"\",\"\",'Caseload Reporting'!M917)","v":""},{"$f":"IF('Caseload Reporting'!N917 = \"\",\"\",'Caseload Reporting'!N917)","v":""},{"$f":"IF('Caseload Reporting'!P917 = \"\",\"\",'Caseload Reporting'!P917)","v":""},{"$f":"IF('Caseload Reporting'!O917 = \"\",\"\",'Caseload Reporting'!O917)","v":""},{"$f":"IF('Caseload Reporting'!Q917 = \"\",\"\",'Caseload Reporting'!Q917)","v":""},{"$f":"IF('Caseload Reporting'!R917 = \"\",\"\",'Caseload Reporting'!R917)","v":""},{"$f":"IF('Caseload Reporting'!E917 = \"\",\"\",'Caseload Reporting'!E917)","v":""},{"$f":"IF('Caseload Reporting'!S917 = \"\",\"\",'Caseload Reporting'!S917)","v":""}]
[{"$f":"IF('Caseload Reporting'!A918 = \"\",\"\",'Caseload Reporting'!A918)","v":""},{"$f":"IF('Caseload Reporting'!B918 = \"\",\"\",'Caseload Reporting'!B918)","v":""},{"$f":"IF('Caseload Reporting'!C918 = \"\",\"\",'Caseload Reporting'!C918)","v":""},{"$f":"IF('Caseload Reporting'!D918 = \"\",\"\",'Caseload Reporting'!D918)","v":""},{"$f":"IF('Caseload Reporting'!G918 = \"\",\"\",'Caseload Reporting'!G918)","v":""},{"$f":"IF('Caseload Reporting'!H918 = \"\",\"\",'Caseload Reporting'!H918)","v":""},{"$f":"IF('Caseload Reporting'!I918 = \"\",\"\",'Caseload Reporting'!I918)","v":""},{"$f":"IF('Caseload Reporting'!J918 = \"\",\"\",'Caseload Reporting'!J918)","v":""},{"$f":"IF('Caseload Reporting'!K918 = \"\",\"\",'Caseload Reporting'!K918)","v":""},{"$f":"IF('Caseload Reporting'!L918 = \"\",\"\",'Caseload Reporting'!L918)","v":""},{"$f":"IF('Caseload Reporting'!M918 = \"\",\"\",'Caseload Reporting'!M918)","v":""},{"$f":"IF('Caseload Reporting'!N918 = \"\",\"\",'Caseload Reporting'!N918)","v":""},{"$f":"IF('Caseload Reporting'!P918 = \"\",\"\",'Caseload Reporting'!P918)","v":""},{"$f":"IF('Caseload Reporting'!O918 = \"\",\"\",'Caseload Reporting'!O918)","v":""},{"$f":"IF('Caseload Reporting'!Q918 = \"\",\"\",'Caseload Reporting'!Q918)","v":""},{"$f":"IF('Caseload Reporting'!R918 = \"\",\"\",'Caseload Reporting'!R918)","v":""},{"$f":"IF('Caseload Reporting'!E918 = \"\",\"\",'Caseload Reporting'!E918)","v":""},{"$f":"IF('Caseload Reporting'!S918 = \"\",\"\",'Caseload Reporting'!S918)","v":""}]
[{"$f":"IF('Caseload Reporting'!A919 = \"\",\"\",'Caseload Reporting'!A919)","v":""},{"$f":"IF('Caseload Reporting'!B919 = \"\",\"\",'Caseload Reporting'!B919)","v":""},{"$f":"IF('Caseload Reporting'!C919 = \"\",\"\",'Caseload Reporting'!C919)","v":""},{"$f":"IF('Caseload Reporting'!D919 = \"\",\"\",'Caseload Reporting'!D919)","v":""},{"$f":"IF('Caseload Reporting'!G919 = \"\",\"\",'Caseload Reporting'!G919)","v":""},{"$f":"IF('Caseload Reporting'!H919 = \"\",\"\",'Caseload Reporting'!H919)","v":""},{"$f":"IF('Caseload Reporting'!I919 = \"\",\"\",'Caseload Reporting'!I919)","v":""},{"$f":"IF('Caseload Reporting'!J919 = \"\",\"\",'Caseload Reporting'!J919)","v":""},{"$f":"IF('Caseload Reporting'!K919 = \"\",\"\",'Caseload Reporting'!K919)","v":""},{"$f":"IF('Caseload Reporting'!L919 = \"\",\"\",'Caseload Reporting'!L919)","v":""},{"$f":"IF('Caseload Reporting'!M919 = \"\",\"\",'Caseload Reporting'!M919)","v":""},{"$f":"IF('Caseload Reporting'!N919 = \"\",\"\",'Caseload Reporting'!N919)","v":""},{"$f":"IF('Caseload Reporting'!P919 = \"\",\"\",'Caseload Reporting'!P919)","v":""},{"$f":"IF('Caseload Reporting'!O919 = \"\",\"\",'Caseload Reporting'!O919)","v":""},{"$f":"IF('Caseload Reporting'!Q919 = \"\",\"\",'Caseload Reporting'!Q919)","v":""},{"$f":"IF('Caseload Reporting'!R919 = \"\",\"\",'Caseload Reporting'!R919)","v":""},{"$f":"IF('Caseload Reporting'!E919 = \"\",\"\",'Caseload Reporting'!E919)","v":""},{"$f":"IF('Caseload Reporting'!S919 = \"\",\"\",'Caseload Reporting'!S919)","v":""}]
[{"$f":"IF('Caseload Reporting'!A920 = \"\",\"\",'Caseload Reporting'!A920)","v":""},{"$f":"IF('Caseload Reporting'!B920 = \"\",\"\",'Caseload Reporting'!B920)","v":""},{"$f":"IF('Caseload Reporting'!C920 = \"\",\"\",'Caseload Reporting'!C920)","v":""},{"$f":"IF('Caseload Reporting'!D920 = \"\",\"\",'Caseload Reporting'!D920)","v":""},{"$f":"IF('Caseload Reporting'!G920 = \"\",\"\",'Caseload Reporting'!G920)","v":""},{"$f":"IF('Caseload Reporting'!H920 = \"\",\"\",'Caseload Reporting'!H920)","v":""},{"$f":"IF('Caseload Reporting'!I920 = \"\",\"\",'Caseload Reporting'!I920)","v":""},{"$f":"IF('Caseload Reporting'!J920 = \"\",\"\",'Caseload Reporting'!J920)","v":""},{"$f":"IF('Caseload Reporting'!K920 = \"\",\"\",'Caseload Reporting'!K920)","v":""},{"$f":"IF('Caseload Reporting'!L920 = \"\",\"\",'Caseload Reporting'!L920)","v":""},{"$f":"IF('Caseload Reporting'!M920 = \"\",\"\",'Caseload Reporting'!M920)","v":""},{"$f":"IF('Caseload Reporting'!N920 = \"\",\"\",'Caseload Reporting'!N920)","v":""},{"$f":"IF('Caseload Reporting'!P920 = \"\",\"\",'Caseload Reporting'!P920)","v":""},{"$f":"IF('Caseload Reporting'!O920 = \"\",\"\",'Caseload Reporting'!O920)","v":""},{"$f":"IF('Caseload Reporting'!Q920 = \"\",\"\",'Caseload Reporting'!Q920)","v":""},{"$f":"IF('Caseload Reporting'!R920 = \"\",\"\",'Caseload Reporting'!R920)","v":""},{"$f":"IF('Caseload Reporting'!E920 = \"\",\"\",'Caseload Reporting'!E920)","v":""},{"$f":"IF('Caseload Reporting'!S920 = \"\",\"\",'Caseload Reporting'!S920)","v":""}]
[{"$f":"IF('Caseload Reporting'!A921 = \"\",\"\",'Caseload Reporting'!A921)","v":""},{"$f":"IF('Caseload Reporting'!B921 = \"\",\"\",'Caseload Reporting'!B921)","v":""},{"$f":"IF('Caseload Reporting'!C921 = \"\",\"\",'Caseload Reporting'!C921)","v":""},{"$f":"IF('Caseload Reporting'!D921 = \"\",\"\",'Caseload Reporting'!D921)","v":""},{"$f":"IF('Caseload Reporting'!G921 = \"\",\"\",'Caseload Reporting'!G921)","v":""},{"$f":"IF('Caseload Reporting'!H921 = \"\",\"\",'Caseload Reporting'!H921)","v":""},{"$f":"IF('Caseload Reporting'!I921 = \"\",\"\",'Caseload Reporting'!I921)","v":""},{"$f":"IF('Caseload Reporting'!J921 = \"\",\"\",'Caseload Reporting'!J921)","v":""},{"$f":"IF('Caseload Reporting'!K921 = \"\",\"\",'Caseload Reporting'!K921)","v":""},{"$f":"IF('Caseload Reporting'!L921 = \"\",\"\",'Caseload Reporting'!L921)","v":""},{"$f":"IF('Caseload Reporting'!M921 = \"\",\"\",'Caseload Reporting'!M921)","v":""},{"$f":"IF('Caseload Reporting'!N921 = \"\",\"\",'Caseload Reporting'!N921)","v":""},{"$f":"IF('Caseload Reporting'!P921 = \"\",\"\",'Caseload Reporting'!P921)","v":""},{"$f":"IF('Caseload Reporting'!O921 = \"\",\"\",'Caseload Reporting'!O921)","v":""},{"$f":"IF('Caseload Reporting'!Q921 = \"\",\"\",'Caseload Reporting'!Q921)","v":""},{"$f":"IF('Caseload Reporting'!R921 = \"\",\"\",'Caseload Reporting'!R921)","v":""},{"$f":"IF('Caseload Reporting'!E921 = \"\",\"\",'Caseload Reporting'!E921)","v":""},{"$f":"IF('Caseload Reporting'!S921 = \"\",\"\",'Caseload Reporting'!S921)","v":""}]
[{"$f":"IF('Caseload Reporting'!A922 = \"\",\"\",'Caseload Reporting'!A922)","v":""},{"$f":"IF('Caseload Reporting'!B922 = \"\",\"\",'Caseload Reporting'!B922)","v":""},{"$f":"IF('Caseload Reporting'!C922 = \"\",\"\",'Caseload Reporting'!C922)","v":""},{"$f":"IF('Caseload Reporting'!D922 = \"\",\"\",'Caseload Reporting'!D922)","v":""},{"$f":"IF('Caseload Reporting'!G922 = \"\",\"\",'Caseload Reporting'!G922)","v":""},{"$f":"IF('Caseload Reporting'!H922 = \"\",\"\",'Caseload Reporting'!H922)","v":""},{"$f":"IF('Caseload Reporting'!I922 = \"\",\"\",'Caseload Reporting'!I922)","v":""},{"$f":"IF('Caseload Reporting'!J922 = \"\",\"\",'Caseload Reporting'!J922)","v":""},{"$f":"IF('Caseload Reporting'!K922 = \"\",\"\",'Caseload Reporting'!K922)","v":""},{"$f":"IF('Caseload Reporting'!L922 = \"\",\"\",'Caseload Reporting'!L922)","v":""},{"$f":"IF('Caseload Reporting'!M922 = \"\",\"\",'Caseload Reporting'!M922)","v":""},{"$f":"IF('Caseload Reporting'!N922 = \"\",\"\",'Caseload Reporting'!N922)","v":""},{"$f":"IF('Caseload Reporting'!P922 = \"\",\"\",'Caseload Reporting'!P922)","v":""},{"$f":"IF('Caseload Reporting'!O922 = \"\",\"\",'Caseload Reporting'!O922)","v":""},{"$f":"IF('Caseload Reporting'!Q922 = \"\",\"\",'Caseload Reporting'!Q922)","v":""},{"$f":"IF('Caseload Reporting'!R922 = \"\",\"\",'Caseload Reporting'!R922)","v":""},{"$f":"IF('Caseload Reporting'!E922 = \"\",\"\",'Caseload Reporting'!E922)","v":""},{"$f":"IF('Caseload Reporting'!S922 = \"\",\"\",'Caseload Reporting'!S922)","v":""}]
[{"$f":"IF('Caseload Reporting'!A923 = \"\",\"\",'Caseload Reporting'!A923)","v":""},{"$f":"IF('Caseload Reporting'!B923 = \"\",\"\",'Caseload Reporting'!B923)","v":""},{"$f":"IF('Caseload Reporting'!C923 = \"\",\"\",'Caseload Reporting'!C923)","v":""},{"$f":"IF('Caseload Reporting'!D923 = \"\",\"\",'Caseload Reporting'!D923)","v":""},{"$f":"IF('Caseload Reporting'!G923 = \"\",\"\",'Caseload Reporting'!G923)","v":""},{"$f":"IF('Caseload Reporting'!H923 = \"\",\"\",'Caseload Reporting'!H923)","v":""},{"$f":"IF('Caseload Reporting'!I923 = \"\",\"\",'Caseload Reporting'!I923)","v":""},{"$f":"IF('Caseload Reporting'!J923 = \"\",\"\",'Caseload Reporting'!J923)","v":""},{"$f":"IF('Caseload Reporting'!K923 = \"\",\"\",'Caseload Reporting'!K923)","v":""},{"$f":"IF('Caseload Reporting'!L923 = \"\",\"\",'Caseload Reporting'!L923)","v":""},{"$f":"IF('Caseload Reporting'!M923 = \"\",\"\",'Caseload Reporting'!M923)","v":""},{"$f":"IF('Caseload Reporting'!N923 = \"\",\"\",'Caseload Reporting'!N923)","v":""},{"$f":"IF('Caseload Reporting'!P923 = \"\",\"\",'Caseload Reporting'!P923)","v":""},{"$f":"IF('Caseload Reporting'!O923 = \"\",\"\",'Caseload Reporting'!O923)","v":""},{"$f":"IF('Caseload Reporting'!Q923 = \"\",\"\",'Caseload Reporting'!Q923)","v":""},{"$f":"IF('Caseload Reporting'!R923 = \"\",\"\",'Caseload Reporting'!R923)","v":""},{"$f":"IF('Caseload Reporting'!E923 = \"\",\"\",'Caseload Reporting'!E923)","v":""},{"$f":"IF('Caseload Reporting'!S923 = \"\",\"\",'Caseload Reporting'!S923)","v":""}]
[{"$f":"IF('Caseload Reporting'!A924 = \"\",\"\",'Caseload Reporting'!A924)","v":""},{"$f":"IF('Caseload Reporting'!B924 = \"\",\"\",'Caseload Reporting'!B924)","v":""},{"$f":"IF('Caseload Reporting'!C924 = \"\",\"\",'Caseload Reporting'!C924)","v":""},{"$f":"IF('Caseload Reporting'!D924 = \"\",\"\",'Caseload Reporting'!D924)","v":""},{"$f":"IF('Caseload Reporting'!G924 = \"\",\"\",'Caseload Reporting'!G924)","v":""},{"$f":"IF('Caseload Reporting'!H924 = \"\",\"\",'Caseload Reporting'!H924)","v":""},{"$f":"IF('Caseload Reporting'!I924 = \"\",\"\",'Caseload Reporting'!I924)","v":""},{"$f":"IF('Caseload Reporting'!J924 = \"\",\"\",'Caseload Reporting'!J924)","v":""},{"$f":"IF('Caseload Reporting'!K924 = \"\",\"\",'Caseload Reporting'!K924)","v":""},{"$f":"IF('Caseload Reporting'!L924 = \"\",\"\",'Caseload Reporting'!L924)","v":""},{"$f":"IF('Caseload Reporting'!M924 = \"\",\"\",'Caseload Reporting'!M924)","v":""},{"$f":"IF('Caseload Reporting'!N924 = \"\",\"\",'Caseload Reporting'!N924)","v":""},{"$f":"IF('Caseload Reporting'!P924 = \"\",\"\",'Caseload Reporting'!P924)","v":""},{"$f":"IF('Caseload Reporting'!O924 = \"\",\"\",'Caseload Reporting'!O924)","v":""},{"$f":"IF('Caseload Reporting'!Q924 = \"\",\"\",'Caseload Reporting'!Q924)","v":""},{"$f":"IF('Caseload Reporting'!R924 = \"\",\"\",'Caseload Reporting'!R924)","v":""},{"$f":"IF('Caseload Reporting'!E924 = \"\",\"\",'Caseload Reporting'!E924)","v":""},{"$f":"IF('Caseload Reporting'!S924 = \"\",\"\",'Caseload Reporting'!S924)","v":""}]
[{"$f":"IF('Caseload Reporting'!A925 = \"\",\"\",'Caseload Reporting'!A925)","v":""},{"$f":"IF('Caseload Reporting'!B925 = \"\",\"\",'Caseload Reporting'!B925)","v":""},{"$f":"IF('Caseload Reporting'!C925 = \"\",\"\",'Caseload Reporting'!C925)","v":""},{"$f":"IF('Caseload Reporting'!D925 = \"\",\"\",'Caseload Reporting'!D925)","v":""},{"$f":"IF('Caseload Reporting'!G925 = \"\",\"\",'Caseload Reporting'!G925)","v":""},{"$f":"IF('Caseload Reporting'!H925 = \"\",\"\",'Caseload Reporting'!H925)","v":""},{"$f":"IF('Caseload Reporting'!I925 = \"\",\"\",'Caseload Reporting'!I925)","v":""},{"$f":"IF('Caseload Reporting'!J925 = \"\",\"\",'Caseload Reporting'!J925)","v":""},{"$f":"IF('Caseload Reporting'!K925 = \"\",\"\",'Caseload Reporting'!K925)","v":""},{"$f":"IF('Caseload Reporting'!L925 = \"\",\"\",'Caseload Reporting'!L925)","v":""},{"$f":"IF('Caseload Reporting'!M925 = \"\",\"\",'Caseload Reporting'!M925)","v":""},{"$f":"IF('Caseload Reporting'!N925 = \"\",\"\",'Caseload Reporting'!N925)","v":""},{"$f":"IF('Caseload Reporting'!P925 = \"\",\"\",'Caseload Reporting'!P925)","v":""},{"$f":"IF('Caseload Reporting'!O925 = \"\",\"\",'Caseload Reporting'!O925)","v":""},{"$f":"IF('Caseload Reporting'!Q925 = \"\",\"\",'Caseload Reporting'!Q925)","v":""},{"$f":"IF('Caseload Reporting'!R925 = \"\",\"\",'Caseload Reporting'!R925)","v":""},{"$f":"IF('Caseload Reporting'!E925 = \"\",\"\",'Caseload Reporting'!E925)","v":""},{"$f":"IF('Caseload Reporting'!S925 = \"\",\"\",'Caseload Reporting'!S925)","v":""}]
[{"$f":"IF('Caseload Reporting'!A926 = \"\",\"\",'Caseload Reporting'!A926)","v":""},{"$f":"IF('Caseload Reporting'!B926 = \"\",\"\",'Caseload Reporting'!B926)","v":""},{"$f":"IF('Caseload Reporting'!C926 = \"\",\"\",'Caseload Reporting'!C926)","v":""},{"$f":"IF('Caseload Reporting'!D926 = \"\",\"\",'Caseload Reporting'!D926)","v":""},{"$f":"IF('Caseload Reporting'!G926 = \"\",\"\",'Caseload Reporting'!G926)","v":""},{"$f":"IF('Caseload Reporting'!H926 = \"\",\"\",'Caseload Reporting'!H926)","v":""},{"$f":"IF('Caseload Reporting'!I926 = \"\",\"\",'Caseload Reporting'!I926)","v":""},{"$f":"IF('Caseload Reporting'!J926 = \"\",\"\",'Caseload Reporting'!J926)","v":""},{"$f":"IF('Caseload Reporting'!K926 = \"\",\"\",'Caseload Reporting'!K926)","v":""},{"$f":"IF('Caseload Reporting'!L926 = \"\",\"\",'Caseload Reporting'!L926)","v":""},{"$f":"IF('Caseload Reporting'!M926 = \"\",\"\",'Caseload Reporting'!M926)","v":""},{"$f":"IF('Caseload Reporting'!N926 = \"\",\"\",'Caseload Reporting'!N926)","v":""},{"$f":"IF('Caseload Reporting'!P926 = \"\",\"\",'Caseload Reporting'!P926)","v":""},{"$f":"IF('Caseload Reporting'!O926 = \"\",\"\",'Caseload Reporting'!O926)","v":""},{"$f":"IF('Caseload Reporting'!Q926 = \"\",\"\",'Caseload Reporting'!Q926)","v":""},{"$f":"IF('Caseload Reporting'!R926 = \"\",\"\",'Caseload Reporting'!R926)","v":""},{"$f":"IF('Caseload Reporting'!E926 = \"\",\"\",'Caseload Reporting'!E926)","v":""},{"$f":"IF('Caseload Reporting'!S926 = \"\",\"\",'Caseload Reporting'!S926)","v":""}]
[{"$f":"IF('Caseload Reporting'!A927 = \"\",\"\",'Caseload Reporting'!A927)","v":""},{"$f":"IF('Caseload Reporting'!B927 = \"\",\"\",'Caseload Reporting'!B927)","v":""},{"$f":"IF('Caseload Reporting'!C927 = \"\",\"\",'Caseload Reporting'!C927)","v":""},{"$f":"IF('Caseload Reporting'!D927 = \"\",\"\",'Caseload Reporting'!D927)","v":""},{"$f":"IF('Caseload Reporting'!G927 = \"\",\"\",'Caseload Reporting'!G927)","v":""},{"$f":"IF('Caseload Reporting'!H927 = \"\",\"\",'Caseload Reporting'!H927)","v":""},{"$f":"IF('Caseload Reporting'!I927 = \"\",\"\",'Caseload Reporting'!I927)","v":""},{"$f":"IF('Caseload Reporting'!J927 = \"\",\"\",'Caseload Reporting'!J927)","v":""},{"$f":"IF('Caseload Reporting'!K927 = \"\",\"\",'Caseload Reporting'!K927)","v":""},{"$f":"IF('Caseload Reporting'!L927 = \"\",\"\",'Caseload Reporting'!L927)","v":""},{"$f":"IF('Caseload Reporting'!M927 = \"\",\"\",'Caseload Reporting'!M927)","v":""},{"$f":"IF('Caseload Reporting'!N927 = \"\",\"\",'Caseload Reporting'!N927)","v":""},{"$f":"IF('Caseload Reporting'!P927 = \"\",\"\",'Caseload Reporting'!P927)","v":""},{"$f":"IF('Caseload Reporting'!O927 = \"\",\"\",'Caseload Reporting'!O927)","v":""},{"$f":"IF('Caseload Reporting'!Q927 = \"\",\"\",'Caseload Reporting'!Q927)","v":""},{"$f":"IF('Caseload Reporting'!R927 = \"\",\"\",'Caseload Reporting'!R927)","v":""},{"$f":"IF('Caseload Reporting'!E927 = \"\",\"\",'Caseload Reporting'!E927)","v":""},{"$f":"IF('Caseload Reporting'!S927 = \"\",\"\",'Caseload Reporting'!S927)","v":""}]
[{"$f":"IF('Caseload Reporting'!A928 = \"\",\"\",'Caseload Reporting'!A928)","v":""},{"$f":"IF('Caseload Reporting'!B928 = \"\",\"\",'Caseload Reporting'!B928)","v":""},{"$f":"IF('Caseload Reporting'!C928 = \"\",\"\",'Caseload Reporting'!C928)","v":""},{"$f":"IF('Caseload Reporting'!D928 = \"\",\"\",'Caseload Reporting'!D928)","v":""},{"$f":"IF('Caseload Reporting'!G928 = \"\",\"\",'Caseload Reporting'!G928)","v":""},{"$f":"IF('Caseload Reporting'!H928 = \"\",\"\",'Caseload Reporting'!H928)","v":""},{"$f":"IF('Caseload Reporting'!I928 = \"\",\"\",'Caseload Reporting'!I928)","v":""},{"$f":"IF('Caseload Reporting'!J928 = \"\",\"\",'Caseload Reporting'!J928)","v":""},{"$f":"IF('Caseload Reporting'!K928 = \"\",\"\",'Caseload Reporting'!K928)","v":""},{"$f":"IF('Caseload Reporting'!L928 = \"\",\"\",'Caseload Reporting'!L928)","v":""},{"$f":"IF('Caseload Reporting'!M928 = \"\",\"\",'Caseload Reporting'!M928)","v":""},{"$f":"IF('Caseload Reporting'!N928 = \"\",\"\",'Caseload Reporting'!N928)","v":""},{"$f":"IF('Caseload Reporting'!P928 = \"\",\"\",'Caseload Reporting'!P928)","v":""},{"$f":"IF('Caseload Reporting'!O928 = \"\",\"\",'Caseload Reporting'!O928)","v":""},{"$f":"IF('Caseload Reporting'!Q928 = \"\",\"\",'Caseload Reporting'!Q928)","v":""},{"$f":"IF('Caseload Reporting'!R928 = \"\",\"\",'Caseload Reporting'!R928)","v":""},{"$f":"IF('Caseload Reporting'!E928 = \"\",\"\",'Caseload Reporting'!E928)","v":""},{"$f":"IF('Caseload Reporting'!S928 = \"\",\"\",'Caseload Reporting'!S928)","v":""}]
[{"$f":"IF('Caseload Reporting'!A929 = \"\",\"\",'Caseload Reporting'!A929)","v":""},{"$f":"IF('Caseload Reporting'!B929 = \"\",\"\",'Caseload Reporting'!B929)","v":""},{"$f":"IF('Caseload Reporting'!C929 = \"\",\"\",'Caseload Reporting'!C929)","v":""},{"$f":"IF('Caseload Reporting'!D929 = \"\",\"\",'Caseload Reporting'!D929)","v":""},{"$f":"IF('Caseload Reporting'!G929 = \"\",\"\",'Caseload Reporting'!G929)","v":""},{"$f":"IF('Caseload Reporting'!H929 = \"\",\"\",'Caseload Reporting'!H929)","v":""},{"$f":"IF('Caseload Reporting'!I929 = \"\",\"\",'Caseload Reporting'!I929)","v":""},{"$f":"IF('Caseload Reporting'!J929 = \"\",\"\",'Caseload Reporting'!J929)","v":""},{"$f":"IF('Caseload Reporting'!K929 = \"\",\"\",'Caseload Reporting'!K929)","v":""},{"$f":"IF('Caseload Reporting'!L929 = \"\",\"\",'Caseload Reporting'!L929)","v":""},{"$f":"IF('Caseload Reporting'!M929 = \"\",\"\",'Caseload Reporting'!M929)","v":""},{"$f":"IF('Caseload Reporting'!N929 = \"\",\"\",'Caseload Reporting'!N929)","v":""},{"$f":"IF('Caseload Reporting'!P929 = \"\",\"\",'Caseload Reporting'!P929)","v":""},{"$f":"IF('Caseload Reporting'!O929 = \"\",\"\",'Caseload Reporting'!O929)","v":""},{"$f":"IF('Caseload Reporting'!Q929 = \"\",\"\",'Caseload Reporting'!Q929)","v":""},{"$f":"IF('Caseload Reporting'!R929 = \"\",\"\",'Caseload Reporting'!R929)","v":""},{"$f":"IF('Caseload Reporting'!E929 = \"\",\"\",'Caseload Reporting'!E929)","v":""},{"$f":"IF('Caseload Reporting'!S929 = \"\",\"\",'Caseload Reporting'!S929)","v":""}]
[{"$f":"IF('Caseload Reporting'!A930 = \"\",\"\",'Caseload Reporting'!A930)","v":""},{"$f":"IF('Caseload Reporting'!B930 = \"\",\"\",'Caseload Reporting'!B930)","v":""},{"$f":"IF('Caseload Reporting'!C930 = \"\",\"\",'Caseload Reporting'!C930)","v":""},{"$f":"IF('Caseload Reporting'!D930 = \"\",\"\",'Caseload Reporting'!D930)","v":""},{"$f":"IF('Caseload Reporting'!G930 = \"\",\"\",'Caseload Reporting'!G930)","v":""},{"$f":"IF('Caseload Reporting'!H930 = \"\",\"\",'Caseload Reporting'!H930)","v":""},{"$f":"IF('Caseload Reporting'!I930 = \"\",\"\",'Caseload Reporting'!I930)","v":""},{"$f":"IF('Caseload Reporting'!J930 = \"\",\"\",'Caseload Reporting'!J930)","v":""},{"$f":"IF('Caseload Reporting'!K930 = \"\",\"\",'Caseload Reporting'!K930)","v":""},{"$f":"IF('Caseload Reporting'!L930 = \"\",\"\",'Caseload Reporting'!L930)","v":""},{"$f":"IF('Caseload Reporting'!M930 = \"\",\"\",'Caseload Reporting'!M930)","v":""},{"$f":"IF('Caseload Reporting'!N930 = \"\",\"\",'Caseload Reporting'!N930)","v":""},{"$f":"IF('Caseload Reporting'!P930 = \"\",\"\",'Caseload Reporting'!P930)","v":""},{"$f":"IF('Caseload Reporting'!O930 = \"\",\"\",'Caseload Reporting'!O930)","v":""},{"$f":"IF('Caseload Reporting'!Q930 = \"\",\"\",'Caseload Reporting'!Q930)","v":""},{"$f":"IF('Caseload Reporting'!R930 = \"\",\"\",'Caseload Reporting'!R930)","v":""},{"$f":"IF('Caseload Reporting'!E930 = \"\",\"\",'Caseload Reporting'!E930)","v":""},{"$f":"IF('Caseload Reporting'!S930 = \"\",\"\",'Caseload Reporting'!S930)","v":""}]
[{"$f":"IF('Caseload Reporting'!A931 = \"\",\"\",'Caseload Reporting'!A931)","v":""},{"$f":"IF('Caseload Reporting'!B931 = \"\",\"\",'Caseload Reporting'!B931)","v":""},{"$f":"IF('Caseload Reporting'!C931 = \"\",\"\",'Caseload Reporting'!C931)","v":""},{"$f":"IF('Caseload Reporting'!D931 = \"\",\"\",'Caseload Reporting'!D931)","v":""},{"$f":"IF('Caseload Reporting'!G931 = \"\",\"\",'Caseload Reporting'!G931)","v":""},{"$f":"IF('Caseload Reporting'!H931 = \"\",\"\",'Caseload Reporting'!H931)","v":""},{"$f":"IF('Caseload Reporting'!I931 = \"\",\"\",'Caseload Reporting'!I931)","v":""},{"$f":"IF('Caseload Reporting'!J931 = \"\",\"\",'Caseload Reporting'!J931)","v":""},{"$f":"IF('Caseload Reporting'!K931 = \"\",\"\",'Caseload Reporting'!K931)","v":""},{"$f":"IF('Caseload Reporting'!L931 = \"\",\"\",'Caseload Reporting'!L931)","v":""},{"$f":"IF('Caseload Reporting'!M931 = \"\",\"\",'Caseload Reporting'!M931)","v":""},{"$f":"IF('Caseload Reporting'!N931 = \"\",\"\",'Caseload Reporting'!N931)","v":""},{"$f":"IF('Caseload Reporting'!P931 = \"\",\"\",'Caseload Reporting'!P931)","v":""},{"$f":"IF('Caseload Reporting'!O931 = \"\",\"\",'Caseload Reporting'!O931)","v":""},{"$f":"IF('Caseload Reporting'!Q931 = \"\",\"\",'Caseload Reporting'!Q931)","v":""},{"$f":"IF('Caseload Reporting'!R931 = \"\",\"\",'Caseload Reporting'!R931)","v":""},{"$f":"IF('Caseload Reporting'!E931 = \"\",\"\",'Caseload Reporting'!E931)","v":""},{"$f":"IF('Caseload Reporting'!S931 = \"\",\"\",'Caseload Reporting'!S931)","v":""}]
[{"$f":"IF('Caseload Reporting'!A932 = \"\",\"\",'Caseload Reporting'!A932)","v":""},{"$f":"IF('Caseload Reporting'!B932 = \"\",\"\",'Caseload Reporting'!B932)","v":""},{"$f":"IF('Caseload Reporting'!C932 = \"\",\"\",'Caseload Reporting'!C932)","v":""},{"$f":"IF('Caseload Reporting'!D932 = \"\",\"\",'Caseload Reporting'!D932)","v":""},{"$f":"IF('Caseload Reporting'!G932 = \"\",\"\",'Caseload Reporting'!G932)","v":""},{"$f":"IF('Caseload Reporting'!H932 = \"\",\"\",'Caseload Reporting'!H932)","v":""},{"$f":"IF('Caseload Reporting'!I932 = \"\",\"\",'Caseload Reporting'!I932)","v":""},{"$f":"IF('Caseload Reporting'!J932 = \"\",\"\",'Caseload Reporting'!J932)","v":""},{"$f":"IF('Caseload Reporting'!K932 = \"\",\"\",'Caseload Reporting'!K932)","v":""},{"$f":"IF('Caseload Reporting'!L932 = \"\",\"\",'Caseload Reporting'!L932)","v":""},{"$f":"IF('Caseload Reporting'!M932 = \"\",\"\",'Caseload Reporting'!M932)","v":""},{"$f":"IF('Caseload Reporting'!N932 = \"\",\"\",'Caseload Reporting'!N932)","v":""},{"$f":"IF('Caseload Reporting'!P932 = \"\",\"\",'Caseload Reporting'!P932)","v":""},{"$f":"IF('Caseload Reporting'!O932 = \"\",\"\",'Caseload Reporting'!O932)","v":""},{"$f":"IF('Caseload Reporting'!Q932 = \"\",\"\",'Caseload Reporting'!Q932)","v":""},{"$f":"IF('Caseload Reporting'!R932 = \"\",\"\",'Caseload Reporting'!R932)","v":""},{"$f":"IF('Caseload Reporting'!E932 = \"\",\"\",'Caseload Reporting'!E932)","v":""},{"$f":"IF('Caseload Reporting'!S932 = \"\",\"\",'Caseload Reporting'!S932)","v":""}]
[{"$f":"IF('Caseload Reporting'!A933 = \"\",\"\",'Caseload Reporting'!A933)","v":""},{"$f":"IF('Caseload Reporting'!B933 = \"\",\"\",'Caseload Reporting'!B933)","v":""},{"$f":"IF('Caseload Reporting'!C933 = \"\",\"\",'Caseload Reporting'!C933)","v":""},{"$f":"IF('Caseload Reporting'!D933 = \"\",\"\",'Caseload Reporting'!D933)","v":""},{"$f":"IF('Caseload Reporting'!G933 = \"\",\"\",'Caseload Reporting'!G933)","v":""},{"$f":"IF('Caseload Reporting'!H933 = \"\",\"\",'Caseload Reporting'!H933)","v":""},{"$f":"IF('Caseload Reporting'!I933 = \"\",\"\",'Caseload Reporting'!I933)","v":""},{"$f":"IF('Caseload Reporting'!J933 = \"\",\"\",'Caseload Reporting'!J933)","v":""},{"$f":"IF('Caseload Reporting'!K933 = \"\",\"\",'Caseload Reporting'!K933)","v":""},{"$f":"IF('Caseload Reporting'!L933 = \"\",\"\",'Caseload Reporting'!L933)","v":""},{"$f":"IF('Caseload Reporting'!M933 = \"\",\"\",'Caseload Reporting'!M933)","v":""},{"$f":"IF('Caseload Reporting'!N933 = \"\",\"\",'Caseload Reporting'!N933)","v":""},{"$f":"IF('Caseload Reporting'!P933 = \"\",\"\",'Caseload Reporting'!P933)","v":""},{"$f":"IF('Caseload Reporting'!O933 = \"\",\"\",'Caseload Reporting'!O933)","v":""},{"$f":"IF('Caseload Reporting'!Q933 = \"\",\"\",'Caseload Reporting'!Q933)","v":""},{"$f":"IF('Caseload Reporting'!R933 = \"\",\"\",'Caseload Reporting'!R933)","v":""},{"$f":"IF('Caseload Reporting'!E933 = \"\",\"\",'Caseload Reporting'!E933)","v":""},{"$f":"IF('Caseload Reporting'!S933 = \"\",\"\",'Caseload Reporting'!S933)","v":""}]
[{"$f":"IF('Caseload Reporting'!A934 = \"\",\"\",'Caseload Reporting'!A934)","v":""},{"$f":"IF('Caseload Reporting'!B934 = \"\",\"\",'Caseload Reporting'!B934)","v":""},{"$f":"IF('Caseload Reporting'!C934 = \"\",\"\",'Caseload Reporting'!C934)","v":""},{"$f":"IF('Caseload Reporting'!D934 = \"\",\"\",'Caseload Reporting'!D934)","v":""},{"$f":"IF('Caseload Reporting'!G934 = \"\",\"\",'Caseload Reporting'!G934)","v":""},{"$f":"IF('Caseload Reporting'!H934 = \"\",\"\",'Caseload Reporting'!H934)","v":""},{"$f":"IF('Caseload Reporting'!I934 = \"\",\"\",'Caseload Reporting'!I934)","v":""},{"$f":"IF('Caseload Reporting'!J934 = \"\",\"\",'Caseload Reporting'!J934)","v":""},{"$f":"IF('Caseload Reporting'!K934 = \"\",\"\",'Caseload Reporting'!K934)","v":""},{"$f":"IF('Caseload Reporting'!L934 = \"\",\"\",'Caseload Reporting'!L934)","v":""},{"$f":"IF('Caseload Reporting'!M934 = \"\",\"\",'Caseload Reporting'!M934)","v":""},{"$f":"IF('Caseload Reporting'!N934 = \"\",\"\",'Caseload Reporting'!N934)","v":""},{"$f":"IF('Caseload Reporting'!P934 = \"\",\"\",'Caseload Reporting'!P934)","v":""},{"$f":"IF('Caseload Reporting'!O934 = \"\",\"\",'Caseload Reporting'!O934)","v":""},{"$f":"IF('Caseload Reporting'!Q934 = \"\",\"\",'Caseload Reporting'!Q934)","v":""},{"$f":"IF('Caseload Reporting'!R934 = \"\",\"\",'Caseload Reporting'!R934)","v":""},{"$f":"IF('Caseload Reporting'!E934 = \"\",\"\",'Caseload Reporting'!E934)","v":""},{"$f":"IF('Caseload Reporting'!S934 = \"\",\"\",'Caseload Reporting'!S934)","v":""}]
[{"$f":"IF('Caseload Reporting'!A935 = \"\",\"\",'Caseload Reporting'!A935)","v":""},{"$f":"IF('Caseload Reporting'!B935 = \"\",\"\",'Caseload Reporting'!B935)","v":""},{"$f":"IF('Caseload Reporting'!C935 = \"\",\"\",'Caseload Reporting'!C935)","v":""},{"$f":"IF('Caseload Reporting'!D935 = \"\",\"\",'Caseload Reporting'!D935)","v":""},{"$f":"IF('Caseload Reporting'!G935 = \"\",\"\",'Caseload Reporting'!G935)","v":""},{"$f":"IF('Caseload Reporting'!H935 = \"\",\"\",'Caseload Reporting'!H935)","v":""},{"$f":"IF('Caseload Reporting'!I935 = \"\",\"\",'Caseload Reporting'!I935)","v":""},{"$f":"IF('Caseload Reporting'!J935 = \"\",\"\",'Caseload Reporting'!J935)","v":""},{"$f":"IF('Caseload Reporting'!K935 = \"\",\"\",'Caseload Reporting'!K935)","v":""},{"$f":"IF('Caseload Reporting'!L935 = \"\",\"\",'Caseload Reporting'!L935)","v":""},{"$f":"IF('Caseload Reporting'!M935 = \"\",\"\",'Caseload Reporting'!M935)","v":""},{"$f":"IF('Caseload Reporting'!N935 = \"\",\"\",'Caseload Reporting'!N935)","v":""},{"$f":"IF('Caseload Reporting'!P935 = \"\",\"\",'Caseload Reporting'!P935)","v":""},{"$f":"IF('Caseload Reporting'!O935 = \"\",\"\",'Caseload Reporting'!O935)","v":""},{"$f":"IF('Caseload Reporting'!Q935 = \"\",\"\",'Caseload Reporting'!Q935)","v":""},{"$f":"IF('Caseload Reporting'!R935 = \"\",\"\",'Caseload Reporting'!R935)","v":""},{"$f":"IF('Caseload Reporting'!E935 = \"\",\"\",'Caseload Reporting'!E935)","v":""},{"$f":"IF('Caseload Reporting'!S935 = \"\",\"\",'Caseload Reporting'!S935)","v":""}]
[{"$f":"IF('Caseload Reporting'!A936 = \"\",\"\",'Caseload Reporting'!A936)","v":""},{"$f":"IF('Caseload Reporting'!B936 = \"\",\"\",'Caseload Reporting'!B936)","v":""},{"$f":"IF('Caseload Reporting'!C936 = \"\",\"\",'Caseload Reporting'!C936)","v":""},{"$f":"IF('Caseload Reporting'!D936 = \"\",\"\",'Caseload Reporting'!D936)","v":""},{"$f":"IF('Caseload Reporting'!G936 = \"\",\"\",'Caseload Reporting'!G936)","v":""},{"$f":"IF('Caseload Reporting'!H936 = \"\",\"\",'Caseload Reporting'!H936)","v":""},{"$f":"IF('Caseload Reporting'!I936 = \"\",\"\",'Caseload Reporting'!I936)","v":""},{"$f":"IF('Caseload Reporting'!J936 = \"\",\"\",'Caseload Reporting'!J936)","v":""},{"$f":"IF('Caseload Reporting'!K936 = \"\",\"\",'Caseload Reporting'!K936)","v":""},{"$f":"IF('Caseload Reporting'!L936 = \"\",\"\",'Caseload Reporting'!L936)","v":""},{"$f":"IF('Caseload Reporting'!M936 = \"\",\"\",'Caseload Reporting'!M936)","v":""},{"$f":"IF('Caseload Reporting'!N936 = \"\",\"\",'Caseload Reporting'!N936)","v":""},{"$f":"IF('Caseload Reporting'!P936 = \"\",\"\",'Caseload Reporting'!P936)","v":""},{"$f":"IF('Caseload Reporting'!O936 = \"\",\"\",'Caseload Reporting'!O936)","v":""},{"$f":"IF('Caseload Reporting'!Q936 = \"\",\"\",'Caseload Reporting'!Q936)","v":""},{"$f":"IF('Caseload Reporting'!R936 = \"\",\"\",'Caseload Reporting'!R936)","v":""},{"$f":"IF('Caseload Reporting'!E936 = \"\",\"\",'Caseload Reporting'!E936)","v":""},{"$f":"IF('Caseload Reporting'!S936 = \"\",\"\",'Caseload Reporting'!S936)","v":""}]
[{"$f":"IF('Caseload Reporting'!A937 = \"\",\"\",'Caseload Reporting'!A937)","v":""},{"$f":"IF('Caseload Reporting'!B937 = \"\",\"\",'Caseload Reporting'!B937)","v":""},{"$f":"IF('Caseload Reporting'!C937 = \"\",\"\",'Caseload Reporting'!C937)","v":""},{"$f":"IF('Caseload Reporting'!D937 = \"\",\"\",'Caseload Reporting'!D937)","v":""},{"$f":"IF('Caseload Reporting'!G937 = \"\",\"\",'Caseload Reporting'!G937)","v":""},{"$f":"IF('Caseload Reporting'!H937 = \"\",\"\",'Caseload Reporting'!H937)","v":""},{"$f":"IF('Caseload Reporting'!I937 = \"\",\"\",'Caseload Reporting'!I937)","v":""},{"$f":"IF('Caseload Reporting'!J937 = \"\",\"\",'Caseload Reporting'!J937)","v":""},{"$f":"IF('Caseload Reporting'!K937 = \"\",\"\",'Caseload Reporting'!K937)","v":""},{"$f":"IF('Caseload Reporting'!L937 = \"\",\"\",'Caseload Reporting'!L937)","v":""},{"$f":"IF('Caseload Reporting'!M937 = \"\",\"\",'Caseload Reporting'!M937)","v":""},{"$f":"IF('Caseload Reporting'!N937 = \"\",\"\",'Caseload Reporting'!N937)","v":""},{"$f":"IF('Caseload Reporting'!P937 = \"\",\"\",'Caseload Reporting'!P937)","v":""},{"$f":"IF('Caseload Reporting'!O937 = \"\",\"\",'Caseload Reporting'!O937)","v":""},{"$f":"IF('Caseload Reporting'!Q937 = \"\",\"\",'Caseload Reporting'!Q937)","v":""},{"$f":"IF('Caseload Reporting'!R937 = \"\",\"\",'Caseload Reporting'!R937)","v":""},{"$f":"IF('Caseload Reporting'!E937 = \"\",\"\",'Caseload Reporting'!E937)","v":""},{"$f":"IF('Caseload Reporting'!S937 = \"\",\"\",'Caseload Reporting'!S937)","v":""}]
[{"$f":"IF('Caseload Reporting'!A938 = \"\",\"\",'Caseload Reporting'!A938)","v":""},{"$f":"IF('Caseload Reporting'!B938 = \"\",\"\",'Caseload Reporting'!B938)","v":""},{"$f":"IF('Caseload Reporting'!C938 = \"\",\"\",'Caseload Reporting'!C938)","v":""},{"$f":"IF('Caseload Reporting'!D938 = \"\",\"\",'Caseload Reporting'!D938)","v":""},{"$f":"IF('Caseload Reporting'!G938 = \"\",\"\",'Caseload Reporting'!G938)","v":""},{"$f":"IF('Caseload Reporting'!H938 = \"\",\"\",'Caseload Reporting'!H938)","v":""},{"$f":"IF('Caseload Reporting'!I938 = \"\",\"\",'Caseload Reporting'!I938)","v":""},{"$f":"IF('Caseload Reporting'!J938 = \"\",\"\",'Caseload Reporting'!J938)","v":""},{"$f":"IF('Caseload Reporting'!K938 = \"\",\"\",'Caseload Reporting'!K938)","v":""},{"$f":"IF('Caseload Reporting'!L938 = \"\",\"\",'Caseload Reporting'!L938)","v":""},{"$f":"IF('Caseload Reporting'!M938 = \"\",\"\",'Caseload Reporting'!M938)","v":""},{"$f":"IF('Caseload Reporting'!N938 = \"\",\"\",'Caseload Reporting'!N938)","v":""},{"$f":"IF('Caseload Reporting'!P938 = \"\",\"\",'Caseload Reporting'!P938)","v":""},{"$f":"IF('Caseload Reporting'!O938 = \"\",\"\",'Caseload Reporting'!O938)","v":""},{"$f":"IF('Caseload Reporting'!Q938 = \"\",\"\",'Caseload Reporting'!Q938)","v":""},{"$f":"IF('Caseload Reporting'!R938 = \"\",\"\",'Caseload Reporting'!R938)","v":""},{"$f":"IF('Caseload Reporting'!E938 = \"\",\"\",'Caseload Reporting'!E938)","v":""},{"$f":"IF('Caseload Reporting'!S938 = \"\",\"\",'Caseload Reporting'!S938)","v":""}]
[{"$f":"IF('Caseload Reporting'!A939 = \"\",\"\",'Caseload Reporting'!A939)","v":""},{"$f":"IF('Caseload Reporting'!B939 = \"\",\"\",'Caseload Reporting'!B939)","v":""},{"$f":"IF('Caseload Reporting'!C939 = \"\",\"\",'Caseload Reporting'!C939)","v":""},{"$f":"IF('Caseload Reporting'!D939 = \"\",\"\",'Caseload Reporting'!D939)","v":""},{"$f":"IF('Caseload Reporting'!G939 = \"\",\"\",'Caseload Reporting'!G939)","v":""},{"$f":"IF('Caseload Reporting'!H939 = \"\",\"\",'Caseload Reporting'!H939)","v":""},{"$f":"IF('Caseload Reporting'!I939 = \"\",\"\",'Caseload Reporting'!I939)","v":""},{"$f":"IF('Caseload Reporting'!J939 = \"\",\"\",'Caseload Reporting'!J939)","v":""},{"$f":"IF('Caseload Reporting'!K939 = \"\",\"\",'Caseload Reporting'!K939)","v":""},{"$f":"IF('Caseload Reporting'!L939 = \"\",\"\",'Caseload Reporting'!L939)","v":""},{"$f":"IF('Caseload Reporting'!M939 = \"\",\"\",'Caseload Reporting'!M939)","v":""},{"$f":"IF('Caseload Reporting'!N939 = \"\",\"\",'Caseload Reporting'!N939)","v":""},{"$f":"IF('Caseload Reporting'!P939 = \"\",\"\",'Caseload Reporting'!P939)","v":""},{"$f":"IF('Caseload Reporting'!O939 = \"\",\"\",'Caseload Reporting'!O939)","v":""},{"$f":"IF('Caseload Reporting'!Q939 = \"\",\"\",'Caseload Reporting'!Q939)","v":""},{"$f":"IF('Caseload Reporting'!R939 = \"\",\"\",'Caseload Reporting'!R939)","v":""},{"$f":"IF('Caseload Reporting'!E939 = \"\",\"\",'Caseload Reporting'!E939)","v":""},{"$f":"IF('Caseload Reporting'!S939 = \"\",\"\",'Caseload Reporting'!S939)","v":""}]
[{"$f":"IF('Caseload Reporting'!A940 = \"\",\"\",'Caseload Reporting'!A940)","v":""},{"$f":"IF('Caseload Reporting'!B940 = \"\",\"\",'Caseload Reporting'!B940)","v":""},{"$f":"IF('Caseload Reporting'!C940 = \"\",\"\",'Caseload Reporting'!C940)","v":""},{"$f":"IF('Caseload Reporting'!D940 = \"\",\"\",'Caseload Reporting'!D940)","v":""},{"$f":"IF('Caseload Reporting'!G940 = \"\",\"\",'Caseload Reporting'!G940)","v":""},{"$f":"IF('Caseload Reporting'!H940 = \"\",\"\",'Caseload Reporting'!H940)","v":""},{"$f":"IF('Caseload Reporting'!I940 = \"\",\"\",'Caseload Reporting'!I940)","v":""},{"$f":"IF('Caseload Reporting'!J940 = \"\",\"\",'Caseload Reporting'!J940)","v":""},{"$f":"IF('Caseload Reporting'!K940 = \"\",\"\",'Caseload Reporting'!K940)","v":""},{"$f":"IF('Caseload Reporting'!L940 = \"\",\"\",'Caseload Reporting'!L940)","v":""},{"$f":"IF('Caseload Reporting'!M940 = \"\",\"\",'Caseload Reporting'!M940)","v":""},{"$f":"IF('Caseload Reporting'!N940 = \"\",\"\",'Caseload Reporting'!N940)","v":""},{"$f":"IF('Caseload Reporting'!P940 = \"\",\"\",'Caseload Reporting'!P940)","v":""},{"$f":"IF('Caseload Reporting'!O940 = \"\",\"\",'Caseload Reporting'!O940)","v":""},{"$f":"IF('Caseload Reporting'!Q940 = \"\",\"\",'Caseload Reporting'!Q940)","v":""},{"$f":"IF('Caseload Reporting'!R940 = \"\",\"\",'Caseload Reporting'!R940)","v":""},{"$f":"IF('Caseload Reporting'!E940 = \"\",\"\",'Caseload Reporting'!E940)","v":""},{"$f":"IF('Caseload Reporting'!S940 = \"\",\"\",'Caseload Reporting'!S940)","v":""}]
[{"$f":"IF('Caseload Reporting'!A941 = \"\",\"\",'Caseload Reporting'!A941)","v":""},{"$f":"IF('Caseload Reporting'!B941 = \"\",\"\",'Caseload Reporting'!B941)","v":""},{"$f":"IF('Caseload Reporting'!C941 = \"\",\"\",'Caseload Reporting'!C941)","v":""},{"$f":"IF('Caseload Reporting'!D941 = \"\",\"\",'Caseload Reporting'!D941)","v":""},{"$f":"IF('Caseload Reporting'!G941 = \"\",\"\",'Caseload Reporting'!G941)","v":""},{"$f":"IF('Caseload Reporting'!H941 = \"\",\"\",'Caseload Reporting'!H941)","v":""},{"$f":"IF('Caseload Reporting'!I941 = \"\",\"\",'Caseload Reporting'!I941)","v":""},{"$f":"IF('Caseload Reporting'!J941 = \"\",\"\",'Caseload Reporting'!J941)","v":""},{"$f":"IF('Caseload Reporting'!K941 = \"\",\"\",'Caseload Reporting'!K941)","v":""},{"$f":"IF('Caseload Reporting'!L941 = \"\",\"\",'Caseload Reporting'!L941)","v":""},{"$f":"IF('Caseload Reporting'!M941 = \"\",\"\",'Caseload Reporting'!M941)","v":""},{"$f":"IF('Caseload Reporting'!N941 = \"\",\"\",'Caseload Reporting'!N941)","v":""},{"$f":"IF('Caseload Reporting'!P941 = \"\",\"\",'Caseload Reporting'!P941)","v":""},{"$f":"IF('Caseload Reporting'!O941 = \"\",\"\",'Caseload Reporting'!O941)","v":""},{"$f":"IF('Caseload Reporting'!Q941 = \"\",\"\",'Caseload Reporting'!Q941)","v":""},{"$f":"IF('Caseload Reporting'!R941 = \"\",\"\",'Caseload Reporting'!R941)","v":""},{"$f":"IF('Caseload Reporting'!E941 = \"\",\"\",'Caseload Reporting'!E941)","v":""},{"$f":"IF('Caseload Reporting'!S941 = \"\",\"\",'Caseload Reporting'!S941)","v":""}]
[{"$f":"IF('Caseload Reporting'!A942 = \"\",\"\",'Caseload Reporting'!A942)","v":""},{"$f":"IF('Caseload Reporting'!B942 = \"\",\"\",'Caseload Reporting'!B942)","v":""},{"$f":"IF('Caseload Reporting'!C942 = \"\",\"\",'Caseload Reporting'!C942)","v":""},{"$f":"IF('Caseload Reporting'!D942 = \"\",\"\",'Caseload Reporting'!D942)","v":""},{"$f":"IF('Caseload Reporting'!G942 = \"\",\"\",'Caseload Reporting'!G942)","v":""},{"$f":"IF('Caseload Reporting'!H942 = \"\",\"\",'Caseload Reporting'!H942)","v":""},{"$f":"IF('Caseload Reporting'!I942 = \"\",\"\",'Caseload Reporting'!I942)","v":""},{"$f":"IF('Caseload Reporting'!J942 = \"\",\"\",'Caseload Reporting'!J942)","v":""},{"$f":"IF('Caseload Reporting'!K942 = \"\",\"\",'Caseload Reporting'!K942)","v":""},{"$f":"IF('Caseload Reporting'!L942 = \"\",\"\",'Caseload Reporting'!L942)","v":""},{"$f":"IF('Caseload Reporting'!M942 = \"\",\"\",'Caseload Reporting'!M942)","v":""},{"$f":"IF('Caseload Reporting'!N942 = \"\",\"\",'Caseload Reporting'!N942)","v":""},{"$f":"IF('Caseload Reporting'!P942 = \"\",\"\",'Caseload Reporting'!P942)","v":""},{"$f":"IF('Caseload Reporting'!O942 = \"\",\"\",'Caseload Reporting'!O942)","v":""},{"$f":"IF('Caseload Reporting'!Q942 = \"\",\"\",'Caseload Reporting'!Q942)","v":""},{"$f":"IF('Caseload Reporting'!R942 = \"\",\"\",'Caseload Reporting'!R942)","v":""},{"$f":"IF('Caseload Reporting'!E942 = \"\",\"\",'Caseload Reporting'!E942)","v":""},{"$f":"IF('Caseload Reporting'!S942 = \"\",\"\",'Caseload Reporting'!S942)","v":""}]
[{"$f":"IF('Caseload Reporting'!A943 = \"\",\"\",'Caseload Reporting'!A943)","v":""},{"$f":"IF('Caseload Reporting'!B943 = \"\",\"\",'Caseload Reporting'!B943)","v":""},{"$f":"IF('Caseload Reporting'!C943 = \"\",\"\",'Caseload Reporting'!C943)","v":""},{"$f":"IF('Caseload Reporting'!D943 = \"\",\"\",'Caseload Reporting'!D943)","v":""},{"$f":"IF('Caseload Reporting'!G943 = \"\",\"\",'Caseload Reporting'!G943)","v":""},{"$f":"IF('Caseload Reporting'!H943 = \"\",\"\",'Caseload Reporting'!H943)","v":""},{"$f":"IF('Caseload Reporting'!I943 = \"\",\"\",'Caseload Reporting'!I943)","v":""},{"$f":"IF('Caseload Reporting'!J943 = \"\",\"\",'Caseload Reporting'!J943)","v":""},{"$f":"IF('Caseload Reporting'!K943 = \"\",\"\",'Caseload Reporting'!K943)","v":""},{"$f":"IF('Caseload Reporting'!L943 = \"\",\"\",'Caseload Reporting'!L943)","v":""},{"$f":"IF('Caseload Reporting'!M943 = \"\",\"\",'Caseload Reporting'!M943)","v":""},{"$f":"IF('Caseload Reporting'!N943 = \"\",\"\",'Caseload Reporting'!N943)","v":""},{"$f":"IF('Caseload Reporting'!P943 = \"\",\"\",'Caseload Reporting'!P943)","v":""},{"$f":"IF('Caseload Reporting'!O943 = \"\",\"\",'Caseload Reporting'!O943)","v":""},{"$f":"IF('Caseload Reporting'!Q943 = \"\",\"\",'Caseload Reporting'!Q943)","v":""},{"$f":"IF('Caseload Reporting'!R943 = \"\",\"\",'Caseload Reporting'!R943)","v":""},{"$f":"IF('Caseload Reporting'!E943 = \"\",\"\",'Caseload Reporting'!E943)","v":""},{"$f":"IF('Caseload Reporting'!S943 = \"\",\"\",'Caseload Reporting'!S943)","v":""}]
[{"$f":"IF('Caseload Reporting'!A944 = \"\",\"\",'Caseload Reporting'!A944)","v":""},{"$f":"IF('Caseload Reporting'!B944 = \"\",\"\",'Caseload Reporting'!B944)","v":""},{"$f":"IF('Caseload Reporting'!C944 = \"\",\"\",'Caseload Reporting'!C944)","v":""},{"$f":"IF('Caseload Reporting'!D944 = \"\",\"\",'Caseload Reporting'!D944)","v":""},{"$f":"IF('Caseload Reporting'!G944 = \"\",\"\",'Caseload Reporting'!G944)","v":""},{"$f":"IF('Caseload Reporting'!H944 = \"\",\"\",'Caseload Reporting'!H944)","v":""},{"$f":"IF('Caseload Reporting'!I944 = \"\",\"\",'Caseload Reporting'!I944)","v":""},{"$f":"IF('Caseload Reporting'!J944 = \"\",\"\",'Caseload Reporting'!J944)","v":""},{"$f":"IF('Caseload Reporting'!K944 = \"\",\"\",'Caseload Reporting'!K944)","v":""},{"$f":"IF('Caseload Reporting'!L944 = \"\",\"\",'Caseload Reporting'!L944)","v":""},{"$f":"IF('Caseload Reporting'!M944 = \"\",\"\",'Caseload Reporting'!M944)","v":""},{"$f":"IF('Caseload Reporting'!N944 = \"\",\"\",'Caseload Reporting'!N944)","v":""},{"$f":"IF('Caseload Reporting'!P944 = \"\",\"\",'Caseload Reporting'!P944)","v":""},{"$f":"IF('Caseload Reporting'!O944 = \"\",\"\",'Caseload Reporting'!O944)","v":""},{"$f":"IF('Caseload Reporting'!Q944 = \"\",\"\",'Caseload Reporting'!Q944)","v":""},{"$f":"IF('Caseload Reporting'!R944 = \"\",\"\",'Caseload Reporting'!R944)","v":""},{"$f":"IF('Caseload Reporting'!E944 = \"\",\"\",'Caseload Reporting'!E944)","v":""},{"$f":"IF('Caseload Reporting'!S944 = \"\",\"\",'Caseload Reporting'!S944)","v":""}]
[{"$f":"IF('Caseload Reporting'!A945 = \"\",\"\",'Caseload Reporting'!A945)","v":""},{"$f":"IF('Caseload Reporting'!B945 = \"\",\"\",'Caseload Reporting'!B945)","v":""},{"$f":"IF('Caseload Reporting'!C945 = \"\",\"\",'Caseload Reporting'!C945)","v":""},{"$f":"IF('Caseload Reporting'!D945 = \"\",\"\",'Caseload Reporting'!D945)","v":""},{"$f":"IF('Caseload Reporting'!G945 = \"\",\"\",'Caseload Reporting'!G945)","v":""},{"$f":"IF('Caseload Reporting'!H945 = \"\",\"\",'Caseload Reporting'!H945)","v":""},{"$f":"IF('Caseload Reporting'!I945 = \"\",\"\",'Caseload Reporting'!I945)","v":""},{"$f":"IF('Caseload Reporting'!J945 = \"\",\"\",'Caseload Reporting'!J945)","v":""},{"$f":"IF('Caseload Reporting'!K945 = \"\",\"\",'Caseload Reporting'!K945)","v":""},{"$f":"IF('Caseload Reporting'!L945 = \"\",\"\",'Caseload Reporting'!L945)","v":""},{"$f":"IF('Caseload Reporting'!M945 = \"\",\"\",'Caseload Reporting'!M945)","v":""},{"$f":"IF('Caseload Reporting'!N945 = \"\",\"\",'Caseload Reporting'!N945)","v":""},{"$f":"IF('Caseload Reporting'!P945 = \"\",\"\",'Caseload Reporting'!P945)","v":""},{"$f":"IF('Caseload Reporting'!O945 = \"\",\"\",'Caseload Reporting'!O945)","v":""},{"$f":"IF('Caseload Reporting'!Q945 = \"\",\"\",'Caseload Reporting'!Q945)","v":""},{"$f":"IF('Caseload Reporting'!R945 = \"\",\"\",'Caseload Reporting'!R945)","v":""},{"$f":"IF('Caseload Reporting'!E945 = \"\",\"\",'Caseload Reporting'!E945)","v":""},{"$f":"IF('Caseload Reporting'!S945 = \"\",\"\",'Caseload Reporting'!S945)","v":""}]
[{"$f":"IF('Caseload Reporting'!A946 = \"\",\"\",'Caseload Reporting'!A946)","v":""},{"$f":"IF('Caseload Reporting'!B946 = \"\",\"\",'Caseload Reporting'!B946)","v":""},{"$f":"IF('Caseload Reporting'!C946 = \"\",\"\",'Caseload Reporting'!C946)","v":""},{"$f":"IF('Caseload Reporting'!D946 = \"\",\"\",'Caseload Reporting'!D946)","v":""},{"$f":"IF('Caseload Reporting'!G946 = \"\",\"\",'Caseload Reporting'!G946)","v":""},{"$f":"IF('Caseload Reporting'!H946 = \"\",\"\",'Caseload Reporting'!H946)","v":""},{"$f":"IF('Caseload Reporting'!I946 = \"\",\"\",'Caseload Reporting'!I946)","v":""},{"$f":"IF('Caseload Reporting'!J946 = \"\",\"\",'Caseload Reporting'!J946)","v":""},{"$f":"IF('Caseload Reporting'!K946 = \"\",\"\",'Caseload Reporting'!K946)","v":""},{"$f":"IF('Caseload Reporting'!L946 = \"\",\"\",'Caseload Reporting'!L946)","v":""},{"$f":"IF('Caseload Reporting'!M946 = \"\",\"\",'Caseload Reporting'!M946)","v":""},{"$f":"IF('Caseload Reporting'!N946 = \"\",\"\",'Caseload Reporting'!N946)","v":""},{"$f":"IF('Caseload Reporting'!P946 = \"\",\"\",'Caseload Reporting'!P946)","v":""},{"$f":"IF('Caseload Reporting'!O946 = \"\",\"\",'Caseload Reporting'!O946)","v":""},{"$f":"IF('Caseload Reporting'!Q946 = \"\",\"\",'Caseload Reporting'!Q946)","v":""},{"$f":"IF('Caseload Reporting'!R946 = \"\",\"\",'Caseload Reporting'!R946)","v":""},{"$f":"IF('Caseload Reporting'!E946 = \"\",\"\",'Caseload Reporting'!E946)","v":""},{"$f":"IF('Caseload Reporting'!S946 = \"\",\"\",'Caseload Reporting'!S946)","v":""}]
[{"$f":"IF('Caseload Reporting'!A947 = \"\",\"\",'Caseload Reporting'!A947)","v":""},{"$f":"IF('Caseload Reporting'!B947 = \"\",\"\",'Caseload Reporting'!B947)","v":""},{"$f":"IF('Caseload Reporting'!C947 = \"\",\"\",'Caseload Reporting'!C947)","v":""},{"$f":"IF('Caseload Reporting'!D947 = \"\",\"\",'Caseload Reporting'!D947)","v":""},{"$f":"IF('Caseload Reporting'!G947 = \"\",\"\",'Caseload Reporting'!G947)","v":""},{"$f":"IF('Caseload Reporting'!H947 = \"\",\"\",'Caseload Reporting'!H947)","v":""},{"$f":"IF('Caseload Reporting'!I947 = \"\",\"\",'Caseload Reporting'!I947)","v":""},{"$f":"IF('Caseload Reporting'!J947 = \"\",\"\",'Caseload Reporting'!J947)","v":""},{"$f":"IF('Caseload Reporting'!K947 = \"\",\"\",'Caseload Reporting'!K947)","v":""},{"$f":"IF('Caseload Reporting'!L947 = \"\",\"\",'Caseload Reporting'!L947)","v":""},{"$f":"IF('Caseload Reporting'!M947 = \"\",\"\",'Caseload Reporting'!M947)","v":""},{"$f":"IF('Caseload Reporting'!N947 = \"\",\"\",'Caseload Reporting'!N947)","v":""},{"$f":"IF('Caseload Reporting'!P947 = \"\",\"\",'Caseload Reporting'!P947)","v":""},{"$f":"IF('Caseload Reporting'!O947 = \"\",\"\",'Caseload Reporting'!O947)","v":""},{"$f":"IF('Caseload Reporting'!Q947 = \"\",\"\",'Caseload Reporting'!Q947)","v":""},{"$f":"IF('Caseload Reporting'!R947 = \"\",\"\",'Caseload Reporting'!R947)","v":""},{"$f":"IF('Caseload Reporting'!E947 = \"\",\"\",'Caseload Reporting'!E947)","v":""},{"$f":"IF('Caseload Reporting'!S947 = \"\",\"\",'Caseload Reporting'!S947)","v":""}]
[{"$f":"IF('Caseload Reporting'!A948 = \"\",\"\",'Caseload Reporting'!A948)","v":""},{"$f":"IF('Caseload Reporting'!B948 = \"\",\"\",'Caseload Reporting'!B948)","v":""},{"$f":"IF('Caseload Reporting'!C948 = \"\",\"\",'Caseload Reporting'!C948)","v":""},{"$f":"IF('Caseload Reporting'!D948 = \"\",\"\",'Caseload Reporting'!D948)","v":""},{"$f":"IF('Caseload Reporting'!G948 = \"\",\"\",'Caseload Reporting'!G948)","v":""},{"$f":"IF('Caseload Reporting'!H948 = \"\",\"\",'Caseload Reporting'!H948)","v":""},{"$f":"IF('Caseload Reporting'!I948 = \"\",\"\",'Caseload Reporting'!I948)","v":""},{"$f":"IF('Caseload Reporting'!J948 = \"\",\"\",'Caseload Reporting'!J948)","v":""},{"$f":"IF('Caseload Reporting'!K948 = \"\",\"\",'Caseload Reporting'!K948)","v":""},{"$f":"IF('Caseload Reporting'!L948 = \"\",\"\",'Caseload Reporting'!L948)","v":""},{"$f":"IF('Caseload Reporting'!M948 = \"\",\"\",'Caseload Reporting'!M948)","v":""},{"$f":"IF('Caseload Reporting'!N948 = \"\",\"\",'Caseload Reporting'!N948)","v":""},{"$f":"IF('Caseload Reporting'!P948 = \"\",\"\",'Caseload Reporting'!P948)","v":""},{"$f":"IF('Caseload Reporting'!O948 = \"\",\"\",'Caseload Reporting'!O948)","v":""},{"$f":"IF('Caseload Reporting'!Q948 = \"\",\"\",'Caseload Reporting'!Q948)","v":""},{"$f":"IF('Caseload Reporting'!R948 = \"\",\"\",'Caseload Reporting'!R948)","v":""},{"$f":"IF('Caseload Reporting'!E948 = \"\",\"\",'Caseload Reporting'!E948)","v":""},{"$f":"IF('Caseload Reporting'!S948 = \"\",\"\",'Caseload Reporting'!S948)","v":""}]
[{"$f":"IF('Caseload Reporting'!A949 = \"\",\"\",'Caseload Reporting'!A949)","v":""},{"$f":"IF('Caseload Reporting'!B949 = \"\",\"\",'Caseload Reporting'!B949)","v":""},{"$f":"IF('Caseload Reporting'!C949 = \"\",\"\",'Caseload Reporting'!C949)","v":""},{"$f":"IF('Caseload Reporting'!D949 = \"\",\"\",'Caseload Reporting'!D949)","v":""},{"$f":"IF('Caseload Reporting'!G949 = \"\",\"\",'Caseload Reporting'!G949)","v":""},{"$f":"IF('Caseload Reporting'!H949 = \"\",\"\",'Caseload Reporting'!H949)","v":""},{"$f":"IF('Caseload Reporting'!I949 = \"\",\"\",'Caseload Reporting'!I949)","v":""},{"$f":"IF('Caseload Reporting'!J949 = \"\",\"\",'Caseload Reporting'!J949)","v":""},{"$f":"IF('Caseload Reporting'!K949 = \"\",\"\",'Caseload Reporting'!K949)","v":""},{"$f":"IF('Caseload Reporting'!L949 = \"\",\"\",'Caseload Reporting'!L949)","v":""},{"$f":"IF('Caseload Reporting'!M949 = \"\",\"\",'Caseload Reporting'!M949)","v":""},{"$f":"IF('Caseload Reporting'!N949 = \"\",\"\",'Caseload Reporting'!N949)","v":""},{"$f":"IF('Caseload Reporting'!P949 = \"\",\"\",'Caseload Reporting'!P949)","v":""},{"$f":"IF('Caseload Reporting'!O949 = \"\",\"\",'Caseload Reporting'!O949)","v":""},{"$f":"IF('Caseload Reporting'!Q949 = \"\",\"\",'Caseload Reporting'!Q949)","v":""},{"$f":"IF('Caseload Reporting'!R949 = \"\",\"\",'Caseload Reporting'!R949)","v":""},{"$f":"IF('Caseload Reporting'!E949 = \"\",\"\",'Caseload Reporting'!E949)","v":""},{"$f":"IF('Caseload Reporting'!S949 = \"\",\"\",'Caseload Reporting'!S949)","v":""}]
[{"$f":"IF('Caseload Reporting'!A950 = \"\",\"\",'Caseload Reporting'!A950)","v":""},{"$f":"IF('Caseload Reporting'!B950 = \"\",\"\",'Caseload Reporting'!B950)","v":""},{"$f":"IF('Caseload Reporting'!C950 = \"\",\"\",'Caseload Reporting'!C950)","v":""},{"$f":"IF('Caseload Reporting'!D950 = \"\",\"\",'Caseload Reporting'!D950)","v":""},{"$f":"IF('Caseload Reporting'!G950 = \"\",\"\",'Caseload Reporting'!G950)","v":""},{"$f":"IF('Caseload Reporting'!H950 = \"\",\"\",'Caseload Reporting'!H950)","v":""},{"$f":"IF('Caseload Reporting'!I950 = \"\",\"\",'Caseload Reporting'!I950)","v":""},{"$f":"IF('Caseload Reporting'!J950 = \"\",\"\",'Caseload Reporting'!J950)","v":""},{"$f":"IF('Caseload Reporting'!K950 = \"\",\"\",'Caseload Reporting'!K950)","v":""},{"$f":"IF('Caseload Reporting'!L950 = \"\",\"\",'Caseload Reporting'!L950)","v":""},{"$f":"IF('Caseload Reporting'!M950 = \"\",\"\",'Caseload Reporting'!M950)","v":""},{"$f":"IF('Caseload Reporting'!N950 = \"\",\"\",'Caseload Reporting'!N950)","v":""},{"$f":"IF('Caseload Reporting'!P950 = \"\",\"\",'Caseload Reporting'!P950)","v":""},{"$f":"IF('Caseload Reporting'!O950 = \"\",\"\",'Caseload Reporting'!O950)","v":""},{"$f":"IF('Caseload Reporting'!Q950 = \"\",\"\",'Caseload Reporting'!Q950)","v":""},{"$f":"IF('Caseload Reporting'!R950 = \"\",\"\",'Caseload Reporting'!R950)","v":""},{"$f":"IF('Caseload Reporting'!E950 = \"\",\"\",'Caseload Reporting'!E950)","v":""},{"$f":"IF('Caseload Reporting'!S950 = \"\",\"\",'Caseload Reporting'!S950)","v":""}]
[{"$f":"IF('Caseload Reporting'!A951 = \"\",\"\",'Caseload Reporting'!A951)","v":""},{"$f":"IF('Caseload Reporting'!B951 = \"\",\"\",'Caseload Reporting'!B951)","v":""},{"$f":"IF('Caseload Reporting'!C951 = \"\",\"\",'Caseload Reporting'!C951)","v":""},{"$f":"IF('Caseload Reporting'!D951 = \"\",\"\",'Caseload Reporting'!D951)","v":""},{"$f":"IF('Caseload Reporting'!G951 = \"\",\"\",'Caseload Reporting'!G951)","v":""},{"$f":"IF('Caseload Reporting'!H951 = \"\",\"\",'Caseload Reporting'!H951)","v":""},{"$f":"IF('Caseload Reporting'!I951 = \"\",\"\",'Caseload Reporting'!I951)","v":""},{"$f":"IF('Caseload Reporting'!J951 = \"\",\"\",'Caseload Reporting'!J951)","v":""},{"$f":"IF('Caseload Reporting'!K951 = \"\",\"\",'Caseload Reporting'!K951)","v":""},{"$f":"IF('Caseload Reporting'!L951 = \"\",\"\",'Caseload Reporting'!L951)","v":""},{"$f":"IF('Caseload Reporting'!M951 = \"\",\"\",'Caseload Reporting'!M951)","v":""},{"$f":"IF('Caseload Reporting'!N951 = \"\",\"\",'Caseload Reporting'!N951)","v":""},{"$f":"IF('Caseload Reporting'!P951 = \"\",\"\",'Caseload Reporting'!P951)","v":""},{"$f":"IF('Caseload Reporting'!O951 = \"\",\"\",'Caseload Reporting'!O951)","v":""},{"$f":"IF('Caseload Reporting'!Q951 = \"\",\"\",'Caseload Reporting'!Q951)","v":""},{"$f":"IF('Caseload Reporting'!R951 = \"\",\"\",'Caseload Reporting'!R951)","v":""},{"$f":"IF('Caseload Reporting'!E951 = \"\",\"\",'Caseload Reporting'!E951)","v":""},{"$f":"IF('Caseload Reporting'!S951 = \"\",\"\",'Caseload Reporting'!S951)","v":""}]
[{"$f":"IF('Caseload Reporting'!A952 = \"\",\"\",'Caseload Reporting'!A952)","v":""},{"$f":"IF('Caseload Reporting'!B952 = \"\",\"\",'Caseload Reporting'!B952)","v":""},{"$f":"IF('Caseload Reporting'!C952 = \"\",\"\",'Caseload Reporting'!C952)","v":""},{"$f":"IF('Caseload Reporting'!D952 = \"\",\"\",'Caseload Reporting'!D952)","v":""},{"$f":"IF('Caseload Reporting'!G952 = \"\",\"\",'Caseload Reporting'!G952)","v":""},{"$f":"IF('Caseload Reporting'!H952 = \"\",\"\",'Caseload Reporting'!H952)","v":""},{"$f":"IF('Caseload Reporting'!I952 = \"\",\"\",'Caseload Reporting'!I952)","v":""},{"$f":"IF('Caseload Reporting'!J952 = \"\",\"\",'Caseload Reporting'!J952)","v":""},{"$f":"IF('Caseload Reporting'!K952 = \"\",\"\",'Caseload Reporting'!K952)","v":""},{"$f":"IF('Caseload Reporting'!L952 = \"\",\"\",'Caseload Reporting'!L952)","v":""},{"$f":"IF('Caseload Reporting'!M952 = \"\",\"\",'Caseload Reporting'!M952)","v":""},{"$f":"IF('Caseload Reporting'!N952 = \"\",\"\",'Caseload Reporting'!N952)","v":""},{"$f":"IF('Caseload Reporting'!P952 = \"\",\"\",'Caseload Reporting'!P952)","v":""},{"$f":"IF('Caseload Reporting'!O952 = \"\",\"\",'Caseload Reporting'!O952)","v":""},{"$f":"IF('Caseload Reporting'!Q952 = \"\",\"\",'Caseload Reporting'!Q952)","v":""},{"$f":"IF('Caseload Reporting'!R952 = \"\",\"\",'Caseload Reporting'!R952)","v":""},{"$f":"IF('Caseload Reporting'!E952 = \"\",\"\",'Caseload Reporting'!E952)","v":""},{"$f":"IF('Caseload Reporting'!S952 = \"\",\"\",'Caseload Reporting'!S952)","v":""}]
[{"$f":"IF('Caseload Reporting'!A953 = \"\",\"\",'Caseload Reporting'!A953)","v":""},{"$f":"IF('Caseload Reporting'!B953 = \"\",\"\",'Caseload Reporting'!B953)","v":""},{"$f":"IF('Caseload Reporting'!C953 = \"\",\"\",'Caseload Reporting'!C953)","v":""},{"$f":"IF('Caseload Reporting'!D953 = \"\",\"\",'Caseload Reporting'!D953)","v":""},{"$f":"IF('Caseload Reporting'!G953 = \"\",\"\",'Caseload Reporting'!G953)","v":""},{"$f":"IF('Caseload Reporting'!H953 = \"\",\"\",'Caseload Reporting'!H953)","v":""},{"$f":"IF('Caseload Reporting'!I953 = \"\",\"\",'Caseload Reporting'!I953)","v":""},{"$f":"IF('Caseload Reporting'!J953 = \"\",\"\",'Caseload Reporting'!J953)","v":""},{"$f":"IF('Caseload Reporting'!K953 = \"\",\"\",'Caseload Reporting'!K953)","v":""},{"$f":"IF('Caseload Reporting'!L953 = \"\",\"\",'Caseload Reporting'!L953)","v":""},{"$f":"IF('Caseload Reporting'!M953 = \"\",\"\",'Caseload Reporting'!M953)","v":""},{"$f":"IF('Caseload Reporting'!N953 = \"\",\"\",'Caseload Reporting'!N953)","v":""},{"$f":"IF('Caseload Reporting'!P953 = \"\",\"\",'Caseload Reporting'!P953)","v":""},{"$f":"IF('Caseload Reporting'!O953 = \"\",\"\",'Caseload Reporting'!O953)","v":""},{"$f":"IF('Caseload Reporting'!Q953 = \"\",\"\",'Caseload Reporting'!Q953)","v":""},{"$f":"IF('Caseload Reporting'!R953 = \"\",\"\",'Caseload Reporting'!R953)","v":""},{"$f":"IF('Caseload Reporting'!E953 = \"\",\"\",'Caseload Reporting'!E953)","v":""},{"$f":"IF('Caseload Reporting'!S953 = \"\",\"\",'Caseload Reporting'!S953)","v":""}]
[{"$f":"IF('Caseload Reporting'!A954 = \"\",\"\",'Caseload Reporting'!A954)","v":""},{"$f":"IF('Caseload Reporting'!B954 = \"\",\"\",'Caseload Reporting'!B954)","v":""},{"$f":"IF('Caseload Reporting'!C954 = \"\",\"\",'Caseload Reporting'!C954)","v":""},{"$f":"IF('Caseload Reporting'!D954 = \"\",\"\",'Caseload Reporting'!D954)","v":""},{"$f":"IF('Caseload Reporting'!G954 = \"\",\"\",'Caseload Reporting'!G954)","v":""},{"$f":"IF('Caseload Reporting'!H954 = \"\",\"\",'Caseload Reporting'!H954)","v":""},{"$f":"IF('Caseload Reporting'!I954 = \"\",\"\",'Caseload Reporting'!I954)","v":""},{"$f":"IF('Caseload Reporting'!J954 = \"\",\"\",'Caseload Reporting'!J954)","v":""},{"$f":"IF('Caseload Reporting'!K954 = \"\",\"\",'Caseload Reporting'!K954)","v":""},{"$f":"IF('Caseload Reporting'!L954 = \"\",\"\",'Caseload Reporting'!L954)","v":""},{"$f":"IF('Caseload Reporting'!M954 = \"\",\"\",'Caseload Reporting'!M954)","v":""},{"$f":"IF('Caseload Reporting'!N954 = \"\",\"\",'Caseload Reporting'!N954)","v":""},{"$f":"IF('Caseload Reporting'!P954 = \"\",\"\",'Caseload Reporting'!P954)","v":""},{"$f":"IF('Caseload Reporting'!O954 = \"\",\"\",'Caseload Reporting'!O954)","v":""},{"$f":"IF('Caseload Reporting'!Q954 = \"\",\"\",'Caseload Reporting'!Q954)","v":""},{"$f":"IF('Caseload Reporting'!R954 = \"\",\"\",'Caseload Reporting'!R954)","v":""},{"$f":"IF('Caseload Reporting'!E954 = \"\",\"\",'Caseload Reporting'!E954)","v":""},{"$f":"IF('Caseload Reporting'!S954 = \"\",\"\",'Caseload Reporting'!S954)","v":""}]
[{"$f":"IF('Caseload Reporting'!A955 = \"\",\"\",'Caseload Reporting'!A955)","v":""},{"$f":"IF('Caseload Reporting'!B955 = \"\",\"\",'Caseload Reporting'!B955)","v":""},{"$f":"IF('Caseload Reporting'!C955 = \"\",\"\",'Caseload Reporting'!C955)","v":""},{"$f":"IF('Caseload Reporting'!D955 = \"\",\"\",'Caseload Reporting'!D955)","v":""},{"$f":"IF('Caseload Reporting'!G955 = \"\",\"\",'Caseload Reporting'!G955)","v":""},{"$f":"IF('Caseload Reporting'!H955 = \"\",\"\",'Caseload Reporting'!H955)","v":""},{"$f":"IF('Caseload Reporting'!I955 = \"\",\"\",'Caseload Reporting'!I955)","v":""},{"$f":"IF('Caseload Reporting'!J955 = \"\",\"\",'Caseload Reporting'!J955)","v":""},{"$f":"IF('Caseload Reporting'!K955 = \"\",\"\",'Caseload Reporting'!K955)","v":""},{"$f":"IF('Caseload Reporting'!L955 = \"\",\"\",'Caseload Reporting'!L955)","v":""},{"$f":"IF('Caseload Reporting'!M955 = \"\",\"\",'Caseload Reporting'!M955)","v":""},{"$f":"IF('Caseload Reporting'!N955 = \"\",\"\",'Caseload Reporting'!N955)","v":""},{"$f":"IF('Caseload Reporting'!P955 = \"\",\"\",'Caseload Reporting'!P955)","v":""},{"$f":"IF('Caseload Reporting'!O955 = \"\",\"\",'Caseload Reporting'!O955)","v":""},{"$f":"IF('Caseload Reporting'!Q955 = \"\",\"\",'Caseload Reporting'!Q955)","v":""},{"$f":"IF('Caseload Reporting'!R955 = \"\",\"\",'Caseload Reporting'!R955)","v":""},{"$f":"IF('Caseload Reporting'!E955 = \"\",\"\",'Caseload Reporting'!E955)","v":""},{"$f":"IF('Caseload Reporting'!S955 = \"\",\"\",'Caseload Reporting'!S955)","v":""}]
[{"$f":"IF('Caseload Reporting'!A956 = \"\",\"\",'Caseload Reporting'!A956)","v":""},{"$f":"IF('Caseload Reporting'!B956 = \"\",\"\",'Caseload Reporting'!B956)","v":""},{"$f":"IF('Caseload Reporting'!C956 = \"\",\"\",'Caseload Reporting'!C956)","v":""},{"$f":"IF('Caseload Reporting'!D956 = \"\",\"\",'Caseload Reporting'!D956)","v":""},{"$f":"IF('Caseload Reporting'!G956 = \"\",\"\",'Caseload Reporting'!G956)","v":""},{"$f":"IF('Caseload Reporting'!H956 = \"\",\"\",'Caseload Reporting'!H956)","v":""},{"$f":"IF('Caseload Reporting'!I956 = \"\",\"\",'Caseload Reporting'!I956)","v":""},{"$f":"IF('Caseload Reporting'!J956 = \"\",\"\",'Caseload Reporting'!J956)","v":""},{"$f":"IF('Caseload Reporting'!K956 = \"\",\"\",'Caseload Reporting'!K956)","v":""},{"$f":"IF('Caseload Reporting'!L956 = \"\",\"\",'Caseload Reporting'!L956)","v":""},{"$f":"IF('Caseload Reporting'!M956 = \"\",\"\",'Caseload Reporting'!M956)","v":""},{"$f":"IF('Caseload Reporting'!N956 = \"\",\"\",'Caseload Reporting'!N956)","v":""},{"$f":"IF('Caseload Reporting'!P956 = \"\",\"\",'Caseload Reporting'!P956)","v":""},{"$f":"IF('Caseload Reporting'!O956 = \"\",\"\",'Caseload Reporting'!O956)","v":""},{"$f":"IF('Caseload Reporting'!Q956 = \"\",\"\",'Caseload Reporting'!Q956)","v":""},{"$f":"IF('Caseload Reporting'!R956 = \"\",\"\",'Caseload Reporting'!R956)","v":""},{"$f":"IF('Caseload Reporting'!E956 = \"\",\"\",'Caseload Reporting'!E956)","v":""},{"$f":"IF('Caseload Reporting'!S956 = \"\",\"\",'Caseload Reporting'!S956)","v":""}]
[{"$f":"IF('Caseload Reporting'!A957 = \"\",\"\",'Caseload Reporting'!A957)","v":""},{"$f":"IF('Caseload Reporting'!B957 = \"\",\"\",'Caseload Reporting'!B957)","v":""},{"$f":"IF('Caseload Reporting'!C957 = \"\",\"\",'Caseload Reporting'!C957)","v":""},{"$f":"IF('Caseload Reporting'!D957 = \"\",\"\",'Caseload Reporting'!D957)","v":""},{"$f":"IF('Caseload Reporting'!G957 = \"\",\"\",'Caseload Reporting'!G957)","v":""},{"$f":"IF('Caseload Reporting'!H957 = \"\",\"\",'Caseload Reporting'!H957)","v":""},{"$f":"IF('Caseload Reporting'!I957 = \"\",\"\",'Caseload Reporting'!I957)","v":""},{"$f":"IF('Caseload Reporting'!J957 = \"\",\"\",'Caseload Reporting'!J957)","v":""},{"$f":"IF('Caseload Reporting'!K957 = \"\",\"\",'Caseload Reporting'!K957)","v":""},{"$f":"IF('Caseload Reporting'!L957 = \"\",\"\",'Caseload Reporting'!L957)","v":""},{"$f":"IF('Caseload Reporting'!M957 = \"\",\"\",'Caseload Reporting'!M957)","v":""},{"$f":"IF('Caseload Reporting'!N957 = \"\",\"\",'Caseload Reporting'!N957)","v":""},{"$f":"IF('Caseload Reporting'!P957 = \"\",\"\",'Caseload Reporting'!P957)","v":""},{"$f":"IF('Caseload Reporting'!O957 = \"\",\"\",'Caseload Reporting'!O957)","v":""},{"$f":"IF('Caseload Reporting'!Q957 = \"\",\"\",'Caseload Reporting'!Q957)","v":""},{"$f":"IF('Caseload Reporting'!R957 = \"\",\"\",'Caseload Reporting'!R957)","v":""},{"$f":"IF('Caseload Reporting'!E957 = \"\",\"\",'Caseload Reporting'!E957)","v":""},{"$f":"IF('Caseload Reporting'!S957 = \"\",\"\",'Caseload Reporting'!S957)","v":""}]
[{"$f":"IF('Caseload Reporting'!A958 = \"\",\"\",'Caseload Reporting'!A958)","v":""},{"$f":"IF('Caseload Reporting'!B958 = \"\",\"\",'Caseload Reporting'!B958)","v":""},{"$f":"IF('Caseload Reporting'!C958 = \"\",\"\",'Caseload Reporting'!C958)","v":""},{"$f":"IF('Caseload Reporting'!D958 = \"\",\"\",'Caseload Reporting'!D958)","v":""},{"$f":"IF('Caseload Reporting'!G958 = \"\",\"\",'Caseload Reporting'!G958)","v":""},{"$f":"IF('Caseload Reporting'!H958 = \"\",\"\",'Caseload Reporting'!H958)","v":""},{"$f":"IF('Caseload Reporting'!I958 = \"\",\"\",'Caseload Reporting'!I958)","v":""},{"$f":"IF('Caseload Reporting'!J958 = \"\",\"\",'Caseload Reporting'!J958)","v":""},{"$f":"IF('Caseload Reporting'!K958 = \"\",\"\",'Caseload Reporting'!K958)","v":""},{"$f":"IF('Caseload Reporting'!L958 = \"\",\"\",'Caseload Reporting'!L958)","v":""},{"$f":"IF('Caseload Reporting'!M958 = \"\",\"\",'Caseload Reporting'!M958)","v":""},{"$f":"IF('Caseload Reporting'!N958 = \"\",\"\",'Caseload Reporting'!N958)","v":""},{"$f":"IF('Caseload Reporting'!P958 = \"\",\"\",'Caseload Reporting'!P958)","v":""},{"$f":"IF('Caseload Reporting'!O958 = \"\",\"\",'Caseload Reporting'!O958)","v":""},{"$f":"IF('Caseload Reporting'!Q958 = \"\",\"\",'Caseload Reporting'!Q958)","v":""},{"$f":"IF('Caseload Reporting'!R958 = \"\",\"\",'Caseload Reporting'!R958)","v":""},{"$f":"IF('Caseload Reporting'!E958 = \"\",\"\",'Caseload Reporting'!E958)","v":""},{"$f":"IF('Caseload Reporting'!S958 = \"\",\"\",'Caseload Reporting'!S958)","v":""}]
[{"$f":"IF('Caseload Reporting'!A959 = \"\",\"\",'Caseload Reporting'!A959)","v":""},{"$f":"IF('Caseload Reporting'!B959 = \"\",\"\",'Caseload Reporting'!B959)","v":""},{"$f":"IF('Caseload Reporting'!C959 = \"\",\"\",'Caseload Reporting'!C959)","v":""},{"$f":"IF('Caseload Reporting'!D959 = \"\",\"\",'Caseload Reporting'!D959)","v":""},{"$f":"IF('Caseload Reporting'!G959 = \"\",\"\",'Caseload Reporting'!G959)","v":""},{"$f":"IF('Caseload Reporting'!H959 = \"\",\"\",'Caseload Reporting'!H959)","v":""},{"$f":"IF('Caseload Reporting'!I959 = \"\",\"\",'Caseload Reporting'!I959)","v":""},{"$f":"IF('Caseload Reporting'!J959 = \"\",\"\",'Caseload Reporting'!J959)","v":""},{"$f":"IF('Caseload Reporting'!K959 = \"\",\"\",'Caseload Reporting'!K959)","v":""},{"$f":"IF('Caseload Reporting'!L959 = \"\",\"\",'Caseload Reporting'!L959)","v":""},{"$f":"IF('Caseload Reporting'!M959 = \"\",\"\",'Caseload Reporting'!M959)","v":""},{"$f":"IF('Caseload Reporting'!N959 = \"\",\"\",'Caseload Reporting'!N959)","v":""},{"$f":"IF('Caseload Reporting'!P959 = \"\",\"\",'Caseload Reporting'!P959)","v":""},{"$f":"IF('Caseload Reporting'!O959 = \"\",\"\",'Caseload Reporting'!O959)","v":""},{"$f":"IF('Caseload Reporting'!Q959 = \"\",\"\",'Caseload Reporting'!Q959)","v":""},{"$f":"IF('Caseload Reporting'!R959 = \"\",\"\",'Caseload Reporting'!R959)","v":""},{"$f":"IF('Caseload Reporting'!E959 = \"\",\"\",'Caseload Reporting'!E959)","v":""},{"$f":"IF('Caseload Reporting'!S959 = \"\",\"\",'Caseload Reporting'!S959)","v":""}]
[{"$f":"IF('Caseload Reporting'!A960 = \"\",\"\",'Caseload Reporting'!A960)","v":""},{"$f":"IF('Caseload Reporting'!B960 = \"\",\"\",'Caseload Reporting'!B960)","v":""},{"$f":"IF('Caseload Reporting'!C960 = \"\",\"\",'Caseload Reporting'!C960)","v":""},{"$f":"IF('Caseload Reporting'!D960 = \"\",\"\",'Caseload Reporting'!D960)","v":""},{"$f":"IF('Caseload Reporting'!G960 = \"\",\"\",'Caseload Reporting'!G960)","v":""},{"$f":"IF('Caseload Reporting'!H960 = \"\",\"\",'Caseload Reporting'!H960)","v":""},{"$f":"IF('Caseload Reporting'!I960 = \"\",\"\",'Caseload Reporting'!I960)","v":""},{"$f":"IF('Caseload Reporting'!J960 = \"\",\"\",'Caseload Reporting'!J960)","v":""},{"$f":"IF('Caseload Reporting'!K960 = \"\",\"\",'Caseload Reporting'!K960)","v":""},{"$f":"IF('Caseload Reporting'!L960 = \"\",\"\",'Caseload Reporting'!L960)","v":""},{"$f":"IF('Caseload Reporting'!M960 = \"\",\"\",'Caseload Reporting'!M960)","v":""},{"$f":"IF('Caseload Reporting'!N960 = \"\",\"\",'Caseload Reporting'!N960)","v":""},{"$f":"IF('Caseload Reporting'!P960 = \"\",\"\",'Caseload Reporting'!P960)","v":""},{"$f":"IF('Caseload Reporting'!O960 = \"\",\"\",'Caseload Reporting'!O960)","v":""},{"$f":"IF('Caseload Reporting'!Q960 = \"\",\"\",'Caseload Reporting'!Q960)","v":""},{"$f":"IF('Caseload Reporting'!R960 = \"\",\"\",'Caseload Reporting'!R960)","v":""},{"$f":"IF('Caseload Reporting'!E960 = \"\",\"\",'Caseload Reporting'!E960)","v":""},{"$f":"IF('Caseload Reporting'!S960 = \"\",\"\",'Caseload Reporting'!S960)","v":""}]
[{"$f":"IF('Caseload Reporting'!A961 = \"\",\"\",'Caseload Reporting'!A961)","v":""},{"$f":"IF('Caseload Reporting'!B961 = \"\",\"\",'Caseload Reporting'!B961)","v":""},{"$f":"IF('Caseload Reporting'!C961 = \"\",\"\",'Caseload Reporting'!C961)","v":""},{"$f":"IF('Caseload Reporting'!D961 = \"\",\"\",'Caseload Reporting'!D961)","v":""},{"$f":"IF('Caseload Reporting'!G961 = \"\",\"\",'Caseload Reporting'!G961)","v":""},{"$f":"IF('Caseload Reporting'!H961 = \"\",\"\",'Caseload Reporting'!H961)","v":""},{"$f":"IF('Caseload Reporting'!I961 = \"\",\"\",'Caseload Reporting'!I961)","v":""},{"$f":"IF('Caseload Reporting'!J961 = \"\",\"\",'Caseload Reporting'!J961)","v":""},{"$f":"IF('Caseload Reporting'!K961 = \"\",\"\",'Caseload Reporting'!K961)","v":""},{"$f":"IF('Caseload Reporting'!L961 = \"\",\"\",'Caseload Reporting'!L961)","v":""},{"$f":"IF('Caseload Reporting'!M961 = \"\",\"\",'Caseload Reporting'!M961)","v":""},{"$f":"IF('Caseload Reporting'!N961 = \"\",\"\",'Caseload Reporting'!N961)","v":""},{"$f":"IF('Caseload Reporting'!P961 = \"\",\"\",'Caseload Reporting'!P961)","v":""},{"$f":"IF('Caseload Reporting'!O961 = \"\",\"\",'Caseload Reporting'!O961)","v":""},{"$f":"IF('Caseload Reporting'!Q961 = \"\",\"\",'Caseload Reporting'!Q961)","v":""},{"$f":"IF('Caseload Reporting'!R961 = \"\",\"\",'Caseload Reporting'!R961)","v":""},{"$f":"IF('Caseload Reporting'!E961 = \"\",\"\",'Caseload Reporting'!E961)","v":""},{"$f":"IF('Caseload Reporting'!S961 = \"\",\"\",'Caseload Reporting'!S961)","v":""}]
[{"$f":"IF('Caseload Reporting'!A962 = \"\",\"\",'Caseload Reporting'!A962)","v":""},{"$f":"IF('Caseload Reporting'!B962 = \"\",\"\",'Caseload Reporting'!B962)","v":""},{"$f":"IF('Caseload Reporting'!C962 = \"\",\"\",'Caseload Reporting'!C962)","v":""},{"$f":"IF('Caseload Reporting'!D962 = \"\",\"\",'Caseload Reporting'!D962)","v":""},{"$f":"IF('Caseload Reporting'!G962 = \"\",\"\",'Caseload Reporting'!G962)","v":""},{"$f":"IF('Caseload Reporting'!H962 = \"\",\"\",'Caseload Reporting'!H962)","v":""},{"$f":"IF('Caseload Reporting'!I962 = \"\",\"\",'Caseload Reporting'!I962)","v":""},{"$f":"IF('Caseload Reporting'!J962 = \"\",\"\",'Caseload Reporting'!J962)","v":""},{"$f":"IF('Caseload Reporting'!K962 = \"\",\"\",'Caseload Reporting'!K962)","v":""},{"$f":"IF('Caseload Reporting'!L962 = \"\",\"\",'Caseload Reporting'!L962)","v":""},{"$f":"IF('Caseload Reporting'!M962 = \"\",\"\",'Caseload Reporting'!M962)","v":""},{"$f":"IF('Caseload Reporting'!N962 = \"\",\"\",'Caseload Reporting'!N962)","v":""},{"$f":"IF('Caseload Reporting'!P962 = \"\",\"\",'Caseload Reporting'!P962)","v":""},{"$f":"IF('Caseload Reporting'!O962 = \"\",\"\",'Caseload Reporting'!O962)","v":""},{"$f":"IF('Caseload Reporting'!Q962 = \"\",\"\",'Caseload Reporting'!Q962)","v":""},{"$f":"IF('Caseload Reporting'!R962 = \"\",\"\",'Caseload Reporting'!R962)","v":""},{"$f":"IF('Caseload Reporting'!E962 = \"\",\"\",'Caseload Reporting'!E962)","v":""},{"$f":"IF('Caseload Reporting'!S962 = \"\",\"\",'Caseload Reporting'!S962)","v":""}]
[{"$f":"IF('Caseload Reporting'!A963 = \"\",\"\",'Caseload Reporting'!A963)","v":""},{"$f":"IF('Caseload Reporting'!B963 = \"\",\"\",'Caseload Reporting'!B963)","v":""},{"$f":"IF('Caseload Reporting'!C963 = \"\",\"\",'Caseload Reporting'!C963)","v":""},{"$f":"IF('Caseload Reporting'!D963 = \"\",\"\",'Caseload Reporting'!D963)","v":""},{"$f":"IF('Caseload Reporting'!G963 = \"\",\"\",'Caseload Reporting'!G963)","v":""},{"$f":"IF('Caseload Reporting'!H963 = \"\",\"\",'Caseload Reporting'!H963)","v":""},{"$f":"IF('Caseload Reporting'!I963 = \"\",\"\",'Caseload Reporting'!I963)","v":""},{"$f":"IF('Caseload Reporting'!J963 = \"\",\"\",'Caseload Reporting'!J963)","v":""},{"$f":"IF('Caseload Reporting'!K963 = \"\",\"\",'Caseload Reporting'!K963)","v":""},{"$f":"IF('Caseload Reporting'!L963 = \"\",\"\",'Caseload Reporting'!L963)","v":""},{"$f":"IF('Caseload Reporting'!M963 = \"\",\"\",'Caseload Reporting'!M963)","v":""},{"$f":"IF('Caseload Reporting'!N963 = \"\",\"\",'Caseload Reporting'!N963)","v":""},{"$f":"IF('Caseload Reporting'!P963 = \"\",\"\",'Caseload Reporting'!P963)","v":""},{"$f":"IF('Caseload Reporting'!O963 = \"\",\"\",'Caseload Reporting'!O963)","v":""},{"$f":"IF('Caseload Reporting'!Q963 = \"\",\"\",'Caseload Reporting'!Q963)","v":""},{"$f":"IF('Caseload Reporting'!R963 = \"\",\"\",'Caseload Reporting'!R963)","v":""},{"$f":"IF('Caseload Reporting'!E963 = \"\",\"\",'Caseload Reporting'!E963)","v":""},{"$f":"IF('Caseload Reporting'!S963 = \"\",\"\",'Caseload Reporting'!S963)","v":""}]
[{"$f":"IF('Caseload Reporting'!A964 = \"\",\"\",'Caseload Reporting'!A964)","v":""},{"$f":"IF('Caseload Reporting'!B964 = \"\",\"\",'Caseload Reporting'!B964)","v":""},{"$f":"IF('Caseload Reporting'!C964 = \"\",\"\",'Caseload Reporting'!C964)","v":""},{"$f":"IF('Caseload Reporting'!D964 = \"\",\"\",'Caseload Reporting'!D964)","v":""},{"$f":"IF('Caseload Reporting'!G964 = \"\",\"\",'Caseload Reporting'!G964)","v":""},{"$f":"IF('Caseload Reporting'!H964 = \"\",\"\",'Caseload Reporting'!H964)","v":""},{"$f":"IF('Caseload Reporting'!I964 = \"\",\"\",'Caseload Reporting'!I964)","v":""},{"$f":"IF('Caseload Reporting'!J964 = \"\",\"\",'Caseload Reporting'!J964)","v":""},{"$f":"IF('Caseload Reporting'!K964 = \"\",\"\",'Caseload Reporting'!K964)","v":""},{"$f":"IF('Caseload Reporting'!L964 = \"\",\"\",'Caseload Reporting'!L964)","v":""},{"$f":"IF('Caseload Reporting'!M964 = \"\",\"\",'Caseload Reporting'!M964)","v":""},{"$f":"IF('Caseload Reporting'!N964 = \"\",\"\",'Caseload Reporting'!N964)","v":""},{"$f":"IF('Caseload Reporting'!P964 = \"\",\"\",'Caseload Reporting'!P964)","v":""},{"$f":"IF('Caseload Reporting'!O964 = \"\",\"\",'Caseload Reporting'!O964)","v":""},{"$f":"IF('Caseload Reporting'!Q964 = \"\",\"\",'Caseload Reporting'!Q964)","v":""},{"$f":"IF('Caseload Reporting'!R964 = \"\",\"\",'Caseload Reporting'!R964)","v":""},{"$f":"IF('Caseload Reporting'!E964 = \"\",\"\",'Caseload Reporting'!E964)","v":""},{"$f":"IF('Caseload Reporting'!S964 = \"\",\"\",'Caseload Reporting'!S964)","v":""}]
[{"$f":"IF('Caseload Reporting'!A965 = \"\",\"\",'Caseload Reporting'!A965)","v":""},{"$f":"IF('Caseload Reporting'!B965 = \"\",\"\",'Caseload Reporting'!B965)","v":""},{"$f":"IF('Caseload Reporting'!C965 = \"\",\"\",'Caseload Reporting'!C965)","v":""},{"$f":"IF('Caseload Reporting'!D965 = \"\",\"\",'Caseload Reporting'!D965)","v":""},{"$f":"IF('Caseload Reporting'!G965 = \"\",\"\",'Caseload Reporting'!G965)","v":""},{"$f":"IF('Caseload Reporting'!H965 = \"\",\"\",'Caseload Reporting'!H965)","v":""},{"$f":"IF('Caseload Reporting'!I965 = \"\",\"\",'Caseload Reporting'!I965)","v":""},{"$f":"IF('Caseload Reporting'!J965 = \"\",\"\",'Caseload Reporting'!J965)","v":""},{"$f":"IF('Caseload Reporting'!K965 = \"\",\"\",'Caseload Reporting'!K965)","v":""},{"$f":"IF('Caseload Reporting'!L965 = \"\",\"\",'Caseload Reporting'!L965)","v":""},{"$f":"IF('Caseload Reporting'!M965 = \"\",\"\",'Caseload Reporting'!M965)","v":""},{"$f":"IF('Caseload Reporting'!N965 = \"\",\"\",'Caseload Reporting'!N965)","v":""},{"$f":"IF('Caseload Reporting'!P965 = \"\",\"\",'Caseload Reporting'!P965)","v":""},{"$f":"IF('Caseload Reporting'!O965 = \"\",\"\",'Caseload Reporting'!O965)","v":""},{"$f":"IF('Caseload Reporting'!Q965 = \"\",\"\",'Caseload Reporting'!Q965)","v":""},{"$f":"IF('Caseload Reporting'!R965 = \"\",\"\",'Caseload Reporting'!R965)","v":""},{"$f":"IF('Caseload Reporting'!E965 = \"\",\"\",'Caseload Reporting'!E965)","v":""},{"$f":"IF('Caseload Reporting'!S965 = \"\",\"\",'Caseload Reporting'!S965)","v":""}]
[{"$f":"IF('Caseload Reporting'!A966 = \"\",\"\",'Caseload Reporting'!A966)","v":""},{"$f":"IF('Caseload Reporting'!B966 = \"\",\"\",'Caseload Reporting'!B966)","v":""},{"$f":"IF('Caseload Reporting'!C966 = \"\",\"\",'Caseload Reporting'!C966)","v":""},{"$f":"IF('Caseload Reporting'!D966 = \"\",\"\",'Caseload Reporting'!D966)","v":""},{"$f":"IF('Caseload Reporting'!G966 = \"\",\"\",'Caseload Reporting'!G966)","v":""},{"$f":"IF('Caseload Reporting'!H966 = \"\",\"\",'Caseload Reporting'!H966)","v":""},{"$f":"IF('Caseload Reporting'!I966 = \"\",\"\",'Caseload Reporting'!I966)","v":""},{"$f":"IF('Caseload Reporting'!J966 = \"\",\"\",'Caseload Reporting'!J966)","v":""},{"$f":"IF('Caseload Reporting'!K966 = \"\",\"\",'Caseload Reporting'!K966)","v":""},{"$f":"IF('Caseload Reporting'!L966 = \"\",\"\",'Caseload Reporting'!L966)","v":""},{"$f":"IF('Caseload Reporting'!M966 = \"\",\"\",'Caseload Reporting'!M966)","v":""},{"$f":"IF('Caseload Reporting'!N966 = \"\",\"\",'Caseload Reporting'!N966)","v":""},{"$f":"IF('Caseload Reporting'!P966 = \"\",\"\",'Caseload Reporting'!P966)","v":""},{"$f":"IF('Caseload Reporting'!O966 = \"\",\"\",'Caseload Reporting'!O966)","v":""},{"$f":"IF('Caseload Reporting'!Q966 = \"\",\"\",'Caseload Reporting'!Q966)","v":""},{"$f":"IF('Caseload Reporting'!R966 = \"\",\"\",'Caseload Reporting'!R966)","v":""},{"$f":"IF('Caseload Reporting'!E966 = \"\",\"\",'Caseload Reporting'!E966)","v":""},{"$f":"IF('Caseload Reporting'!S966 = \"\",\"\",'Caseload Reporting'!S966)","v":""}]
[{"$f":"IF('Caseload Reporting'!A967 = \"\",\"\",'Caseload Reporting'!A967)","v":""},{"$f":"IF('Caseload Reporting'!B967 = \"\",\"\",'Caseload Reporting'!B967)","v":""},{"$f":"IF('Caseload Reporting'!C967 = \"\",\"\",'Caseload Reporting'!C967)","v":""},{"$f":"IF('Caseload Reporting'!D967 = \"\",\"\",'Caseload Reporting'!D967)","v":""},{"$f":"IF('Caseload Reporting'!G967 = \"\",\"\",'Caseload Reporting'!G967)","v":""},{"$f":"IF('Caseload Reporting'!H967 = \"\",\"\",'Caseload Reporting'!H967)","v":""},{"$f":"IF('Caseload Reporting'!I967 = \"\",\"\",'Caseload Reporting'!I967)","v":""},{"$f":"IF('Caseload Reporting'!J967 = \"\",\"\",'Caseload Reporting'!J967)","v":""},{"$f":"IF('Caseload Reporting'!K967 = \"\",\"\",'Caseload Reporting'!K967)","v":""},{"$f":"IF('Caseload Reporting'!L967 = \"\",\"\",'Caseload Reporting'!L967)","v":""},{"$f":"IF('Caseload Reporting'!M967 = \"\",\"\",'Caseload Reporting'!M967)","v":""},{"$f":"IF('Caseload Reporting'!N967 = \"\",\"\",'Caseload Reporting'!N967)","v":""},{"$f":"IF('Caseload Reporting'!P967 = \"\",\"\",'Caseload Reporting'!P967)","v":""},{"$f":"IF('Caseload Reporting'!O967 = \"\",\"\",'Caseload Reporting'!O967)","v":""},{"$f":"IF('Caseload Reporting'!Q967 = \"\",\"\",'Caseload Reporting'!Q967)","v":""},{"$f":"IF('Caseload Reporting'!R967 = \"\",\"\",'Caseload Reporting'!R967)","v":""},{"$f":"IF('Caseload Reporting'!E967 = \"\",\"\",'Caseload Reporting'!E967)","v":""},{"$f":"IF('Caseload Reporting'!S967 = \"\",\"\",'Caseload Reporting'!S967)","v":""}]
[{"$f":"IF('Caseload Reporting'!A968 = \"\",\"\",'Caseload Reporting'!A968)","v":""},{"$f":"IF('Caseload Reporting'!B968 = \"\",\"\",'Caseload Reporting'!B968)","v":""},{"$f":"IF('Caseload Reporting'!C968 = \"\",\"\",'Caseload Reporting'!C968)","v":""},{"$f":"IF('Caseload Reporting'!D968 = \"\",\"\",'Caseload Reporting'!D968)","v":""},{"$f":"IF('Caseload Reporting'!G968 = \"\",\"\",'Caseload Reporting'!G968)","v":""},{"$f":"IF('Caseload Reporting'!H968 = \"\",\"\",'Caseload Reporting'!H968)","v":""},{"$f":"IF('Caseload Reporting'!I968 = \"\",\"\",'Caseload Reporting'!I968)","v":""},{"$f":"IF('Caseload Reporting'!J968 = \"\",\"\",'Caseload Reporting'!J968)","v":""},{"$f":"IF('Caseload Reporting'!K968 = \"\",\"\",'Caseload Reporting'!K968)","v":""},{"$f":"IF('Caseload Reporting'!L968 = \"\",\"\",'Caseload Reporting'!L968)","v":""},{"$f":"IF('Caseload Reporting'!M968 = \"\",\"\",'Caseload Reporting'!M968)","v":""},{"$f":"IF('Caseload Reporting'!N968 = \"\",\"\",'Caseload Reporting'!N968)","v":""},{"$f":"IF('Caseload Reporting'!P968 = \"\",\"\",'Caseload Reporting'!P968)","v":""},{"$f":"IF('Caseload Reporting'!O968 = \"\",\"\",'Caseload Reporting'!O968)","v":""},{"$f":"IF('Caseload Reporting'!Q968 = \"\",\"\",'Caseload Reporting'!Q968)","v":""},{"$f":"IF('Caseload Reporting'!R968 = \"\",\"\",'Caseload Reporting'!R968)","v":""},{"$f":"IF('Caseload Reporting'!E968 = \"\",\"\",'Caseload Reporting'!E968)","v":""},{"$f":"IF('Caseload Reporting'!S968 = \"\",\"\",'Caseload Reporting'!S968)","v":""}]
[{"$f":"IF('Caseload Reporting'!A969 = \"\",\"\",'Caseload Reporting'!A969)","v":""},{"$f":"IF('Caseload Reporting'!B969 = \"\",\"\",'Caseload Reporting'!B969)","v":""},{"$f":"IF('Caseload Reporting'!C969 = \"\",\"\",'Caseload Reporting'!C969)","v":""},{"$f":"IF('Caseload Reporting'!D969 = \"\",\"\",'Caseload Reporting'!D969)","v":""},{"$f":"IF('Caseload Reporting'!G969 = \"\",\"\",'Caseload Reporting'!G969)","v":""},{"$f":"IF('Caseload Reporting'!H969 = \"\",\"\",'Caseload Reporting'!H969)","v":""},{"$f":"IF('Caseload Reporting'!I969 = \"\",\"\",'Caseload Reporting'!I969)","v":""},{"$f":"IF('Caseload Reporting'!J969 = \"\",\"\",'Caseload Reporting'!J969)","v":""},{"$f":"IF('Caseload Reporting'!K969 = \"\",\"\",'Caseload Reporting'!K969)","v":""},{"$f":"IF('Caseload Reporting'!L969 = \"\",\"\",'Caseload Reporting'!L969)","v":""},{"$f":"IF('Caseload Reporting'!M969 = \"\",\"\",'Caseload Reporting'!M969)","v":""},{"$f":"IF('Caseload Reporting'!N969 = \"\",\"\",'Caseload Reporting'!N969)","v":""},{"$f":"IF('Caseload Reporting'!P969 = \"\",\"\",'Caseload Reporting'!P969)","v":""},{"$f":"IF('Caseload Reporting'!O969 = \"\",\"\",'Caseload Reporting'!O969)","v":""},{"$f":"IF('Caseload Reporting'!Q969 = \"\",\"\",'Caseload Reporting'!Q969)","v":""},{"$f":"IF('Caseload Reporting'!R969 = \"\",\"\",'Caseload Reporting'!R969)","v":""},{"$f":"IF('Caseload Reporting'!E969 = \"\",\"\",'Caseload Reporting'!E969)","v":""},{"$f":"IF('Caseload Reporting'!S969 = \"\",\"\",'Caseload Reporting'!S969)","v":""}]
[{"$f":"IF('Caseload Reporting'!A970 = \"\",\"\",'Caseload Reporting'!A970)","v":""},{"$f":"IF('Caseload Reporting'!B970 = \"\",\"\",'Caseload Reporting'!B970)","v":""},{"$f":"IF('Caseload Reporting'!C970 = \"\",\"\",'Caseload Reporting'!C970)","v":""},{"$f":"IF('Caseload Reporting'!D970 = \"\",\"\",'Caseload Reporting'!D970)","v":""},{"$f":"IF('Caseload Reporting'!G970 = \"\",\"\",'Caseload Reporting'!G970)","v":""},{"$f":"IF('Caseload Reporting'!H970 = \"\",\"\",'Caseload Reporting'!H970)","v":""},{"$f":"IF('Caseload Reporting'!I970 = \"\",\"\",'Caseload Reporting'!I970)","v":""},{"$f":"IF('Caseload Reporting'!J970 = \"\",\"\",'Caseload Reporting'!J970)","v":""},{"$f":"IF('Caseload Reporting'!K970 = \"\",\"\",'Caseload Reporting'!K970)","v":""},{"$f":"IF('Caseload Reporting'!L970 = \"\",\"\",'Caseload Reporting'!L970)","v":""},{"$f":"IF('Caseload Reporting'!M970 = \"\",\"\",'Caseload Reporting'!M970)","v":""},{"$f":"IF('Caseload Reporting'!N970 = \"\",\"\",'Caseload Reporting'!N970)","v":""},{"$f":"IF('Caseload Reporting'!P970 = \"\",\"\",'Caseload Reporting'!P970)","v":""},{"$f":"IF('Caseload Reporting'!O970 = \"\",\"\",'Caseload Reporting'!O970)","v":""},{"$f":"IF('Caseload Reporting'!Q970 = \"\",\"\",'Caseload Reporting'!Q970)","v":""},{"$f":"IF('Caseload Reporting'!R970 = \"\",\"\",'Caseload Reporting'!R970)","v":""},{"$f":"IF('Caseload Reporting'!E970 = \"\",\"\",'Caseload Reporting'!E970)","v":""},{"$f":"IF('Caseload Reporting'!S970 = \"\",\"\",'Caseload Reporting'!S970)","v":""}]
[{"$f":"IF('Caseload Reporting'!A971 = \"\",\"\",'Caseload Reporting'!A971)","v":""},{"$f":"IF('Caseload Reporting'!B971 = \"\",\"\",'Caseload Reporting'!B971)","v":""},{"$f":"IF('Caseload Reporting'!C971 = \"\",\"\",'Caseload Reporting'!C971)","v":""},{"$f":"IF('Caseload Reporting'!D971 = \"\",\"\",'Caseload Reporting'!D971)","v":""},{"$f":"IF('Caseload Reporting'!G971 = \"\",\"\",'Caseload Reporting'!G971)","v":""},{"$f":"IF('Caseload Reporting'!H971 = \"\",\"\",'Caseload Reporting'!H971)","v":""},{"$f":"IF('Caseload Reporting'!I971 = \"\",\"\",'Caseload Reporting'!I971)","v":""},{"$f":"IF('Caseload Reporting'!J971 = \"\",\"\",'Caseload Reporting'!J971)","v":""},{"$f":"IF('Caseload Reporting'!K971 = \"\",\"\",'Caseload Reporting'!K971)","v":""},{"$f":"IF('Caseload Reporting'!L971 = \"\",\"\",'Caseload Reporting'!L971)","v":""},{"$f":"IF('Caseload Reporting'!M971 = \"\",\"\",'Caseload Reporting'!M971)","v":""},{"$f":"IF('Caseload Reporting'!N971 = \"\",\"\",'Caseload Reporting'!N971)","v":""},{"$f":"IF('Caseload Reporting'!P971 = \"\",\"\",'Caseload Reporting'!P971)","v":""},{"$f":"IF('Caseload Reporting'!O971 = \"\",\"\",'Caseload Reporting'!O971)","v":""},{"$f":"IF('Caseload Reporting'!Q971 = \"\",\"\",'Caseload Reporting'!Q971)","v":""},{"$f":"IF('Caseload Reporting'!R971 = \"\",\"\",'Caseload Reporting'!R971)","v":""},{"$f":"IF('Caseload Reporting'!E971 = \"\",\"\",'Caseload Reporting'!E971)","v":""},{"$f":"IF('Caseload Reporting'!S971 = \"\",\"\",'Caseload Reporting'!S971)","v":""}]
[{"$f":"IF('Caseload Reporting'!A972 = \"\",\"\",'Caseload Reporting'!A972)","v":""},{"$f":"IF('Caseload Reporting'!B972 = \"\",\"\",'Caseload Reporting'!B972)","v":""},{"$f":"IF('Caseload Reporting'!C972 = \"\",\"\",'Caseload Reporting'!C972)","v":""},{"$f":"IF('Caseload Reporting'!D972 = \"\",\"\",'Caseload Reporting'!D972)","v":""},{"$f":"IF('Caseload Reporting'!G972 = \"\",\"\",'Caseload Reporting'!G972)","v":""},{"$f":"IF('Caseload Reporting'!H972 = \"\",\"\",'Caseload Reporting'!H972)","v":""},{"$f":"IF('Caseload Reporting'!I972 = \"\",\"\",'Caseload Reporting'!I972)","v":""},{"$f":"IF('Caseload Reporting'!J972 = \"\",\"\",'Caseload Reporting'!J972)","v":""},{"$f":"IF('Caseload Reporting'!K972 = \"\",\"\",'Caseload Reporting'!K972)","v":""},{"$f":"IF('Caseload Reporting'!L972 = \"\",\"\",'Caseload Reporting'!L972)","v":""},{"$f":"IF('Caseload Reporting'!M972 = \"\",\"\",'Caseload Reporting'!M972)","v":""},{"$f":"IF('Caseload Reporting'!N972 = \"\",\"\",'Caseload Reporting'!N972)","v":""},{"$f":"IF('Caseload Reporting'!P972 = \"\",\"\",'Caseload Reporting'!P972)","v":""},{"$f":"IF('Caseload Reporting'!O972 = \"\",\"\",'Caseload Reporting'!O972)","v":""},{"$f":"IF('Caseload Reporting'!Q972 = \"\",\"\",'Caseload Reporting'!Q972)","v":""},{"$f":"IF('Caseload Reporting'!R972 = \"\",\"\",'Caseload Reporting'!R972)","v":""},{"$f":"IF('Caseload Reporting'!E972 = \"\",\"\",'Caseload Reporting'!E972)","v":""},{"$f":"IF('Caseload Reporting'!S972 = \"\",\"\",'Caseload Reporting'!S972)","v":""}]
[{"$f":"IF('Caseload Reporting'!A973 = \"\",\"\",'Caseload Reporting'!A973)","v":""},{"$f":"IF('Caseload Reporting'!B973 = \"\",\"\",'Caseload Reporting'!B973)","v":""},{"$f":"IF('Caseload Reporting'!C973 = \"\",\"\",'Caseload Reporting'!C973)","v":""},{"$f":"IF('Caseload Reporting'!D973 = \"\",\"\",'Caseload Reporting'!D973)","v":""},{"$f":"IF('Caseload Reporting'!G973 = \"\",\"\",'Caseload Reporting'!G973)","v":""},{"$f":"IF('Caseload Reporting'!H973 = \"\",\"\",'Caseload Reporting'!H973)","v":""},{"$f":"IF('Caseload Reporting'!I973 = \"\",\"\",'Caseload Reporting'!I973)","v":""},{"$f":"IF('Caseload Reporting'!J973 = \"\",\"\",'Caseload Reporting'!J973)","v":""},{"$f":"IF('Caseload Reporting'!K973 = \"\",\"\",'Caseload Reporting'!K973)","v":""},{"$f":"IF('Caseload Reporting'!L973 = \"\",\"\",'Caseload Reporting'!L973)","v":""},{"$f":"IF('Caseload Reporting'!M973 = \"\",\"\",'Caseload Reporting'!M973)","v":""},{"$f":"IF('Caseload Reporting'!N973 = \"\",\"\",'Caseload Reporting'!N973)","v":""},{"$f":"IF('Caseload Reporting'!P973 = \"\",\"\",'Caseload Reporting'!P973)","v":""},{"$f":"IF('Caseload Reporting'!O973 = \"\",\"\",'Caseload Reporting'!O973)","v":""},{"$f":"IF('Caseload Reporting'!Q973 = \"\",\"\",'Caseload Reporting'!Q973)","v":""},{"$f":"IF('Caseload Reporting'!R973 = \"\",\"\",'Caseload Reporting'!R973)","v":""},{"$f":"IF('Caseload Reporting'!E973 = \"\",\"\",'Caseload Reporting'!E973)","v":""},{"$f":"IF('Caseload Reporting'!S973 = \"\",\"\",'Caseload Reporting'!S973)","v":""}]
[{"$f":"IF('Caseload Reporting'!A974 = \"\",\"\",'Caseload Reporting'!A974)","v":""},{"$f":"IF('Caseload Reporting'!B974 = \"\",\"\",'Caseload Reporting'!B974)","v":""},{"$f":"IF('Caseload Reporting'!C974 = \"\",\"\",'Caseload Reporting'!C974)","v":""},{"$f":"IF('Caseload Reporting'!D974 = \"\",\"\",'Caseload Reporting'!D974)","v":""},{"$f":"IF('Caseload Reporting'!G974 = \"\",\"\",'Caseload Reporting'!G974)","v":""},{"$f":"IF('Caseload Reporting'!H974 = \"\",\"\",'Caseload Reporting'!H974)","v":""},{"$f":"IF('Caseload Reporting'!I974 = \"\",\"\",'Caseload Reporting'!I974)","v":""},{"$f":"IF('Caseload Reporting'!J974 = \"\",\"\",'Caseload Reporting'!J974)","v":""},{"$f":"IF('Caseload Reporting'!K974 = \"\",\"\",'Caseload Reporting'!K974)","v":""},{"$f":"IF('Caseload Reporting'!L974 = \"\",\"\",'Caseload Reporting'!L974)","v":""},{"$f":"IF('Caseload Reporting'!M974 = \"\",\"\",'Caseload Reporting'!M974)","v":""},{"$f":"IF('Caseload Reporting'!N974 = \"\",\"\",'Caseload Reporting'!N974)","v":""},{"$f":"IF('Caseload Reporting'!P974 = \"\",\"\",'Caseload Reporting'!P974)","v":""},{"$f":"IF('Caseload Reporting'!O974 = \"\",\"\",'Caseload Reporting'!O974)","v":""},{"$f":"IF('Caseload Reporting'!Q974 = \"\",\"\",'Caseload Reporting'!Q974)","v":""},{"$f":"IF('Caseload Reporting'!R974 = \"\",\"\",'Caseload Reporting'!R974)","v":""},{"$f":"IF('Caseload Reporting'!E974 = \"\",\"\",'Caseload Reporting'!E974)","v":""},{"$f":"IF('Caseload Reporting'!S974 = \"\",\"\",'Caseload Reporting'!S974)","v":""}]
[{"$f":"IF('Caseload Reporting'!A975 = \"\",\"\",'Caseload Reporting'!A975)","v":""},{"$f":"IF('Caseload Reporting'!B975 = \"\",\"\",'Caseload Reporting'!B975)","v":""},{"$f":"IF('Caseload Reporting'!C975 = \"\",\"\",'Caseload Reporting'!C975)","v":""},{"$f":"IF('Caseload Reporting'!D975 = \"\",\"\",'Caseload Reporting'!D975)","v":""},{"$f":"IF('Caseload Reporting'!G975 = \"\",\"\",'Caseload Reporting'!G975)","v":""},{"$f":"IF('Caseload Reporting'!H975 = \"\",\"\",'Caseload Reporting'!H975)","v":""},{"$f":"IF('Caseload Reporting'!I975 = \"\",\"\",'Caseload Reporting'!I975)","v":""},{"$f":"IF('Caseload Reporting'!J975 = \"\",\"\",'Caseload Reporting'!J975)","v":""},{"$f":"IF('Caseload Reporting'!K975 = \"\",\"\",'Caseload Reporting'!K975)","v":""},{"$f":"IF('Caseload Reporting'!L975 = \"\",\"\",'Caseload Reporting'!L975)","v":""},{"$f":"IF('Caseload Reporting'!M975 = \"\",\"\",'Caseload Reporting'!M975)","v":""},{"$f":"IF('Caseload Reporting'!N975 = \"\",\"\",'Caseload Reporting'!N975)","v":""},{"$f":"IF('Caseload Reporting'!P975 = \"\",\"\",'Caseload Reporting'!P975)","v":""},{"$f":"IF('Caseload Reporting'!O975 = \"\",\"\",'Caseload Reporting'!O975)","v":""},{"$f":"IF('Caseload Reporting'!Q975 = \"\",\"\",'Caseload Reporting'!Q975)","v":""},{"$f":"IF('Caseload Reporting'!R975 = \"\",\"\",'Caseload Reporting'!R975)","v":""},{"$f":"IF('Caseload Reporting'!E975 = \"\",\"\",'Caseload Reporting'!E975)","v":""},{"$f":"IF('Caseload Reporting'!S975 = \"\",\"\",'Caseload Reporting'!S975)","v":""}]
[{"$f":"IF('Caseload Reporting'!A976 = \"\",\"\",'Caseload Reporting'!A976)","v":""},{"$f":"IF('Caseload Reporting'!B976 = \"\",\"\",'Caseload Reporting'!B976)","v":""},{"$f":"IF('Caseload Reporting'!C976 = \"\",\"\",'Caseload Reporting'!C976)","v":""},{"$f":"IF('Caseload Reporting'!D976 = \"\",\"\",'Caseload Reporting'!D976)","v":""},{"$f":"IF('Caseload Reporting'!G976 = \"\",\"\",'Caseload Reporting'!G976)","v":""},{"$f":"IF('Caseload Reporting'!H976 = \"\",\"\",'Caseload Reporting'!H976)","v":""},{"$f":"IF('Caseload Reporting'!I976 = \"\",\"\",'Caseload Reporting'!I976)","v":""},{"$f":"IF('Caseload Reporting'!J976 = \"\",\"\",'Caseload Reporting'!J976)","v":""},{"$f":"IF('Caseload Reporting'!K976 = \"\",\"\",'Caseload Reporting'!K976)","v":""},{"$f":"IF('Caseload Reporting'!L976 = \"\",\"\",'Caseload Reporting'!L976)","v":""},{"$f":"IF('Caseload Reporting'!M976 = \"\",\"\",'Caseload Reporting'!M976)","v":""},{"$f":"IF('Caseload Reporting'!N976 = \"\",\"\",'Caseload Reporting'!N976)","v":""},{"$f":"IF('Caseload Reporting'!P976 = \"\",\"\",'Caseload Reporting'!P976)","v":""},{"$f":"IF('Caseload Reporting'!O976 = \"\",\"\",'Caseload Reporting'!O976)","v":""},{"$f":"IF('Caseload Reporting'!Q976 = \"\",\"\",'Caseload Reporting'!Q976)","v":""},{"$f":"IF('Caseload Reporting'!R976 = \"\",\"\",'Caseload Reporting'!R976)","v":""},{"$f":"IF('Caseload Reporting'!E976 = \"\",\"\",'Caseload Reporting'!E976)","v":""},{"$f":"IF('Caseload Reporting'!S976 = \"\",\"\",'Caseload Reporting'!S976)","v":""}]
[{"$f":"IF('Caseload Reporting'!A977 = \"\",\"\",'Caseload Reporting'!A977)","v":""},{"$f":"IF('Caseload Reporting'!B977 = \"\",\"\",'Caseload Reporting'!B977)","v":""},{"$f":"IF('Caseload Reporting'!C977 = \"\",\"\",'Caseload Reporting'!C977)","v":""},{"$f":"IF('Caseload Reporting'!D977 = \"\",\"\",'Caseload Reporting'!D977)","v":""},{"$f":"IF('Caseload Reporting'!G977 = \"\",\"\",'Caseload Reporting'!G977)","v":""},{"$f":"IF('Caseload Reporting'!H977 = \"\",\"\",'Caseload Reporting'!H977)","v":""},{"$f":"IF('Caseload Reporting'!I977 = \"\",\"\",'Caseload Reporting'!I977)","v":""},{"$f":"IF('Caseload Reporting'!J977 = \"\",\"\",'Caseload Reporting'!J977)","v":""},{"$f":"IF('Caseload Reporting'!K977 = \"\",\"\",'Caseload Reporting'!K977)","v":""},{"$f":"IF('Caseload Reporting'!L977 = \"\",\"\",'Caseload Reporting'!L977)","v":""},{"$f":"IF('Caseload Reporting'!M977 = \"\",\"\",'Caseload Reporting'!M977)","v":""},{"$f":"IF('Caseload Reporting'!N977 = \"\",\"\",'Caseload Reporting'!N977)","v":""},{"$f":"IF('Caseload Reporting'!P977 = \"\",\"\",'Caseload Reporting'!P977)","v":""},{"$f":"IF('Caseload Reporting'!O977 = \"\",\"\",'Caseload Reporting'!O977)","v":""},{"$f":"IF('Caseload Reporting'!Q977 = \"\",\"\",'Caseload Reporting'!Q977)","v":""},{"$f":"IF('Caseload Reporting'!R977 = \"\",\"\",'Caseload Reporting'!R977)","v":""},{"$f":"IF('Caseload Reporting'!E977 = \"\",\"\",'Caseload Reporting'!E977)","v":""},{"$f":"IF('Caseload Reporting'!S977 = \"\",\"\",'Caseload Reporting'!S977)","v":""}]
[{"$f":"IF('Caseload Reporting'!A978 = \"\",\"\",'Caseload Reporting'!A978)","v":""},{"$f":"IF('Caseload Reporting'!B978 = \"\",\"\",'Caseload Reporting'!B978)","v":""},{"$f":"IF('Caseload Reporting'!C978 = \"\",\"\",'Caseload Reporting'!C978)","v":""},{"$f":"IF('Caseload Reporting'!D978 = \"\",\"\",'Caseload Reporting'!D978)","v":""},{"$f":"IF('Caseload Reporting'!G978 = \"\",\"\",'Caseload Reporting'!G978)","v":""},{"$f":"IF('Caseload Reporting'!H978 = \"\",\"\",'Caseload Reporting'!H978)","v":""},{"$f":"IF('Caseload Reporting'!I978 = \"\",\"\",'Caseload Reporting'!I978)","v":""},{"$f":"IF('Caseload Reporting'!J978 = \"\",\"\",'Caseload Reporting'!J978)","v":""},{"$f":"IF('Caseload Reporting'!K978 = \"\",\"\",'Caseload Reporting'!K978)","v":""},{"$f":"IF('Caseload Reporting'!L978 = \"\",\"\",'Caseload Reporting'!L978)","v":""},{"$f":"IF('Caseload Reporting'!M978 = \"\",\"\",'Caseload Reporting'!M978)","v":""},{"$f":"IF('Caseload Reporting'!N978 = \"\",\"\",'Caseload Reporting'!N978)","v":""},{"$f":"IF('Caseload Reporting'!P978 = \"\",\"\",'Caseload Reporting'!P978)","v":""},{"$f":"IF('Caseload Reporting'!O978 = \"\",\"\",'Caseload Reporting'!O978)","v":""},{"$f":"IF('Caseload Reporting'!Q978 = \"\",\"\",'Caseload Reporting'!Q978)","v":""},{"$f":"IF('Caseload Reporting'!R978 = \"\",\"\",'Caseload Reporting'!R978)","v":""},{"$f":"IF('Caseload Reporting'!E978 = \"\",\"\",'Caseload Reporting'!E978)","v":""},{"$f":"IF('Caseload Reporting'!S978 = \"\",\"\",'Caseload Reporting'!S978)","v":""}]
[{"$f":"IF('Caseload Reporting'!A979 = \"\",\"\",'Caseload Reporting'!A979)","v":""},{"$f":"IF('Caseload Reporting'!B979 = \"\",\"\",'Caseload Reporting'!B979)","v":""},{"$f":"IF('Caseload Reporting'!C979 = \"\",\"\",'Caseload Reporting'!C979)","v":""},{"$f":"IF('Caseload Reporting'!D979 = \"\",\"\",'Caseload Reporting'!D979)","v":""},{"$f":"IF('Caseload Reporting'!G979 = \"\",\"\",'Caseload Reporting'!G979)","v":""},{"$f":"IF('Caseload Reporting'!H979 = \"\",\"\",'Caseload Reporting'!H979)","v":""},{"$f":"IF('Caseload Reporting'!I979 = \"\",\"\",'Caseload Reporting'!I979)","v":""},{"$f":"IF('Caseload Reporting'!J979 = \"\",\"\",'Caseload Reporting'!J979)","v":""},{"$f":"IF('Caseload Reporting'!K979 = \"\",\"\",'Caseload Reporting'!K979)","v":""},{"$f":"IF('Caseload Reporting'!L979 = \"\",\"\",'Caseload Reporting'!L979)","v":""},{"$f":"IF('Caseload Reporting'!M979 = \"\",\"\",'Caseload Reporting'!M979)","v":""},{"$f":"IF('Caseload Reporting'!N979 = \"\",\"\",'Caseload Reporting'!N979)","v":""},{"$f":"IF('Caseload Reporting'!P979 = \"\",\"\",'Caseload Reporting'!P979)","v":""},{"$f":"IF('Caseload Reporting'!O979 = \"\",\"\",'Caseload Reporting'!O979)","v":""},{"$f":"IF('Caseload Reporting'!Q979 = \"\",\"\",'Caseload Reporting'!Q979)","v":""},{"$f":"IF('Caseload Reporting'!R979 = \"\",\"\",'Caseload Reporting'!R979)","v":""},{"$f":"IF('Caseload Reporting'!E979 = \"\",\"\",'Caseload Reporting'!E979)","v":""},{"$f":"IF('Caseload Reporting'!S979 = \"\",\"\",'Caseload Reporting'!S979)","v":""}]
[{"$f":"IF('Caseload Reporting'!A980 = \"\",\"\",'Caseload Reporting'!A980)","v":""},{"$f":"IF('Caseload Reporting'!B980 = \"\",\"\",'Caseload Reporting'!B980)","v":""},{"$f":"IF('Caseload Reporting'!C980 = \"\",\"\",'Caseload Reporting'!C980)","v":""},{"$f":"IF('Caseload Reporting'!D980 = \"\",\"\",'Caseload Reporting'!D980)","v":""},{"$f":"IF('Caseload Reporting'!G980 = \"\",\"\",'Caseload Reporting'!G980)","v":""},{"$f":"IF('Caseload Reporting'!H980 = \"\",\"\",'Caseload Reporting'!H980)","v":""},{"$f":"IF('Caseload Reporting'!I980 = \"\",\"\",'Caseload Reporting'!I980)","v":""},{"$f":"IF('Caseload Reporting'!J980 = \"\",\"\",'Caseload Reporting'!J980)","v":""},{"$f":"IF('Caseload Reporting'!K980 = \"\",\"\",'Caseload Reporting'!K980)","v":""},{"$f":"IF('Caseload Reporting'!L980 = \"\",\"\",'Caseload Reporting'!L980)","v":""},{"$f":"IF('Caseload Reporting'!M980 = \"\",\"\",'Caseload Reporting'!M980)","v":""},{"$f":"IF('Caseload Reporting'!N980 = \"\",\"\",'Caseload Reporting'!N980)","v":""},{"$f":"IF('Caseload Reporting'!P980 = \"\",\"\",'Caseload Reporting'!P980)","v":""},{"$f":"IF('Caseload Reporting'!O980 = \"\",\"\",'Caseload Reporting'!O980)","v":""},{"$f":"IF('Caseload Reporting'!Q980 = \"\",\"\",'Caseload Reporting'!Q980)","v":""},{"$f":"IF('Caseload Reporting'!R980 = \"\",\"\",'Caseload Reporting'!R980)","v":""},{"$f":"IF('Caseload Reporting'!E980 = \"\",\"\",'Caseload Reporting'!E980)","v":""},{"$f":"IF('Caseload Reporting'!S980 = \"\",\"\",'Caseload Reporting'!S980)","v":""}]
[{"$f":"IF('Caseload Reporting'!A981 = \"\",\"\",'Caseload Reporting'!A981)","v":""},{"$f":"IF('Caseload Reporting'!B981 = \"\",\"\",'Caseload Reporting'!B981)","v":""},{"$f":"IF('Caseload Reporting'!C981 = \"\",\"\",'Caseload Reporting'!C981)","v":""},{"$f":"IF('Caseload Reporting'!D981 = \"\",\"\",'Caseload Reporting'!D981)","v":""},{"$f":"IF('Caseload Reporting'!G981 = \"\",\"\",'Caseload Reporting'!G981)","v":""},{"$f":"IF('Caseload Reporting'!H981 = \"\",\"\",'Caseload Reporting'!H981)","v":""},{"$f":"IF('Caseload Reporting'!I981 = \"\",\"\",'Caseload Reporting'!I981)","v":""},{"$f":"IF('Caseload Reporting'!J981 = \"\",\"\",'Caseload Reporting'!J981)","v":""},{"$f":"IF('Caseload Reporting'!K981 = \"\",\"\",'Caseload Reporting'!K981)","v":""},{"$f":"IF('Caseload Reporting'!L981 = \"\",\"\",'Caseload Reporting'!L981)","v":""},{"$f":"IF('Caseload Reporting'!M981 = \"\",\"\",'Caseload Reporting'!M981)","v":""},{"$f":"IF('Caseload Reporting'!N981 = \"\",\"\",'Caseload Reporting'!N981)","v":""},{"$f":"IF('Caseload Reporting'!P981 = \"\",\"\",'Caseload Reporting'!P981)","v":""},{"$f":"IF('Caseload Reporting'!O981 = \"\",\"\",'Caseload Reporting'!O981)","v":""},{"$f":"IF('Caseload Reporting'!Q981 = \"\",\"\",'Caseload Reporting'!Q981)","v":""},{"$f":"IF('Caseload Reporting'!R981 = \"\",\"\",'Caseload Reporting'!R981)","v":""},{"$f":"IF('Caseload Reporting'!E981 = \"\",\"\",'Caseload Reporting'!E981)","v":""},{"$f":"IF('Caseload Reporting'!S981 = \"\",\"\",'Caseload Reporting'!S981)","v":""}]
[{"$f":"IF('Caseload Reporting'!A982 = \"\",\"\",'Caseload Reporting'!A982)","v":""},{"$f":"IF('Caseload Reporting'!B982 = \"\",\"\",'Caseload Reporting'!B982)","v":""},{"$f":"IF('Caseload Reporting'!C982 = \"\",\"\",'Caseload Reporting'!C982)","v":""},{"$f":"IF('Caseload Reporting'!D982 = \"\",\"\",'Caseload Reporting'!D982)","v":""},{"$f":"IF('Caseload Reporting'!G982 = \"\",\"\",'Caseload Reporting'!G982)","v":""},{"$f":"IF('Caseload Reporting'!H982 = \"\",\"\",'Caseload Reporting'!H982)","v":""},{"$f":"IF('Caseload Reporting'!I982 = \"\",\"\",'Caseload Reporting'!I982)","v":""},{"$f":"IF('Caseload Reporting'!J982 = \"\",\"\",'Caseload Reporting'!J982)","v":""},{"$f":"IF('Caseload Reporting'!K982 = \"\",\"\",'Caseload Reporting'!K982)","v":""},{"$f":"IF('Caseload Reporting'!L982 = \"\",\"\",'Caseload Reporting'!L982)","v":""},{"$f":"IF('Caseload Reporting'!M982 = \"\",\"\",'Caseload Reporting'!M982)","v":""},{"$f":"IF('Caseload Reporting'!N982 = \"\",\"\",'Caseload Reporting'!N982)","v":""},{"$f":"IF('Caseload Reporting'!P982 = \"\",\"\",'Caseload Reporting'!P982)","v":""},{"$f":"IF('Caseload Reporting'!O982 = \"\",\"\",'Caseload Reporting'!O982)","v":""},{"$f":"IF('Caseload Reporting'!Q982 = \"\",\"\",'Caseload Reporting'!Q982)","v":""},{"$f":"IF('Caseload Reporting'!R982 = \"\",\"\",'Caseload Reporting'!R982)","v":""},{"$f":"IF('Caseload Reporting'!E982 = \"\",\"\",'Caseload Reporting'!E982)","v":""},{"$f":"IF('Caseload Reporting'!S982 = \"\",\"\",'Caseload Reporting'!S982)","v":""}]
[{"$f":"IF('Caseload Reporting'!A983 = \"\",\"\",'Caseload Reporting'!A983)","v":""},{"$f":"IF('Caseload Reporting'!B983 = \"\",\"\",'Caseload Reporting'!B983)","v":""},{"$f":"IF('Caseload Reporting'!C983 = \"\",\"\",'Caseload Reporting'!C983)","v":""},{"$f":"IF('Caseload Reporting'!D983 = \"\",\"\",'Caseload Reporting'!D983)","v":""},{"$f":"IF('Caseload Reporting'!G983 = \"\",\"\",'Caseload Reporting'!G983)","v":""},{"$f":"IF('Caseload Reporting'!H983 = \"\",\"\",'Caseload Reporting'!H983)","v":""},{"$f":"IF('Caseload Reporting'!I983 = \"\",\"\",'Caseload Reporting'!I983)","v":""},{"$f":"IF('Caseload Reporting'!J983 = \"\",\"\",'Caseload Reporting'!J983)","v":""},{"$f":"IF('Caseload Reporting'!K983 = \"\",\"\",'Caseload Reporting'!K983)","v":""},{"$f":"IF('Caseload Reporting'!L983 = \"\",\"\",'Caseload Reporting'!L983)","v":""},{"$f":"IF('Caseload Reporting'!M983 = \"\",\"\",'Caseload Reporting'!M983)","v":""},{"$f":"IF('Caseload Reporting'!N983 = \"\",\"\",'Caseload Reporting'!N983)","v":""},{"$f":"IF('Caseload Reporting'!P983 = \"\",\"\",'Caseload Reporting'!P983)","v":""},{"$f":"IF('Caseload Reporting'!O983 = \"\",\"\",'Caseload Reporting'!O983)","v":""},{"$f":"IF('Caseload Reporting'!Q983 = \"\",\"\",'Caseload Reporting'!Q983)","v":""},{"$f":"IF('Caseload Reporting'!R983 = \"\",\"\",'Caseload Reporting'!R983)","v":""},{"$f":"IF('Caseload Reporting'!E983 = \"\",\"\",'Caseload Reporting'!E983)","v":""},{"$f":"IF('Caseload Reporting'!S983 = \"\",\"\",'Caseload Reporting'!S983)","v":""}]
[{"$f":"IF('Caseload Reporting'!A984 = \"\",\"\",'Caseload Reporting'!A984)","v":""},{"$f":"IF('Caseload Reporting'!B984 = \"\",\"\",'Caseload Reporting'!B984)","v":""},{"$f":"IF('Caseload Reporting'!C984 = \"\",\"\",'Caseload Reporting'!C984)","v":""},{"$f":"IF('Caseload Reporting'!D984 = \"\",\"\",'Caseload Reporting'!D984)","v":""},{"$f":"IF('Caseload Reporting'!G984 = \"\",\"\",'Caseload Reporting'!G984)","v":""},{"$f":"IF('Caseload Reporting'!H984 = \"\",\"\",'Caseload Reporting'!H984)","v":""},{"$f":"IF('Caseload Reporting'!I984 = \"\",\"\",'Caseload Reporting'!I984)","v":""},{"$f":"IF('Caseload Reporting'!J984 = \"\",\"\",'Caseload Reporting'!J984)","v":""},{"$f":"IF('Caseload Reporting'!K984 = \"\",\"\",'Caseload Reporting'!K984)","v":""},{"$f":"IF('Caseload Reporting'!L984 = \"\",\"\",'Caseload Reporting'!L984)","v":""},{"$f":"IF('Caseload Reporting'!M984 = \"\",\"\",'Caseload Reporting'!M984)","v":""},{"$f":"IF('Caseload Reporting'!N984 = \"\",\"\",'Caseload Reporting'!N984)","v":""},{"$f":"IF('Caseload Reporting'!P984 = \"\",\"\",'Caseload Reporting'!P984)","v":""},{"$f":"IF('Caseload Reporting'!O984 = \"\",\"\",'Caseload Reporting'!O984)","v":""},{"$f":"IF('Caseload Reporting'!Q984 = \"\",\"\",'Caseload Reporting'!Q984)","v":""},{"$f":"IF('Caseload Reporting'!R984 = \"\",\"\",'Caseload Reporting'!R984)","v":""},{"$f":"IF('Caseload Reporting'!E984 = \"\",\"\",'Caseload Reporting'!E984)","v":""},{"$f":"IF('Caseload Reporting'!S984 = \"\",\"\",'Caseload Reporting'!S984)","v":""}]
[{"$f":"IF('Caseload Reporting'!A985 = \"\",\"\",'Caseload Reporting'!A985)","v":""},{"$f":"IF('Caseload Reporting'!B985 = \"\",\"\",'Caseload Reporting'!B985)","v":""},{"$f":"IF('Caseload Reporting'!C985 = \"\",\"\",'Caseload Reporting'!C985)","v":""},{"$f":"IF('Caseload Reporting'!D985 = \"\",\"\",'Caseload Reporting'!D985)","v":""},{"$f":"IF('Caseload Reporting'!G985 = \"\",\"\",'Caseload Reporting'!G985)","v":""},{"$f":"IF('Caseload Reporting'!H985 = \"\",\"\",'Caseload Reporting'!H985)","v":""},{"$f":"IF('Caseload Reporting'!I985 = \"\",\"\",'Caseload Reporting'!I985)","v":""},{"$f":"IF('Caseload Reporting'!J985 = \"\",\"\",'Caseload Reporting'!J985)","v":""},{"$f":"IF('Caseload Reporting'!K985 = \"\",\"\",'Caseload Reporting'!K985)","v":""},{"$f":"IF('Caseload Reporting'!L985 = \"\",\"\",'Caseload Reporting'!L985)","v":""},{"$f":"IF('Caseload Reporting'!M985 = \"\",\"\",'Caseload Reporting'!M985)","v":""},{"$f":"IF('Caseload Reporting'!N985 = \"\",\"\",'Caseload Reporting'!N985)","v":""},{"$f":"IF('Caseload Reporting'!P985 = \"\",\"\",'Caseload Reporting'!P985)","v":""},{"$f":"IF('Caseload Reporting'!O985 = \"\",\"\",'Caseload Reporting'!O985)","v":""},{"$f":"IF('Caseload Reporting'!Q985 = \"\",\"\",'Caseload Reporting'!Q985)","v":""},{"$f":"IF('Caseload Reporting'!R985 = \"\",\"\",'Caseload Reporting'!R985)","v":""},{"$f":"IF('Caseload Reporting'!E985 = \"\",\"\",'Caseload Reporting'!E985)","v":""},{"$f":"IF('Caseload Reporting'!S985 = \"\",\"\",'Caseload Reporting'!S985)","v":""}]
[{"$f":"IF('Caseload Reporting'!A986 = \"\",\"\",'Caseload Reporting'!A986)","v":""},{"$f":"IF('Caseload Reporting'!B986 = \"\",\"\",'Caseload Reporting'!B986)","v":""},{"$f":"IF('Caseload Reporting'!C986 = \"\",\"\",'Caseload Reporting'!C986)","v":""},{"$f":"IF('Caseload Reporting'!D986 = \"\",\"\",'Caseload Reporting'!D986)","v":""},{"$f":"IF('Caseload Reporting'!G986 = \"\",\"\",'Caseload Reporting'!G986)","v":""},{"$f":"IF('Caseload Reporting'!H986 = \"\",\"\",'Caseload Reporting'!H986)","v":""},{"$f":"IF('Caseload Reporting'!I986 = \"\",\"\",'Caseload Reporting'!I986)","v":""},{"$f":"IF('Caseload Reporting'!J986 = \"\",\"\",'Caseload Reporting'!J986)","v":""},{"$f":"IF('Caseload Reporting'!K986 = \"\",\"\",'Caseload Reporting'!K986)","v":""},{"$f":"IF('Caseload Reporting'!L986 = \"\",\"\",'Caseload Reporting'!L986)","v":""},{"$f":"IF('Caseload Reporting'!M986 = \"\",\"\",'Caseload Reporting'!M986)","v":""},{"$f":"IF('Caseload Reporting'!N986 = \"\",\"\",'Caseload Reporting'!N986)","v":""},{"$f":"IF('Caseload Reporting'!P986 = \"\",\"\",'Caseload Reporting'!P986)","v":""},{"$f":"IF('Caseload Reporting'!O986 = \"\",\"\",'Caseload Reporting'!O986)","v":""},{"$f":"IF('Caseload Reporting'!Q986 = \"\",\"\",'Caseload Reporting'!Q986)","v":""},{"$f":"IF('Caseload Reporting'!R986 = \"\",\"\",'Caseload Reporting'!R986)","v":""},{"$f":"IF('Caseload Reporting'!E986 = \"\",\"\",'Caseload Reporting'!E986)","v":""},{"$f":"IF('Caseload Reporting'!S986 = \"\",\"\",'Caseload Reporting'!S986)","v":""}]
[{"$f":"IF('Caseload Reporting'!A987 = \"\",\"\",'Caseload Reporting'!A987)","v":""},{"$f":"IF('Caseload Reporting'!B987 = \"\",\"\",'Caseload Reporting'!B987)","v":""},{"$f":"IF('Caseload Reporting'!C987 = \"\",\"\",'Caseload Reporting'!C987)","v":""},{"$f":"IF('Caseload Reporting'!D987 = \"\",\"\",'Caseload Reporting'!D987)","v":""},{"$f":"IF('Caseload Reporting'!G987 = \"\",\"\",'Caseload Reporting'!G987)","v":""},{"$f":"IF('Caseload Reporting'!H987 = \"\",\"\",'Caseload Reporting'!H987)","v":""},{"$f":"IF('Caseload Reporting'!I987 = \"\",\"\",'Caseload Reporting'!I987)","v":""},{"$f":"IF('Caseload Reporting'!J987 = \"\",\"\",'Caseload Reporting'!J987)","v":""},{"$f":"IF('Caseload Reporting'!K987 = \"\",\"\",'Caseload Reporting'!K987)","v":""},{"$f":"IF('Caseload Reporting'!L987 = \"\",\"\",'Caseload Reporting'!L987)","v":""},{"$f":"IF('Caseload Reporting'!M987 = \"\",\"\",'Caseload Reporting'!M987)","v":""},{"$f":"IF('Caseload Reporting'!N987 = \"\",\"\",'Caseload Reporting'!N987)","v":""},{"$f":"IF('Caseload Reporting'!P987 = \"\",\"\",'Caseload Reporting'!P987)","v":""},{"$f":"IF('Caseload Reporting'!O987 = \"\",\"\",'Caseload Reporting'!O987)","v":""},{"$f":"IF('Caseload Reporting'!Q987 = \"\",\"\",'Caseload Reporting'!Q987)","v":""},{"$f":"IF('Caseload Reporting'!R987 = \"\",\"\",'Caseload Reporting'!R987)","v":""},{"$f":"IF('Caseload Reporting'!E987 = \"\",\"\",'Caseload Reporting'!E987)","v":""},{"$f":"IF('Caseload Reporting'!S987 = \"\",\"\",'Caseload Reporting'!S987)","v":""}]
[{"$f":"IF('Caseload Reporting'!A988 = \"\",\"\",'Caseload Reporting'!A988)","v":""},{"$f":"IF('Caseload Reporting'!B988 = \"\",\"\",'Caseload Reporting'!B988)","v":""},{"$f":"IF('Caseload Reporting'!C988 = \"\",\"\",'Caseload Reporting'!C988)","v":""},{"$f":"IF('Caseload Reporting'!D988 = \"\",\"\",'Caseload Reporting'!D988)","v":""},{"$f":"IF('Caseload Reporting'!G988 = \"\",\"\",'Caseload Reporting'!G988)","v":""},{"$f":"IF('Caseload Reporting'!H988 = \"\",\"\",'Caseload Reporting'!H988)","v":""},{"$f":"IF('Caseload Reporting'!I988 = \"\",\"\",'Caseload Reporting'!I988)","v":""},{"$f":"IF('Caseload Reporting'!J988 = \"\",\"\",'Caseload Reporting'!J988)","v":""},{"$f":"IF('Caseload Reporting'!K988 = \"\",\"\",'Caseload Reporting'!K988)","v":""},{"$f":"IF('Caseload Reporting'!L988 = \"\",\"\",'Caseload Reporting'!L988)","v":""},{"$f":"IF('Caseload Reporting'!M988 = \"\",\"\",'Caseload Reporting'!M988)","v":""},{"$f":"IF('Caseload Reporting'!N988 = \"\",\"\",'Caseload Reporting'!N988)","v":""},{"$f":"IF('Caseload Reporting'!P988 = \"\",\"\",'Caseload Reporting'!P988)","v":""},{"$f":"IF('Caseload Reporting'!O988 = \"\",\"\",'Caseload Reporting'!O988)","v":""},{"$f":"IF('Caseload Reporting'!Q988 = \"\",\"\",'Caseload Reporting'!Q988)","v":""},{"$f":"IF('Caseload Reporting'!R988 = \"\",\"\",'Caseload Reporting'!R988)","v":""},{"$f":"IF('Caseload Reporting'!E988 = \"\",\"\",'Caseload Reporting'!E988)","v":""},{"$f":"IF('Caseload Reporting'!S988 = \"\",\"\",'Caseload Reporting'!S988)","v":""}]
[{"$f":"IF('Caseload Reporting'!A989 = \"\",\"\",'Caseload Reporting'!A989)","v":""},{"$f":"IF('Caseload Reporting'!B989 = \"\",\"\",'Caseload Reporting'!B989)","v":""},{"$f":"IF('Caseload Reporting'!C989 = \"\",\"\",'Caseload Reporting'!C989)","v":""},{"$f":"IF('Caseload Reporting'!D989 = \"\",\"\",'Caseload Reporting'!D989)","v":""},{"$f":"IF('Caseload Reporting'!G989 = \"\",\"\",'Caseload Reporting'!G989)","v":""},{"$f":"IF('Caseload Reporting'!H989 = \"\",\"\",'Caseload Reporting'!H989)","v":""},{"$f":"IF('Caseload Reporting'!I989 = \"\",\"\",'Caseload Reporting'!I989)","v":""},{"$f":"IF('Caseload Reporting'!J989 = \"\",\"\",'Caseload Reporting'!J989)","v":""},{"$f":"IF('Caseload Reporting'!K989 = \"\",\"\",'Caseload Reporting'!K989)","v":""},{"$f":"IF('Caseload Reporting'!L989 = \"\",\"\",'Caseload Reporting'!L989)","v":""},{"$f":"IF('Caseload Reporting'!M989 = \"\",\"\",'Caseload Reporting'!M989)","v":""},{"$f":"IF('Caseload Reporting'!N989 = \"\",\"\",'Caseload Reporting'!N989)","v":""},{"$f":"IF('Caseload Reporting'!P989 = \"\",\"\",'Caseload Reporting'!P989)","v":""},{"$f":"IF('Caseload Reporting'!O989 = \"\",\"\",'Caseload Reporting'!O989)","v":""},{"$f":"IF('Caseload Reporting'!Q989 = \"\",\"\",'Caseload Reporting'!Q989)","v":""},{"$f":"IF('Caseload Reporting'!R989 = \"\",\"\",'Caseload Reporting'!R989)","v":""},{"$f":"IF('Caseload Reporting'!E989 = \"\",\"\",'Caseload Reporting'!E989)","v":""},{"$f":"IF('Caseload Reporting'!S989 = \"\",\"\",'Caseload Reporting'!S989)","v":""}]
[{"$f":"IF('Caseload Reporting'!A990 = \"\",\"\",'Caseload Reporting'!A990)","v":""},{"$f":"IF('Caseload Reporting'!B990 = \"\",\"\",'Caseload Reporting'!B990)","v":""},{"$f":"IF('Caseload Reporting'!C990 = \"\",\"\",'Caseload Reporting'!C990)","v":""},{"$f":"IF('Caseload Reporting'!D990 = \"\",\"\",'Caseload Reporting'!D990)","v":""},{"$f":"IF('Caseload Reporting'!G990 = \"\",\"\",'Caseload Reporting'!G990)","v":""},{"$f":"IF('Caseload Reporting'!H990 = \"\",\"\",'Caseload Reporting'!H990)","v":""},{"$f":"IF('Caseload Reporting'!I990 = \"\",\"\",'Caseload Reporting'!I990)","v":""},{"$f":"IF('Caseload Reporting'!J990 = \"\",\"\",'Caseload Reporting'!J990)","v":""},{"$f":"IF('Caseload Reporting'!K990 = \"\",\"\",'Caseload Reporting'!K990)","v":""},{"$f":"IF('Caseload Reporting'!L990 = \"\",\"\",'Caseload Reporting'!L990)","v":""},{"$f":"IF('Caseload Reporting'!M990 = \"\",\"\",'Caseload Reporting'!M990)","v":""},{"$f":"IF('Caseload Reporting'!N990 = \"\",\"\",'Caseload Reporting'!N990)","v":""},{"$f":"IF('Caseload Reporting'!P990 = \"\",\"\",'Caseload Reporting'!P990)","v":""},{"$f":"IF('Caseload Reporting'!O990 = \"\",\"\",'Caseload Reporting'!O990)","v":""},{"$f":"IF('Caseload Reporting'!Q990 = \"\",\"\",'Caseload Reporting'!Q990)","v":""},{"$f":"IF('Caseload Reporting'!R990 = \"\",\"\",'Caseload Reporting'!R990)","v":""},{"$f":"IF('Caseload Reporting'!E990 = \"\",\"\",'Caseload Reporting'!E990)","v":""},{"$f":"IF('Caseload Reporting'!S990 = \"\",\"\",'Caseload Reporting'!S990)","v":""}]
[{"$f":"IF('Caseload Reporting'!A991 = \"\",\"\",'Caseload Reporting'!A991)","v":""},{"$f":"IF('Caseload Reporting'!B991 = \"\",\"\",'Caseload Reporting'!B991)","v":""},{"$f":"IF('Caseload Reporting'!C991 = \"\",\"\",'Caseload Reporting'!C991)","v":""},{"$f":"IF('Caseload Reporting'!D991 = \"\",\"\",'Caseload Reporting'!D991)","v":""},{"$f":"IF('Caseload Reporting'!G991 = \"\",\"\",'Caseload Reporting'!G991)","v":""},{"$f":"IF('Caseload Reporting'!H991 = \"\",\"\",'Caseload Reporting'!H991)","v":""},{"$f":"IF('Caseload Reporting'!I991 = \"\",\"\",'Caseload Reporting'!I991)","v":""},{"$f":"IF('Caseload Reporting'!J991 = \"\",\"\",'Caseload Reporting'!J991)","v":""},{"$f":"IF('Caseload Reporting'!K991 = \"\",\"\",'Caseload Reporting'!K991)","v":""},{"$f":"IF('Caseload Reporting'!L991 = \"\",\"\",'Caseload Reporting'!L991)","v":""},{"$f":"IF('Caseload Reporting'!M991 = \"\",\"\",'Caseload Reporting'!M991)","v":""},{"$f":"IF('Caseload Reporting'!N991 = \"\",\"\",'Caseload Reporting'!N991)","v":""},{"$f":"IF('Caseload Reporting'!P991 = \"\",\"\",'Caseload Reporting'!P991)","v":""},{"$f":"IF('Caseload Reporting'!O991 = \"\",\"\",'Caseload Reporting'!O991)","v":""},{"$f":"IF('Caseload Reporting'!Q991 = \"\",\"\",'Caseload Reporting'!Q991)","v":""},{"$f":"IF('Caseload Reporting'!R991 = \"\",\"\",'Caseload Reporting'!R991)","v":""},{"$f":"IF('Caseload Reporting'!E991 = \"\",\"\",'Caseload Reporting'!E991)","v":""},{"$f":"IF('Caseload Reporting'!S991 = \"\",\"\",'Caseload Reporting'!S991)","v":""}]
[{"$f":"IF('Caseload Reporting'!A992 = \"\",\"\",'Caseload Reporting'!A992)","v":""},{"$f":"IF('Caseload Reporting'!B992 = \"\",\"\",'Caseload Reporting'!B992)","v":""},{"$f":"IF('Caseload Reporting'!C992 = \"\",\"\",'Caseload Reporting'!C992)","v":""},{"$f":"IF('Caseload Reporting'!D992 = \"\",\"\",'Caseload Reporting'!D992)","v":""},{"$f":"IF('Caseload Reporting'!G992 = \"\",\"\",'Caseload Reporting'!G992)","v":""},{"$f":"IF('Caseload Reporting'!H992 = \"\",\"\",'Caseload Reporting'!H992)","v":""},{"$f":"IF('Caseload Reporting'!I992 = \"\",\"\",'Caseload Reporting'!I992)","v":""},{"$f":"IF('Caseload Reporting'!J992 = \"\",\"\",'Caseload Reporting'!J992)","v":""},{"$f":"IF('Caseload Reporting'!K992 = \"\",\"\",'Caseload Reporting'!K992)","v":""},{"$f":"IF('Caseload Reporting'!L992 = \"\",\"\",'Caseload Reporting'!L992)","v":""},{"$f":"IF('Caseload Reporting'!M992 = \"\",\"\",'Caseload Reporting'!M992)","v":""},{"$f":"IF('Caseload Reporting'!N992 = \"\",\"\",'Caseload Reporting'!N992)","v":""},{"$f":"IF('Caseload Reporting'!P992 = \"\",\"\",'Caseload Reporting'!P992)","v":""},{"$f":"IF('Caseload Reporting'!O992 = \"\",\"\",'Caseload Reporting'!O992)","v":""},{"$f":"IF('Caseload Reporting'!Q992 = \"\",\"\",'Caseload Reporting'!Q992)","v":""},{"$f":"IF('Caseload Reporting'!R992 = \"\",\"\",'Caseload Reporting'!R992)","v":""},{"$f":"IF('Caseload Reporting'!E992 = \"\",\"\",'Caseload Reporting'!E992)","v":""},{"$f":"IF('Caseload Reporting'!S992 = \"\",\"\",'Caseload Reporting'!S992)","v":""}]
[{"$f":"IF('Caseload Reporting'!A993 = \"\",\"\",'Caseload Reporting'!A993)","v":""},{"$f":"IF('Caseload Reporting'!B993 = \"\",\"\",'Caseload Reporting'!B993)","v":""},{"$f":"IF('Caseload Reporting'!C993 = \"\",\"\",'Caseload Reporting'!C993)","v":""},{"$f":"IF('Caseload Reporting'!D993 = \"\",\"\",'Caseload Reporting'!D993)","v":""},{"$f":"IF('Caseload Reporting'!G993 = \"\",\"\",'Caseload Reporting'!G993)","v":""},{"$f":"IF('Caseload Reporting'!H993 = \"\",\"\",'Caseload Reporting'!H993)","v":""},{"$f":"IF('Caseload Reporting'!I993 = \"\",\"\",'Caseload Reporting'!I993)","v":""},{"$f":"IF('Caseload Reporting'!J993 = \"\",\"\",'Caseload Reporting'!J993)","v":""},{"$f":"IF('Caseload Reporting'!K993 = \"\",\"\",'Caseload Reporting'!K993)","v":""},{"$f":"IF('Caseload Reporting'!L993 = \"\",\"\",'Caseload Reporting'!L993)","v":""},{"$f":"IF('Caseload Reporting'!M993 = \"\",\"\",'Caseload Reporting'!M993)","v":""},{"$f":"IF('Caseload Reporting'!N993 = \"\",\"\",'Caseload Reporting'!N993)","v":""},{"$f":"IF('Caseload Reporting'!P993 = \"\",\"\",'Caseload Reporting'!P993)","v":""},{"$f":"IF('Caseload Reporting'!O993 = \"\",\"\",'Caseload Reporting'!O993)","v":""},{"$f":"IF('Caseload Reporting'!Q993 = \"\",\"\",'Caseload Reporting'!Q993)","v":""},{"$f":"IF('Caseload Reporting'!R993 = \"\",\"\",'Caseload Reporting'!R993)","v":""},{"$f":"IF('Caseload Reporting'!E993 = \"\",\"\",'Caseload Reporting'!E993)","v":""},{"$f":"IF('Caseload Reporting'!S993 = \"\",\"\",'Caseload Reporting'!S993)","v":""}]
[{"$f":"IF('Caseload Reporting'!A994 = \"\",\"\",'Caseload Reporting'!A994)","v":""},{"$f":"IF('Caseload Reporting'!B994 = \"\",\"\",'Caseload Reporting'!B994)","v":""},{"$f":"IF('Caseload Reporting'!C994 = \"\",\"\",'Caseload Reporting'!C994)","v":""},{"$f":"IF('Caseload Reporting'!D994 = \"\",\"\",'Caseload Reporting'!D994)","v":""},{"$f":"IF('Caseload Reporting'!G994 = \"\",\"\",'Caseload Reporting'!G994)","v":""},{"$f":"IF('Caseload Reporting'!H994 = \"\",\"\",'Caseload Reporting'!H994)","v":""},{"$f":"IF('Caseload Reporting'!I994 = \"\",\"\",'Caseload Reporting'!I994)","v":""},{"$f":"IF('Caseload Reporting'!J994 = \"\",\"\",'Caseload Reporting'!J994)","v":""},{"$f":"IF('Caseload Reporting'!K994 = \"\",\"\",'Caseload Reporting'!K994)","v":""},{"$f":"IF('Caseload Reporting'!L994 = \"\",\"\",'Caseload Reporting'!L994)","v":""},{"$f":"IF('Caseload Reporting'!M994 = \"\",\"\",'Caseload Reporting'!M994)","v":""},{"$f":"IF('Caseload Reporting'!N994 = \"\",\"\",'Caseload Reporting'!N994)","v":""},{"$f":"IF('Caseload Reporting'!P994 = \"\",\"\",'Caseload Reporting'!P994)","v":""},{"$f":"IF('Caseload Reporting'!O994 = \"\",\"\",'Caseload Reporting'!O994)","v":""},{"$f":"IF('Caseload Reporting'!Q994 = \"\",\"\",'Caseload Reporting'!Q994)","v":""},{"$f":"IF('Caseload Reporting'!R994 = \"\",\"\",'Caseload Reporting'!R994)","v":""},{"$f":"IF('Caseload Reporting'!E994 = \"\",\"\",'Caseload Reporting'!E994)","v":""},{"$f":"IF('Caseload Reporting'!S994 = \"\",\"\",'Caseload Reporting'!S994)","v":""}]
[{"$f":"IF('Caseload Reporting'!A995 = \"\",\"\",'Caseload Reporting'!A995)","v":""},{"$f":"IF('Caseload Reporting'!B995 = \"\",\"\",'Caseload Reporting'!B995)","v":""},{"$f":"IF('Caseload Reporting'!C995 = \"\",\"\",'Caseload Reporting'!C995)","v":""},{"$f":"IF('Caseload Reporting'!D995 = \"\",\"\",'Caseload Reporting'!D995)","v":""},{"$f":"IF('Caseload Reporting'!G995 = \"\",\"\",'Caseload Reporting'!G995)","v":""},{"$f":"IF('Caseload Reporting'!H995 = \"\",\"\",'Caseload Reporting'!H995)","v":""},{"$f":"IF('Caseload Reporting'!I995 = \"\",\"\",'Caseload Reporting'!I995)","v":""},{"$f":"IF('Caseload Reporting'!J995 = \"\",\"\",'Caseload Reporting'!J995)","v":""},{"$f":"IF('Caseload Reporting'!K995 = \"\",\"\",'Caseload Reporting'!K995)","v":""},{"$f":"IF('Caseload Reporting'!L995 = \"\",\"\",'Caseload Reporting'!L995)","v":""},{"$f":"IF('Caseload Reporting'!M995 = \"\",\"\",'Caseload Reporting'!M995)","v":""},{"$f":"IF('Caseload Reporting'!N995 = \"\",\"\",'Caseload Reporting'!N995)","v":""},{"$f":"IF('Caseload Reporting'!P995 = \"\",\"\",'Caseload Reporting'!P995)","v":""},{"$f":"IF('Caseload Reporting'!O995 = \"\",\"\",'Caseload Reporting'!O995)","v":""},{"$f":"IF('Caseload Reporting'!Q995 = \"\",\"\",'Caseload Reporting'!Q995)","v":""},{"$f":"IF('Caseload Reporting'!R995 = \"\",\"\",'Caseload Reporting'!R995)","v":""},{"$f":"IF('Caseload Reporting'!E995 = \"\",\"\",'Caseload Reporting'!E995)","v":""},{"$f":"IF('Caseload Reporting'!S995 = \"\",\"\",'Caseload Reporting'!S995)","v":""}]
[{"$f":"IF('Caseload Reporting'!A996 = \"\",\"\",'Caseload Reporting'!A996)","v":""},{"$f":"IF('Caseload Reporting'!B996 = \"\",\"\",'Caseload Reporting'!B996)","v":""},{"$f":"IF('Caseload Reporting'!C996 = \"\",\"\",'Caseload Reporting'!C996)","v":""},{"$f":"IF('Caseload Reporting'!D996 = \"\",\"\",'Caseload Reporting'!D996)","v":""},{"$f":"IF('Caseload Reporting'!G996 = \"\",\"\",'Caseload Reporting'!G996)","v":""},{"$f":"IF('Caseload Reporting'!H996 = \"\",\"\",'Caseload Reporting'!H996)","v":""},{"$f":"IF('Caseload Reporting'!I996 = \"\",\"\",'Caseload Reporting'!I996)","v":""},{"$f":"IF('Caseload Reporting'!J996 = \"\",\"\",'Caseload Reporting'!J996)","v":""},{"$f":"IF('Caseload Reporting'!K996 = \"\",\"\",'Caseload Reporting'!K996)","v":""},{"$f":"IF('Caseload Reporting'!L996 = \"\",\"\",'Caseload Reporting'!L996)","v":""},{"$f":"IF('Caseload Reporting'!M996 = \"\",\"\",'Caseload Reporting'!M996)","v":""},{"$f":"IF('Caseload Reporting'!N996 = \"\",\"\",'Caseload Reporting'!N996)","v":""},{"$f":"IF('Caseload Reporting'!P996 = \"\",\"\",'Caseload Reporting'!P996)","v":""},{"$f":"IF('Caseload Reporting'!O996 = \"\",\"\",'Caseload Reporting'!O996)","v":""},{"$f":"IF('Caseload Reporting'!Q996 = \"\",\"\",'Caseload Reporting'!Q996)","v":""},{"$f":"IF('Caseload Reporting'!R996 = \"\",\"\",'Caseload Reporting'!R996)","v":""},{"$f":"IF('Caseload Reporting'!E996 = \"\",\"\",'Caseload Reporting'!E996)","v":""},{"$f":"IF('Caseload Reporting'!S996 = \"\",\"\",'Caseload Reporting'!S996)","v":""}]
[{"$f":"IF('Caseload Reporting'!A997 = \"\",\"\",'Caseload Reporting'!A997)","v":""},{"$f":"IF('Caseload Reporting'!B997 = \"\",\"\",'Caseload Reporting'!B997)","v":""},{"$f":"IF('Caseload Reporting'!C997 = \"\",\"\",'Caseload Reporting'!C997)","v":""},{"$f":"IF('Caseload Reporting'!D997 = \"\",\"\",'Caseload Reporting'!D997)","v":""},{"$f":"IF('Caseload Reporting'!G997 = \"\",\"\",'Caseload Reporting'!G997)","v":""},{"$f":"IF('Caseload Reporting'!H997 = \"\",\"\",'Caseload Reporting'!H997)","v":""},{"$f":"IF('Caseload Reporting'!I997 = \"\",\"\",'Caseload Reporting'!I997)","v":""},{"$f":"IF('Caseload Reporting'!J997 = \"\",\"\",'Caseload Reporting'!J997)","v":""},{"$f":"IF('Caseload Reporting'!K997 = \"\",\"\",'Caseload Reporting'!K997)","v":""},{"$f":"IF('Caseload Reporting'!L997 = \"\",\"\",'Caseload Reporting'!L997)","v":""},{"$f":"IF('Caseload Reporting'!M997 = \"\",\"\",'Caseload Reporting'!M997)","v":""},{"$f":"IF('Caseload Reporting'!N997 = \"\",\"\",'Caseload Reporting'!N997)","v":""},{"$f":"IF('Caseload Reporting'!P997 = \"\",\"\",'Caseload Reporting'!P997)","v":""},{"$f":"IF('Caseload Reporting'!O997 = \"\",\"\",'Caseload Reporting'!O997)","v":""},{"$f":"IF('Caseload Reporting'!Q997 = \"\",\"\",'Caseload Reporting'!Q997)","v":""},{"$f":"IF('Caseload Reporting'!R997 = \"\",\"\",'Caseload Reporting'!R997)","v":""},{"$f":"IF('Caseload Reporting'!E997 = \"\",\"\",'Caseload Reporting'!E997)","v":""},{"$f":"IF('Caseload Reporting'!S997 = \"\",\"\",'Caseload Reporting'!S997)","v":""}]
[{"$f":"IF('Caseload Reporting'!A998 = \"\",\"\",'Caseload Reporting'!A998)","v":""},{"$f":"IF('Caseload Reporting'!B998 = \"\",\"\",'Caseload Reporting'!B998)","v":""},{"$f":"IF('Caseload Reporting'!C998 = \"\",\"\",'Caseload Reporting'!C998)","v":""},{"$f":"IF('Caseload Reporting'!D998 = \"\",\"\",'Caseload Reporting'!D998)","v":""},{"$f":"IF('Caseload Reporting'!G998 = \"\",\"\",'Caseload Reporting'!G998)","v":""},{"$f":"IF('Caseload Reporting'!H998 = \"\",\"\",'Caseload Reporting'!H998)","v":""},{"$f":"IF('Caseload Reporting'!I998 = \"\",\"\",'Caseload Reporting'!I998)","v":""},{"$f":"IF('Caseload Reporting'!J998 = \"\",\"\",'Caseload Reporting'!J998)","v":""},{"$f":"IF('Caseload Reporting'!K998 = \"\",\"\",'Caseload Reporting'!K998)","v":""},{"$f":"IF('Caseload Reporting'!L998 = \"\",\"\",'Caseload Reporting'!L998)","v":""},{"$f":"IF('Caseload Reporting'!M998 = \"\",\"\",'Caseload Reporting'!M998)","v":""},{"$f":"IF('Caseload Reporting'!N998 = \"\",\"\",'Caseload Reporting'!N998)","v":""},{"$f":"IF('Caseload Reporting'!P998 = \"\",\"\",'Caseload Reporting'!P998)","v":""},{"$f":"IF('Caseload Reporting'!O998 = \"\",\"\",'Caseload Reporting'!O998)","v":""},{"$f":"IF('Caseload Reporting'!Q998 = \"\",\"\",'Caseload Reporting'!Q998)","v":""},{"$f":"IF('Caseload Reporting'!R998 = \"\",\"\",'Caseload Reporting'!R998)","v":""},{"$f":"IF('Caseload Reporting'!E998 = \"\",\"\",'Caseload Reporting'!E998)","v":""},{"$f":"IF('Caseload Reporting'!S998 = \"\",\"\",'Caseload Reporting'!S998)","v":""}]
[{"$f":"IF('Caseload Reporting'!A999 = \"\",\"\",'Caseload Reporting'!A999)","v":""},{"$f":"IF('Caseload Reporting'!B999 = \"\",\"\",'Caseload Reporting'!B999)","v":""},{"$f":"IF('Caseload Reporting'!C999 = \"\",\"\",'Caseload Reporting'!C999)","v":""},{"$f":"IF('Caseload Reporting'!D999 = \"\",\"\",'Caseload Reporting'!D999)","v":""},{"$f":"IF('Caseload Reporting'!G999 = \"\",\"\",'Caseload Reporting'!G999)","v":""},{"$f":"IF('Caseload Reporting'!H999 = \"\",\"\",'Caseload Reporting'!H999)","v":""},{"$f":"IF('Caseload Reporting'!I999 = \"\",\"\",'Caseload Reporting'!I999)","v":""},{"$f":"IF('Caseload Reporting'!J999 = \"\",\"\",'Caseload Reporting'!J999)","v":""},{"$f":"IF('Caseload Reporting'!K999 = \"\",\"\",'Caseload Reporting'!K999)","v":""},{"$f":"IF('Caseload Reporting'!L999 = \"\",\"\",'Caseload Reporting'!L999)","v":""},{"$f":"IF('Caseload Reporting'!M999 = \"\",\"\",'Caseload Reporting'!M999)","v":""},{"$f":"IF('Caseload Reporting'!N999 = \"\",\"\",'Caseload Reporting'!N999)","v":""},{"$f":"IF('Caseload Reporting'!P999 = \"\",\"\",'Caseload Reporting'!P999)","v":""},{"$f":"IF('Caseload Reporting'!O999 = \"\",\"\",'Caseload Reporting'!O999)","v":""},{"$f":"IF('Caseload Reporting'!Q999 = \"\",\"\",'Caseload Reporting'!Q999)","v":""},{"$f":"IF('Caseload Reporting'!R999 = \"\",\"\",'Caseload Reporting'!R999)","v":""},{"$f":"IF('Caseload Reporting'!E999 = \"\",\"\",'Caseload Reporting'!E999)","v":""},{"$f":"IF('Caseload Reporting'!S999 = \"\",\"\",'Caseload Reporting'!S999)","v":""}]
[{"$f":"IF('Caseload Reporting'!A1000 = \"\",\"\",'Caseload Reporting'!A1000)","v":""},{"$f":"IF('Caseload Reporting'!B1000 = \"\",\"\",'Caseload Reporting'!B1000)","v":""},{"$f":"IF('Caseload Reporting'!C1000 = \"\",\"\",'Caseload Reporting'!C1000)","v":""},{"$f":"IF('Caseload Reporting'!D1000 = \"\",\"\",'Caseload Reporting'!D1000)","v":""},{"$f":"IF('Caseload Reporting'!G1000 = \"\",\"\",'Caseload Reporting'!G1000)","v":""},{"$f":"IF('Caseload Reporting'!H1000 = \"\",\"\",'Caseload Reporting'!H1000)","v":""},{"$f":"IF('Caseload Reporting'!I1000 = \"\",\"\",'Caseload Reporting'!I1000)","v":""},{"$f":"IF('Caseload Reporting'!J1000 = \"\",\"\",'Caseload Reporting'!J1000)","v":""},{"$f":"IF('Caseload Reporting'!K1000 = \"\",\"\",'Caseload Reporting'!K1000)","v":""},{"$f":"IF('Caseload Reporting'!L1000 = \"\",\"\",'Caseload Reporting'!L1000)","v":""},{"$f":"IF('Caseload Reporting'!M1000 = \"\",\"\",'Caseload Reporting'!M1000)","v":""},{"$f":"IF('Caseload Reporting'!N1000 = \"\",\"\",'Caseload Reporting'!N1000)","v":""},{"$f":"IF('Caseload Reporting'!P1000 = \"\",\"\",'Caseload Reporting'!P1000)","v":""},{"$f":"IF('Caseload Reporting'!O1000 = \"\",\"\",'Caseload Reporting'!O1000)","v":""},{"$f":"IF('Caseload Reporting'!Q1000 = \"\",\"\",'Caseload Reporting'!Q1000)","v":""},{"$f":"IF('Caseload Reporting'!R1000 = \"\",\"\",'Caseload Reporting'!R1000)","v":""},{"$f":"IF('Caseload Reporting'!E1000 = \"\",\"\",'Caseload Reporting'!E1000)","v":""},{"$f":"IF('Caseload Reporting'!S1000 = \"\",\"\",'Caseload Reporting'!S1000)","v":""}]